{"text_format":"1","workbook":"xlsx","n_sheets":4,"sheets":["Parecer Urbanistico","apoio","Planilha2","Ficha de Projeto"],"not_rendered":{"charts":0,"images":10,"macros":1,"external_links":1,"defined_names":2,"comments":0,"pivot_tables":0},"unopened":[],"bounds":{"document_bytes":16777216,"sheet_cells":100000,"rows_first":2000,"rows_last":500,"rows_between":2000,"halvings":0,"cell_chars":16384,"cell_head_chars":4096},"cells_cut":0,"cells_raw":0,"read":"whole","date_system":"1900"}

{"sheet":"Parecer Urbanistico","index":0,"n_rows":692,"n_cols":26,"rows_kept":692,"cut":false,"hidden":false,"merged":[[38,4,38,9],[3,3,3,6],[34,0,34,10],[4,9,4,10],[36,4,36,9],[37,4,37,9]]}
["PROGRAMA ILUMINA PARANÁ"]
["PARECER URBANÍSTICO"]
[]
["Mun.","NOVA FÁTIMA","E.R:",{"$f":"_xlfn.XLOOKUP(B4,Planilha2!B2:B400,Planilha2!F2:F400)","v":75828418000190},null,null,null,"E.R:",{"$f":"_xlfn.XLOOKUP(B4,Planilha2!B2:B400,Planilha2!C2:C400)","v":"Londrina"}]
["Prio.",20,"Projeto:","Substituição de Iluminação Pública para Led",null,null,null,null,null,{"$f":"TODAY()","v":"2023-02-06"}]
[]
[]
[]
[]
["RESUMO DO PROJETO"]
["Sistema de Iluminação Pública Instalado"]
[null,"Descarte de Luminárias",{"$f":"SUM(t_instalado[Luminárias])","v":91},null,null,null,null,"Mista",null,null,{"$f":"SUMIF(t_instalado[T.1],H12,t_instalado[Q.1])+SUMIF(t_instalado[T.2],H12,t_instalado[Q.2])+SUMIF(t_instalado[T.3],H12,t_instalado[Q.3])","v":0}]
[null,"Descarte de Relés",{"$f":"SUM(t_instalado[Relé])","v":91},null,null,null,null,"V.Mercúrio",null,null,{"$f":"SUMIF(t_instalado[T.1],H13,t_instalado[Q.1])+SUMIF(t_instalado[T.2],H13,t_instalado[Q.2])+SUMIF(t_instalado[T.3],H13,t_instalado[Q.3])","v":0},null,null,null,"FAVOR PREENCHER OS VALORES DAS CÉLULAS HACHURADAS"]
[null,"Descarte de Braços",{"$f":"SUM(t_instalado[Desc. de Braços])","v":91},null,null,null,null,"V.Sódio",null,null,{"$f":"SUMIF(t_instalado[T.1],H14,t_instalado[Q.1])+SUMIF(t_instalado[T.2],H14,t_instalado[Q.2])+SUMIF(t_instalado[T.3],H14,t_instalado[Q.3])","v":91}]
[null,"Fluxo Luminoso Médio Instalado (por luminária)",{"$f":"ROUND(AVERAGE(t_instalado[lm_médio]),0)","v":7700},null,null,null,null,"V.Metálico",null,null,{"$f":"SUMIF(t_instalado[T.1],H15,t_instalado[Q.1])+SUMIF(t_instalado[T.2],H15,t_instalado[Q.2])+SUMIF(t_instalado[T.3],H15,t_instalado[Q.3])","v":0}]
[null,"Consumo Médio Instalado (por luminária)",{"$f":"ROUND(AVERAGE(t_instalado[W_médio]),0)","v":84},null,null,null,null,"Outra",null,null,{"$f":"SUMIF(t_instalado[T.1],H16,t_instalado[Q.1])+SUMIF(t_instalado[T.2],H16,t_instalado[Q.2])+SUMIF(t_instalado[T.3],H16,t_instalado[Q.3])","v":0}]
[null,"Eficiência Média Instalada",{"$f":"ROUND(C15/C16,0)","v":92},null,null,null,null,"TOTAL",null,null,{"$f":"SUM(K12:K16)","v":91}]
[null,"Consumo Anual Instalado (Total)",{"$f":"C12*C16/1000*365*11.866","v":33106.85196},"kWh/ano"]
[null,"Custo anual Instalado",{"$f":"C18*E19","v":9269.9185488000003},"R$",0.28000000000000003,null,null,"Extensão Linear",null,null,{"$f":"ROUND(SUM(t_sitio[Ext. Linear]),0)/1000","v":3.15}]
[]
["Definições de Projeto"]
[null,"Fluxo Luminoso Médio do Projeto (por luminária)",{"$f":"C23*C24","v":7700},null,null,null,"Tipo 01",50,null,null,{"$f":"SUMIF(t_projeto[T.1],G22,t_projeto[Q.1])+SUMIF(t_projeto[T.2],G22,t_projeto[Q.2])+SUMIF(t_projeto[T.3],G22,t_projeto[Q.3])","v":76}]
[null,"Consumo Médio do Projeto (por luminária)",{"$f":"ROUND(AVERAGE(t_projeto[W_médio]),0)","v":55},null,null,null,"Tipo 02",100,null,null,{"$f":"SUMIF(t_projeto[T.1],G23,t_projeto[Q.1])+SUMIF(t_projeto[T.2],G23,t_projeto[Q.2])+SUMIF(t_projeto[T.3],G23,t_projeto[Q.3])","v":15}]
[null,"Eficiência Média do Projeto",140,null,null,null,"Tipo 03",150,null,null,{"$f":"SUMIF(t_projeto[T.1],G24,t_projeto[Q.1])+SUMIF(t_projeto[T.2],G24,t_projeto[Q.2])+SUMIF(t_projeto[T.3],G24,t_projeto[Q.3])","v":0}]
[null,"Consumo Anual Projetado (Total)",{"$f":"K27*C23/1000*365*11.866","v":21677.105449999999},"kWh/ano",null,null,"Tipo 04",200,null,null,{"$f":"SUMIF(t_projeto[T.1],G25,t_projeto[Q.1])+SUMIF(t_projeto[T.2],G25,t_projeto[Q.2])+SUMIF(t_projeto[T.3],G25,t_projeto[Q.3])","v":0}]
[null,"Custo anual Projetado",{"$f":"C25*E19","v":6069.5895260000007},"R$",null,null,"Tipo 05",300,null,null,{"$f":"SUMIF(t_projeto[T.1],G26,t_projeto[Q.1])+SUMIF(t_projeto[T.2],G26,t_projeto[Q.2])+SUMIF(t_projeto[T.3],G26,t_projeto[Q.3])","v":0}]
[null,null,null,null,null,null,null,"TOTAL",null,null,{"$f":"SUM(K22:K26)","v":91}]
[]
["Avaliação do Projeto"]
[null,"Melhoria do Fluxo Luminoso Médio (por luminária)",{"$f":"C22/C15-1","v":0},null,null,null,null,"Prazo de Execução",null,null,90]
[null,"Melhoria do Consumo Médio (por luminária)",{"$f":"C23/C16","v":0.65476190476190477}]
[null,"Economia do Custo Anual ",{"$f":"C19-C26","v":3200.3290227999996},"R$",{"$f":"C26/C19-1","v":-0.34523809523809523}]
[]
["PARECER TÉCNICO"]
[]
[]
[null,"Ederaldo Antonio Nunes Medeiros",null,null,"Glauco Pereira Jr."]
[null,"Engº Civil - Responsável Técnico do Município",null,null,"Analista de Desenvolvimento Municipal"]
[null,"CREA/PR-28128/D",null,null,"CAU A1874-0"]
[]
["IDENTIFICAÇÃO DOS TRECHOS"]
["cód","Trecho","Ext. Linear","Postes","Altura","Idade Méd.","Coluna2","Class.CBT","C1","C2","C3"]
[1,"Rua Pioneiro Francisco de Cardoso Abreu - - Trecho 01",210,6,7,null,null,"Local","V5","Leve","P4"]
[{"$f":"IF(ISTEXT(B44),A43+1,\"\")","v":2},"Rua Pioneiro Luidi Nardi - Trecho 06",315,9,7,null,null,"Local","V5","Leve","P4"]
[{"$f":"IF(ISTEXT(B45),A44+1,\"\")","v":3},"Rua Ver. Oswaldo Ferreira de Souza - Trecho 03",315,9,7,null,null,"Local","V5","Leve","P4"]
[4,"Rua Nestor Cendon Garrido - Trecho 15",385,11,7,null,null,"Local","V5","Leve","P4"]
[5,"Rua Ver. Anibal Pena - Trecho 05",210,6,7,null,null,"Local","V5","Leve","P4"]
[6,"Rua Guerino Busquim - Trecho 10",385,11,7,null,null,"Local","V5","Leve","P4"]
[7,"Rua Moisés Lupion - Trecho 07",490,15,7,null,null,"Local","V5","Leve","P4"]
[8,"Rua Fernando Ribeiro - Trecho 13",420,14,7,null,null,"Local","V5","Leve","P4"]
[9,"Rua Ver. José Montoja Salgueiro - Trecho 17",210,6,7,null,null,"Local","V5","Leve","P4"]
[10,"Rua Prof. Alcena de Souza Facco - Trecho 09",210,4,7,null,null,"Local","V5","Leve","P4"]
[{"$f":"IF(ISTEXT(B53),#REF!+1,\"\")","v":""}]
[""]
[""]
[""]
[""]
[""]
[""]
[""]
[""]
[""]
[""]
[""]
[""]
[""]
[""]
[""]
[""]
[""]
[""]
[""]
[""]
[""]
[""]
[""]
[""]
[""]
[""]
[""]
[""]
[""]
[""]
[""]
[""]
[""]
[""]
[""]
[""]
[""]
[""]
[""]
[""]
[""]
[""]
[""]
[""]
[""]
[""]
[""]
[""]
[""]
[{"$f":"IF(ISTEXT(B103),A102+1,\"\")","v":""}]
[""]
[""]
[""]
[""]
[""]
[""]
[""]
[""]
[""]
[""]
[""]
[""]
[""]
[""]
[""]
[""]
[""]
[""]
[""]
[""]
[""]
[""]
[""]
[""]
[""]
[""]
[""]
[""]
[""]
[""]
[""]
[""]
[""]
[""]
[""]
[""]
[""]
[""]
[""]
[""]
[""]
[""]
[""]
[""]
[""]
[""]
[""]
[""]
[""]
[""]
[""]
[""]
[""]
[""]
[""]
[""]
[""]
[""]
[""]
[""]
[""]
[""]
[""]
[{"$f":"IF(ISTEXT(B167),A166+1,\"\")","v":""}]
[""]
[""]
[""]
[""]
[""]
[""]
[""]
[""]
[""]
[""]
[""]
[""]
[""]
[""]
[""]
[""]
[""]
[""]
[""]
[""]
[""]
[""]
[""]
[""]
[""]
[""]
[""]
[""]
[""]
[""]
[""]
[""]
[""]
[""]
[""]
[""]
[""]
[""]
[""]
[""]
[""]
[""]
[""]
[""]
[""]
[""]
[""]
[""]
[""]
[""]
[""]
[""]
[""]
[""]
[""]
[""]
[""]
[""]
[""]
[""]
[""]
[""]
[""]
[{"$f":"IF(ISTEXT(B231),A230+1,\"\")","v":""}]
[""]
[""]
[""]
[""]
[""]
[]
[]
["IDENTIFICAÇÃO DO SISTEMA INSTALADO"]
["cód.","Trecho","T.1","Q.1","P.1(W)","T.2","Q.2","P.2(W)","T.3","Q.3","P.3(W)","a","Relé","Desc. de Braços","R.1","R.2","R.3","Consumo_W","W_médio","f.1","f.2","f.3","FLUXO","Luminárias","lm_médio","eficiencia_media"]
[1,{"$f":"_xlfn.XLOOKUP(t_instalado[[#This Row],[cód.]],t_sitio[cód],t_sitio[Trecho],\"\")","v":"Rua Pioneiro Francisco de Cardoso Abreu - - Trecho 01"},"V.Sódio",6,70,null,null,null,null,null,null,null,{"$f":"t_instalado[[#This Row],[Q.1]]+t_instalado[[#This Row],[Q.2]]+t_instalado[[#This Row],[Q.3]]","v":6},{"$f":"t_instalado[[#This Row],[Q.1]]+t_instalado[[#This Row],[Q.2]]+t_instalado[[#This Row],[Q.3]]","v":6},{"$f":"IF(t_instalado[[#This Row],[Q.1]]<>\"\",SUMIFS(t_reator[p],t_reator[tipo],t_instalado[[#This Row],[T.1]],t_reator[w],t_instalado[[#This Row],[P.1(W)]]),\"\")","v":14},{"$f":"IF(t_instalado[[#This Row],[Q.2]]<>\"\",SUMIFS(t_reator[p],t_reator[tipo],t_instalado[[#This Row],[T.2]],t_reator[w],t_instalado[[#This Row],[P.2(W)]]),\"\")","v":""},{"$f":"IF(t_instalado[[#This Row],[Q.3]]<>\"\",SUMIFS(t_reator[p],t_reator[tipo],t_instalado[[#This Row],[T.3]],t_reator[w],t_instalado[[#This Row],[P.3(W)]]),\"\")","v":""},{"$f":"IF(t_instalado[[#This Row],[Q.1]]<>\"\",IFERROR(IFERROR(D241*(E241+O241)+G241*(H241+P241)+J241*(K241+Q241),D241*(E241+O241)+G241*(H241+P241)),D241*(E241+O241)),\"\")","v":504},{"$f":"IF(t_instalado[[#This Row],[Consumo_W]]<>\"\",ROUND(t_instalado[[#This Row],[Consumo_W]]/t_instalado[[#This Row],[Luminárias]],0),\"\")","v":84},{"$f":"IF(t_instalado[[#This Row],[Q.1]]<>\"\",SUMIFS(t_fluxo_lumin[fluxo],t_fluxo_lumin[tipo],t_instalado[[#This Row],[T.1]])*t_instalado[[#This Row],[P.1(W)]]*t_instalado[[#This Row],[Q.1]],\"\")","v":46200},{"$f":"IF(t_instalado[[#This Row],[Q.2]]<>\"\",SUMIFS(t_fluxo_lumin[fluxo],t_fluxo_lumin[tipo],t_instalado[[#This Row],[T.2]])*t_instalado[[#This Row],[Q.2]]*t_instalado[[#This Row],[P.2(W)]],\"\")","v":""},{"$f":"IF(t_instalado[[#This Row],[Q.3]]<>\"\",SUMIFS(t_fluxo_lumin[fluxo],t_fluxo_lumin[tipo],t_instalado[[#This Row],[T.3]])*t_instalado[[#This Row],[Q.3]]*t_instalado[[#This Row],[P.3(W)]],\"\")","v":""},{"$f":"IF(t_instalado[[#This Row],[Trecho]]<>\"\",SUM(t_instalado[[#This Row],[f.1]:[f.3]]),\"\")","v":46200},{"$f":"IF(t_instalado[[#This Row],[Trecho]]<>\"\",t_instalado[[#This Row],[Q.1]]+t_instalado[[#This Row],[Q.2]]+t_instalado[[#This Row],[Q.3]],\"\")","v":6},{"$f":"IF(t_instalado[[#This Row],[FLUXO]]<>\"\",ROUND(t_instalado[[#This Row],[FLUXO]]/t_instalado[[#This Row],[Luminárias]],0),\"\")","v":7700},{"$f":"IF(t_instalado[[#This Row],[Luminárias]]<>\"\",ROUND(t_instalado[[#This Row],[lm_médio]]/t_instalado[[#This Row],[W_médio]],2),\"\")","v":91.67}]
[2,{"$f":"_xlfn.XLOOKUP(t_instalado[[#This Row],[cód.]],t_sitio[cód],t_sitio[Trecho],\"\")","v":"Rua Pioneiro Luidi Nardi - Trecho 06"},"V.Sódio",9,70,null,null,null,null,null,null,null,{"$f":"t_instalado[[#This Row],[Q.1]]+t_instalado[[#This Row],[Q.2]]+t_instalado[[#This Row],[Q.3]]","v":9},{"$f":"t_instalado[[#This Row],[Q.1]]+t_instalado[[#This Row],[Q.2]]+t_instalado[[#This Row],[Q.3]]","v":9},{"$f":"IF(t_instalado[[#This Row],[Q.1]]<>\"\",SUMIFS(t_reator[p],t_reator[tipo],t_instalado[[#This Row],[T.1]],t_reator[w],t_instalado[[#This Row],[P.1(W)]]),\"\")","v":14},{"$f":"IF(t_instalado[[#This Row],[Q.2]]<>\"\",SUMIFS(t_reator[p],t_reator[tipo],t_instalado[[#This Row],[T.2]],t_reator[w],t_instalado[[#This Row],[P.2(W)]]),\"\")","v":""},{"$f":"IF(t_instalado[[#This Row],[Q.3]]<>\"\",SUMIFS(t_reator[p],t_reator[tipo],t_instalado[[#This Row],[T.3]],t_reator[w],t_instalado[[#This Row],[P.3(W)]]),\"\")","v":""},{"$f":"IF(t_instalado[[#This Row],[Q.1]]<>\"\",IFERROR(IFERROR(D242*(E242+O242)+G242*(H242+P242)+J242*(K242+Q242),D242*(E242+O242)+G242*(H242+P242)),D242*(E242+O242)),\"\")","v":756},{"$f":"IF(t_instalado[[#This Row],[Consumo_W]]<>\"\",ROUND(t_instalado[[#This Row],[Consumo_W]]/t_instalado[[#This Row],[Luminárias]],0),\"\")","v":84},{"$f":"IF(t_instalado[[#This Row],[Q.1]]<>\"\",SUMIFS(t_fluxo_lumin[fluxo],t_fluxo_lumin[tipo],t_instalado[[#This Row],[T.1]])*t_instalado[[#This Row],[P.1(W)]]*t_instalado[[#This Row],[Q.1]],\"\")","v":69300},{"$f":"IF(t_instalado[[#This Row],[Q.2]]<>\"\",SUMIFS(t_fluxo_lumin[fluxo],t_fluxo_lumin[tipo],t_instalado[[#This Row],[T.2]])*t_instalado[[#This Row],[Q.2]]*t_instalado[[#This Row],[P.2(W)]],\"\")","v":""},{"$f":"IF(t_instalado[[#This Row],[Q.3]]<>\"\",SUMIFS(t_fluxo_lumin[fluxo],t_fluxo_lumin[tipo],t_instalado[[#This Row],[T.3]])*t_instalado[[#This Row],[Q.3]]*t_instalado[[#This Row],[P.3(W)]],\"\")","v":""},{"$f":"IF(t_instalado[[#This Row],[Trecho]]<>\"\",SUM(t_instalado[[#This Row],[f.1]:[f.3]]),\"\")","v":69300},{"$f":"IF(t_instalado[[#This Row],[Trecho]]<>\"\",t_instalado[[#This Row],[Q.1]]+t_instalado[[#This Row],[Q.2]]+t_instalado[[#This Row],[Q.3]],\"\")","v":9},{"$f":"IF(t_instalado[[#This Row],[FLUXO]]<>\"\",ROUND(t_instalado[[#This Row],[FLUXO]]/t_instalado[[#This Row],[Luminárias]],0),\"\")","v":7700},{"$f":"IF(t_instalado[[#This Row],[Luminárias]]<>\"\",ROUND(t_instalado[[#This Row],[lm_médio]]/t_instalado[[#This Row],[W_médio]],2),\"\")","v":91.67}]
[3,{"$f":"_xlfn.XLOOKUP(t_instalado[[#This Row],[cód.]],t_sitio[cód],t_sitio[Trecho],\"\")","v":"Rua Ver. Oswaldo Ferreira de Souza - Trecho 03"},"V.Sódio",9,70,null,null,null,null,null,null,null,{"$f":"t_instalado[[#This Row],[Q.1]]+t_instalado[[#This Row],[Q.2]]+t_instalado[[#This Row],[Q.3]]","v":9},{"$f":"t_instalado[[#This Row],[Q.1]]+t_instalado[[#This Row],[Q.2]]+t_instalado[[#This Row],[Q.3]]","v":9},{"$f":"IF(t_instalado[[#This Row],[Q.1]]<>\"\",SUMIFS(t_reator[p],t_reator[tipo],t_instalado[[#This Row],[T.1]],t_reator[w],t_instalado[[#This Row],[P.1(W)]]),\"\")","v":14},{"$f":"IF(t_instalado[[#This Row],[Q.2]]<>\"\",SUMIFS(t_reator[p],t_reator[tipo],t_instalado[[#This Row],[T.2]],t_reator[w],t_instalado[[#This Row],[P.2(W)]]),\"\")","v":""},{"$f":"IF(t_instalado[[#This Row],[Q.3]]<>\"\",SUMIFS(t_reator[p],t_reator[tipo],t_instalado[[#This Row],[T.3]],t_reator[w],t_instalado[[#This Row],[P.3(W)]]),\"\")","v":""},{"$f":"IF(t_instalado[[#This Row],[Q.1]]<>\"\",IFERROR(IFERROR(D243*(E243+O243)+G243*(H243+P243)+J243*(K243+Q243),D243*(E243+O243)+G243*(H243+P243)),D243*(E243+O243)),\"\")","v":756},{"$f":"IF(t_instalado[[#This Row],[Consumo_W]]<>\"\",ROUND(t_instalado[[#This Row],[Consumo_W]]/t_instalado[[#This Row],[Luminárias]],0),\"\")","v":84},{"$f":"IF(t_instalado[[#This Row],[Q.1]]<>\"\",SUMIFS(t_fluxo_lumin[fluxo],t_fluxo_lumin[tipo],t_instalado[[#This Row],[T.1]])*t_instalado[[#This Row],[P.1(W)]]*t_instalado[[#This Row],[Q.1]],\"\")","v":69300},{"$f":"IF(t_instalado[[#This Row],[Q.2]]<>\"\",SUMIFS(t_fluxo_lumin[fluxo],t_fluxo_lumin[tipo],t_instalado[[#This Row],[T.2]])*t_instalado[[#This Row],[Q.2]]*t_instalado[[#This Row],[P.2(W)]],\"\")","v":""},{"$f":"IF(t_instalado[[#This Row],[Q.3]]<>\"\",SUMIFS(t_fluxo_lumin[fluxo],t_fluxo_lumin[tipo],t_instalado[[#This Row],[T.3]])*t_instalado[[#This Row],[Q.3]]*t_instalado[[#This Row],[P.3(W)]],\"\")","v":""},{"$f":"IF(t_instalado[[#This Row],[Trecho]]<>\"\",SUM(t_instalado[[#This Row],[f.1]:[f.3]]),\"\")","v":69300},{"$f":"IF(t_instalado[[#This Row],[Trecho]]<>\"\",t_instalado[[#This Row],[Q.1]]+t_instalado[[#This Row],[Q.2]]+t_instalado[[#This Row],[Q.3]],\"\")","v":9},{"$f":"IF(t_instalado[[#This Row],[FLUXO]]<>\"\",ROUND(t_instalado[[#This Row],[FLUXO]]/t_instalado[[#This Row],[Luminárias]],0),\"\")","v":7700},{"$f":"IF(t_instalado[[#This Row],[Luminárias]]<>\"\",ROUND(t_instalado[[#This Row],[lm_médio]]/t_instalado[[#This Row],[W_médio]],2),\"\")","v":91.67}]
[4,{"$f":"_xlfn.XLOOKUP(t_instalado[[#This Row],[cód.]],t_sitio[cód],t_sitio[Trecho],\"\")","v":"Rua Nestor Cendon Garrido - Trecho 15"},"V.Sódio",11,70,null,null,null,null,null,null,null,{"$f":"t_instalado[[#This Row],[Q.1]]+t_instalado[[#This Row],[Q.2]]+t_instalado[[#This Row],[Q.3]]","v":11},{"$f":"t_instalado[[#This Row],[Q.1]]+t_instalado[[#This Row],[Q.2]]+t_instalado[[#This Row],[Q.3]]","v":11},{"$f":"IF(t_instalado[[#This Row],[Q.1]]<>\"\",SUMIFS(t_reator[p],t_reator[tipo],t_instalado[[#This Row],[T.1]],t_reator[w],t_instalado[[#This Row],[P.1(W)]]),\"\")","v":14},{"$f":"IF(t_instalado[[#This Row],[Q.2]]<>\"\",SUMIFS(t_reator[p],t_reator[tipo],t_instalado[[#This Row],[T.2]],t_reator[w],t_instalado[[#This Row],[P.2(W)]]),\"\")","v":""},{"$f":"IF(t_instalado[[#This Row],[Q.3]]<>\"\",SUMIFS(t_reator[p],t_reator[tipo],t_instalado[[#This Row],[T.3]],t_reator[w],t_instalado[[#This Row],[P.3(W)]]),\"\")","v":""},{"$f":"IF(t_instalado[[#This Row],[Q.1]]<>\"\",IFERROR(IFERROR(D244*(E244+O244)+G244*(H244+P244)+J244*(K244+Q244),D244*(E244+O244)+G244*(H244+P244)),D244*(E244+O244)),\"\")","v":924},{"$f":"IF(t_instalado[[#This Row],[Consumo_W]]<>\"\",ROUND(t_instalado[[#This Row],[Consumo_W]]/t_instalado[[#This Row],[Luminárias]],0),\"\")","v":84},{"$f":"IF(t_instalado[[#This Row],[Q.1]]<>\"\",SUMIFS(t_fluxo_lumin[fluxo],t_fluxo_lumin[tipo],t_instalado[[#This Row],[T.1]])*t_instalado[[#This Row],[P.1(W)]]*t_instalado[[#This Row],[Q.1]],\"\")","v":84700},{"$f":"IF(t_instalado[[#This Row],[Q.2]]<>\"\",SUMIFS(t_fluxo_lumin[fluxo],t_fluxo_lumin[tipo],t_instalado[[#This Row],[T.2]])*t_instalado[[#This Row],[Q.2]]*t_instalado[[#This Row],[P.2(W)]],\"\")","v":""},{"$f":"IF(t_instalado[[#This Row],[Q.3]]<>\"\",SUMIFS(t_fluxo_lumin[fluxo],t_fluxo_lumin[tipo],t_instalado[[#This Row],[T.3]])*t_instalado[[#This Row],[Q.3]]*t_instalado[[#This Row],[P.3(W)]],\"\")","v":""},{"$f":"IF(t_instalado[[#This Row],[Trecho]]<>\"\",SUM(t_instalado[[#This Row],[f.1]:[f.3]]),\"\")","v":84700},{"$f":"IF(t_instalado[[#This Row],[Trecho]]<>\"\",t_instalado[[#This Row],[Q.1]]+t_instalado[[#This Row],[Q.2]]+t_instalado[[#This Row],[Q.3]],\"\")","v":11},{"$f":"IF(t_instalado[[#This Row],[FLUXO]]<>\"\",ROUND(t_instalado[[#This Row],[FLUXO]]/t_instalado[[#This Row],[Luminárias]],0),\"\")","v":7700},{"$f":"IF(t_instalado[[#This Row],[Luminárias]]<>\"\",ROUND(t_instalado[[#This Row],[lm_médio]]/t_instalado[[#This Row],[W_médio]],2),\"\")","v":91.67}]
[5,{"$f":"_xlfn.XLOOKUP(t_instalado[[#This Row],[cód.]],t_sitio[cód],t_sitio[Trecho],\"\")","v":"Rua Ver. Anibal Pena - Trecho 05"},"V.Sódio",6,70,null,null,null,null,null,null,null,{"$f":"t_instalado[[#This Row],[Q.1]]+t_instalado[[#This Row],[Q.2]]+t_instalado[[#This Row],[Q.3]]","v":6},{"$f":"t_instalado[[#This Row],[Q.1]]+t_instalado[[#This Row],[Q.2]]+t_instalado[[#This Row],[Q.3]]","v":6},{"$f":"IF(t_instalado[[#This Row],[Q.1]]<>\"\",SUMIFS(t_reator[p],t_reator[tipo],t_instalado[[#This Row],[T.1]],t_reator[w],t_instalado[[#This Row],[P.1(W)]]),\"\")","v":14},{"$f":"IF(t_instalado[[#This Row],[Q.2]]<>\"\",SUMIFS(t_reator[p],t_reator[tipo],t_instalado[[#This Row],[T.2]],t_reator[w],t_instalado[[#This Row],[P.2(W)]]),\"\")","v":""},{"$f":"IF(t_instalado[[#This Row],[Q.3]]<>\"\",SUMIFS(t_reator[p],t_reator[tipo],t_instalado[[#This Row],[T.3]],t_reator[w],t_instalado[[#This Row],[P.3(W)]]),\"\")","v":""},{"$f":"IF(t_instalado[[#This Row],[Q.1]]<>\"\",IFERROR(IFERROR(D245*(E245+O245)+G245*(H245+P245)+J245*(K245+Q245),D245*(E245+O245)+G245*(H245+P245)),D245*(E245+O245)),\"\")","v":504},{"$f":"IF(t_instalado[[#This Row],[Consumo_W]]<>\"\",ROUND(t_instalado[[#This Row],[Consumo_W]]/t_instalado[[#This Row],[Luminárias]],0),\"\")","v":84},{"$f":"IF(t_instalado[[#This Row],[Q.1]]<>\"\",SUMIFS(t_fluxo_lumin[fluxo],t_fluxo_lumin[tipo],t_instalado[[#This Row],[T.1]])*t_instalado[[#This Row],[P.1(W)]]*t_instalado[[#This Row],[Q.1]],\"\")","v":46200},{"$f":"IF(t_instalado[[#This Row],[Q.2]]<>\"\",SUMIFS(t_fluxo_lumin[fluxo],t_fluxo_lumin[tipo],t_instalado[[#This Row],[T.2]])*t_instalado[[#This Row],[Q.2]]*t_instalado[[#This Row],[P.2(W)]],\"\")","v":""},{"$f":"IF(t_instalado[[#This Row],[Q.3]]<>\"\",SUMIFS(t_fluxo_lumin[fluxo],t_fluxo_lumin[tipo],t_instalado[[#This Row],[T.3]])*t_instalado[[#This Row],[Q.3]]*t_instalado[[#This Row],[P.3(W)]],\"\")","v":""},{"$f":"IF(t_instalado[[#This Row],[Trecho]]<>\"\",SUM(t_instalado[[#This Row],[f.1]:[f.3]]),\"\")","v":46200},{"$f":"IF(t_instalado[[#This Row],[Trecho]]<>\"\",t_instalado[[#This Row],[Q.1]]+t_instalado[[#This Row],[Q.2]]+t_instalado[[#This Row],[Q.3]],\"\")","v":6},{"$f":"IF(t_instalado[[#This Row],[FLUXO]]<>\"\",ROUND(t_instalado[[#This Row],[FLUXO]]/t_instalado[[#This Row],[Luminárias]],0),\"\")","v":7700},{"$f":"IF(t_instalado[[#This Row],[Luminárias]]<>\"\",ROUND(t_instalado[[#This Row],[lm_médio]]/t_instalado[[#This Row],[W_médio]],2),\"\")","v":91.67}]
[6,{"$f":"_xlfn.XLOOKUP(t_instalado[[#This Row],[cód.]],t_sitio[cód],t_sitio[Trecho],\"\")","v":"Rua Guerino Busquim - Trecho 10"},"V.Sódio",11,70,null,null,null,null,null,null,null,{"$f":"t_instalado[[#This Row],[Q.1]]+t_instalado[[#This Row],[Q.2]]+t_instalado[[#This Row],[Q.3]]","v":11},{"$f":"t_instalado[[#This Row],[Q.1]]+t_instalado[[#This Row],[Q.2]]+t_instalado[[#This Row],[Q.3]]","v":11},{"$f":"IF(t_instalado[[#This Row],[Q.1]]<>\"\",SUMIFS(t_reator[p],t_reator[tipo],t_instalado[[#This Row],[T.1]],t_reator[w],t_instalado[[#This Row],[P.1(W)]]),\"\")","v":14},{"$f":"IF(t_instalado[[#This Row],[Q.2]]<>\"\",SUMIFS(t_reator[p],t_reator[tipo],t_instalado[[#This Row],[T.2]],t_reator[w],t_instalado[[#This Row],[P.2(W)]]),\"\")","v":""},{"$f":"IF(t_instalado[[#This Row],[Q.3]]<>\"\",SUMIFS(t_reator[p],t_reator[tipo],t_instalado[[#This Row],[T.3]],t_reator[w],t_instalado[[#This Row],[P.3(W)]]),\"\")","v":""},{"$f":"IF(t_instalado[[#This Row],[Q.1]]<>\"\",IFERROR(IFERROR(D246*(E246+O246)+G246*(H246+P246)+J246*(K246+Q246),D246*(E246+O246)+G246*(H246+P246)),D246*(E246+O246)),\"\")","v":924},{"$f":"IF(t_instalado[[#This Row],[Consumo_W]]<>\"\",ROUND(t_instalado[[#This Row],[Consumo_W]]/t_instalado[[#This Row],[Luminárias]],0),\"\")","v":84},{"$f":"IF(t_instalado[[#This Row],[Q.1]]<>\"\",SUMIFS(t_fluxo_lumin[fluxo],t_fluxo_lumin[tipo],t_instalado[[#This Row],[T.1]])*t_instalado[[#This Row],[P.1(W)]]*t_instalado[[#This Row],[Q.1]],\"\")","v":84700},{"$f":"IF(t_instalado[[#This Row],[Q.2]]<>\"\",SUMIFS(t_fluxo_lumin[fluxo],t_fluxo_lumin[tipo],t_instalado[[#This Row],[T.2]])*t_instalado[[#This Row],[Q.2]]*t_instalado[[#This Row],[P.2(W)]],\"\")","v":""},{"$f":"IF(t_instalado[[#This Row],[Q.3]]<>\"\",SUMIFS(t_fluxo_lumin[fluxo],t_fluxo_lumin[tipo],t_instalado[[#This Row],[T.3]])*t_instalado[[#This Row],[Q.3]]*t_instalado[[#This Row],[P.3(W)]],\"\")","v":""},{"$f":"IF(t_instalado[[#This Row],[Trecho]]<>\"\",SUM(t_instalado[[#This Row],[f.1]:[f.3]]),\"\")","v":84700},{"$f":"IF(t_instalado[[#This Row],[Trecho]]<>\"\",t_instalado[[#This Row],[Q.1]]+t_instalado[[#This Row],[Q.2]]+t_instalado[[#This Row],[Q.3]],\"\")","v":11},{"$f":"IF(t_instalado[[#This Row],[FLUXO]]<>\"\",ROUND(t_instalado[[#This Row],[FLUXO]]/t_instalado[[#This Row],[Luminárias]],0),\"\")","v":7700},{"$f":"IF(t_instalado[[#This Row],[Luminárias]]<>\"\",ROUND(t_instalado[[#This Row],[lm_médio]]/t_instalado[[#This Row],[W_médio]],2),\"\")","v":91.67}]
[7,{"$f":"_xlfn.XLOOKUP(t_instalado[[#This Row],[cód.]],t_sitio[cód],t_sitio[Trecho],\"\")","v":"Rua Moisés Lupion - Trecho 07"},"V.Sódio",15,70,null,null,null,null,null,null,null,{"$f":"t_instalado[[#This Row],[Q.1]]+t_instalado[[#This Row],[Q.2]]+t_instalado[[#This Row],[Q.3]]","v":15},{"$f":"t_instalado[[#This Row],[Q.1]]+t_instalado[[#This Row],[Q.2]]+t_instalado[[#This Row],[Q.3]]","v":15},{"$f":"IF(t_instalado[[#This Row],[Q.1]]<>\"\",SUMIFS(t_reator[p],t_reator[tipo],t_instalado[[#This Row],[T.1]],t_reator[w],t_instalado[[#This Row],[P.1(W)]]),\"\")","v":14},{"$f":"IF(t_instalado[[#This Row],[Q.2]]<>\"\",SUMIFS(t_reator[p],t_reator[tipo],t_instalado[[#This Row],[T.2]],t_reator[w],t_instalado[[#This Row],[P.2(W)]]),\"\")","v":""},{"$f":"IF(t_instalado[[#This Row],[Q.3]]<>\"\",SUMIFS(t_reator[p],t_reator[tipo],t_instalado[[#This Row],[T.3]],t_reator[w],t_instalado[[#This Row],[P.3(W)]]),\"\")","v":""},{"$f":"IF(t_instalado[[#This Row],[Q.1]]<>\"\",IFERROR(IFERROR(D247*(E247+O247)+G247*(H247+P247)+J247*(K247+Q247),D247*(E247+O247)+G247*(H247+P247)),D247*(E247+O247)),\"\")","v":1260},{"$f":"IF(t_instalado[[#This Row],[Consumo_W]]<>\"\",ROUND(t_instalado[[#This Row],[Consumo_W]]/t_instalado[[#This Row],[Luminárias]],0),\"\")","v":84},{"$f":"IF(t_instalado[[#This Row],[Q.1]]<>\"\",SUMIFS(t_fluxo_lumin[fluxo],t_fluxo_lumin[tipo],t_instalado[[#This Row],[T.1]])*t_instalado[[#This Row],[P.1(W)]]*t_instalado[[#This Row],[Q.1]],\"\")","v":115500},{"$f":"IF(t_instalado[[#This Row],[Q.2]]<>\"\",SUMIFS(t_fluxo_lumin[fluxo],t_fluxo_lumin[tipo],t_instalado[[#This Row],[T.2]])*t_instalado[[#This Row],[Q.2]]*t_instalado[[#This Row],[P.2(W)]],\"\")","v":""},{"$f":"IF(t_instalado[[#This Row],[Q.3]]<>\"\",SUMIFS(t_fluxo_lumin[fluxo],t_fluxo_lumin[tipo],t_instalado[[#This Row],[T.3]])*t_instalado[[#This Row],[Q.3]]*t_instalado[[#This Row],[P.3(W)]],\"\")","v":""},{"$f":"IF(t_instalado[[#This Row],[Trecho]]<>\"\",SUM(t_instalado[[#This Row],[f.1]:[f.3]]),\"\")","v":115500},{"$f":"IF(t_instalado[[#This Row],[Trecho]]<>\"\",t_instalado[[#This Row],[Q.1]]+t_instalado[[#This Row],[Q.2]]+t_instalado[[#This Row],[Q.3]],\"\")","v":15},{"$f":"IF(t_instalado[[#This Row],[FLUXO]]<>\"\",ROUND(t_instalado[[#This Row],[FLUXO]]/t_instalado[[#This Row],[Luminárias]],0),\"\")","v":7700},{"$f":"IF(t_instalado[[#This Row],[Luminárias]]<>\"\",ROUND(t_instalado[[#This Row],[lm_médio]]/t_instalado[[#This Row],[W_médio]],2),\"\")","v":91.67}]
[8,{"$f":"_xlfn.XLOOKUP(t_instalado[[#This Row],[cód.]],t_sitio[cód],t_sitio[Trecho],\"\")","v":"Rua Fernando Ribeiro - Trecho 13"},"V.Sódio",14,70,null,null,null,null,null,null,null,{"$f":"t_instalado[[#This Row],[Q.1]]+t_instalado[[#This Row],[Q.2]]+t_instalado[[#This Row],[Q.3]]","v":14},{"$f":"t_instalado[[#This Row],[Q.1]]+t_instalado[[#This Row],[Q.2]]+t_instalado[[#This Row],[Q.3]]","v":14},{"$f":"IF(t_instalado[[#This Row],[Q.1]]<>\"\",SUMIFS(t_reator[p],t_reator[tipo],t_instalado[[#This Row],[T.1]],t_reator[w],t_instalado[[#This Row],[P.1(W)]]),\"\")","v":14},{"$f":"IF(t_instalado[[#This Row],[Q.2]]<>\"\",SUMIFS(t_reator[p],t_reator[tipo],t_instalado[[#This Row],[T.2]],t_reator[w],t_instalado[[#This Row],[P.2(W)]]),\"\")","v":""},{"$f":"IF(t_instalado[[#This Row],[Q.3]]<>\"\",SUMIFS(t_reator[p],t_reator[tipo],t_instalado[[#This Row],[T.3]],t_reator[w],t_instalado[[#This Row],[P.3(W)]]),\"\")","v":""},{"$f":"IF(t_instalado[[#This Row],[Q.1]]<>\"\",IFERROR(IFERROR(D248*(E248+O248)+G248*(H248+P248)+J248*(K248+Q248),D248*(E248+O248)+G248*(H248+P248)),D248*(E248+O248)),\"\")","v":1176},{"$f":"IF(t_instalado[[#This Row],[Consumo_W]]<>\"\",ROUND(t_instalado[[#This Row],[Consumo_W]]/t_instalado[[#This Row],[Luminárias]],0),\"\")","v":84},{"$f":"IF(t_instalado[[#This Row],[Q.1]]<>\"\",SUMIFS(t_fluxo_lumin[fluxo],t_fluxo_lumin[tipo],t_instalado[[#This Row],[T.1]])*t_instalado[[#This Row],[P.1(W)]]*t_instalado[[#This Row],[Q.1]],\"\")","v":107800},{"$f":"IF(t_instalado[[#This Row],[Q.2]]<>\"\",SUMIFS(t_fluxo_lumin[fluxo],t_fluxo_lumin[tipo],t_instalado[[#This Row],[T.2]])*t_instalado[[#This Row],[Q.2]]*t_instalado[[#This Row],[P.2(W)]],\"\")","v":""},{"$f":"IF(t_instalado[[#This Row],[Q.3]]<>\"\",SUMIFS(t_fluxo_lumin[fluxo],t_fluxo_lumin[tipo],t_instalado[[#This Row],[T.3]])*t_instalado[[#This Row],[Q.3]]*t_instalado[[#This Row],[P.3(W)]],\"\")","v":""},{"$f":"IF(t_instalado[[#This Row],[Trecho]]<>\"\",SUM(t_instalado[[#This Row],[f.1]:[f.3]]),\"\")","v":107800},{"$f":"IF(t_instalado[[#This Row],[Trecho]]<>\"\",t_instalado[[#This Row],[Q.1]]+t_instalado[[#This Row],[Q.2]]+t_instalado[[#This Row],[Q.3]],\"\")","v":14},{"$f":"IF(t_instalado[[#This Row],[FLUXO]]<>\"\",ROUND(t_instalado[[#This Row],[FLUXO]]/t_instalado[[#This Row],[Luminárias]],0),\"\")","v":7700},{"$f":"IF(t_instalado[[#This Row],[Luminárias]]<>\"\",ROUND(t_instalado[[#This Row],[lm_médio]]/t_instalado[[#This Row],[W_médio]],2),\"\")","v":91.67}]
[9,{"$f":"_xlfn.XLOOKUP(t_instalado[[#This Row],[cód.]],t_sitio[cód],t_sitio[Trecho],\"\")","v":"Rua Ver. José Montoja Salgueiro - Trecho 17"},"V.Sódio",6,70,null,null,null,null,null,null,null,{"$f":"t_instalado[[#This Row],[Q.1]]+t_instalado[[#This Row],[Q.2]]+t_instalado[[#This Row],[Q.3]]","v":6},{"$f":"t_instalado[[#This Row],[Q.1]]+t_instalado[[#This Row],[Q.2]]+t_instalado[[#This Row],[Q.3]]","v":6},{"$f":"IF(t_instalado[[#This Row],[Q.1]]<>\"\",SUMIFS(t_reator[p],t_reator[tipo],t_instalado[[#This Row],[T.1]],t_reator[w],t_instalado[[#This Row],[P.1(W)]]),\"\")","v":14},{"$f":"IF(t_instalado[[#This Row],[Q.2]]<>\"\",SUMIFS(t_reator[p],t_reator[tipo],t_instalado[[#This Row],[T.2]],t_reator[w],t_instalado[[#This Row],[P.2(W)]]),\"\")","v":""},{"$f":"IF(t_instalado[[#This Row],[Q.3]]<>\"\",SUMIFS(t_reator[p],t_reator[tipo],t_instalado[[#This Row],[T.3]],t_reator[w],t_instalado[[#This Row],[P.3(W)]]),\"\")","v":""},{"$f":"IF(t_instalado[[#This Row],[Q.1]]<>\"\",IFERROR(IFERROR(D249*(E249+O249)+G249*(H249+P249)+J249*(K249+Q249),D249*(E249+O249)+G249*(H249+P249)),D249*(E249+O249)),\"\")","v":504},{"$f":"IF(t_instalado[[#This Row],[Consumo_W]]<>\"\",ROUND(t_instalado[[#This Row],[Consumo_W]]/t_instalado[[#This Row],[Luminárias]],0),\"\")","v":84},{"$f":"IF(t_instalado[[#This Row],[Q.1]]<>\"\",SUMIFS(t_fluxo_lumin[fluxo],t_fluxo_lumin[tipo],t_instalado[[#This Row],[T.1]])*t_instalado[[#This Row],[P.1(W)]]*t_instalado[[#This Row],[Q.1]],\"\")","v":46200},{"$f":"IF(t_instalado[[#This Row],[Q.2]]<>\"\",SUMIFS(t_fluxo_lumin[fluxo],t_fluxo_lumin[tipo],t_instalado[[#This Row],[T.2]])*t_instalado[[#This Row],[Q.2]]*t_instalado[[#This Row],[P.2(W)]],\"\")","v":""},{"$f":"IF(t_instalado[[#This Row],[Q.3]]<>\"\",SUMIFS(t_fluxo_lumin[fluxo],t_fluxo_lumin[tipo],t_instalado[[#This Row],[T.3]])*t_instalado[[#This Row],[Q.3]]*t_instalado[[#This Row],[P.3(W)]],\"\")","v":""},{"$f":"IF(t_instalado[[#This Row],[Trecho]]<>\"\",SUM(t_instalado[[#This Row],[f.1]:[f.3]]),\"\")","v":46200},{"$f":"IF(t_instalado[[#This Row],[Trecho]]<>\"\",t_instalado[[#This Row],[Q.1]]+t_instalado[[#This Row],[Q.2]]+t_instalado[[#This Row],[Q.3]],\"\")","v":6},{"$f":"IF(t_instalado[[#This Row],[FLUXO]]<>\"\",ROUND(t_instalado[[#This Row],[FLUXO]]/t_instalado[[#This Row],[Luminárias]],0),\"\")","v":7700},{"$f":"IF(t_instalado[[#This Row],[Luminárias]]<>\"\",ROUND(t_instalado[[#This Row],[lm_médio]]/t_instalado[[#This Row],[W_médio]],2),\"\")","v":91.67}]
[10,{"$f":"_xlfn.XLOOKUP(t_instalado[[#This Row],[cód.]],t_sitio[cód],t_sitio[Trecho],\"\")","v":"Rua Prof. Alcena de Souza Facco - Trecho 09"},"V.Sódio",4,70,null,null,null,null,null,null,null,{"$f":"t_instalado[[#This Row],[Q.1]]+t_instalado[[#This Row],[Q.2]]+t_instalado[[#This Row],[Q.3]]","v":4},{"$f":"t_instalado[[#This Row],[Q.1]]+t_instalado[[#This Row],[Q.2]]+t_instalado[[#This Row],[Q.3]]","v":4},{"$f":"IF(t_instalado[[#This Row],[Q.1]]<>\"\",SUMIFS(t_reator[p],t_reator[tipo],t_instalado[[#This Row],[T.1]],t_reator[w],t_instalado[[#This Row],[P.1(W)]]),\"\")","v":14},{"$f":"IF(t_instalado[[#This Row],[Q.2]]<>\"\",SUMIFS(t_reator[p],t_reator[tipo],t_instalado[[#This Row],[T.2]],t_reator[w],t_instalado[[#This Row],[P.2(W)]]),\"\")","v":""},{"$f":"IF(t_instalado[[#This Row],[Q.3]]<>\"\",SUMIFS(t_reator[p],t_reator[tipo],t_instalado[[#This Row],[T.3]],t_reator[w],t_instalado[[#This Row],[P.3(W)]]),\"\")","v":""},{"$f":"IF(t_instalado[[#This Row],[Q.1]]<>\"\",IFERROR(IFERROR(D250*(E250+O250)+G250*(H250+P250)+J250*(K250+Q250),D250*(E250+O250)+G250*(H250+P250)),D250*(E250+O250)),\"\")","v":336},{"$f":"IF(t_instalado[[#This Row],[Consumo_W]]<>\"\",ROUND(t_instalado[[#This Row],[Consumo_W]]/t_instalado[[#This Row],[Luminárias]],0),\"\")","v":84},{"$f":"IF(t_instalado[[#This Row],[Q.1]]<>\"\",SUMIFS(t_fluxo_lumin[fluxo],t_fluxo_lumin[tipo],t_instalado[[#This Row],[T.1]])*t_instalado[[#This Row],[P.1(W)]]*t_instalado[[#This Row],[Q.1]],\"\")","v":30800},{"$f":"IF(t_instalado[[#This Row],[Q.2]]<>\"\",SUMIFS(t_fluxo_lumin[fluxo],t_fluxo_lumin[tipo],t_instalado[[#This Row],[T.2]])*t_instalado[[#This Row],[Q.2]]*t_instalado[[#This Row],[P.2(W)]],\"\")","v":""},{"$f":"IF(t_instalado[[#This Row],[Q.3]]<>\"\",SUMIFS(t_fluxo_lumin[fluxo],t_fluxo_lumin[tipo],t_instalado[[#This Row],[T.3]])*t_instalado[[#This Row],[Q.3]]*t_instalado[[#This Row],[P.3(W)]],\"\")","v":""},{"$f":"IF(t_instalado[[#This Row],[Trecho]]<>\"\",SUM(t_instalado[[#This Row],[f.1]:[f.3]]),\"\")","v":30800},{"$f":"IF(t_instalado[[#This Row],[Trecho]]<>\"\",t_instalado[[#This Row],[Q.1]]+t_instalado[[#This Row],[Q.2]]+t_instalado[[#This Row],[Q.3]],\"\")","v":4},{"$f":"IF(t_instalado[[#This Row],[FLUXO]]<>\"\",ROUND(t_instalado[[#This Row],[FLUXO]]/t_instalado[[#This Row],[Luminárias]],0),\"\")","v":7700},{"$f":"IF(t_instalado[[#This Row],[Luminárias]]<>\"\",ROUND(t_instalado[[#This Row],[lm_médio]]/t_instalado[[#This Row],[W_médio]],2),\"\")","v":91.67}]
[17,{"$f":"_xlfn.XLOOKUP(t_instalado[[#This Row],[cód.]],t_sitio[cód],t_sitio[Trecho],\"\")","v":""},null,null,null,null,null,null,null,null,null,null,{"$f":"t_instalado[[#This Row],[Q.1]]+t_instalado[[#This Row],[Q.2]]+t_instalado[[#This Row],[Q.3]]","v":0},{"$f":"t_instalado[[#This Row],[Q.1]]+t_instalado[[#This Row],[Q.2]]+t_instalado[[#This Row],[Q.3]]","v":0},{"$f":"IF(t_instalado[[#This Row],[Q.1]]<>\"\",SUMIFS(t_reator[p],t_reator[tipo],t_instalado[[#This Row],[T.1]],t_reator[w],t_instalado[[#This Row],[P.1(W)]]),\"\")","v":""},{"$f":"IF(t_instalado[[#This Row],[Q.2]]<>\"\",SUMIFS(t_reator[p],t_reator[tipo],t_instalado[[#This Row],[T.2]],t_reator[w],t_instalado[[#This Row],[P.2(W)]]),\"\")","v":""},{"$f":"IF(t_instalado[[#This Row],[Q.3]]<>\"\",SUMIFS(t_reator[p],t_reator[tipo],t_instalado[[#This Row],[T.3]],t_reator[w],t_instalado[[#This Row],[P.3(W)]]),\"\")","v":""},{"$f":"IF(t_instalado[[#This Row],[Q.1]]<>\"\",IFERROR(IFERROR(D251*(E251+O251)+G251*(H251+P251)+J251*(K251+Q251),D251*(E251+O251)+G251*(H251+P251)),D251*(E251+O251)),\"\")","v":""},{"$f":"IF(t_instalado[[#This Row],[Consumo_W]]<>\"\",ROUND(t_instalado[[#This Row],[Consumo_W]]/t_instalado[[#This Row],[Luminárias]],0),\"\")","v":""},{"$f":"IF(t_instalado[[#This Row],[Q.1]]<>\"\",SUMIFS(t_fluxo_lumin[fluxo],t_fluxo_lumin[tipo],t_instalado[[#This Row],[T.1]])*t_instalado[[#This Row],[P.1(W)]]*t_instalado[[#This Row],[Q.1]],\"\")","v":""},{"$f":"IF(t_instalado[[#This Row],[Q.2]]<>\"\",SUMIFS(t_fluxo_lumin[fluxo],t_fluxo_lumin[tipo],t_instalado[[#This Row],[T.2]])*t_instalado[[#This Row],[Q.2]]*t_instalado[[#This Row],[P.2(W)]],\"\")","v":""},{"$f":"IF(t_instalado[[#This Row],[Q.3]]<>\"\",SUMIFS(t_fluxo_lumin[fluxo],t_fluxo_lumin[tipo],t_instalado[[#This Row],[T.3]])*t_instalado[[#This Row],[Q.3]]*t_instalado[[#This Row],[P.3(W)]],\"\")","v":""},{"$f":"IF(t_instalado[[#This Row],[Trecho]]<>\"\",SUM(t_instalado[[#This Row],[f.1]:[f.3]]),\"\")","v":""},{"$f":"IF(t_instalado[[#This Row],[Trecho]]<>\"\",t_instalado[[#This Row],[Q.1]]+t_instalado[[#This Row],[Q.2]]+t_instalado[[#This Row],[Q.3]],\"\")","v":""},{"$f":"IF(t_instalado[[#This Row],[FLUXO]]<>\"\",ROUND(t_instalado[[#This Row],[FLUXO]]/t_instalado[[#This Row],[Luminárias]],0),\"\")","v":""},{"$f":"IF(t_instalado[[#This Row],[Luminárias]]<>\"\",ROUND(t_instalado[[#This Row],[lm_médio]]/t_instalado[[#This Row],[W_médio]],2),\"\")","v":""}]
[18,{"$f":"_xlfn.XLOOKUP(t_instalado[[#This Row],[cód.]],t_sitio[cód],t_sitio[Trecho],\"\")","v":""},null,null,null,null,null,null,null,null,null,null,{"$f":"t_instalado[[#This Row],[Q.1]]+t_instalado[[#This Row],[Q.2]]+t_instalado[[#This Row],[Q.3]]","v":0},{"$f":"t_instalado[[#This Row],[Q.1]]+t_instalado[[#This Row],[Q.2]]+t_instalado[[#This Row],[Q.3]]","v":0},{"$f":"IF(t_instalado[[#This Row],[Q.1]]<>\"\",SUMIFS(t_reator[p],t_reator[tipo],t_instalado[[#This Row],[T.1]],t_reator[w],t_instalado[[#This Row],[P.1(W)]]),\"\")","v":""},{"$f":"IF(t_instalado[[#This Row],[Q.2]]<>\"\",SUMIFS(t_reator[p],t_reator[tipo],t_instalado[[#This Row],[T.2]],t_reator[w],t_instalado[[#This Row],[P.2(W)]]),\"\")","v":""},{"$f":"IF(t_instalado[[#This Row],[Q.3]]<>\"\",SUMIFS(t_reator[p],t_reator[tipo],t_instalado[[#This Row],[T.3]],t_reator[w],t_instalado[[#This Row],[P.3(W)]]),\"\")","v":""},{"$f":"IF(t_instalado[[#This Row],[Q.1]]<>\"\",IFERROR(IFERROR(D252*(E252+O252)+G252*(H252+P252)+J252*(K252+Q252),D252*(E252+O252)+G252*(H252+P252)),D252*(E252+O252)),\"\")","v":""},{"$f":"IF(t_instalado[[#This Row],[Consumo_W]]<>\"\",ROUND(t_instalado[[#This Row],[Consumo_W]]/t_instalado[[#This Row],[Luminárias]],0),\"\")","v":""},{"$f":"IF(t_instalado[[#This Row],[Q.1]]<>\"\",SUMIFS(t_fluxo_lumin[fluxo],t_fluxo_lumin[tipo],t_instalado[[#This Row],[T.1]])*t_instalado[[#This Row],[P.1(W)]]*t_instalado[[#This Row],[Q.1]],\"\")","v":""},{"$f":"IF(t_instalado[[#This Row],[Q.2]]<>\"\",SUMIFS(t_fluxo_lumin[fluxo],t_fluxo_lumin[tipo],t_instalado[[#This Row],[T.2]])*t_instalado[[#This Row],[Q.2]]*t_instalado[[#This Row],[P.2(W)]],\"\")","v":""},{"$f":"IF(t_instalado[[#This Row],[Q.3]]<>\"\",SUMIFS(t_fluxo_lumin[fluxo],t_fluxo_lumin[tipo],t_instalado[[#This Row],[T.3]])*t_instalado[[#This Row],[Q.3]]*t_instalado[[#This Row],[P.3(W)]],\"\")","v":""},{"$f":"IF(t_instalado[[#This Row],[Trecho]]<>\"\",SUM(t_instalado[[#This Row],[f.1]:[f.3]]),\"\")","v":""},{"$f":"IF(t_instalado[[#This Row],[Trecho]]<>\"\",t_instalado[[#This Row],[Q.1]]+t_instalado[[#This Row],[Q.2]]+t_instalado[[#This Row],[Q.3]],\"\")","v":""},{"$f":"IF(t_instalado[[#This Row],[FLUXO]]<>\"\",ROUND(t_instalado[[#This Row],[FLUXO]]/t_instalado[[#This Row],[Luminárias]],0),\"\")","v":""},{"$f":"IF(t_instalado[[#This Row],[Luminárias]]<>\"\",ROUND(t_instalado[[#This Row],[lm_médio]]/t_instalado[[#This Row],[W_médio]],2),\"\")","v":""}]
[19,{"$f":"_xlfn.XLOOKUP(t_instalado[[#This Row],[cód.]],t_sitio[cód],t_sitio[Trecho],\"\")","v":""},null,null,null,null,null,null,null,null,null,null,{"$f":"t_instalado[[#This Row],[Q.1]]+t_instalado[[#This Row],[Q.2]]+t_instalado[[#This Row],[Q.3]]","v":0},{"$f":"t_instalado[[#This Row],[Q.1]]+t_instalado[[#This Row],[Q.2]]+t_instalado[[#This Row],[Q.3]]","v":0},{"$f":"IF(t_instalado[[#This Row],[Q.1]]<>\"\",SUMIFS(t_reator[p],t_reator[tipo],t_instalado[[#This Row],[T.1]],t_reator[w],t_instalado[[#This Row],[P.1(W)]]),\"\")","v":""},{"$f":"IF(t_instalado[[#This Row],[Q.2]]<>\"\",SUMIFS(t_reator[p],t_reator[tipo],t_instalado[[#This Row],[T.2]],t_reator[w],t_instalado[[#This Row],[P.2(W)]]),\"\")","v":""},{"$f":"IF(t_instalado[[#This Row],[Q.3]]<>\"\",SUMIFS(t_reator[p],t_reator[tipo],t_instalado[[#This Row],[T.3]],t_reator[w],t_instalado[[#This Row],[P.3(W)]]),\"\")","v":""},{"$f":"IF(t_instalado[[#This Row],[Q.1]]<>\"\",IFERROR(IFERROR(D253*(E253+O253)+G253*(H253+P253)+J253*(K253+Q253),D253*(E253+O253)+G253*(H253+P253)),D253*(E253+O253)),\"\")","v":""},{"$f":"IF(t_instalado[[#This Row],[Consumo_W]]<>\"\",ROUND(t_instalado[[#This Row],[Consumo_W]]/t_instalado[[#This Row],[Luminárias]],0),\"\")","v":""},{"$f":"IF(t_instalado[[#This Row],[Q.1]]<>\"\",SUMIFS(t_fluxo_lumin[fluxo],t_fluxo_lumin[tipo],t_instalado[[#This Row],[T.1]])*t_instalado[[#This Row],[P.1(W)]]*t_instalado[[#This Row],[Q.1]],\"\")","v":""},{"$f":"IF(t_instalado[[#This Row],[Q.2]]<>\"\",SUMIFS(t_fluxo_lumin[fluxo],t_fluxo_lumin[tipo],t_instalado[[#This Row],[T.2]])*t_instalado[[#This Row],[Q.2]]*t_instalado[[#This Row],[P.2(W)]],\"\")","v":""},{"$f":"IF(t_instalado[[#This Row],[Q.3]]<>\"\",SUMIFS(t_fluxo_lumin[fluxo],t_fluxo_lumin[tipo],t_instalado[[#This Row],[T.3]])*t_instalado[[#This Row],[Q.3]]*t_instalado[[#This Row],[P.3(W)]],\"\")","v":""},{"$f":"IF(t_instalado[[#This Row],[Trecho]]<>\"\",SUM(t_instalado[[#This Row],[f.1]:[f.3]]),\"\")","v":""},{"$f":"IF(t_instalado[[#This Row],[Trecho]]<>\"\",t_instalado[[#This Row],[Q.1]]+t_instalado[[#This Row],[Q.2]]+t_instalado[[#This Row],[Q.3]],\"\")","v":""},{"$f":"IF(t_instalado[[#This Row],[FLUXO]]<>\"\",ROUND(t_instalado[[#This Row],[FLUXO]]/t_instalado[[#This Row],[Luminárias]],0),\"\")","v":""},{"$f":"IF(t_instalado[[#This Row],[Luminárias]]<>\"\",ROUND(t_instalado[[#This Row],[lm_médio]]/t_instalado[[#This Row],[W_médio]],2),\"\")","v":""}]
[20,{"$f":"_xlfn.XLOOKUP(t_instalado[[#This Row],[cód.]],t_sitio[cód],t_sitio[Trecho],\"\")","v":""},null,null,null,null,null,null,null,null,null,null,{"$f":"t_instalado[[#This Row],[Q.1]]+t_instalado[[#This Row],[Q.2]]+t_instalado[[#This Row],[Q.3]]","v":0},{"$f":"t_instalado[[#This Row],[Q.1]]+t_instalado[[#This Row],[Q.2]]+t_instalado[[#This Row],[Q.3]]","v":0},{"$f":"IF(t_instalado[[#This Row],[Q.1]]<>\"\",SUMIFS(t_reator[p],t_reator[tipo],t_instalado[[#This Row],[T.1]],t_reator[w],t_instalado[[#This Row],[P.1(W)]]),\"\")","v":""},{"$f":"IF(t_instalado[[#This Row],[Q.2]]<>\"\",SUMIFS(t_reator[p],t_reator[tipo],t_instalado[[#This Row],[T.2]],t_reator[w],t_instalado[[#This Row],[P.2(W)]]),\"\")","v":""},{"$f":"IF(t_instalado[[#This Row],[Q.3]]<>\"\",SUMIFS(t_reator[p],t_reator[tipo],t_instalado[[#This Row],[T.3]],t_reator[w],t_instalado[[#This Row],[P.3(W)]]),\"\")","v":""},{"$f":"IF(t_instalado[[#This Row],[Q.1]]<>\"\",IFERROR(IFERROR(D254*(E254+O254)+G254*(H254+P254)+J254*(K254+Q254),D254*(E254+O254)+G254*(H254+P254)),D254*(E254+O254)),\"\")","v":""},{"$f":"IF(t_instalado[[#This Row],[Consumo_W]]<>\"\",ROUND(t_instalado[[#This Row],[Consumo_W]]/t_instalado[[#This Row],[Luminárias]],0),\"\")","v":""},{"$f":"IF(t_instalado[[#This Row],[Q.1]]<>\"\",SUMIFS(t_fluxo_lumin[fluxo],t_fluxo_lumin[tipo],t_instalado[[#This Row],[T.1]])*t_instalado[[#This Row],[P.1(W)]]*t_instalado[[#This Row],[Q.1]],\"\")","v":""},{"$f":"IF(t_instalado[[#This Row],[Q.2]]<>\"\",SUMIFS(t_fluxo_lumin[fluxo],t_fluxo_lumin[tipo],t_instalado[[#This Row],[T.2]])*t_instalado[[#This Row],[Q.2]]*t_instalado[[#This Row],[P.2(W)]],\"\")","v":""},{"$f":"IF(t_instalado[[#This Row],[Q.3]]<>\"\",SUMIFS(t_fluxo_lumin[fluxo],t_fluxo_lumin[tipo],t_instalado[[#This Row],[T.3]])*t_instalado[[#This Row],[Q.3]]*t_instalado[[#This Row],[P.3(W)]],\"\")","v":""},{"$f":"IF(t_instalado[[#This Row],[Trecho]]<>\"\",SUM(t_instalado[[#This Row],[f.1]:[f.3]]),\"\")","v":""},{"$f":"IF(t_instalado[[#This Row],[Trecho]]<>\"\",t_instalado[[#This Row],[Q.1]]+t_instalado[[#This Row],[Q.2]]+t_instalado[[#This Row],[Q.3]],\"\")","v":""},{"$f":"IF(t_instalado[[#This Row],[FLUXO]]<>\"\",ROUND(t_instalado[[#This Row],[FLUXO]]/t_instalado[[#This Row],[Luminárias]],0),\"\")","v":""},{"$f":"IF(t_instalado[[#This Row],[Luminárias]]<>\"\",ROUND(t_instalado[[#This Row],[lm_médio]]/t_instalado[[#This Row],[W_médio]],2),\"\")","v":""}]
[21,{"$f":"_xlfn.XLOOKUP(t_instalado[[#This Row],[cód.]],t_sitio[cód],t_sitio[Trecho],\"\")","v":""},null,null,null,null,null,null,null,null,null,null,{"$f":"t_instalado[[#This Row],[Q.1]]+t_instalado[[#This Row],[Q.2]]+t_instalado[[#This Row],[Q.3]]","v":0},{"$f":"t_instalado[[#This Row],[Q.1]]+t_instalado[[#This Row],[Q.2]]+t_instalado[[#This Row],[Q.3]]","v":0},{"$f":"IF(t_instalado[[#This Row],[Q.1]]<>\"\",SUMIFS(t_reator[p],t_reator[tipo],t_instalado[[#This Row],[T.1]],t_reator[w],t_instalado[[#This Row],[P.1(W)]]),\"\")","v":""},{"$f":"IF(t_instalado[[#This Row],[Q.2]]<>\"\",SUMIFS(t_reator[p],t_reator[tipo],t_instalado[[#This Row],[T.2]],t_reator[w],t_instalado[[#This Row],[P.2(W)]]),\"\")","v":""},{"$f":"IF(t_instalado[[#This Row],[Q.3]]<>\"\",SUMIFS(t_reator[p],t_reator[tipo],t_instalado[[#This Row],[T.3]],t_reator[w],t_instalado[[#This Row],[P.3(W)]]),\"\")","v":""},{"$f":"IF(t_instalado[[#This Row],[Q.1]]<>\"\",IFERROR(IFERROR(D255*(E255+O255)+G255*(H255+P255)+J255*(K255+Q255),D255*(E255+O255)+G255*(H255+P255)),D255*(E255+O255)),\"\")","v":""},{"$f":"IF(t_instalado[[#This Row],[Consumo_W]]<>\"\",ROUND(t_instalado[[#This Row],[Consumo_W]]/t_instalado[[#This Row],[Luminárias]],0),\"\")","v":""},{"$f":"IF(t_instalado[[#This Row],[Q.1]]<>\"\",SUMIFS(t_fluxo_lumin[fluxo],t_fluxo_lumin[tipo],t_instalado[[#This Row],[T.1]])*t_instalado[[#This Row],[P.1(W)]]*t_instalado[[#This Row],[Q.1]],\"\")","v":""},{"$f":"IF(t_instalado[[#This Row],[Q.2]]<>\"\",SUMIFS(t_fluxo_lumin[fluxo],t_fluxo_lumin[tipo],t_instalado[[#This Row],[T.2]])*t_instalado[[#This Row],[Q.2]]*t_instalado[[#This Row],[P.2(W)]],\"\")","v":""},{"$f":"IF(t_instalado[[#This Row],[Q.3]]<>\"\",SUMIFS(t_fluxo_lumin[fluxo],t_fluxo_lumin[tipo],t_instalado[[#This Row],[T.3]])*t_instalado[[#This Row],[Q.3]]*t_instalado[[#This Row],[P.3(W)]],\"\")","v":""},{"$f":"IF(t_instalado[[#This Row],[Trecho]]<>\"\",SUM(t_instalado[[#This Row],[f.1]:[f.3]]),\"\")","v":""},{"$f":"IF(t_instalado[[#This Row],[Trecho]]<>\"\",t_instalado[[#This Row],[Q.1]]+t_instalado[[#This Row],[Q.2]]+t_instalado[[#This Row],[Q.3]],\"\")","v":""},{"$f":"IF(t_instalado[[#This Row],[FLUXO]]<>\"\",ROUND(t_instalado[[#This Row],[FLUXO]]/t_instalado[[#This Row],[Luminárias]],0),\"\")","v":""},{"$f":"IF(t_instalado[[#This Row],[Luminárias]]<>\"\",ROUND(t_instalado[[#This Row],[lm_médio]]/t_instalado[[#This Row],[W_médio]],2),\"\")","v":""}]
[22,{"$f":"_xlfn.XLOOKUP(t_instalado[[#This Row],[cód.]],t_sitio[cód],t_sitio[Trecho],\"\")","v":""},null,null,null,null,null,null,null,null,null,null,{"$f":"t_instalado[[#This Row],[Q.1]]+t_instalado[[#This Row],[Q.2]]+t_instalado[[#This Row],[Q.3]]","v":0},{"$f":"t_instalado[[#This Row],[Q.1]]+t_instalado[[#This Row],[Q.2]]+t_instalado[[#This Row],[Q.3]]","v":0},{"$f":"IF(t_instalado[[#This Row],[Q.1]]<>\"\",SUMIFS(t_reator[p],t_reator[tipo],t_instalado[[#This Row],[T.1]],t_reator[w],t_instalado[[#This Row],[P.1(W)]]),\"\")","v":""},{"$f":"IF(t_instalado[[#This Row],[Q.2]]<>\"\",SUMIFS(t_reator[p],t_reator[tipo],t_instalado[[#This Row],[T.2]],t_reator[w],t_instalado[[#This Row],[P.2(W)]]),\"\")","v":""},{"$f":"IF(t_instalado[[#This Row],[Q.3]]<>\"\",SUMIFS(t_reator[p],t_reator[tipo],t_instalado[[#This Row],[T.3]],t_reator[w],t_instalado[[#This Row],[P.3(W)]]),\"\")","v":""},{"$f":"IF(t_instalado[[#This Row],[Q.1]]<>\"\",IFERROR(IFERROR(D256*(E256+O256)+G256*(H256+P256)+J256*(K256+Q256),D256*(E256+O256)+G256*(H256+P256)),D256*(E256+O256)),\"\")","v":""},{"$f":"IF(t_instalado[[#This Row],[Consumo_W]]<>\"\",ROUND(t_instalado[[#This Row],[Consumo_W]]/t_instalado[[#This Row],[Luminárias]],0),\"\")","v":""},{"$f":"IF(t_instalado[[#This Row],[Q.1]]<>\"\",SUMIFS(t_fluxo_lumin[fluxo],t_fluxo_lumin[tipo],t_instalado[[#This Row],[T.1]])*t_instalado[[#This Row],[P.1(W)]]*t_instalado[[#This Row],[Q.1]],\"\")","v":""},{"$f":"IF(t_instalado[[#This Row],[Q.2]]<>\"\",SUMIFS(t_fluxo_lumin[fluxo],t_fluxo_lumin[tipo],t_instalado[[#This Row],[T.2]])*t_instalado[[#This Row],[Q.2]]*t_instalado[[#This Row],[P.2(W)]],\"\")","v":""},{"$f":"IF(t_instalado[[#This Row],[Q.3]]<>\"\",SUMIFS(t_fluxo_lumin[fluxo],t_fluxo_lumin[tipo],t_instalado[[#This Row],[T.3]])*t_instalado[[#This Row],[Q.3]]*t_instalado[[#This Row],[P.3(W)]],\"\")","v":""},{"$f":"IF(t_instalado[[#This Row],[Trecho]]<>\"\",SUM(t_instalado[[#This Row],[f.1]:[f.3]]),\"\")","v":""},{"$f":"IF(t_instalado[[#This Row],[Trecho]]<>\"\",t_instalado[[#This Row],[Q.1]]+t_instalado[[#This Row],[Q.2]]+t_instalado[[#This Row],[Q.3]],\"\")","v":""},{"$f":"IF(t_instalado[[#This Row],[FLUXO]]<>\"\",ROUND(t_instalado[[#This Row],[FLUXO]]/t_instalado[[#This Row],[Luminárias]],0),\"\")","v":""},{"$f":"IF(t_instalado[[#This Row],[Luminárias]]<>\"\",ROUND(t_instalado[[#This Row],[lm_médio]]/t_instalado[[#This Row],[W_médio]],2),\"\")","v":""}]
[23,{"$f":"_xlfn.XLOOKUP(t_instalado[[#This Row],[cód.]],t_sitio[cód],t_sitio[Trecho],\"\")","v":""},null,null,null,null,null,null,null,null,null,null,{"$f":"t_instalado[[#This Row],[Q.1]]+t_instalado[[#This Row],[Q.2]]+t_instalado[[#This Row],[Q.3]]","v":0},{"$f":"t_instalado[[#This Row],[Q.1]]+t_instalado[[#This Row],[Q.2]]+t_instalado[[#This Row],[Q.3]]","v":0},{"$f":"IF(t_instalado[[#This Row],[Q.1]]<>\"\",SUMIFS(t_reator[p],t_reator[tipo],t_instalado[[#This Row],[T.1]],t_reator[w],t_instalado[[#This Row],[P.1(W)]]),\"\")","v":""},{"$f":"IF(t_instalado[[#This Row],[Q.2]]<>\"\",SUMIFS(t_reator[p],t_reator[tipo],t_instalado[[#This Row],[T.2]],t_reator[w],t_instalado[[#This Row],[P.2(W)]]),\"\")","v":""},{"$f":"IF(t_instalado[[#This Row],[Q.3]]<>\"\",SUMIFS(t_reator[p],t_reator[tipo],t_instalado[[#This Row],[T.3]],t_reator[w],t_instalado[[#This Row],[P.3(W)]]),\"\")","v":""},{"$f":"IF(t_instalado[[#This Row],[Q.1]]<>\"\",IFERROR(IFERROR(D257*(E257+O257)+G257*(H257+P257)+J257*(K257+Q257),D257*(E257+O257)+G257*(H257+P257)),D257*(E257+O257)),\"\")","v":""},{"$f":"IF(t_instalado[[#This Row],[Consumo_W]]<>\"\",ROUND(t_instalado[[#This Row],[Consumo_W]]/t_instalado[[#This Row],[Luminárias]],0),\"\")","v":""},{"$f":"IF(t_instalado[[#This Row],[Q.1]]<>\"\",SUMIFS(t_fluxo_lumin[fluxo],t_fluxo_lumin[tipo],t_instalado[[#This Row],[T.1]])*t_instalado[[#This Row],[P.1(W)]]*t_instalado[[#This Row],[Q.1]],\"\")","v":""},{"$f":"IF(t_instalado[[#This Row],[Q.2]]<>\"\",SUMIFS(t_fluxo_lumin[fluxo],t_fluxo_lumin[tipo],t_instalado[[#This Row],[T.2]])*t_instalado[[#This Row],[Q.2]]*t_instalado[[#This Row],[P.2(W)]],\"\")","v":""},{"$f":"IF(t_instalado[[#This Row],[Q.3]]<>\"\",SUMIFS(t_fluxo_lumin[fluxo],t_fluxo_lumin[tipo],t_instalado[[#This Row],[T.3]])*t_instalado[[#This Row],[Q.3]]*t_instalado[[#This Row],[P.3(W)]],\"\")","v":""},{"$f":"IF(t_instalado[[#This Row],[Trecho]]<>\"\",SUM(t_instalado[[#This Row],[f.1]:[f.3]]),\"\")","v":""},{"$f":"IF(t_instalado[[#This Row],[Trecho]]<>\"\",t_instalado[[#This Row],[Q.1]]+t_instalado[[#This Row],[Q.2]]+t_instalado[[#This Row],[Q.3]],\"\")","v":""},{"$f":"IF(t_instalado[[#This Row],[FLUXO]]<>\"\",ROUND(t_instalado[[#This Row],[FLUXO]]/t_instalado[[#This Row],[Luminárias]],0),\"\")","v":""},{"$f":"IF(t_instalado[[#This Row],[Luminárias]]<>\"\",ROUND(t_instalado[[#This Row],[lm_médio]]/t_instalado[[#This Row],[W_médio]],2),\"\")","v":""}]
[24,{"$f":"_xlfn.XLOOKUP(t_instalado[[#This Row],[cód.]],t_sitio[cód],t_sitio[Trecho],\"\")","v":""},null,null,null,null,null,null,null,null,null,null,{"$f":"t_instalado[[#This Row],[Q.1]]+t_instalado[[#This Row],[Q.2]]+t_instalado[[#This Row],[Q.3]]","v":0},{"$f":"t_instalado[[#This Row],[Q.1]]+t_instalado[[#This Row],[Q.2]]+t_instalado[[#This Row],[Q.3]]","v":0},{"$f":"IF(t_instalado[[#This Row],[Q.1]]<>\"\",SUMIFS(t_reator[p],t_reator[tipo],t_instalado[[#This Row],[T.1]],t_reator[w],t_instalado[[#This Row],[P.1(W)]]),\"\")","v":""},{"$f":"IF(t_instalado[[#This Row],[Q.2]]<>\"\",SUMIFS(t_reator[p],t_reator[tipo],t_instalado[[#This Row],[T.2]],t_reator[w],t_instalado[[#This Row],[P.2(W)]]),\"\")","v":""},{"$f":"IF(t_instalado[[#This Row],[Q.3]]<>\"\",SUMIFS(t_reator[p],t_reator[tipo],t_instalado[[#This Row],[T.3]],t_reator[w],t_instalado[[#This Row],[P.3(W)]]),\"\")","v":""},{"$f":"IF(t_instalado[[#This Row],[Q.1]]<>\"\",IFERROR(IFERROR(D258*(E258+O258)+G258*(H258+P258)+J258*(K258+Q258),D258*(E258+O258)+G258*(H258+P258)),D258*(E258+O258)),\"\")","v":""},{"$f":"IF(t_instalado[[#This Row],[Consumo_W]]<>\"\",ROUND(t_instalado[[#This Row],[Consumo_W]]/t_instalado[[#This Row],[Luminárias]],0),\"\")","v":""},{"$f":"IF(t_instalado[[#This Row],[Q.1]]<>\"\",SUMIFS(t_fluxo_lumin[fluxo],t_fluxo_lumin[tipo],t_instalado[[#This Row],[T.1]])*t_instalado[[#This Row],[P.1(W)]]*t_instalado[[#This Row],[Q.1]],\"\")","v":""},{"$f":"IF(t_instalado[[#This Row],[Q.2]]<>\"\",SUMIFS(t_fluxo_lumin[fluxo],t_fluxo_lumin[tipo],t_instalado[[#This Row],[T.2]])*t_instalado[[#This Row],[Q.2]]*t_instalado[[#This Row],[P.2(W)]],\"\")","v":""},{"$f":"IF(t_instalado[[#This Row],[Q.3]]<>\"\",SUMIFS(t_fluxo_lumin[fluxo],t_fluxo_lumin[tipo],t_instalado[[#This Row],[T.3]])*t_instalado[[#This Row],[Q.3]]*t_instalado[[#This Row],[P.3(W)]],\"\")","v":""},{"$f":"IF(t_instalado[[#This Row],[Trecho]]<>\"\",SUM(t_instalado[[#This Row],[f.1]:[f.3]]),\"\")","v":""},{"$f":"IF(t_instalado[[#This Row],[Trecho]]<>\"\",t_instalado[[#This Row],[Q.1]]+t_instalado[[#This Row],[Q.2]]+t_instalado[[#This Row],[Q.3]],\"\")","v":""},{"$f":"IF(t_instalado[[#This Row],[FLUXO]]<>\"\",ROUND(t_instalado[[#This Row],[FLUXO]]/t_instalado[[#This Row],[Luminárias]],0),\"\")","v":""},{"$f":"IF(t_instalado[[#This Row],[Luminárias]]<>\"\",ROUND(t_instalado[[#This Row],[lm_médio]]/t_instalado[[#This Row],[W_médio]],2),\"\")","v":""}]
[25,{"$f":"_xlfn.XLOOKUP(t_instalado[[#This Row],[cód.]],t_sitio[cód],t_sitio[Trecho],\"\")","v":""},null,null,null,null,null,null,null,null,null,null,{"$f":"t_instalado[[#This Row],[Q.1]]+t_instalado[[#This Row],[Q.2]]+t_instalado[[#This Row],[Q.3]]","v":0},{"$f":"t_instalado[[#This Row],[Q.1]]+t_instalado[[#This Row],[Q.2]]+t_instalado[[#This Row],[Q.3]]","v":0},{"$f":"IF(t_instalado[[#This Row],[Q.1]]<>\"\",SUMIFS(t_reator[p],t_reator[tipo],t_instalado[[#This Row],[T.1]],t_reator[w],t_instalado[[#This Row],[P.1(W)]]),\"\")","v":""},{"$f":"IF(t_instalado[[#This Row],[Q.2]]<>\"\",SUMIFS(t_reator[p],t_reator[tipo],t_instalado[[#This Row],[T.2]],t_reator[w],t_instalado[[#This Row],[P.2(W)]]),\"\")","v":""},{"$f":"IF(t_instalado[[#This Row],[Q.3]]<>\"\",SUMIFS(t_reator[p],t_reator[tipo],t_instalado[[#This Row],[T.3]],t_reator[w],t_instalado[[#This Row],[P.3(W)]]),\"\")","v":""},{"$f":"IF(t_instalado[[#This Row],[Q.1]]<>\"\",IFERROR(IFERROR(D259*(E259+O259)+G259*(H259+P259)+J259*(K259+Q259),D259*(E259+O259)+G259*(H259+P259)),D259*(E259+O259)),\"\")","v":""},{"$f":"IF(t_instalado[[#This Row],[Consumo_W]]<>\"\",ROUND(t_instalado[[#This Row],[Consumo_W]]/t_instalado[[#This Row],[Luminárias]],0),\"\")","v":""},{"$f":"IF(t_instalado[[#This Row],[Q.1]]<>\"\",SUMIFS(t_fluxo_lumin[fluxo],t_fluxo_lumin[tipo],t_instalado[[#This Row],[T.1]])*t_instalado[[#This Row],[P.1(W)]]*t_instalado[[#This Row],[Q.1]],\"\")","v":""},{"$f":"IF(t_instalado[[#This Row],[Q.2]]<>\"\",SUMIFS(t_fluxo_lumin[fluxo],t_fluxo_lumin[tipo],t_instalado[[#This Row],[T.2]])*t_instalado[[#This Row],[Q.2]]*t_instalado[[#This Row],[P.2(W)]],\"\")","v":""},{"$f":"IF(t_instalado[[#This Row],[Q.3]]<>\"\",SUMIFS(t_fluxo_lumin[fluxo],t_fluxo_lumin[tipo],t_instalado[[#This Row],[T.3]])*t_instalado[[#This Row],[Q.3]]*t_instalado[[#This Row],[P.3(W)]],\"\")","v":""},{"$f":"IF(t_instalado[[#This Row],[Trecho]]<>\"\",SUM(t_instalado[[#This Row],[f.1]:[f.3]]),\"\")","v":""},{"$f":"IF(t_instalado[[#This Row],[Trecho]]<>\"\",t_instalado[[#This Row],[Q.1]]+t_instalado[[#This Row],[Q.2]]+t_instalado[[#This Row],[Q.3]],\"\")","v":""},{"$f":"IF(t_instalado[[#This Row],[FLUXO]]<>\"\",ROUND(t_instalado[[#This Row],[FLUXO]]/t_instalado[[#This Row],[Luminárias]],0),\"\")","v":""},{"$f":"IF(t_instalado[[#This Row],[Luminárias]]<>\"\",ROUND(t_instalado[[#This Row],[lm_médio]]/t_instalado[[#This Row],[W_médio]],2),\"\")","v":""}]
[26,{"$f":"_xlfn.XLOOKUP(t_instalado[[#This Row],[cód.]],t_sitio[cód],t_sitio[Trecho],\"\")","v":""},null,null,null,null,null,null,null,null,null,null,{"$f":"t_instalado[[#This Row],[Q.1]]+t_instalado[[#This Row],[Q.2]]+t_instalado[[#This Row],[Q.3]]","v":0},{"$f":"t_instalado[[#This Row],[Q.1]]+t_instalado[[#This Row],[Q.2]]+t_instalado[[#This Row],[Q.3]]","v":0},{"$f":"IF(t_instalado[[#This Row],[Q.1]]<>\"\",SUMIFS(t_reator[p],t_reator[tipo],t_instalado[[#This Row],[T.1]],t_reator[w],t_instalado[[#This Row],[P.1(W)]]),\"\")","v":""},{"$f":"IF(t_instalado[[#This Row],[Q.2]]<>\"\",SUMIFS(t_reator[p],t_reator[tipo],t_instalado[[#This Row],[T.2]],t_reator[w],t_instalado[[#This Row],[P.2(W)]]),\"\")","v":""},{"$f":"IF(t_instalado[[#This Row],[Q.3]]<>\"\",SUMIFS(t_reator[p],t_reator[tipo],t_instalado[[#This Row],[T.3]],t_reator[w],t_instalado[[#This Row],[P.3(W)]]),\"\")","v":""},{"$f":"IF(t_instalado[[#This Row],[Q.1]]<>\"\",IFERROR(IFERROR(D260*(E260+O260)+G260*(H260+P260)+J260*(K260+Q260),D260*(E260+O260)+G260*(H260+P260)),D260*(E260+O260)),\"\")","v":""},{"$f":"IF(t_instalado[[#This Row],[Consumo_W]]<>\"\",ROUND(t_instalado[[#This Row],[Consumo_W]]/t_instalado[[#This Row],[Luminárias]],0),\"\")","v":""},{"$f":"IF(t_instalado[[#This Row],[Q.1]]<>\"\",SUMIFS(t_fluxo_lumin[fluxo],t_fluxo_lumin[tipo],t_instalado[[#This Row],[T.1]])*t_instalado[[#This Row],[P.1(W)]]*t_instalado[[#This Row],[Q.1]],\"\")","v":""},{"$f":"IF(t_instalado[[#This Row],[Q.2]]<>\"\",SUMIFS(t_fluxo_lumin[fluxo],t_fluxo_lumin[tipo],t_instalado[[#This Row],[T.2]])*t_instalado[[#This Row],[Q.2]]*t_instalado[[#This Row],[P.2(W)]],\"\")","v":""},{"$f":"IF(t_instalado[[#This Row],[Q.3]]<>\"\",SUMIFS(t_fluxo_lumin[fluxo],t_fluxo_lumin[tipo],t_instalado[[#This Row],[T.3]])*t_instalado[[#This Row],[Q.3]]*t_instalado[[#This Row],[P.3(W)]],\"\")","v":""},{"$f":"IF(t_instalado[[#This Row],[Trecho]]<>\"\",SUM(t_instalado[[#This Row],[f.1]:[f.3]]),\"\")","v":""},{"$f":"IF(t_instalado[[#This Row],[Trecho]]<>\"\",t_instalado[[#This Row],[Q.1]]+t_instalado[[#This Row],[Q.2]]+t_instalado[[#This Row],[Q.3]],\"\")","v":""},{"$f":"IF(t_instalado[[#This Row],[FLUXO]]<>\"\",ROUND(t_instalado[[#This Row],[FLUXO]]/t_instalado[[#This Row],[Luminárias]],0),\"\")","v":""},{"$f":"IF(t_instalado[[#This Row],[Luminárias]]<>\"\",ROUND(t_instalado[[#This Row],[lm_médio]]/t_instalado[[#This Row],[W_médio]],2),\"\")","v":""}]
[27,{"$f":"_xlfn.XLOOKUP(t_instalado[[#This Row],[cód.]],t_sitio[cód],t_sitio[Trecho],\"\")","v":""},null,null,null,null,null,null,null,null,null,null,{"$f":"t_instalado[[#This Row],[Q.1]]+t_instalado[[#This Row],[Q.2]]+t_instalado[[#This Row],[Q.3]]","v":0},{"$f":"t_instalado[[#This Row],[Q.1]]+t_instalado[[#This Row],[Q.2]]+t_instalado[[#This Row],[Q.3]]","v":0},{"$f":"IF(t_instalado[[#This Row],[Q.1]]<>\"\",SUMIFS(t_reator[p],t_reator[tipo],t_instalado[[#This Row],[T.1]],t_reator[w],t_instalado[[#This Row],[P.1(W)]]),\"\")","v":""},{"$f":"IF(t_instalado[[#This Row],[Q.2]]<>\"\",SUMIFS(t_reator[p],t_reator[tipo],t_instalado[[#This Row],[T.2]],t_reator[w],t_instalado[[#This Row],[P.2(W)]]),\"\")","v":""},{"$f":"IF(t_instalado[[#This Row],[Q.3]]<>\"\",SUMIFS(t_reator[p],t_reator[tipo],t_instalado[[#This Row],[T.3]],t_reator[w],t_instalado[[#This Row],[P.3(W)]]),\"\")","v":""},{"$f":"IF(t_instalado[[#This Row],[Q.1]]<>\"\",IFERROR(IFERROR(D261*(E261+O261)+G261*(H261+P261)+J261*(K261+Q261),D261*(E261+O261)+G261*(H261+P261)),D261*(E261+O261)),\"\")","v":""},{"$f":"IF(t_instalado[[#This Row],[Consumo_W]]<>\"\",ROUND(t_instalado[[#This Row],[Consumo_W]]/t_instalado[[#This Row],[Luminárias]],0),\"\")","v":""},{"$f":"IF(t_instalado[[#This Row],[Q.1]]<>\"\",SUMIFS(t_fluxo_lumin[fluxo],t_fluxo_lumin[tipo],t_instalado[[#This Row],[T.1]])*t_instalado[[#This Row],[P.1(W)]]*t_instalado[[#This Row],[Q.1]],\"\")","v":""},{"$f":"IF(t_instalado[[#This Row],[Q.2]]<>\"\",SUMIFS(t_fluxo_lumin[fluxo],t_fluxo_lumin[tipo],t_instalado[[#This Row],[T.2]])*t_instalado[[#This Row],[Q.2]]*t_instalado[[#This Row],[P.2(W)]],\"\")","v":""},{"$f":"IF(t_instalado[[#This Row],[Q.3]]<>\"\",SUMIFS(t_fluxo_lumin[fluxo],t_fluxo_lumin[tipo],t_instalado[[#This Row],[T.3]])*t_instalado[[#This Row],[Q.3]]*t_instalado[[#This Row],[P.3(W)]],\"\")","v":""},{"$f":"IF(t_instalado[[#This Row],[Trecho]]<>\"\",SUM(t_instalado[[#This Row],[f.1]:[f.3]]),\"\")","v":""},{"$f":"IF(t_instalado[[#This Row],[Trecho]]<>\"\",t_instalado[[#This Row],[Q.1]]+t_instalado[[#This Row],[Q.2]]+t_instalado[[#This Row],[Q.3]],\"\")","v":""},{"$f":"IF(t_instalado[[#This Row],[FLUXO]]<>\"\",ROUND(t_instalado[[#This Row],[FLUXO]]/t_instalado[[#This Row],[Luminárias]],0),\"\")","v":""},{"$f":"IF(t_instalado[[#This Row],[Luminárias]]<>\"\",ROUND(t_instalado[[#This Row],[lm_médio]]/t_instalado[[#This Row],[W_médio]],2),\"\")","v":""}]
[28,{"$f":"_xlfn.XLOOKUP(t_instalado[[#This Row],[cód.]],t_sitio[cód],t_sitio[Trecho],\"\")","v":""},null,null,null,null,null,null,null,null,null,null,{"$f":"t_instalado[[#This Row],[Q.1]]+t_instalado[[#This Row],[Q.2]]+t_instalado[[#This Row],[Q.3]]","v":0},{"$f":"t_instalado[[#This Row],[Q.1]]+t_instalado[[#This Row],[Q.2]]+t_instalado[[#This Row],[Q.3]]","v":0},{"$f":"IF(t_instalado[[#This Row],[Q.1]]<>\"\",SUMIFS(t_reator[p],t_reator[tipo],t_instalado[[#This Row],[T.1]],t_reator[w],t_instalado[[#This Row],[P.1(W)]]),\"\")","v":""},{"$f":"IF(t_instalado[[#This Row],[Q.2]]<>\"\",SUMIFS(t_reator[p],t_reator[tipo],t_instalado[[#This Row],[T.2]],t_reator[w],t_instalado[[#This Row],[P.2(W)]]),\"\")","v":""},{"$f":"IF(t_instalado[[#This Row],[Q.3]]<>\"\",SUMIFS(t_reator[p],t_reator[tipo],t_instalado[[#This Row],[T.3]],t_reator[w],t_instalado[[#This Row],[P.3(W)]]),\"\")","v":""},{"$f":"IF(t_instalado[[#This Row],[Q.1]]<>\"\",IFERROR(IFERROR(D262*(E262+O262)+G262*(H262+P262)+J262*(K262+Q262),D262*(E262+O262)+G262*(H262+P262)),D262*(E262+O262)),\"\")","v":""},{"$f":"IF(t_instalado[[#This Row],[Consumo_W]]<>\"\",ROUND(t_instalado[[#This Row],[Consumo_W]]/t_instalado[[#This Row],[Luminárias]],0),\"\")","v":""},{"$f":"IF(t_instalado[[#This Row],[Q.1]]<>\"\",SUMIFS(t_fluxo_lumin[fluxo],t_fluxo_lumin[tipo],t_instalado[[#This Row],[T.1]])*t_instalado[[#This Row],[P.1(W)]]*t_instalado[[#This Row],[Q.1]],\"\")","v":""},{"$f":"IF(t_instalado[[#This Row],[Q.2]]<>\"\",SUMIFS(t_fluxo_lumin[fluxo],t_fluxo_lumin[tipo],t_instalado[[#This Row],[T.2]])*t_instalado[[#This Row],[Q.2]]*t_instalado[[#This Row],[P.2(W)]],\"\")","v":""},{"$f":"IF(t_instalado[[#This Row],[Q.3]]<>\"\",SUMIFS(t_fluxo_lumin[fluxo],t_fluxo_lumin[tipo],t_instalado[[#This Row],[T.3]])*t_instalado[[#This Row],[Q.3]]*t_instalado[[#This Row],[P.3(W)]],\"\")","v":""},{"$f":"IF(t_instalado[[#This Row],[Trecho]]<>\"\",SUM(t_instalado[[#This Row],[f.1]:[f.3]]),\"\")","v":""},{"$f":"IF(t_instalado[[#This Row],[Trecho]]<>\"\",t_instalado[[#This Row],[Q.1]]+t_instalado[[#This Row],[Q.2]]+t_instalado[[#This Row],[Q.3]],\"\")","v":""},{"$f":"IF(t_instalado[[#This Row],[FLUXO]]<>\"\",ROUND(t_instalado[[#This Row],[FLUXO]]/t_instalado[[#This Row],[Luminárias]],0),\"\")","v":""},{"$f":"IF(t_instalado[[#This Row],[Luminárias]]<>\"\",ROUND(t_instalado[[#This Row],[lm_médio]]/t_instalado[[#This Row],[W_médio]],2),\"\")","v":""}]
[29,{"$f":"_xlfn.XLOOKUP(t_instalado[[#This Row],[cód.]],t_sitio[cód],t_sitio[Trecho],\"\")","v":""},null,null,null,null,null,null,null,null,null,null,{"$f":"t_instalado[[#This Row],[Q.1]]+t_instalado[[#This Row],[Q.2]]+t_instalado[[#This Row],[Q.3]]","v":0},{"$f":"t_instalado[[#This Row],[Q.1]]+t_instalado[[#This Row],[Q.2]]+t_instalado[[#This Row],[Q.3]]","v":0},{"$f":"IF(t_instalado[[#This Row],[Q.1]]<>\"\",SUMIFS(t_reator[p],t_reator[tipo],t_instalado[[#This Row],[T.1]],t_reator[w],t_instalado[[#This Row],[P.1(W)]]),\"\")","v":""},{"$f":"IF(t_instalado[[#This Row],[Q.2]]<>\"\",SUMIFS(t_reator[p],t_reator[tipo],t_instalado[[#This Row],[T.2]],t_reator[w],t_instalado[[#This Row],[P.2(W)]]),\"\")","v":""},{"$f":"IF(t_instalado[[#This Row],[Q.3]]<>\"\",SUMIFS(t_reator[p],t_reator[tipo],t_instalado[[#This Row],[T.3]],t_reator[w],t_instalado[[#This Row],[P.3(W)]]),\"\")","v":""},{"$f":"IF(t_instalado[[#This Row],[Q.1]]<>\"\",IFERROR(IFERROR(D263*(E263+O263)+G263*(H263+P263)+J263*(K263+Q263),D263*(E263+O263)+G263*(H263+P263)),D263*(E263+O263)),\"\")","v":""},{"$f":"IF(t_instalado[[#This Row],[Consumo_W]]<>\"\",ROUND(t_instalado[[#This Row],[Consumo_W]]/t_instalado[[#This Row],[Luminárias]],0),\"\")","v":""},{"$f":"IF(t_instalado[[#This Row],[Q.1]]<>\"\",SUMIFS(t_fluxo_lumin[fluxo],t_fluxo_lumin[tipo],t_instalado[[#This Row],[T.1]])*t_instalado[[#This Row],[P.1(W)]]*t_instalado[[#This Row],[Q.1]],\"\")","v":""},{"$f":"IF(t_instalado[[#This Row],[Q.2]]<>\"\",SUMIFS(t_fluxo_lumin[fluxo],t_fluxo_lumin[tipo],t_instalado[[#This Row],[T.2]])*t_instalado[[#This Row],[Q.2]]*t_instalado[[#This Row],[P.2(W)]],\"\")","v":""},{"$f":"IF(t_instalado[[#This Row],[Q.3]]<>\"\",SUMIFS(t_fluxo_lumin[fluxo],t_fluxo_lumin[tipo],t_instalado[[#This Row],[T.3]])*t_instalado[[#This Row],[Q.3]]*t_instalado[[#This Row],[P.3(W)]],\"\")","v":""},{"$f":"IF(t_instalado[[#This Row],[Trecho]]<>\"\",SUM(t_instalado[[#This Row],[f.1]:[f.3]]),\"\")","v":""},{"$f":"IF(t_instalado[[#This Row],[Trecho]]<>\"\",t_instalado[[#This Row],[Q.1]]+t_instalado[[#This Row],[Q.2]]+t_instalado[[#This Row],[Q.3]],\"\")","v":""},{"$f":"IF(t_instalado[[#This Row],[FLUXO]]<>\"\",ROUND(t_instalado[[#This Row],[FLUXO]]/t_instalado[[#This Row],[Luminárias]],0),\"\")","v":""},{"$f":"IF(t_instalado[[#This Row],[Luminárias]]<>\"\",ROUND(t_instalado[[#This Row],[lm_médio]]/t_instalado[[#This Row],[W_médio]],2),\"\")","v":""}]
[30,{"$f":"_xlfn.XLOOKUP(t_instalado[[#This Row],[cód.]],t_sitio[cód],t_sitio[Trecho],\"\")","v":""},null,null,null,null,null,null,null,null,null,null,{"$f":"t_instalado[[#This Row],[Q.1]]+t_instalado[[#This Row],[Q.2]]+t_instalado[[#This Row],[Q.3]]","v":0},{"$f":"t_instalado[[#This Row],[Q.1]]+t_instalado[[#This Row],[Q.2]]+t_instalado[[#This Row],[Q.3]]","v":0},{"$f":"IF(t_instalado[[#This Row],[Q.1]]<>\"\",SUMIFS(t_reator[p],t_reator[tipo],t_instalado[[#This Row],[T.1]],t_reator[w],t_instalado[[#This Row],[P.1(W)]]),\"\")","v":""},{"$f":"IF(t_instalado[[#This Row],[Q.2]]<>\"\",SUMIFS(t_reator[p],t_reator[tipo],t_instalado[[#This Row],[T.2]],t_reator[w],t_instalado[[#This Row],[P.2(W)]]),\"\")","v":""},{"$f":"IF(t_instalado[[#This Row],[Q.3]]<>\"\",SUMIFS(t_reator[p],t_reator[tipo],t_instalado[[#This Row],[T.3]],t_reator[w],t_instalado[[#This Row],[P.3(W)]]),\"\")","v":""},{"$f":"IF(t_instalado[[#This Row],[Q.1]]<>\"\",IFERROR(IFERROR(D264*(E264+O264)+G264*(H264+P264)+J264*(K264+Q264),D264*(E264+O264)+G264*(H264+P264)),D264*(E264+O264)),\"\")","v":""},{"$f":"IF(t_instalado[[#This Row],[Consumo_W]]<>\"\",ROUND(t_instalado[[#This Row],[Consumo_W]]/t_instalado[[#This Row],[Luminárias]],0),\"\")","v":""},{"$f":"IF(t_instalado[[#This Row],[Q.1]]<>\"\",SUMIFS(t_fluxo_lumin[fluxo],t_fluxo_lumin[tipo],t_instalado[[#This Row],[T.1]])*t_instalado[[#This Row],[P.1(W)]]*t_instalado[[#This Row],[Q.1]],\"\")","v":""},{"$f":"IF(t_instalado[[#This Row],[Q.2]]<>\"\",SUMIFS(t_fluxo_lumin[fluxo],t_fluxo_lumin[tipo],t_instalado[[#This Row],[T.2]])*t_instalado[[#This Row],[Q.2]]*t_instalado[[#This Row],[P.2(W)]],\"\")","v":""},{"$f":"IF(t_instalado[[#This Row],[Q.3]]<>\"\",SUMIFS(t_fluxo_lumin[fluxo],t_fluxo_lumin[tipo],t_instalado[[#This Row],[T.3]])*t_instalado[[#This Row],[Q.3]]*t_instalado[[#This Row],[P.3(W)]],\"\")","v":""},{"$f":"IF(t_instalado[[#This Row],[Trecho]]<>\"\",SUM(t_instalado[[#This Row],[f.1]:[f.3]]),\"\")","v":""},{"$f":"IF(t_instalado[[#This Row],[Trecho]]<>\"\",t_instalado[[#This Row],[Q.1]]+t_instalado[[#This Row],[Q.2]]+t_instalado[[#This Row],[Q.3]],\"\")","v":""},{"$f":"IF(t_instalado[[#This Row],[FLUXO]]<>\"\",ROUND(t_instalado[[#This Row],[FLUXO]]/t_instalado[[#This Row],[Luminárias]],0),\"\")","v":""},{"$f":"IF(t_instalado[[#This Row],[Luminárias]]<>\"\",ROUND(t_instalado[[#This Row],[lm_médio]]/t_instalado[[#This Row],[W_médio]],2),\"\")","v":""}]
[31,{"$f":"_xlfn.XLOOKUP(t_instalado[[#This Row],[cód.]],t_sitio[cód],t_sitio[Trecho],\"\")","v":""},null,null,null,null,null,null,null,null,null,null,{"$f":"t_instalado[[#This Row],[Q.1]]+t_instalado[[#This Row],[Q.2]]+t_instalado[[#This Row],[Q.3]]","v":0},{"$f":"t_instalado[[#This Row],[Q.1]]+t_instalado[[#This Row],[Q.2]]+t_instalado[[#This Row],[Q.3]]","v":0},{"$f":"IF(t_instalado[[#This Row],[Q.1]]<>\"\",SUMIFS(t_reator[p],t_reator[tipo],t_instalado[[#This Row],[T.1]],t_reator[w],t_instalado[[#This Row],[P.1(W)]]),\"\")","v":""},{"$f":"IF(t_instalado[[#This Row],[Q.2]]<>\"\",SUMIFS(t_reator[p],t_reator[tipo],t_instalado[[#This Row],[T.2]],t_reator[w],t_instalado[[#This Row],[P.2(W)]]),\"\")","v":""},{"$f":"IF(t_instalado[[#This Row],[Q.3]]<>\"\",SUMIFS(t_reator[p],t_reator[tipo],t_instalado[[#This Row],[T.3]],t_reator[w],t_instalado[[#This Row],[P.3(W)]]),\"\")","v":""},{"$f":"IF(t_instalado[[#This Row],[Q.1]]<>\"\",IFERROR(IFERROR(D265*(E265+O265)+G265*(H265+P265)+J265*(K265+Q265),D265*(E265+O265)+G265*(H265+P265)),D265*(E265+O265)),\"\")","v":""},{"$f":"IF(t_instalado[[#This Row],[Consumo_W]]<>\"\",ROUND(t_instalado[[#This Row],[Consumo_W]]/t_instalado[[#This Row],[Luminárias]],0),\"\")","v":""},{"$f":"IF(t_instalado[[#This Row],[Q.1]]<>\"\",SUMIFS(t_fluxo_lumin[fluxo],t_fluxo_lumin[tipo],t_instalado[[#This Row],[T.1]])*t_instalado[[#This Row],[P.1(W)]]*t_instalado[[#This Row],[Q.1]],\"\")","v":""},{"$f":"IF(t_instalado[[#This Row],[Q.2]]<>\"\",SUMIFS(t_fluxo_lumin[fluxo],t_fluxo_lumin[tipo],t_instalado[[#This Row],[T.2]])*t_instalado[[#This Row],[Q.2]]*t_instalado[[#This Row],[P.2(W)]],\"\")","v":""},{"$f":"IF(t_instalado[[#This Row],[Q.3]]<>\"\",SUMIFS(t_fluxo_lumin[fluxo],t_fluxo_lumin[tipo],t_instalado[[#This Row],[T.3]])*t_instalado[[#This Row],[Q.3]]*t_instalado[[#This Row],[P.3(W)]],\"\")","v":""},{"$f":"IF(t_instalado[[#This Row],[Trecho]]<>\"\",SUM(t_instalado[[#This Row],[f.1]:[f.3]]),\"\")","v":""},{"$f":"IF(t_instalado[[#This Row],[Trecho]]<>\"\",t_instalado[[#This Row],[Q.1]]+t_instalado[[#This Row],[Q.2]]+t_instalado[[#This Row],[Q.3]],\"\")","v":""},{"$f":"IF(t_instalado[[#This Row],[FLUXO]]<>\"\",ROUND(t_instalado[[#This Row],[FLUXO]]/t_instalado[[#This Row],[Luminárias]],0),\"\")","v":""},{"$f":"IF(t_instalado[[#This Row],[Luminárias]]<>\"\",ROUND(t_instalado[[#This Row],[lm_médio]]/t_instalado[[#This Row],[W_médio]],2),\"\")","v":""}]
[32,{"$f":"_xlfn.XLOOKUP(t_instalado[[#This Row],[cód.]],t_sitio[cód],t_sitio[Trecho],\"\")","v":""},null,null,null,null,null,null,null,null,null,null,{"$f":"t_instalado[[#This Row],[Q.1]]+t_instalado[[#This Row],[Q.2]]+t_instalado[[#This Row],[Q.3]]","v":0},{"$f":"t_instalado[[#This Row],[Q.1]]+t_instalado[[#This Row],[Q.2]]+t_instalado[[#This Row],[Q.3]]","v":0},{"$f":"IF(t_instalado[[#This Row],[Q.1]]<>\"\",SUMIFS(t_reator[p],t_reator[tipo],t_instalado[[#This Row],[T.1]],t_reator[w],t_instalado[[#This Row],[P.1(W)]]),\"\")","v":""},{"$f":"IF(t_instalado[[#This Row],[Q.2]]<>\"\",SUMIFS(t_reator[p],t_reator[tipo],t_instalado[[#This Row],[T.2]],t_reator[w],t_instalado[[#This Row],[P.2(W)]]),\"\")","v":""},{"$f":"IF(t_instalado[[#This Row],[Q.3]]<>\"\",SUMIFS(t_reator[p],t_reator[tipo],t_instalado[[#This Row],[T.3]],t_reator[w],t_instalado[[#This Row],[P.3(W)]]),\"\")","v":""},{"$f":"IF(t_instalado[[#This Row],[Q.1]]<>\"\",IFERROR(IFERROR(D266*(E266+O266)+G266*(H266+P266)+J266*(K266+Q266),D266*(E266+O266)+G266*(H266+P266)),D266*(E266+O266)),\"\")","v":""},{"$f":"IF(t_instalado[[#This Row],[Consumo_W]]<>\"\",ROUND(t_instalado[[#This Row],[Consumo_W]]/t_instalado[[#This Row],[Luminárias]],0),\"\")","v":""},{"$f":"IF(t_instalado[[#This Row],[Q.1]]<>\"\",SUMIFS(t_fluxo_lumin[fluxo],t_fluxo_lumin[tipo],t_instalado[[#This Row],[T.1]])*t_instalado[[#This Row],[P.1(W)]]*t_instalado[[#This Row],[Q.1]],\"\")","v":""},{"$f":"IF(t_instalado[[#This Row],[Q.2]]<>\"\",SUMIFS(t_fluxo_lumin[fluxo],t_fluxo_lumin[tipo],t_instalado[[#This Row],[T.2]])*t_instalado[[#This Row],[Q.2]]*t_instalado[[#This Row],[P.2(W)]],\"\")","v":""},{"$f":"IF(t_instalado[[#This Row],[Q.3]]<>\"\",SUMIFS(t_fluxo_lumin[fluxo],t_fluxo_lumin[tipo],t_instalado[[#This Row],[T.3]])*t_instalado[[#This Row],[Q.3]]*t_instalado[[#This Row],[P.3(W)]],\"\")","v":""},{"$f":"IF(t_instalado[[#This Row],[Trecho]]<>\"\",SUM(t_instalado[[#This Row],[f.1]:[f.3]]),\"\")","v":""},{"$f":"IF(t_instalado[[#This Row],[Trecho]]<>\"\",t_instalado[[#This Row],[Q.1]]+t_instalado[[#This Row],[Q.2]]+t_instalado[[#This Row],[Q.3]],\"\")","v":""},{"$f":"IF(t_instalado[[#This Row],[FLUXO]]<>\"\",ROUND(t_instalado[[#This Row],[FLUXO]]/t_instalado[[#This Row],[Luminárias]],0),\"\")","v":""},{"$f":"IF(t_instalado[[#This Row],[Luminárias]]<>\"\",ROUND(t_instalado[[#This Row],[lm_médio]]/t_instalado[[#This Row],[W_médio]],2),\"\")","v":""}]
[33,{"$f":"_xlfn.XLOOKUP(t_instalado[[#This Row],[cód.]],t_sitio[cód],t_sitio[Trecho],\"\")","v":""},null,null,null,null,null,null,null,null,null,null,{"$f":"t_instalado[[#This Row],[Q.1]]+t_instalado[[#This Row],[Q.2]]+t_instalado[[#This Row],[Q.3]]","v":0},{"$f":"t_instalado[[#This Row],[Q.1]]+t_instalado[[#This Row],[Q.2]]+t_instalado[[#This Row],[Q.3]]","v":0},{"$f":"IF(t_instalado[[#This Row],[Q.1]]<>\"\",SUMIFS(t_reator[p],t_reator[tipo],t_instalado[[#This Row],[T.1]],t_reator[w],t_instalado[[#This Row],[P.1(W)]]),\"\")","v":""},{"$f":"IF(t_instalado[[#This Row],[Q.2]]<>\"\",SUMIFS(t_reator[p],t_reator[tipo],t_instalado[[#This Row],[T.2]],t_reator[w],t_instalado[[#This Row],[P.2(W)]]),\"\")","v":""},{"$f":"IF(t_instalado[[#This Row],[Q.3]]<>\"\",SUMIFS(t_reator[p],t_reator[tipo],t_instalado[[#This Row],[T.3]],t_reator[w],t_instalado[[#This Row],[P.3(W)]]),\"\")","v":""},{"$f":"IF(t_instalado[[#This Row],[Q.1]]<>\"\",IFERROR(IFERROR(D267*(E267+O267)+G267*(H267+P267)+J267*(K267+Q267),D267*(E267+O267)+G267*(H267+P267)),D267*(E267+O267)),\"\")","v":""},{"$f":"IF(t_instalado[[#This Row],[Consumo_W]]<>\"\",ROUND(t_instalado[[#This Row],[Consumo_W]]/t_instalado[[#This Row],[Luminárias]],0),\"\")","v":""},{"$f":"IF(t_instalado[[#This Row],[Q.1]]<>\"\",SUMIFS(t_fluxo_lumin[fluxo],t_fluxo_lumin[tipo],t_instalado[[#This Row],[T.1]])*t_instalado[[#This Row],[P.1(W)]]*t_instalado[[#This Row],[Q.1]],\"\")","v":""},{"$f":"IF(t_instalado[[#This Row],[Q.2]]<>\"\",SUMIFS(t_fluxo_lumin[fluxo],t_fluxo_lumin[tipo],t_instalado[[#This Row],[T.2]])*t_instalado[[#This Row],[Q.2]]*t_instalado[[#This Row],[P.2(W)]],\"\")","v":""},{"$f":"IF(t_instalado[[#This Row],[Q.3]]<>\"\",SUMIFS(t_fluxo_lumin[fluxo],t_fluxo_lumin[tipo],t_instalado[[#This Row],[T.3]])*t_instalado[[#This Row],[Q.3]]*t_instalado[[#This Row],[P.3(W)]],\"\")","v":""},{"$f":"IF(t_instalado[[#This Row],[Trecho]]<>\"\",SUM(t_instalado[[#This Row],[f.1]:[f.3]]),\"\")","v":""},{"$f":"IF(t_instalado[[#This Row],[Trecho]]<>\"\",t_instalado[[#This Row],[Q.1]]+t_instalado[[#This Row],[Q.2]]+t_instalado[[#This Row],[Q.3]],\"\")","v":""},{"$f":"IF(t_instalado[[#This Row],[FLUXO]]<>\"\",ROUND(t_instalado[[#This Row],[FLUXO]]/t_instalado[[#This Row],[Luminárias]],0),\"\")","v":""},{"$f":"IF(t_instalado[[#This Row],[Luminárias]]<>\"\",ROUND(t_instalado[[#This Row],[lm_médio]]/t_instalado[[#This Row],[W_médio]],2),\"\")","v":""}]
[34,{"$f":"_xlfn.XLOOKUP(t_instalado[[#This Row],[cód.]],t_sitio[cód],t_sitio[Trecho],\"\")","v":""},null,null,null,null,null,null,null,null,null,null,{"$f":"t_instalado[[#This Row],[Q.1]]+t_instalado[[#This Row],[Q.2]]+t_instalado[[#This Row],[Q.3]]","v":0},{"$f":"t_instalado[[#This Row],[Q.1]]+t_instalado[[#This Row],[Q.2]]+t_instalado[[#This Row],[Q.3]]","v":0},{"$f":"IF(t_instalado[[#This Row],[Q.1]]<>\"\",SUMIFS(t_reator[p],t_reator[tipo],t_instalado[[#This Row],[T.1]],t_reator[w],t_instalado[[#This Row],[P.1(W)]]),\"\")","v":""},{"$f":"IF(t_instalado[[#This Row],[Q.2]]<>\"\",SUMIFS(t_reator[p],t_reator[tipo],t_instalado[[#This Row],[T.2]],t_reator[w],t_instalado[[#This Row],[P.2(W)]]),\"\")","v":""},{"$f":"IF(t_instalado[[#This Row],[Q.3]]<>\"\",SUMIFS(t_reator[p],t_reator[tipo],t_instalado[[#This Row],[T.3]],t_reator[w],t_instalado[[#This Row],[P.3(W)]]),\"\")","v":""},{"$f":"IF(t_instalado[[#This Row],[Q.1]]<>\"\",IFERROR(IFERROR(D268*(E268+O268)+G268*(H268+P268)+J268*(K268+Q268),D268*(E268+O268)+G268*(H268+P268)),D268*(E268+O268)),\"\")","v":""},{"$f":"IF(t_instalado[[#This Row],[Consumo_W]]<>\"\",ROUND(t_instalado[[#This Row],[Consumo_W]]/t_instalado[[#This Row],[Luminárias]],0),\"\")","v":""},{"$f":"IF(t_instalado[[#This Row],[Q.1]]<>\"\",SUMIFS(t_fluxo_lumin[fluxo],t_fluxo_lumin[tipo],t_instalado[[#This Row],[T.1]])*t_instalado[[#This Row],[P.1(W)]]*t_instalado[[#This Row],[Q.1]],\"\")","v":""},{"$f":"IF(t_instalado[[#This Row],[Q.2]]<>\"\",SUMIFS(t_fluxo_lumin[fluxo],t_fluxo_lumin[tipo],t_instalado[[#This Row],[T.2]])*t_instalado[[#This Row],[Q.2]]*t_instalado[[#This Row],[P.2(W)]],\"\")","v":""},{"$f":"IF(t_instalado[[#This Row],[Q.3]]<>\"\",SUMIFS(t_fluxo_lumin[fluxo],t_fluxo_lumin[tipo],t_instalado[[#This Row],[T.3]])*t_instalado[[#This Row],[Q.3]]*t_instalado[[#This Row],[P.3(W)]],\"\")","v":""},{"$f":"IF(t_instalado[[#This Row],[Trecho]]<>\"\",SUM(t_instalado[[#This Row],[f.1]:[f.3]]),\"\")","v":""},{"$f":"IF(t_instalado[[#This Row],[Trecho]]<>\"\",t_instalado[[#This Row],[Q.1]]+t_instalado[[#This Row],[Q.2]]+t_instalado[[#This Row],[Q.3]],\"\")","v":""},{"$f":"IF(t_instalado[[#This Row],[FLUXO]]<>\"\",ROUND(t_instalado[[#This Row],[FLUXO]]/t_instalado[[#This Row],[Luminárias]],0),\"\")","v":""},{"$f":"IF(t_instalado[[#This Row],[Luminárias]]<>\"\",ROUND(t_instalado[[#This Row],[lm_médio]]/t_instalado[[#This Row],[W_médio]],2),\"\")","v":""}]
[35,{"$f":"_xlfn.XLOOKUP(t_instalado[[#This Row],[cód.]],t_sitio[cód],t_sitio[Trecho],\"\")","v":""},null,null,null,null,null,null,null,null,null,null,{"$f":"t_instalado[[#This Row],[Q.1]]+t_instalado[[#This Row],[Q.2]]+t_instalado[[#This Row],[Q.3]]","v":0},{"$f":"t_instalado[[#This Row],[Q.1]]+t_instalado[[#This Row],[Q.2]]+t_instalado[[#This Row],[Q.3]]","v":0},{"$f":"IF(t_instalado[[#This Row],[Q.1]]<>\"\",SUMIFS(t_reator[p],t_reator[tipo],t_instalado[[#This Row],[T.1]],t_reator[w],t_instalado[[#This Row],[P.1(W)]]),\"\")","v":""},{"$f":"IF(t_instalado[[#This Row],[Q.2]]<>\"\",SUMIFS(t_reator[p],t_reator[tipo],t_instalado[[#This Row],[T.2]],t_reator[w],t_instalado[[#This Row],[P.2(W)]]),\"\")","v":""},{"$f":"IF(t_instalado[[#This Row],[Q.3]]<>\"\",SUMIFS(t_reator[p],t_reator[tipo],t_instalado[[#This Row],[T.3]],t_reator[w],t_instalado[[#This Row],[P.3(W)]]),\"\")","v":""},{"$f":"IF(t_instalado[[#This Row],[Q.1]]<>\"\",IFERROR(IFERROR(D269*(E269+O269)+G269*(H269+P269)+J269*(K269+Q269),D269*(E269+O269)+G269*(H269+P269)),D269*(E269+O269)),\"\")","v":""},{"$f":"IF(t_instalado[[#This Row],[Consumo_W]]<>\"\",ROUND(t_instalado[[#This Row],[Consumo_W]]/t_instalado[[#This Row],[Luminárias]],0),\"\")","v":""},{"$f":"IF(t_instalado[[#This Row],[Q.1]]<>\"\",SUMIFS(t_fluxo_lumin[fluxo],t_fluxo_lumin[tipo],t_instalado[[#This Row],[T.1]])*t_instalado[[#This Row],[P.1(W)]]*t_instalado[[#This Row],[Q.1]],\"\")","v":""},{"$f":"IF(t_instalado[[#This Row],[Q.2]]<>\"\",SUMIFS(t_fluxo_lumin[fluxo],t_fluxo_lumin[tipo],t_instalado[[#This Row],[T.2]])*t_instalado[[#This Row],[Q.2]]*t_instalado[[#This Row],[P.2(W)]],\"\")","v":""},{"$f":"IF(t_instalado[[#This Row],[Q.3]]<>\"\",SUMIFS(t_fluxo_lumin[fluxo],t_fluxo_lumin[tipo],t_instalado[[#This Row],[T.3]])*t_instalado[[#This Row],[Q.3]]*t_instalado[[#This Row],[P.3(W)]],\"\")","v":""},{"$f":"IF(t_instalado[[#This Row],[Trecho]]<>\"\",SUM(t_instalado[[#This Row],[f.1]:[f.3]]),\"\")","v":""},{"$f":"IF(t_instalado[[#This Row],[Trecho]]<>\"\",t_instalado[[#This Row],[Q.1]]+t_instalado[[#This Row],[Q.2]]+t_instalado[[#This Row],[Q.3]],\"\")","v":""},{"$f":"IF(t_instalado[[#This Row],[FLUXO]]<>\"\",ROUND(t_instalado[[#This Row],[FLUXO]]/t_instalado[[#This Row],[Luminárias]],0),\"\")","v":""},{"$f":"IF(t_instalado[[#This Row],[Luminárias]]<>\"\",ROUND(t_instalado[[#This Row],[lm_médio]]/t_instalado[[#This Row],[W_médio]],2),\"\")","v":""}]
[36,{"$f":"_xlfn.XLOOKUP(t_instalado[[#This Row],[cód.]],t_sitio[cód],t_sitio[Trecho],\"\")","v":""},null,null,null,null,null,null,null,null,null,null,{"$f":"t_instalado[[#This Row],[Q.1]]+t_instalado[[#This Row],[Q.2]]+t_instalado[[#This Row],[Q.3]]","v":0},{"$f":"t_instalado[[#This Row],[Q.1]]+t_instalado[[#This Row],[Q.2]]+t_instalado[[#This Row],[Q.3]]","v":0},{"$f":"IF(t_instalado[[#This Row],[Q.1]]<>\"\",SUMIFS(t_reator[p],t_reator[tipo],t_instalado[[#This Row],[T.1]],t_reator[w],t_instalado[[#This Row],[P.1(W)]]),\"\")","v":""},{"$f":"IF(t_instalado[[#This Row],[Q.2]]<>\"\",SUMIFS(t_reator[p],t_reator[tipo],t_instalado[[#This Row],[T.2]],t_reator[w],t_instalado[[#This Row],[P.2(W)]]),\"\")","v":""},{"$f":"IF(t_instalado[[#This Row],[Q.3]]<>\"\",SUMIFS(t_reator[p],t_reator[tipo],t_instalado[[#This Row],[T.3]],t_reator[w],t_instalado[[#This Row],[P.3(W)]]),\"\")","v":""},{"$f":"IF(t_instalado[[#This Row],[Q.1]]<>\"\",IFERROR(IFERROR(D270*(E270+O270)+G270*(H270+P270)+J270*(K270+Q270),D270*(E270+O270)+G270*(H270+P270)),D270*(E270+O270)),\"\")","v":""},{"$f":"IF(t_instalado[[#This Row],[Consumo_W]]<>\"\",ROUND(t_instalado[[#This Row],[Consumo_W]]/t_instalado[[#This Row],[Luminárias]],0),\"\")","v":""},{"$f":"IF(t_instalado[[#This Row],[Q.1]]<>\"\",SUMIFS(t_fluxo_lumin[fluxo],t_fluxo_lumin[tipo],t_instalado[[#This Row],[T.1]])*t_instalado[[#This Row],[P.1(W)]]*t_instalado[[#This Row],[Q.1]],\"\")","v":""},{"$f":"IF(t_instalado[[#This Row],[Q.2]]<>\"\",SUMIFS(t_fluxo_lumin[fluxo],t_fluxo_lumin[tipo],t_instalado[[#This Row],[T.2]])*t_instalado[[#This Row],[Q.2]]*t_instalado[[#This Row],[P.2(W)]],\"\")","v":""},{"$f":"IF(t_instalado[[#This Row],[Q.3]]<>\"\",SUMIFS(t_fluxo_lumin[fluxo],t_fluxo_lumin[tipo],t_instalado[[#This Row],[T.3]])*t_instalado[[#This Row],[Q.3]]*t_instalado[[#This Row],[P.3(W)]],\"\")","v":""},{"$f":"IF(t_instalado[[#This Row],[Trecho]]<>\"\",SUM(t_instalado[[#This Row],[f.1]:[f.3]]),\"\")","v":""},{"$f":"IF(t_instalado[[#This Row],[Trecho]]<>\"\",t_instalado[[#This Row],[Q.1]]+t_instalado[[#This Row],[Q.2]]+t_instalado[[#This Row],[Q.3]],\"\")","v":""},{"$f":"IF(t_instalado[[#This Row],[FLUXO]]<>\"\",ROUND(t_instalado[[#This Row],[FLUXO]]/t_instalado[[#This Row],[Luminárias]],0),\"\")","v":""},{"$f":"IF(t_instalado[[#This Row],[Luminárias]]<>\"\",ROUND(t_instalado[[#This Row],[lm_médio]]/t_instalado[[#This Row],[W_médio]],2),\"\")","v":""}]
[37,{"$f":"_xlfn.XLOOKUP(t_instalado[[#This Row],[cód.]],t_sitio[cód],t_sitio[Trecho],\"\")","v":""},null,null,null,null,null,null,null,null,null,null,{"$f":"t_instalado[[#This Row],[Q.1]]+t_instalado[[#This Row],[Q.2]]+t_instalado[[#This Row],[Q.3]]","v":0},{"$f":"t_instalado[[#This Row],[Q.1]]+t_instalado[[#This Row],[Q.2]]+t_instalado[[#This Row],[Q.3]]","v":0},{"$f":"IF(t_instalado[[#This Row],[Q.1]]<>\"\",SUMIFS(t_reator[p],t_reator[tipo],t_instalado[[#This Row],[T.1]],t_reator[w],t_instalado[[#This Row],[P.1(W)]]),\"\")","v":""},{"$f":"IF(t_instalado[[#This Row],[Q.2]]<>\"\",SUMIFS(t_reator[p],t_reator[tipo],t_instalado[[#This Row],[T.2]],t_reator[w],t_instalado[[#This Row],[P.2(W)]]),\"\")","v":""},{"$f":"IF(t_instalado[[#This Row],[Q.3]]<>\"\",SUMIFS(t_reator[p],t_reator[tipo],t_instalado[[#This Row],[T.3]],t_reator[w],t_instalado[[#This Row],[P.3(W)]]),\"\")","v":""},{"$f":"IF(t_instalado[[#This Row],[Q.1]]<>\"\",IFERROR(IFERROR(D271*(E271+O271)+G271*(H271+P271)+J271*(K271+Q271),D271*(E271+O271)+G271*(H271+P271)),D271*(E271+O271)),\"\")","v":""},{"$f":"IF(t_instalado[[#This Row],[Consumo_W]]<>\"\",ROUND(t_instalado[[#This Row],[Consumo_W]]/t_instalado[[#This Row],[Luminárias]],0),\"\")","v":""},{"$f":"IF(t_instalado[[#This Row],[Q.1]]<>\"\",SUMIFS(t_fluxo_lumin[fluxo],t_fluxo_lumin[tipo],t_instalado[[#This Row],[T.1]])*t_instalado[[#This Row],[P.1(W)]]*t_instalado[[#This Row],[Q.1]],\"\")","v":""},{"$f":"IF(t_instalado[[#This Row],[Q.2]]<>\"\",SUMIFS(t_fluxo_lumin[fluxo],t_fluxo_lumin[tipo],t_instalado[[#This Row],[T.2]])*t_instalado[[#This Row],[Q.2]]*t_instalado[[#This Row],[P.2(W)]],\"\")","v":""},{"$f":"IF(t_instalado[[#This Row],[Q.3]]<>\"\",SUMIFS(t_fluxo_lumin[fluxo],t_fluxo_lumin[tipo],t_instalado[[#This Row],[T.3]])*t_instalado[[#This Row],[Q.3]]*t_instalado[[#This Row],[P.3(W)]],\"\")","v":""},{"$f":"IF(t_instalado[[#This Row],[Trecho]]<>\"\",SUM(t_instalado[[#This Row],[f.1]:[f.3]]),\"\")","v":""},{"$f":"IF(t_instalado[[#This Row],[Trecho]]<>\"\",t_instalado[[#This Row],[Q.1]]+t_instalado[[#This Row],[Q.2]]+t_instalado[[#This Row],[Q.3]],\"\")","v":""},{"$f":"IF(t_instalado[[#This Row],[FLUXO]]<>\"\",ROUND(t_instalado[[#This Row],[FLUXO]]/t_instalado[[#This Row],[Luminárias]],0),\"\")","v":""},{"$f":"IF(t_instalado[[#This Row],[Luminárias]]<>\"\",ROUND(t_instalado[[#This Row],[lm_médio]]/t_instalado[[#This Row],[W_médio]],2),\"\")","v":""}]
[38,{"$f":"_xlfn.XLOOKUP(t_instalado[[#This Row],[cód.]],t_sitio[cód],t_sitio[Trecho],\"\")","v":""},null,null,null,null,null,null,null,null,null,null,{"$f":"t_instalado[[#This Row],[Q.1]]+t_instalado[[#This Row],[Q.2]]+t_instalado[[#This Row],[Q.3]]","v":0},{"$f":"t_instalado[[#This Row],[Q.1]]+t_instalado[[#This Row],[Q.2]]+t_instalado[[#This Row],[Q.3]]","v":0},{"$f":"IF(t_instalado[[#This Row],[Q.1]]<>\"\",SUMIFS(t_reator[p],t_reator[tipo],t_instalado[[#This Row],[T.1]],t_reator[w],t_instalado[[#This Row],[P.1(W)]]),\"\")","v":""},{"$f":"IF(t_instalado[[#This Row],[Q.2]]<>\"\",SUMIFS(t_reator[p],t_reator[tipo],t_instalado[[#This Row],[T.2]],t_reator[w],t_instalado[[#This Row],[P.2(W)]]),\"\")","v":""},{"$f":"IF(t_instalado[[#This Row],[Q.3]]<>\"\",SUMIFS(t_reator[p],t_reator[tipo],t_instalado[[#This Row],[T.3]],t_reator[w],t_instalado[[#This Row],[P.3(W)]]),\"\")","v":""},{"$f":"IF(t_instalado[[#This Row],[Q.1]]<>\"\",IFERROR(IFERROR(D272*(E272+O272)+G272*(H272+P272)+J272*(K272+Q272),D272*(E272+O272)+G272*(H272+P272)),D272*(E272+O272)),\"\")","v":""},{"$f":"IF(t_instalado[[#This Row],[Consumo_W]]<>\"\",ROUND(t_instalado[[#This Row],[Consumo_W]]/t_instalado[[#This Row],[Luminárias]],0),\"\")","v":""},{"$f":"IF(t_instalado[[#This Row],[Q.1]]<>\"\",SUMIFS(t_fluxo_lumin[fluxo],t_fluxo_lumin[tipo],t_instalado[[#This Row],[T.1]])*t_instalado[[#This Row],[P.1(W)]]*t_instalado[[#This Row],[Q.1]],\"\")","v":""},{"$f":"IF(t_instalado[[#This Row],[Q.2]]<>\"\",SUMIFS(t_fluxo_lumin[fluxo],t_fluxo_lumin[tipo],t_instalado[[#This Row],[T.2]])*t_instalado[[#This Row],[Q.2]]*t_instalado[[#This Row],[P.2(W)]],\"\")","v":""},{"$f":"IF(t_instalado[[#This Row],[Q.3]]<>\"\",SUMIFS(t_fluxo_lumin[fluxo],t_fluxo_lumin[tipo],t_instalado[[#This Row],[T.3]])*t_instalado[[#This Row],[Q.3]]*t_instalado[[#This Row],[P.3(W)]],\"\")","v":""},{"$f":"IF(t_instalado[[#This Row],[Trecho]]<>\"\",SUM(t_instalado[[#This Row],[f.1]:[f.3]]),\"\")","v":""},{"$f":"IF(t_instalado[[#This Row],[Trecho]]<>\"\",t_instalado[[#This Row],[Q.1]]+t_instalado[[#This Row],[Q.2]]+t_instalado[[#This Row],[Q.3]],\"\")","v":""},{"$f":"IF(t_instalado[[#This Row],[FLUXO]]<>\"\",ROUND(t_instalado[[#This Row],[FLUXO]]/t_instalado[[#This Row],[Luminárias]],0),\"\")","v":""},{"$f":"IF(t_instalado[[#This Row],[Luminárias]]<>\"\",ROUND(t_instalado[[#This Row],[lm_médio]]/t_instalado[[#This Row],[W_médio]],2),\"\")","v":""}]
[39,{"$f":"_xlfn.XLOOKUP(t_instalado[[#This Row],[cód.]],t_sitio[cód],t_sitio[Trecho],\"\")","v":""},null,null,null,null,null,null,null,null,null,null,{"$f":"t_instalado[[#This Row],[Q.1]]+t_instalado[[#This Row],[Q.2]]+t_instalado[[#This Row],[Q.3]]","v":0},{"$f":"t_instalado[[#This Row],[Q.1]]+t_instalado[[#This Row],[Q.2]]+t_instalado[[#This Row],[Q.3]]","v":0},{"$f":"IF(t_instalado[[#This Row],[Q.1]]<>\"\",SUMIFS(t_reator[p],t_reator[tipo],t_instalado[[#This Row],[T.1]],t_reator[w],t_instalado[[#This Row],[P.1(W)]]),\"\")","v":""},{"$f":"IF(t_instalado[[#This Row],[Q.2]]<>\"\",SUMIFS(t_reator[p],t_reator[tipo],t_instalado[[#This Row],[T.2]],t_reator[w],t_instalado[[#This Row],[P.2(W)]]),\"\")","v":""},{"$f":"IF(t_instalado[[#This Row],[Q.3]]<>\"\",SUMIFS(t_reator[p],t_reator[tipo],t_instalado[[#This Row],[T.3]],t_reator[w],t_instalado[[#This Row],[P.3(W)]]),\"\")","v":""},{"$f":"IF(t_instalado[[#This Row],[Q.1]]<>\"\",IFERROR(IFERROR(D273*(E273+O273)+G273*(H273+P273)+J273*(K273+Q273),D273*(E273+O273)+G273*(H273+P273)),D273*(E273+O273)),\"\")","v":""},{"$f":"IF(t_instalado[[#This Row],[Consumo_W]]<>\"\",ROUND(t_instalado[[#This Row],[Consumo_W]]/t_instalado[[#This Row],[Luminárias]],0),\"\")","v":""},{"$f":"IF(t_instalado[[#This Row],[Q.1]]<>\"\",SUMIFS(t_fluxo_lumin[fluxo],t_fluxo_lumin[tipo],t_instalado[[#This Row],[T.1]])*t_instalado[[#This Row],[P.1(W)]]*t_instalado[[#This Row],[Q.1]],\"\")","v":""},{"$f":"IF(t_instalado[[#This Row],[Q.2]]<>\"\",SUMIFS(t_fluxo_lumin[fluxo],t_fluxo_lumin[tipo],t_instalado[[#This Row],[T.2]])*t_instalado[[#This Row],[Q.2]]*t_instalado[[#This Row],[P.2(W)]],\"\")","v":""},{"$f":"IF(t_instalado[[#This Row],[Q.3]]<>\"\",SUMIFS(t_fluxo_lumin[fluxo],t_fluxo_lumin[tipo],t_instalado[[#This Row],[T.3]])*t_instalado[[#This Row],[Q.3]]*t_instalado[[#This Row],[P.3(W)]],\"\")","v":""},{"$f":"IF(t_instalado[[#This Row],[Trecho]]<>\"\",SUM(t_instalado[[#This Row],[f.1]:[f.3]]),\"\")","v":""},{"$f":"IF(t_instalado[[#This Row],[Trecho]]<>\"\",t_instalado[[#This Row],[Q.1]]+t_instalado[[#This Row],[Q.2]]+t_instalado[[#This Row],[Q.3]],\"\")","v":""},{"$f":"IF(t_instalado[[#This Row],[FLUXO]]<>\"\",ROUND(t_instalado[[#This Row],[FLUXO]]/t_instalado[[#This Row],[Luminárias]],0),\"\")","v":""},{"$f":"IF(t_instalado[[#This Row],[Luminárias]]<>\"\",ROUND(t_instalado[[#This Row],[lm_médio]]/t_instalado[[#This Row],[W_médio]],2),\"\")","v":""}]
[40,{"$f":"_xlfn.XLOOKUP(t_instalado[[#This Row],[cód.]],t_sitio[cód],t_sitio[Trecho],\"\")","v":""},null,null,null,null,null,null,null,null,null,null,{"$f":"t_instalado[[#This Row],[Q.1]]+t_instalado[[#This Row],[Q.2]]+t_instalado[[#This Row],[Q.3]]","v":0},{"$f":"t_instalado[[#This Row],[Q.1]]+t_instalado[[#This Row],[Q.2]]+t_instalado[[#This Row],[Q.3]]","v":0},{"$f":"IF(t_instalado[[#This Row],[Q.1]]<>\"\",SUMIFS(t_reator[p],t_reator[tipo],t_instalado[[#This Row],[T.1]],t_reator[w],t_instalado[[#This Row],[P.1(W)]]),\"\")","v":""},{"$f":"IF(t_instalado[[#This Row],[Q.2]]<>\"\",SUMIFS(t_reator[p],t_reator[tipo],t_instalado[[#This Row],[T.2]],t_reator[w],t_instalado[[#This Row],[P.2(W)]]),\"\")","v":""},{"$f":"IF(t_instalado[[#This Row],[Q.3]]<>\"\",SUMIFS(t_reator[p],t_reator[tipo],t_instalado[[#This Row],[T.3]],t_reator[w],t_instalado[[#This Row],[P.3(W)]]),\"\")","v":""},{"$f":"IF(t_instalado[[#This Row],[Q.1]]<>\"\",IFERROR(IFERROR(D274*(E274+O274)+G274*(H274+P274)+J274*(K274+Q274),D274*(E274+O274)+G274*(H274+P274)),D274*(E274+O274)),\"\")","v":""},{"$f":"IF(t_instalado[[#This Row],[Consumo_W]]<>\"\",ROUND(t_instalado[[#This Row],[Consumo_W]]/t_instalado[[#This Row],[Luminárias]],0),\"\")","v":""},{"$f":"IF(t_instalado[[#This Row],[Q.1]]<>\"\",SUMIFS(t_fluxo_lumin[fluxo],t_fluxo_lumin[tipo],t_instalado[[#This Row],[T.1]])*t_instalado[[#This Row],[P.1(W)]]*t_instalado[[#This Row],[Q.1]],\"\")","v":""},{"$f":"IF(t_instalado[[#This Row],[Q.2]]<>\"\",SUMIFS(t_fluxo_lumin[fluxo],t_fluxo_lumin[tipo],t_instalado[[#This Row],[T.2]])*t_instalado[[#This Row],[Q.2]]*t_instalado[[#This Row],[P.2(W)]],\"\")","v":""},{"$f":"IF(t_instalado[[#This Row],[Q.3]]<>\"\",SUMIFS(t_fluxo_lumin[fluxo],t_fluxo_lumin[tipo],t_instalado[[#This Row],[T.3]])*t_instalado[[#This Row],[Q.3]]*t_instalado[[#This Row],[P.3(W)]],\"\")","v":""},{"$f":"IF(t_instalado[[#This Row],[Trecho]]<>\"\",SUM(t_instalado[[#This Row],[f.1]:[f.3]]),\"\")","v":""},{"$f":"IF(t_instalado[[#This Row],[Trecho]]<>\"\",t_instalado[[#This Row],[Q.1]]+t_instalado[[#This Row],[Q.2]]+t_instalado[[#This Row],[Q.3]],\"\")","v":""},{"$f":"IF(t_instalado[[#This Row],[FLUXO]]<>\"\",ROUND(t_instalado[[#This Row],[FLUXO]]/t_instalado[[#This Row],[Luminárias]],0),\"\")","v":""},{"$f":"IF(t_instalado[[#This Row],[Luminárias]]<>\"\",ROUND(t_instalado[[#This Row],[lm_médio]]/t_instalado[[#This Row],[W_médio]],2),\"\")","v":""}]
[41,{"$f":"_xlfn.XLOOKUP(t_instalado[[#This Row],[cód.]],t_sitio[cód],t_sitio[Trecho],\"\")","v":""},null,null,null,null,null,null,null,null,null,null,{"$f":"t_instalado[[#This Row],[Q.1]]+t_instalado[[#This Row],[Q.2]]+t_instalado[[#This Row],[Q.3]]","v":0},{"$f":"t_instalado[[#This Row],[Q.1]]+t_instalado[[#This Row],[Q.2]]+t_instalado[[#This Row],[Q.3]]","v":0},{"$f":"IF(t_instalado[[#This Row],[Q.1]]<>\"\",SUMIFS(t_reator[p],t_reator[tipo],t_instalado[[#This Row],[T.1]],t_reator[w],t_instalado[[#This Row],[P.1(W)]]),\"\")","v":""},{"$f":"IF(t_instalado[[#This Row],[Q.2]]<>\"\",SUMIFS(t_reator[p],t_reator[tipo],t_instalado[[#This Row],[T.2]],t_reator[w],t_instalado[[#This Row],[P.2(W)]]),\"\")","v":""},{"$f":"IF(t_instalado[[#This Row],[Q.3]]<>\"\",SUMIFS(t_reator[p],t_reator[tipo],t_instalado[[#This Row],[T.3]],t_reator[w],t_instalado[[#This Row],[P.3(W)]]),\"\")","v":""},{"$f":"IF(t_instalado[[#This Row],[Q.1]]<>\"\",IFERROR(IFERROR(D275*(E275+O275)+G275*(H275+P275)+J275*(K275+Q275),D275*(E275+O275)+G275*(H275+P275)),D275*(E275+O275)),\"\")","v":""},{"$f":"IF(t_instalado[[#This Row],[Consumo_W]]<>\"\",ROUND(t_instalado[[#This Row],[Consumo_W]]/t_instalado[[#This Row],[Luminárias]],0),\"\")","v":""},{"$f":"IF(t_instalado[[#This Row],[Q.1]]<>\"\",SUMIFS(t_fluxo_lumin[fluxo],t_fluxo_lumin[tipo],t_instalado[[#This Row],[T.1]])*t_instalado[[#This Row],[P.1(W)]]*t_instalado[[#This Row],[Q.1]],\"\")","v":""},{"$f":"IF(t_instalado[[#This Row],[Q.2]]<>\"\",SUMIFS(t_fluxo_lumin[fluxo],t_fluxo_lumin[tipo],t_instalado[[#This Row],[T.2]])*t_instalado[[#This Row],[Q.2]]*t_instalado[[#This Row],[P.2(W)]],\"\")","v":""},{"$f":"IF(t_instalado[[#This Row],[Q.3]]<>\"\",SUMIFS(t_fluxo_lumin[fluxo],t_fluxo_lumin[tipo],t_instalado[[#This Row],[T.3]])*t_instalado[[#This Row],[Q.3]]*t_instalado[[#This Row],[P.3(W)]],\"\")","v":""},{"$f":"IF(t_instalado[[#This Row],[Trecho]]<>\"\",SUM(t_instalado[[#This Row],[f.1]:[f.3]]),\"\")","v":""},{"$f":"IF(t_instalado[[#This Row],[Trecho]]<>\"\",t_instalado[[#This Row],[Q.1]]+t_instalado[[#This Row],[Q.2]]+t_instalado[[#This Row],[Q.3]],\"\")","v":""},{"$f":"IF(t_instalado[[#This Row],[FLUXO]]<>\"\",ROUND(t_instalado[[#This Row],[FLUXO]]/t_instalado[[#This Row],[Luminárias]],0),\"\")","v":""},{"$f":"IF(t_instalado[[#This Row],[Luminárias]]<>\"\",ROUND(t_instalado[[#This Row],[lm_médio]]/t_instalado[[#This Row],[W_médio]],2),\"\")","v":""}]
[42,{"$f":"_xlfn.XLOOKUP(t_instalado[[#This Row],[cód.]],t_sitio[cód],t_sitio[Trecho],\"\")","v":""},null,null,null,null,null,null,null,null,null,null,{"$f":"t_instalado[[#This Row],[Q.1]]+t_instalado[[#This Row],[Q.2]]+t_instalado[[#This Row],[Q.3]]","v":0},{"$f":"t_instalado[[#This Row],[Q.1]]+t_instalado[[#This Row],[Q.2]]+t_instalado[[#This Row],[Q.3]]","v":0},{"$f":"IF(t_instalado[[#This Row],[Q.1]]<>\"\",SUMIFS(t_reator[p],t_reator[tipo],t_instalado[[#This Row],[T.1]],t_reator[w],t_instalado[[#This Row],[P.1(W)]]),\"\")","v":""},{"$f":"IF(t_instalado[[#This Row],[Q.2]]<>\"\",SUMIFS(t_reator[p],t_reator[tipo],t_instalado[[#This Row],[T.2]],t_reator[w],t_instalado[[#This Row],[P.2(W)]]),\"\")","v":""},{"$f":"IF(t_instalado[[#This Row],[Q.3]]<>\"\",SUMIFS(t_reator[p],t_reator[tipo],t_instalado[[#This Row],[T.3]],t_reator[w],t_instalado[[#This Row],[P.3(W)]]),\"\")","v":""},{"$f":"IF(t_instalado[[#This Row],[Q.1]]<>\"\",IFERROR(IFERROR(D276*(E276+O276)+G276*(H276+P276)+J276*(K276+Q276),D276*(E276+O276)+G276*(H276+P276)),D276*(E276+O276)),\"\")","v":""},{"$f":"IF(t_instalado[[#This Row],[Consumo_W]]<>\"\",ROUND(t_instalado[[#This Row],[Consumo_W]]/t_instalado[[#This Row],[Luminárias]],0),\"\")","v":""},{"$f":"IF(t_instalado[[#This Row],[Q.1]]<>\"\",SUMIFS(t_fluxo_lumin[fluxo],t_fluxo_lumin[tipo],t_instalado[[#This Row],[T.1]])*t_instalado[[#This Row],[P.1(W)]]*t_instalado[[#This Row],[Q.1]],\"\")","v":""},{"$f":"IF(t_instalado[[#This Row],[Q.2]]<>\"\",SUMIFS(t_fluxo_lumin[fluxo],t_fluxo_lumin[tipo],t_instalado[[#This Row],[T.2]])*t_instalado[[#This Row],[Q.2]]*t_instalado[[#This Row],[P.2(W)]],\"\")","v":""},{"$f":"IF(t_instalado[[#This Row],[Q.3]]<>\"\",SUMIFS(t_fluxo_lumin[fluxo],t_fluxo_lumin[tipo],t_instalado[[#This Row],[T.3]])*t_instalado[[#This Row],[Q.3]]*t_instalado[[#This Row],[P.3(W)]],\"\")","v":""},{"$f":"IF(t_instalado[[#This Row],[Trecho]]<>\"\",SUM(t_instalado[[#This Row],[f.1]:[f.3]]),\"\")","v":""},{"$f":"IF(t_instalado[[#This Row],[Trecho]]<>\"\",t_instalado[[#This Row],[Q.1]]+t_instalado[[#This Row],[Q.2]]+t_instalado[[#This Row],[Q.3]],\"\")","v":""},{"$f":"IF(t_instalado[[#This Row],[FLUXO]]<>\"\",ROUND(t_instalado[[#This Row],[FLUXO]]/t_instalado[[#This Row],[Luminárias]],0),\"\")","v":""},{"$f":"IF(t_instalado[[#This Row],[Luminárias]]<>\"\",ROUND(t_instalado[[#This Row],[lm_médio]]/t_instalado[[#This Row],[W_médio]],2),\"\")","v":""}]
[43,{"$f":"_xlfn.XLOOKUP(t_instalado[[#This Row],[cód.]],t_sitio[cód],t_sitio[Trecho],\"\")","v":""},null,null,null,null,null,null,null,null,null,null,{"$f":"t_instalado[[#This Row],[Q.1]]+t_instalado[[#This Row],[Q.2]]+t_instalado[[#This Row],[Q.3]]","v":0},{"$f":"t_instalado[[#This Row],[Q.1]]+t_instalado[[#This Row],[Q.2]]+t_instalado[[#This Row],[Q.3]]","v":0},{"$f":"IF(t_instalado[[#This Row],[Q.1]]<>\"\",SUMIFS(t_reator[p],t_reator[tipo],t_instalado[[#This Row],[T.1]],t_reator[w],t_instalado[[#This Row],[P.1(W)]]),\"\")","v":""},{"$f":"IF(t_instalado[[#This Row],[Q.2]]<>\"\",SUMIFS(t_reator[p],t_reator[tipo],t_instalado[[#This Row],[T.2]],t_reator[w],t_instalado[[#This Row],[P.2(W)]]),\"\")","v":""},{"$f":"IF(t_instalado[[#This Row],[Q.3]]<>\"\",SUMIFS(t_reator[p],t_reator[tipo],t_instalado[[#This Row],[T.3]],t_reator[w],t_instalado[[#This Row],[P.3(W)]]),\"\")","v":""},{"$f":"IF(t_instalado[[#This Row],[Q.1]]<>\"\",IFERROR(IFERROR(D277*(E277+O277)+G277*(H277+P277)+J277*(K277+Q277),D277*(E277+O277)+G277*(H277+P277)),D277*(E277+O277)),\"\")","v":""},{"$f":"IF(t_instalado[[#This Row],[Consumo_W]]<>\"\",ROUND(t_instalado[[#This Row],[Consumo_W]]/t_instalado[[#This Row],[Luminárias]],0),\"\")","v":""},{"$f":"IF(t_instalado[[#This Row],[Q.1]]<>\"\",SUMIFS(t_fluxo_lumin[fluxo],t_fluxo_lumin[tipo],t_instalado[[#This Row],[T.1]])*t_instalado[[#This Row],[P.1(W)]]*t_instalado[[#This Row],[Q.1]],\"\")","v":""},{"$f":"IF(t_instalado[[#This Row],[Q.2]]<>\"\",SUMIFS(t_fluxo_lumin[fluxo],t_fluxo_lumin[tipo],t_instalado[[#This Row],[T.2]])*t_instalado[[#This Row],[Q.2]]*t_instalado[[#This Row],[P.2(W)]],\"\")","v":""},{"$f":"IF(t_instalado[[#This Row],[Q.3]]<>\"\",SUMIFS(t_fluxo_lumin[fluxo],t_fluxo_lumin[tipo],t_instalado[[#This Row],[T.3]])*t_instalado[[#This Row],[Q.3]]*t_instalado[[#This Row],[P.3(W)]],\"\")","v":""},{"$f":"IF(t_instalado[[#This Row],[Trecho]]<>\"\",SUM(t_instalado[[#This Row],[f.1]:[f.3]]),\"\")","v":""},{"$f":"IF(t_instalado[[#This Row],[Trecho]]<>\"\",t_instalado[[#This Row],[Q.1]]+t_instalado[[#This Row],[Q.2]]+t_instalado[[#This Row],[Q.3]],\"\")","v":""},{"$f":"IF(t_instalado[[#This Row],[FLUXO]]<>\"\",ROUND(t_instalado[[#This Row],[FLUXO]]/t_instalado[[#This Row],[Luminárias]],0),\"\")","v":""},{"$f":"IF(t_instalado[[#This Row],[Luminárias]]<>\"\",ROUND(t_instalado[[#This Row],[lm_médio]]/t_instalado[[#This Row],[W_médio]],2),\"\")","v":""}]
[44,{"$f":"_xlfn.XLOOKUP(t_instalado[[#This Row],[cód.]],t_sitio[cód],t_sitio[Trecho],\"\")","v":""},null,null,null,null,null,null,null,null,null,null,{"$f":"t_instalado[[#This Row],[Q.1]]+t_instalado[[#This Row],[Q.2]]+t_instalado[[#This Row],[Q.3]]","v":0},{"$f":"t_instalado[[#This Row],[Q.1]]+t_instalado[[#This Row],[Q.2]]+t_instalado[[#This Row],[Q.3]]","v":0},{"$f":"IF(t_instalado[[#This Row],[Q.1]]<>\"\",SUMIFS(t_reator[p],t_reator[tipo],t_instalado[[#This Row],[T.1]],t_reator[w],t_instalado[[#This Row],[P.1(W)]]),\"\")","v":""},{"$f":"IF(t_instalado[[#This Row],[Q.2]]<>\"\",SUMIFS(t_reator[p],t_reator[tipo],t_instalado[[#This Row],[T.2]],t_reator[w],t_instalado[[#This Row],[P.2(W)]]),\"\")","v":""},{"$f":"IF(t_instalado[[#This Row],[Q.3]]<>\"\",SUMIFS(t_reator[p],t_reator[tipo],t_instalado[[#This Row],[T.3]],t_reator[w],t_instalado[[#This Row],[P.3(W)]]),\"\")","v":""},{"$f":"IF(t_instalado[[#This Row],[Q.1]]<>\"\",IFERROR(IFERROR(D278*(E278+O278)+G278*(H278+P278)+J278*(K278+Q278),D278*(E278+O278)+G278*(H278+P278)),D278*(E278+O278)),\"\")","v":""},{"$f":"IF(t_instalado[[#This Row],[Consumo_W]]<>\"\",ROUND(t_instalado[[#This Row],[Consumo_W]]/t_instalado[[#This Row],[Luminárias]],0),\"\")","v":""},{"$f":"IF(t_instalado[[#This Row],[Q.1]]<>\"\",SUMIFS(t_fluxo_lumin[fluxo],t_fluxo_lumin[tipo],t_instalado[[#This Row],[T.1]])*t_instalado[[#This Row],[P.1(W)]]*t_instalado[[#This Row],[Q.1]],\"\")","v":""},{"$f":"IF(t_instalado[[#This Row],[Q.2]]<>\"\",SUMIFS(t_fluxo_lumin[fluxo],t_fluxo_lumin[tipo],t_instalado[[#This Row],[T.2]])*t_instalado[[#This Row],[Q.2]]*t_instalado[[#This Row],[P.2(W)]],\"\")","v":""},{"$f":"IF(t_instalado[[#This Row],[Q.3]]<>\"\",SUMIFS(t_fluxo_lumin[fluxo],t_fluxo_lumin[tipo],t_instalado[[#This Row],[T.3]])*t_instalado[[#This Row],[Q.3]]*t_instalado[[#This Row],[P.3(W)]],\"\")","v":""},{"$f":"IF(t_instalado[[#This Row],[Trecho]]<>\"\",SUM(t_instalado[[#This Row],[f.1]:[f.3]]),\"\")","v":""},{"$f":"IF(t_instalado[[#This Row],[Trecho]]<>\"\",t_instalado[[#This Row],[Q.1]]+t_instalado[[#This Row],[Q.2]]+t_instalado[[#This Row],[Q.3]],\"\")","v":""},{"$f":"IF(t_instalado[[#This Row],[FLUXO]]<>\"\",ROUND(t_instalado[[#This Row],[FLUXO]]/t_instalado[[#This Row],[Luminárias]],0),\"\")","v":""},{"$f":"IF(t_instalado[[#This Row],[Luminárias]]<>\"\",ROUND(t_instalado[[#This Row],[lm_médio]]/t_instalado[[#This Row],[W_médio]],2),\"\")","v":""}]
[45,{"$f":"_xlfn.XLOOKUP(t_instalado[[#This Row],[cód.]],t_sitio[cód],t_sitio[Trecho],\"\")","v":""},null,null,null,null,null,null,null,null,null,null,{"$f":"t_instalado[[#This Row],[Q.1]]+t_instalado[[#This Row],[Q.2]]+t_instalado[[#This Row],[Q.3]]","v":0},{"$f":"t_instalado[[#This Row],[Q.1]]+t_instalado[[#This Row],[Q.2]]+t_instalado[[#This Row],[Q.3]]","v":0},{"$f":"IF(t_instalado[[#This Row],[Q.1]]<>\"\",SUMIFS(t_reator[p],t_reator[tipo],t_instalado[[#This Row],[T.1]],t_reator[w],t_instalado[[#This Row],[P.1(W)]]),\"\")","v":""},{"$f":"IF(t_instalado[[#This Row],[Q.2]]<>\"\",SUMIFS(t_reator[p],t_reator[tipo],t_instalado[[#This Row],[T.2]],t_reator[w],t_instalado[[#This Row],[P.2(W)]]),\"\")","v":""},{"$f":"IF(t_instalado[[#This Row],[Q.3]]<>\"\",SUMIFS(t_reator[p],t_reator[tipo],t_instalado[[#This Row],[T.3]],t_reator[w],t_instalado[[#This Row],[P.3(W)]]),\"\")","v":""},{"$f":"IF(t_instalado[[#This Row],[Q.1]]<>\"\",IFERROR(IFERROR(D279*(E279+O279)+G279*(H279+P279)+J279*(K279+Q279),D279*(E279+O279)+G279*(H279+P279)),D279*(E279+O279)),\"\")","v":""},{"$f":"IF(t_instalado[[#This Row],[Consumo_W]]<>\"\",ROUND(t_instalado[[#This Row],[Consumo_W]]/t_instalado[[#This Row],[Luminárias]],0),\"\")","v":""},{"$f":"IF(t_instalado[[#This Row],[Q.1]]<>\"\",SUMIFS(t_fluxo_lumin[fluxo],t_fluxo_lumin[tipo],t_instalado[[#This Row],[T.1]])*t_instalado[[#This Row],[P.1(W)]]*t_instalado[[#This Row],[Q.1]],\"\")","v":""},{"$f":"IF(t_instalado[[#This Row],[Q.2]]<>\"\",SUMIFS(t_fluxo_lumin[fluxo],t_fluxo_lumin[tipo],t_instalado[[#This Row],[T.2]])*t_instalado[[#This Row],[Q.2]]*t_instalado[[#This Row],[P.2(W)]],\"\")","v":""},{"$f":"IF(t_instalado[[#This Row],[Q.3]]<>\"\",SUMIFS(t_fluxo_lumin[fluxo],t_fluxo_lumin[tipo],t_instalado[[#This Row],[T.3]])*t_instalado[[#This Row],[Q.3]]*t_instalado[[#This Row],[P.3(W)]],\"\")","v":""},{"$f":"IF(t_instalado[[#This Row],[Trecho]]<>\"\",SUM(t_instalado[[#This Row],[f.1]:[f.3]]),\"\")","v":""},{"$f":"IF(t_instalado[[#This Row],[Trecho]]<>\"\",t_instalado[[#This Row],[Q.1]]+t_instalado[[#This Row],[Q.2]]+t_instalado[[#This Row],[Q.3]],\"\")","v":""},{"$f":"IF(t_instalado[[#This Row],[FLUXO]]<>\"\",ROUND(t_instalado[[#This Row],[FLUXO]]/t_instalado[[#This Row],[Luminárias]],0),\"\")","v":""},{"$f":"IF(t_instalado[[#This Row],[Luminárias]]<>\"\",ROUND(t_instalado[[#This Row],[lm_médio]]/t_instalado[[#This Row],[W_médio]],2),\"\")","v":""}]
[46,{"$f":"_xlfn.XLOOKUP(t_instalado[[#This Row],[cód.]],t_sitio[cód],t_sitio[Trecho],\"\")","v":""},null,null,null,null,null,null,null,null,null,null,{"$f":"t_instalado[[#This Row],[Q.1]]+t_instalado[[#This Row],[Q.2]]+t_instalado[[#This Row],[Q.3]]","v":0},{"$f":"t_instalado[[#This Row],[Q.1]]+t_instalado[[#This Row],[Q.2]]+t_instalado[[#This Row],[Q.3]]","v":0},{"$f":"IF(t_instalado[[#This Row],[Q.1]]<>\"\",SUMIFS(t_reator[p],t_reator[tipo],t_instalado[[#This Row],[T.1]],t_reator[w],t_instalado[[#This Row],[P.1(W)]]),\"\")","v":""},{"$f":"IF(t_instalado[[#This Row],[Q.2]]<>\"\",SUMIFS(t_reator[p],t_reator[tipo],t_instalado[[#This Row],[T.2]],t_reator[w],t_instalado[[#This Row],[P.2(W)]]),\"\")","v":""},{"$f":"IF(t_instalado[[#This Row],[Q.3]]<>\"\",SUMIFS(t_reator[p],t_reator[tipo],t_instalado[[#This Row],[T.3]],t_reator[w],t_instalado[[#This Row],[P.3(W)]]),\"\")","v":""},{"$f":"IF(t_instalado[[#This Row],[Q.1]]<>\"\",IFERROR(IFERROR(D280*(E280+O280)+G280*(H280+P280)+J280*(K280+Q280),D280*(E280+O280)+G280*(H280+P280)),D280*(E280+O280)),\"\")","v":""},{"$f":"IF(t_instalado[[#This Row],[Consumo_W]]<>\"\",ROUND(t_instalado[[#This Row],[Consumo_W]]/t_instalado[[#This Row],[Luminárias]],0),\"\")","v":""},{"$f":"IF(t_instalado[[#This Row],[Q.1]]<>\"\",SUMIFS(t_fluxo_lumin[fluxo],t_fluxo_lumin[tipo],t_instalado[[#This Row],[T.1]])*t_instalado[[#This Row],[P.1(W)]]*t_instalado[[#This Row],[Q.1]],\"\")","v":""},{"$f":"IF(t_instalado[[#This Row],[Q.2]]<>\"\",SUMIFS(t_fluxo_lumin[fluxo],t_fluxo_lumin[tipo],t_instalado[[#This Row],[T.2]])*t_instalado[[#This Row],[Q.2]]*t_instalado[[#This Row],[P.2(W)]],\"\")","v":""},{"$f":"IF(t_instalado[[#This Row],[Q.3]]<>\"\",SUMIFS(t_fluxo_lumin[fluxo],t_fluxo_lumin[tipo],t_instalado[[#This Row],[T.3]])*t_instalado[[#This Row],[Q.3]]*t_instalado[[#This Row],[P.3(W)]],\"\")","v":""},{"$f":"IF(t_instalado[[#This Row],[Trecho]]<>\"\",SUM(t_instalado[[#This Row],[f.1]:[f.3]]),\"\")","v":""},{"$f":"IF(t_instalado[[#This Row],[Trecho]]<>\"\",t_instalado[[#This Row],[Q.1]]+t_instalado[[#This Row],[Q.2]]+t_instalado[[#This Row],[Q.3]],\"\")","v":""},{"$f":"IF(t_instalado[[#This Row],[FLUXO]]<>\"\",ROUND(t_instalado[[#This Row],[FLUXO]]/t_instalado[[#This Row],[Luminárias]],0),\"\")","v":""},{"$f":"IF(t_instalado[[#This Row],[Luminárias]]<>\"\",ROUND(t_instalado[[#This Row],[lm_médio]]/t_instalado[[#This Row],[W_médio]],2),\"\")","v":""}]
[47,{"$f":"_xlfn.XLOOKUP(t_instalado[[#This Row],[cód.]],t_sitio[cód],t_sitio[Trecho],\"\")","v":""},null,null,null,null,null,null,null,null,null,null,{"$f":"t_instalado[[#This Row],[Q.1]]+t_instalado[[#This Row],[Q.2]]+t_instalado[[#This Row],[Q.3]]","v":0},{"$f":"t_instalado[[#This Row],[Q.1]]+t_instalado[[#This Row],[Q.2]]+t_instalado[[#This Row],[Q.3]]","v":0},{"$f":"IF(t_instalado[[#This Row],[Q.1]]<>\"\",SUMIFS(t_reator[p],t_reator[tipo],t_instalado[[#This Row],[T.1]],t_reator[w],t_instalado[[#This Row],[P.1(W)]]),\"\")","v":""},{"$f":"IF(t_instalado[[#This Row],[Q.2]]<>\"\",SUMIFS(t_reator[p],t_reator[tipo],t_instalado[[#This Row],[T.2]],t_reator[w],t_instalado[[#This Row],[P.2(W)]]),\"\")","v":""},{"$f":"IF(t_instalado[[#This Row],[Q.3]]<>\"\",SUMIFS(t_reator[p],t_reator[tipo],t_instalado[[#This Row],[T.3]],t_reator[w],t_instalado[[#This Row],[P.3(W)]]),\"\")","v":""},{"$f":"IF(t_instalado[[#This Row],[Q.1]]<>\"\",IFERROR(IFERROR(D281*(E281+O281)+G281*(H281+P281)+J281*(K281+Q281),D281*(E281+O281)+G281*(H281+P281)),D281*(E281+O281)),\"\")","v":""},{"$f":"IF(t_instalado[[#This Row],[Consumo_W]]<>\"\",ROUND(t_instalado[[#This Row],[Consumo_W]]/t_instalado[[#This Row],[Luminárias]],0),\"\")","v":""},{"$f":"IF(t_instalado[[#This Row],[Q.1]]<>\"\",SUMIFS(t_fluxo_lumin[fluxo],t_fluxo_lumin[tipo],t_instalado[[#This Row],[T.1]])*t_instalado[[#This Row],[P.1(W)]]*t_instalado[[#This Row],[Q.1]],\"\")","v":""},{"$f":"IF(t_instalado[[#This Row],[Q.2]]<>\"\",SUMIFS(t_fluxo_lumin[fluxo],t_fluxo_lumin[tipo],t_instalado[[#This Row],[T.2]])*t_instalado[[#This Row],[Q.2]]*t_instalado[[#This Row],[P.2(W)]],\"\")","v":""},{"$f":"IF(t_instalado[[#This Row],[Q.3]]<>\"\",SUMIFS(t_fluxo_lumin[fluxo],t_fluxo_lumin[tipo],t_instalado[[#This Row],[T.3]])*t_instalado[[#This Row],[Q.3]]*t_instalado[[#This Row],[P.3(W)]],\"\")","v":""},{"$f":"IF(t_instalado[[#This Row],[Trecho]]<>\"\",SUM(t_instalado[[#This Row],[f.1]:[f.3]]),\"\")","v":""},{"$f":"IF(t_instalado[[#This Row],[Trecho]]<>\"\",t_instalado[[#This Row],[Q.1]]+t_instalado[[#This Row],[Q.2]]+t_instalado[[#This Row],[Q.3]],\"\")","v":""},{"$f":"IF(t_instalado[[#This Row],[FLUXO]]<>\"\",ROUND(t_instalado[[#This Row],[FLUXO]]/t_instalado[[#This Row],[Luminárias]],0),\"\")","v":""},{"$f":"IF(t_instalado[[#This Row],[Luminárias]]<>\"\",ROUND(t_instalado[[#This Row],[lm_médio]]/t_instalado[[#This Row],[W_médio]],2),\"\")","v":""}]
[48,{"$f":"_xlfn.XLOOKUP(t_instalado[[#This Row],[cód.]],t_sitio[cód],t_sitio[Trecho],\"\")","v":""},null,null,null,null,null,null,null,null,null,null,{"$f":"t_instalado[[#This Row],[Q.1]]+t_instalado[[#This Row],[Q.2]]+t_instalado[[#This Row],[Q.3]]","v":0},{"$f":"t_instalado[[#This Row],[Q.1]]+t_instalado[[#This Row],[Q.2]]+t_instalado[[#This Row],[Q.3]]","v":0},{"$f":"IF(t_instalado[[#This Row],[Q.1]]<>\"\",SUMIFS(t_reator[p],t_reator[tipo],t_instalado[[#This Row],[T.1]],t_reator[w],t_instalado[[#This Row],[P.1(W)]]),\"\")","v":""},{"$f":"IF(t_instalado[[#This Row],[Q.2]]<>\"\",SUMIFS(t_reator[p],t_reator[tipo],t_instalado[[#This Row],[T.2]],t_reator[w],t_instalado[[#This Row],[P.2(W)]]),\"\")","v":""},{"$f":"IF(t_instalado[[#This Row],[Q.3]]<>\"\",SUMIFS(t_reator[p],t_reator[tipo],t_instalado[[#This Row],[T.3]],t_reator[w],t_instalado[[#This Row],[P.3(W)]]),\"\")","v":""},{"$f":"IF(t_instalado[[#This Row],[Q.1]]<>\"\",IFERROR(IFERROR(D282*(E282+O282)+G282*(H282+P282)+J282*(K282+Q282),D282*(E282+O282)+G282*(H282+P282)),D282*(E282+O282)),\"\")","v":""},{"$f":"IF(t_instalado[[#This Row],[Consumo_W]]<>\"\",ROUND(t_instalado[[#This Row],[Consumo_W]]/t_instalado[[#This Row],[Luminárias]],0),\"\")","v":""},{"$f":"IF(t_instalado[[#This Row],[Q.1]]<>\"\",SUMIFS(t_fluxo_lumin[fluxo],t_fluxo_lumin[tipo],t_instalado[[#This Row],[T.1]])*t_instalado[[#This Row],[P.1(W)]]*t_instalado[[#This Row],[Q.1]],\"\")","v":""},{"$f":"IF(t_instalado[[#This Row],[Q.2]]<>\"\",SUMIFS(t_fluxo_lumin[fluxo],t_fluxo_lumin[tipo],t_instalado[[#This Row],[T.2]])*t_instalado[[#This Row],[Q.2]]*t_instalado[[#This Row],[P.2(W)]],\"\")","v":""},{"$f":"IF(t_instalado[[#This Row],[Q.3]]<>\"\",SUMIFS(t_fluxo_lumin[fluxo],t_fluxo_lumin[tipo],t_instalado[[#This Row],[T.3]])*t_instalado[[#This Row],[Q.3]]*t_instalado[[#This Row],[P.3(W)]],\"\")","v":""},{"$f":"IF(t_instalado[[#This Row],[Trecho]]<>\"\",SUM(t_instalado[[#This Row],[f.1]:[f.3]]),\"\")","v":""},{"$f":"IF(t_instalado[[#This Row],[Trecho]]<>\"\",t_instalado[[#This Row],[Q.1]]+t_instalado[[#This Row],[Q.2]]+t_instalado[[#This Row],[Q.3]],\"\")","v":""},{"$f":"IF(t_instalado[[#This Row],[FLUXO]]<>\"\",ROUND(t_instalado[[#This Row],[FLUXO]]/t_instalado[[#This Row],[Luminárias]],0),\"\")","v":""},{"$f":"IF(t_instalado[[#This Row],[Luminárias]]<>\"\",ROUND(t_instalado[[#This Row],[lm_médio]]/t_instalado[[#This Row],[W_médio]],2),\"\")","v":""}]
[49,{"$f":"_xlfn.XLOOKUP(t_instalado[[#This Row],[cód.]],t_sitio[cód],t_sitio[Trecho],\"\")","v":""},null,null,null,null,null,null,null,null,null,null,{"$f":"t_instalado[[#This Row],[Q.1]]+t_instalado[[#This Row],[Q.2]]+t_instalado[[#This Row],[Q.3]]","v":0},{"$f":"t_instalado[[#This Row],[Q.1]]+t_instalado[[#This Row],[Q.2]]+t_instalado[[#This Row],[Q.3]]","v":0},{"$f":"IF(t_instalado[[#This Row],[Q.1]]<>\"\",SUMIFS(t_reator[p],t_reator[tipo],t_instalado[[#This Row],[T.1]],t_reator[w],t_instalado[[#This Row],[P.1(W)]]),\"\")","v":""},{"$f":"IF(t_instalado[[#This Row],[Q.2]]<>\"\",SUMIFS(t_reator[p],t_reator[tipo],t_instalado[[#This Row],[T.2]],t_reator[w],t_instalado[[#This Row],[P.2(W)]]),\"\")","v":""},{"$f":"IF(t_instalado[[#This Row],[Q.3]]<>\"\",SUMIFS(t_reator[p],t_reator[tipo],t_instalado[[#This Row],[T.3]],t_reator[w],t_instalado[[#This Row],[P.3(W)]]),\"\")","v":""},{"$f":"IF(t_instalado[[#This Row],[Q.1]]<>\"\",IFERROR(IFERROR(D283*(E283+O283)+G283*(H283+P283)+J283*(K283+Q283),D283*(E283+O283)+G283*(H283+P283)),D283*(E283+O283)),\"\")","v":""},{"$f":"IF(t_instalado[[#This Row],[Consumo_W]]<>\"\",ROUND(t_instalado[[#This Row],[Consumo_W]]/t_instalado[[#This Row],[Luminárias]],0),\"\")","v":""},{"$f":"IF(t_instalado[[#This Row],[Q.1]]<>\"\",SUMIFS(t_fluxo_lumin[fluxo],t_fluxo_lumin[tipo],t_instalado[[#This Row],[T.1]])*t_instalado[[#This Row],[P.1(W)]]*t_instalado[[#This Row],[Q.1]],\"\")","v":""},{"$f":"IF(t_instalado[[#This Row],[Q.2]]<>\"\",SUMIFS(t_fluxo_lumin[fluxo],t_fluxo_lumin[tipo],t_instalado[[#This Row],[T.2]])*t_instalado[[#This Row],[Q.2]]*t_instalado[[#This Row],[P.2(W)]],\"\")","v":""},{"$f":"IF(t_instalado[[#This Row],[Q.3]]<>\"\",SUMIFS(t_fluxo_lumin[fluxo],t_fluxo_lumin[tipo],t_instalado[[#This Row],[T.3]])*t_instalado[[#This Row],[Q.3]]*t_instalado[[#This Row],[P.3(W)]],\"\")","v":""},{"$f":"IF(t_instalado[[#This Row],[Trecho]]<>\"\",SUM(t_instalado[[#This Row],[f.1]:[f.3]]),\"\")","v":""},{"$f":"IF(t_instalado[[#This Row],[Trecho]]<>\"\",t_instalado[[#This Row],[Q.1]]+t_instalado[[#This Row],[Q.2]]+t_instalado[[#This Row],[Q.3]],\"\")","v":""},{"$f":"IF(t_instalado[[#This Row],[FLUXO]]<>\"\",ROUND(t_instalado[[#This Row],[FLUXO]]/t_instalado[[#This Row],[Luminárias]],0),\"\")","v":""},{"$f":"IF(t_instalado[[#This Row],[Luminárias]]<>\"\",ROUND(t_instalado[[#This Row],[lm_médio]]/t_instalado[[#This Row],[W_médio]],2),\"\")","v":""}]
[50,{"$f":"_xlfn.XLOOKUP(t_instalado[[#This Row],[cód.]],t_sitio[cód],t_sitio[Trecho],\"\")","v":""},null,null,null,null,null,null,null,null,null,null,{"$f":"t_instalado[[#This Row],[Q.1]]+t_instalado[[#This Row],[Q.2]]+t_instalado[[#This Row],[Q.3]]","v":0},{"$f":"t_instalado[[#This Row],[Q.1]]+t_instalado[[#This Row],[Q.2]]+t_instalado[[#This Row],[Q.3]]","v":0},{"$f":"IF(t_instalado[[#This Row],[Q.1]]<>\"\",SUMIFS(t_reator[p],t_reator[tipo],t_instalado[[#This Row],[T.1]],t_reator[w],t_instalado[[#This Row],[P.1(W)]]),\"\")","v":""},{"$f":"IF(t_instalado[[#This Row],[Q.2]]<>\"\",SUMIFS(t_reator[p],t_reator[tipo],t_instalado[[#This Row],[T.2]],t_reator[w],t_instalado[[#This Row],[P.2(W)]]),\"\")","v":""},{"$f":"IF(t_instalado[[#This Row],[Q.3]]<>\"\",SUMIFS(t_reator[p],t_reator[tipo],t_instalado[[#This Row],[T.3]],t_reator[w],t_instalado[[#This Row],[P.3(W)]]),\"\")","v":""},{"$f":"IF(t_instalado[[#This Row],[Q.1]]<>\"\",IFERROR(IFERROR(D284*(E284+O284)+G284*(H284+P284)+J284*(K284+Q284),D284*(E284+O284)+G284*(H284+P284)),D284*(E284+O284)),\"\")","v":""},{"$f":"IF(t_instalado[[#This Row],[Consumo_W]]<>\"\",ROUND(t_instalado[[#This Row],[Consumo_W]]/t_instalado[[#This Row],[Luminárias]],0),\"\")","v":""},{"$f":"IF(t_instalado[[#This Row],[Q.1]]<>\"\",SUMIFS(t_fluxo_lumin[fluxo],t_fluxo_lumin[tipo],t_instalado[[#This Row],[T.1]])*t_instalado[[#This Row],[P.1(W)]]*t_instalado[[#This Row],[Q.1]],\"\")","v":""},{"$f":"IF(t_instalado[[#This Row],[Q.2]]<>\"\",SUMIFS(t_fluxo_lumin[fluxo],t_fluxo_lumin[tipo],t_instalado[[#This Row],[T.2]])*t_instalado[[#This Row],[Q.2]]*t_instalado[[#This Row],[P.2(W)]],\"\")","v":""},{"$f":"IF(t_instalado[[#This Row],[Q.3]]<>\"\",SUMIFS(t_fluxo_lumin[fluxo],t_fluxo_lumin[tipo],t_instalado[[#This Row],[T.3]])*t_instalado[[#This Row],[Q.3]]*t_instalado[[#This Row],[P.3(W)]],\"\")","v":""},{"$f":"IF(t_instalado[[#This Row],[Trecho]]<>\"\",SUM(t_instalado[[#This Row],[f.1]:[f.3]]),\"\")","v":""},{"$f":"IF(t_instalado[[#This Row],[Trecho]]<>\"\",t_instalado[[#This Row],[Q.1]]+t_instalado[[#This Row],[Q.2]]+t_instalado[[#This Row],[Q.3]],\"\")","v":""},{"$f":"IF(t_instalado[[#This Row],[FLUXO]]<>\"\",ROUND(t_instalado[[#This Row],[FLUXO]]/t_instalado[[#This Row],[Luminárias]],0),\"\")","v":""},{"$f":"IF(t_instalado[[#This Row],[Luminárias]]<>\"\",ROUND(t_instalado[[#This Row],[lm_médio]]/t_instalado[[#This Row],[W_médio]],2),\"\")","v":""}]
[51,{"$f":"_xlfn.XLOOKUP(t_instalado[[#This Row],[cód.]],t_sitio[cód],t_sitio[Trecho],\"\")","v":""},null,null,null,null,null,null,null,null,null,null,{"$f":"t_instalado[[#This Row],[Q.1]]+t_instalado[[#This Row],[Q.2]]+t_instalado[[#This Row],[Q.3]]","v":0},{"$f":"t_instalado[[#This Row],[Q.1]]+t_instalado[[#This Row],[Q.2]]+t_instalado[[#This Row],[Q.3]]","v":0},{"$f":"IF(t_instalado[[#This Row],[Q.1]]<>\"\",SUMIFS(t_reator[p],t_reator[tipo],t_instalado[[#This Row],[T.1]],t_reator[w],t_instalado[[#This Row],[P.1(W)]]),\"\")","v":""},{"$f":"IF(t_instalado[[#This Row],[Q.2]]<>\"\",SUMIFS(t_reator[p],t_reator[tipo],t_instalado[[#This Row],[T.2]],t_reator[w],t_instalado[[#This Row],[P.2(W)]]),\"\")","v":""},{"$f":"IF(t_instalado[[#This Row],[Q.3]]<>\"\",SUMIFS(t_reator[p],t_reator[tipo],t_instalado[[#This Row],[T.3]],t_reator[w],t_instalado[[#This Row],[P.3(W)]]),\"\")","v":""},{"$f":"IF(t_instalado[[#This Row],[Q.1]]<>\"\",IFERROR(IFERROR(D285*(E285+O285)+G285*(H285+P285)+J285*(K285+Q285),D285*(E285+O285)+G285*(H285+P285)),D285*(E285+O285)),\"\")","v":""},{"$f":"IF(t_instalado[[#This Row],[Consumo_W]]<>\"\",ROUND(t_instalado[[#This Row],[Consumo_W]]/t_instalado[[#This Row],[Luminárias]],0),\"\")","v":""},{"$f":"IF(t_instalado[[#This Row],[Q.1]]<>\"\",SUMIFS(t_fluxo_lumin[fluxo],t_fluxo_lumin[tipo],t_instalado[[#This Row],[T.1]])*t_instalado[[#This Row],[P.1(W)]]*t_instalado[[#This Row],[Q.1]],\"\")","v":""},{"$f":"IF(t_instalado[[#This Row],[Q.2]]<>\"\",SUMIFS(t_fluxo_lumin[fluxo],t_fluxo_lumin[tipo],t_instalado[[#This Row],[T.2]])*t_instalado[[#This Row],[Q.2]]*t_instalado[[#This Row],[P.2(W)]],\"\")","v":""},{"$f":"IF(t_instalado[[#This Row],[Q.3]]<>\"\",SUMIFS(t_fluxo_lumin[fluxo],t_fluxo_lumin[tipo],t_instalado[[#This Row],[T.3]])*t_instalado[[#This Row],[Q.3]]*t_instalado[[#This Row],[P.3(W)]],\"\")","v":""},{"$f":"IF(t_instalado[[#This Row],[Trecho]]<>\"\",SUM(t_instalado[[#This Row],[f.1]:[f.3]]),\"\")","v":""},{"$f":"IF(t_instalado[[#This Row],[Trecho]]<>\"\",t_instalado[[#This Row],[Q.1]]+t_instalado[[#This Row],[Q.2]]+t_instalado[[#This Row],[Q.3]],\"\")","v":""},{"$f":"IF(t_instalado[[#This Row],[FLUXO]]<>\"\",ROUND(t_instalado[[#This Row],[FLUXO]]/t_instalado[[#This Row],[Luminárias]],0),\"\")","v":""},{"$f":"IF(t_instalado[[#This Row],[Luminárias]]<>\"\",ROUND(t_instalado[[#This Row],[lm_médio]]/t_instalado[[#This Row],[W_médio]],2),\"\")","v":""}]
[52,{"$f":"_xlfn.XLOOKUP(t_instalado[[#This Row],[cód.]],t_sitio[cód],t_sitio[Trecho],\"\")","v":""},null,null,null,null,null,null,null,null,null,null,{"$f":"t_instalado[[#This Row],[Q.1]]+t_instalado[[#This Row],[Q.2]]+t_instalado[[#This Row],[Q.3]]","v":0},{"$f":"t_instalado[[#This Row],[Q.1]]+t_instalado[[#This Row],[Q.2]]+t_instalado[[#This Row],[Q.3]]","v":0},{"$f":"IF(t_instalado[[#This Row],[Q.1]]<>\"\",SUMIFS(t_reator[p],t_reator[tipo],t_instalado[[#This Row],[T.1]],t_reator[w],t_instalado[[#This Row],[P.1(W)]]),\"\")","v":""},{"$f":"IF(t_instalado[[#This Row],[Q.2]]<>\"\",SUMIFS(t_reator[p],t_reator[tipo],t_instalado[[#This Row],[T.2]],t_reator[w],t_instalado[[#This Row],[P.2(W)]]),\"\")","v":""},{"$f":"IF(t_instalado[[#This Row],[Q.3]]<>\"\",SUMIFS(t_reator[p],t_reator[tipo],t_instalado[[#This Row],[T.3]],t_reator[w],t_instalado[[#This Row],[P.3(W)]]),\"\")","v":""},{"$f":"IF(t_instalado[[#This Row],[Q.1]]<>\"\",IFERROR(IFERROR(D286*(E286+O286)+G286*(H286+P286)+J286*(K286+Q286),D286*(E286+O286)+G286*(H286+P286)),D286*(E286+O286)),\"\")","v":""},{"$f":"IF(t_instalado[[#This Row],[Consumo_W]]<>\"\",ROUND(t_instalado[[#This Row],[Consumo_W]]/t_instalado[[#This Row],[Luminárias]],0),\"\")","v":""},{"$f":"IF(t_instalado[[#This Row],[Q.1]]<>\"\",SUMIFS(t_fluxo_lumin[fluxo],t_fluxo_lumin[tipo],t_instalado[[#This Row],[T.1]])*t_instalado[[#This Row],[P.1(W)]]*t_instalado[[#This Row],[Q.1]],\"\")","v":""},{"$f":"IF(t_instalado[[#This Row],[Q.2]]<>\"\",SUMIFS(t_fluxo_lumin[fluxo],t_fluxo_lumin[tipo],t_instalado[[#This Row],[T.2]])*t_instalado[[#This Row],[Q.2]]*t_instalado[[#This Row],[P.2(W)]],\"\")","v":""},{"$f":"IF(t_instalado[[#This Row],[Q.3]]<>\"\",SUMIFS(t_fluxo_lumin[fluxo],t_fluxo_lumin[tipo],t_instalado[[#This Row],[T.3]])*t_instalado[[#This Row],[Q.3]]*t_instalado[[#This Row],[P.3(W)]],\"\")","v":""},{"$f":"IF(t_instalado[[#This Row],[Trecho]]<>\"\",SUM(t_instalado[[#This Row],[f.1]:[f.3]]),\"\")","v":""},{"$f":"IF(t_instalado[[#This Row],[Trecho]]<>\"\",t_instalado[[#This Row],[Q.1]]+t_instalado[[#This Row],[Q.2]]+t_instalado[[#This Row],[Q.3]],\"\")","v":""},{"$f":"IF(t_instalado[[#This Row],[FLUXO]]<>\"\",ROUND(t_instalado[[#This Row],[FLUXO]]/t_instalado[[#This Row],[Luminárias]],0),\"\")","v":""},{"$f":"IF(t_instalado[[#This Row],[Luminárias]]<>\"\",ROUND(t_instalado[[#This Row],[lm_médio]]/t_instalado[[#This Row],[W_médio]],2),\"\")","v":""}]
[53,{"$f":"_xlfn.XLOOKUP(t_instalado[[#This Row],[cód.]],t_sitio[cód],t_sitio[Trecho],\"\")","v":""},null,null,null,null,null,null,null,null,null,null,{"$f":"t_instalado[[#This Row],[Q.1]]+t_instalado[[#This Row],[Q.2]]+t_instalado[[#This Row],[Q.3]]","v":0},{"$f":"t_instalado[[#This Row],[Q.1]]+t_instalado[[#This Row],[Q.2]]+t_instalado[[#This Row],[Q.3]]","v":0},{"$f":"IF(t_instalado[[#This Row],[Q.1]]<>\"\",SUMIFS(t_reator[p],t_reator[tipo],t_instalado[[#This Row],[T.1]],t_reator[w],t_instalado[[#This Row],[P.1(W)]]),\"\")","v":""},{"$f":"IF(t_instalado[[#This Row],[Q.2]]<>\"\",SUMIFS(t_reator[p],t_reator[tipo],t_instalado[[#This Row],[T.2]],t_reator[w],t_instalado[[#This Row],[P.2(W)]]),\"\")","v":""},{"$f":"IF(t_instalado[[#This Row],[Q.3]]<>\"\",SUMIFS(t_reator[p],t_reator[tipo],t_instalado[[#This Row],[T.3]],t_reator[w],t_instalado[[#This Row],[P.3(W)]]),\"\")","v":""},{"$f":"IF(t_instalado[[#This Row],[Q.1]]<>\"\",IFERROR(IFERROR(D287*(E287+O287)+G287*(H287+P287)+J287*(K287+Q287),D287*(E287+O287)+G287*(H287+P287)),D287*(E287+O287)),\"\")","v":""},{"$f":"IF(t_instalado[[#This Row],[Consumo_W]]<>\"\",ROUND(t_instalado[[#This Row],[Consumo_W]]/t_instalado[[#This Row],[Luminárias]],0),\"\")","v":""},{"$f":"IF(t_instalado[[#This Row],[Q.1]]<>\"\",SUMIFS(t_fluxo_lumin[fluxo],t_fluxo_lumin[tipo],t_instalado[[#This Row],[T.1]])*t_instalado[[#This Row],[P.1(W)]]*t_instalado[[#This Row],[Q.1]],\"\")","v":""},{"$f":"IF(t_instalado[[#This Row],[Q.2]]<>\"\",SUMIFS(t_fluxo_lumin[fluxo],t_fluxo_lumin[tipo],t_instalado[[#This Row],[T.2]])*t_instalado[[#This Row],[Q.2]]*t_instalado[[#This Row],[P.2(W)]],\"\")","v":""},{"$f":"IF(t_instalado[[#This Row],[Q.3]]<>\"\",SUMIFS(t_fluxo_lumin[fluxo],t_fluxo_lumin[tipo],t_instalado[[#This Row],[T.3]])*t_instalado[[#This Row],[Q.3]]*t_instalado[[#This Row],[P.3(W)]],\"\")","v":""},{"$f":"IF(t_instalado[[#This Row],[Trecho]]<>\"\",SUM(t_instalado[[#This Row],[f.1]:[f.3]]),\"\")","v":""},{"$f":"IF(t_instalado[[#This Row],[Trecho]]<>\"\",t_instalado[[#This Row],[Q.1]]+t_instalado[[#This Row],[Q.2]]+t_instalado[[#This Row],[Q.3]],\"\")","v":""},{"$f":"IF(t_instalado[[#This Row],[FLUXO]]<>\"\",ROUND(t_instalado[[#This Row],[FLUXO]]/t_instalado[[#This Row],[Luminárias]],0),\"\")","v":""},{"$f":"IF(t_instalado[[#This Row],[Luminárias]]<>\"\",ROUND(t_instalado[[#This Row],[lm_médio]]/t_instalado[[#This Row],[W_médio]],2),\"\")","v":""}]
[54,{"$f":"_xlfn.XLOOKUP(t_instalado[[#This Row],[cód.]],t_sitio[cód],t_sitio[Trecho],\"\")","v":""},null,null,null,null,null,null,null,null,null,null,{"$f":"t_instalado[[#This Row],[Q.1]]+t_instalado[[#This Row],[Q.2]]+t_instalado[[#This Row],[Q.3]]","v":0},{"$f":"t_instalado[[#This Row],[Q.1]]+t_instalado[[#This Row],[Q.2]]+t_instalado[[#This Row],[Q.3]]","v":0},{"$f":"IF(t_instalado[[#This Row],[Q.1]]<>\"\",SUMIFS(t_reator[p],t_reator[tipo],t_instalado[[#This Row],[T.1]],t_reator[w],t_instalado[[#This Row],[P.1(W)]]),\"\")","v":""},{"$f":"IF(t_instalado[[#This Row],[Q.2]]<>\"\",SUMIFS(t_reator[p],t_reator[tipo],t_instalado[[#This Row],[T.2]],t_reator[w],t_instalado[[#This Row],[P.2(W)]]),\"\")","v":""},{"$f":"IF(t_instalado[[#This Row],[Q.3]]<>\"\",SUMIFS(t_reator[p],t_reator[tipo],t_instalado[[#This Row],[T.3]],t_reator[w],t_instalado[[#This Row],[P.3(W)]]),\"\")","v":""},{"$f":"IF(t_instalado[[#This Row],[Q.1]]<>\"\",IFERROR(IFERROR(D288*(E288+O288)+G288*(H288+P288)+J288*(K288+Q288),D288*(E288+O288)+G288*(H288+P288)),D288*(E288+O288)),\"\")","v":""},{"$f":"IF(t_instalado[[#This Row],[Consumo_W]]<>\"\",ROUND(t_instalado[[#This Row],[Consumo_W]]/t_instalado[[#This Row],[Luminárias]],0),\"\")","v":""},{"$f":"IF(t_instalado[[#This Row],[Q.1]]<>\"\",SUMIFS(t_fluxo_lumin[fluxo],t_fluxo_lumin[tipo],t_instalado[[#This Row],[T.1]])*t_instalado[[#This Row],[P.1(W)]]*t_instalado[[#This Row],[Q.1]],\"\")","v":""},{"$f":"IF(t_instalado[[#This Row],[Q.2]]<>\"\",SUMIFS(t_fluxo_lumin[fluxo],t_fluxo_lumin[tipo],t_instalado[[#This Row],[T.2]])*t_instalado[[#This Row],[Q.2]]*t_instalado[[#This Row],[P.2(W)]],\"\")","v":""},{"$f":"IF(t_instalado[[#This Row],[Q.3]]<>\"\",SUMIFS(t_fluxo_lumin[fluxo],t_fluxo_lumin[tipo],t_instalado[[#This Row],[T.3]])*t_instalado[[#This Row],[Q.3]]*t_instalado[[#This Row],[P.3(W)]],\"\")","v":""},{"$f":"IF(t_instalado[[#This Row],[Trecho]]<>\"\",SUM(t_instalado[[#This Row],[f.1]:[f.3]]),\"\")","v":""},{"$f":"IF(t_instalado[[#This Row],[Trecho]]<>\"\",t_instalado[[#This Row],[Q.1]]+t_instalado[[#This Row],[Q.2]]+t_instalado[[#This Row],[Q.3]],\"\")","v":""},{"$f":"IF(t_instalado[[#This Row],[FLUXO]]<>\"\",ROUND(t_instalado[[#This Row],[FLUXO]]/t_instalado[[#This Row],[Luminárias]],0),\"\")","v":""},{"$f":"IF(t_instalado[[#This Row],[Luminárias]]<>\"\",ROUND(t_instalado[[#This Row],[lm_médio]]/t_instalado[[#This Row],[W_médio]],2),\"\")","v":""}]
[55,{"$f":"_xlfn.XLOOKUP(t_instalado[[#This Row],[cód.]],t_sitio[cód],t_sitio[Trecho],\"\")","v":""},null,null,null,null,null,null,null,null,null,null,{"$f":"t_instalado[[#This Row],[Q.1]]+t_instalado[[#This Row],[Q.2]]+t_instalado[[#This Row],[Q.3]]","v":0},{"$f":"t_instalado[[#This Row],[Q.1]]+t_instalado[[#This Row],[Q.2]]+t_instalado[[#This Row],[Q.3]]","v":0},{"$f":"IF(t_instalado[[#This Row],[Q.1]]<>\"\",SUMIFS(t_reator[p],t_reator[tipo],t_instalado[[#This Row],[T.1]],t_reator[w],t_instalado[[#This Row],[P.1(W)]]),\"\")","v":""},{"$f":"IF(t_instalado[[#This Row],[Q.2]]<>\"\",SUMIFS(t_reator[p],t_reator[tipo],t_instalado[[#This Row],[T.2]],t_reator[w],t_instalado[[#This Row],[P.2(W)]]),\"\")","v":""},{"$f":"IF(t_instalado[[#This Row],[Q.3]]<>\"\",SUMIFS(t_reator[p],t_reator[tipo],t_instalado[[#This Row],[T.3]],t_reator[w],t_instalado[[#This Row],[P.3(W)]]),\"\")","v":""},{"$f":"IF(t_instalado[[#This Row],[Q.1]]<>\"\",IFERROR(IFERROR(D289*(E289+O289)+G289*(H289+P289)+J289*(K289+Q289),D289*(E289+O289)+G289*(H289+P289)),D289*(E289+O289)),\"\")","v":""},{"$f":"IF(t_instalado[[#This Row],[Consumo_W]]<>\"\",ROUND(t_instalado[[#This Row],[Consumo_W]]/t_instalado[[#This Row],[Luminárias]],0),\"\")","v":""},{"$f":"IF(t_instalado[[#This Row],[Q.1]]<>\"\",SUMIFS(t_fluxo_lumin[fluxo],t_fluxo_lumin[tipo],t_instalado[[#This Row],[T.1]])*t_instalado[[#This Row],[P.1(W)]]*t_instalado[[#This Row],[Q.1]],\"\")","v":""},{"$f":"IF(t_instalado[[#This Row],[Q.2]]<>\"\",SUMIFS(t_fluxo_lumin[fluxo],t_fluxo_lumin[tipo],t_instalado[[#This Row],[T.2]])*t_instalado[[#This Row],[Q.2]]*t_instalado[[#This Row],[P.2(W)]],\"\")","v":""},{"$f":"IF(t_instalado[[#This Row],[Q.3]]<>\"\",SUMIFS(t_fluxo_lumin[fluxo],t_fluxo_lumin[tipo],t_instalado[[#This Row],[T.3]])*t_instalado[[#This Row],[Q.3]]*t_instalado[[#This Row],[P.3(W)]],\"\")","v":""},{"$f":"IF(t_instalado[[#This Row],[Trecho]]<>\"\",SUM(t_instalado[[#This Row],[f.1]:[f.3]]),\"\")","v":""},{"$f":"IF(t_instalado[[#This Row],[Trecho]]<>\"\",t_instalado[[#This Row],[Q.1]]+t_instalado[[#This Row],[Q.2]]+t_instalado[[#This Row],[Q.3]],\"\")","v":""},{"$f":"IF(t_instalado[[#This Row],[FLUXO]]<>\"\",ROUND(t_instalado[[#This Row],[FLUXO]]/t_instalado[[#This Row],[Luminárias]],0),\"\")","v":""},{"$f":"IF(t_instalado[[#This Row],[Luminárias]]<>\"\",ROUND(t_instalado[[#This Row],[lm_médio]]/t_instalado[[#This Row],[W_médio]],2),\"\")","v":""}]
[56,{"$f":"_xlfn.XLOOKUP(t_instalado[[#This Row],[cód.]],t_sitio[cód],t_sitio[Trecho],\"\")","v":""},null,null,null,null,null,null,null,null,null,null,{"$f":"t_instalado[[#This Row],[Q.1]]+t_instalado[[#This Row],[Q.2]]+t_instalado[[#This Row],[Q.3]]","v":0},{"$f":"t_instalado[[#This Row],[Q.1]]+t_instalado[[#This Row],[Q.2]]+t_instalado[[#This Row],[Q.3]]","v":0},{"$f":"IF(t_instalado[[#This Row],[Q.1]]<>\"\",SUMIFS(t_reator[p],t_reator[tipo],t_instalado[[#This Row],[T.1]],t_reator[w],t_instalado[[#This Row],[P.1(W)]]),\"\")","v":""},{"$f":"IF(t_instalado[[#This Row],[Q.2]]<>\"\",SUMIFS(t_reator[p],t_reator[tipo],t_instalado[[#This Row],[T.2]],t_reator[w],t_instalado[[#This Row],[P.2(W)]]),\"\")","v":""},{"$f":"IF(t_instalado[[#This Row],[Q.3]]<>\"\",SUMIFS(t_reator[p],t_reator[tipo],t_instalado[[#This Row],[T.3]],t_reator[w],t_instalado[[#This Row],[P.3(W)]]),\"\")","v":""},{"$f":"IF(t_instalado[[#This Row],[Q.1]]<>\"\",IFERROR(IFERROR(D290*(E290+O290)+G290*(H290+P290)+J290*(K290+Q290),D290*(E290+O290)+G290*(H290+P290)),D290*(E290+O290)),\"\")","v":""},{"$f":"IF(t_instalado[[#This Row],[Consumo_W]]<>\"\",ROUND(t_instalado[[#This Row],[Consumo_W]]/t_instalado[[#This Row],[Luminárias]],0),\"\")","v":""},{"$f":"IF(t_instalado[[#This Row],[Q.1]]<>\"\",SUMIFS(t_fluxo_lumin[fluxo],t_fluxo_lumin[tipo],t_instalado[[#This Row],[T.1]])*t_instalado[[#This Row],[P.1(W)]]*t_instalado[[#This Row],[Q.1]],\"\")","v":""},{"$f":"IF(t_instalado[[#This Row],[Q.2]]<>\"\",SUMIFS(t_fluxo_lumin[fluxo],t_fluxo_lumin[tipo],t_instalado[[#This Row],[T.2]])*t_instalado[[#This Row],[Q.2]]*t_instalado[[#This Row],[P.2(W)]],\"\")","v":""},{"$f":"IF(t_instalado[[#This Row],[Q.3]]<>\"\",SUMIFS(t_fluxo_lumin[fluxo],t_fluxo_lumin[tipo],t_instalado[[#This Row],[T.3]])*t_instalado[[#This Row],[Q.3]]*t_instalado[[#This Row],[P.3(W)]],\"\")","v":""},{"$f":"IF(t_instalado[[#This Row],[Trecho]]<>\"\",SUM(t_instalado[[#This Row],[f.1]:[f.3]]),\"\")","v":""},{"$f":"IF(t_instalado[[#This Row],[Trecho]]<>\"\",t_instalado[[#This Row],[Q.1]]+t_instalado[[#This Row],[Q.2]]+t_instalado[[#This Row],[Q.3]],\"\")","v":""},{"$f":"IF(t_instalado[[#This Row],[FLUXO]]<>\"\",ROUND(t_instalado[[#This Row],[FLUXO]]/t_instalado[[#This Row],[Luminárias]],0),\"\")","v":""},{"$f":"IF(t_instalado[[#This Row],[Luminárias]]<>\"\",ROUND(t_instalado[[#This Row],[lm_médio]]/t_instalado[[#This Row],[W_médio]],2),\"\")","v":""}]
[57,{"$f":"_xlfn.XLOOKUP(t_instalado[[#This Row],[cód.]],t_sitio[cód],t_sitio[Trecho],\"\")","v":""},null,null,null,null,null,null,null,null,null,null,{"$f":"t_instalado[[#This Row],[Q.1]]+t_instalado[[#This Row],[Q.2]]+t_instalado[[#This Row],[Q.3]]","v":0},{"$f":"t_instalado[[#This Row],[Q.1]]+t_instalado[[#This Row],[Q.2]]+t_instalado[[#This Row],[Q.3]]","v":0},{"$f":"IF(t_instalado[[#This Row],[Q.1]]<>\"\",SUMIFS(t_reator[p],t_reator[tipo],t_instalado[[#This Row],[T.1]],t_reator[w],t_instalado[[#This Row],[P.1(W)]]),\"\")","v":""},{"$f":"IF(t_instalado[[#This Row],[Q.2]]<>\"\",SUMIFS(t_reator[p],t_reator[tipo],t_instalado[[#This Row],[T.2]],t_reator[w],t_instalado[[#This Row],[P.2(W)]]),\"\")","v":""},{"$f":"IF(t_instalado[[#This Row],[Q.3]]<>\"\",SUMIFS(t_reator[p],t_reator[tipo],t_instalado[[#This Row],[T.3]],t_reator[w],t_instalado[[#This Row],[P.3(W)]]),\"\")","v":""},{"$f":"IF(t_instalado[[#This Row],[Q.1]]<>\"\",IFERROR(IFERROR(D291*(E291+O291)+G291*(H291+P291)+J291*(K291+Q291),D291*(E291+O291)+G291*(H291+P291)),D291*(E291+O291)),\"\")","v":""},{"$f":"IF(t_instalado[[#This Row],[Consumo_W]]<>\"\",ROUND(t_instalado[[#This Row],[Consumo_W]]/t_instalado[[#This Row],[Luminárias]],0),\"\")","v":""},{"$f":"IF(t_instalado[[#This Row],[Q.1]]<>\"\",SUMIFS(t_fluxo_lumin[fluxo],t_fluxo_lumin[tipo],t_instalado[[#This Row],[T.1]])*t_instalado[[#This Row],[P.1(W)]]*t_instalado[[#This Row],[Q.1]],\"\")","v":""},{"$f":"IF(t_instalado[[#This Row],[Q.2]]<>\"\",SUMIFS(t_fluxo_lumin[fluxo],t_fluxo_lumin[tipo],t_instalado[[#This Row],[T.2]])*t_instalado[[#This Row],[Q.2]]*t_instalado[[#This Row],[P.2(W)]],\"\")","v":""},{"$f":"IF(t_instalado[[#This Row],[Q.3]]<>\"\",SUMIFS(t_fluxo_lumin[fluxo],t_fluxo_lumin[tipo],t_instalado[[#This Row],[T.3]])*t_instalado[[#This Row],[Q.3]]*t_instalado[[#This Row],[P.3(W)]],\"\")","v":""},{"$f":"IF(t_instalado[[#This Row],[Trecho]]<>\"\",SUM(t_instalado[[#This Row],[f.1]:[f.3]]),\"\")","v":""},{"$f":"IF(t_instalado[[#This Row],[Trecho]]<>\"\",t_instalado[[#This Row],[Q.1]]+t_instalado[[#This Row],[Q.2]]+t_instalado[[#This Row],[Q.3]],\"\")","v":""},{"$f":"IF(t_instalado[[#This Row],[FLUXO]]<>\"\",ROUND(t_instalado[[#This Row],[FLUXO]]/t_instalado[[#This Row],[Luminárias]],0),\"\")","v":""},{"$f":"IF(t_instalado[[#This Row],[Luminárias]]<>\"\",ROUND(t_instalado[[#This Row],[lm_médio]]/t_instalado[[#This Row],[W_médio]],2),\"\")","v":""}]
[58,{"$f":"_xlfn.XLOOKUP(t_instalado[[#This Row],[cód.]],t_sitio[cód],t_sitio[Trecho],\"\")","v":""},null,null,null,null,null,null,null,null,null,null,{"$f":"t_instalado[[#This Row],[Q.1]]+t_instalado[[#This Row],[Q.2]]+t_instalado[[#This Row],[Q.3]]","v":0},{"$f":"t_instalado[[#This Row],[Q.1]]+t_instalado[[#This Row],[Q.2]]+t_instalado[[#This Row],[Q.3]]","v":0},{"$f":"IF(t_instalado[[#This Row],[Q.1]]<>\"\",SUMIFS(t_reator[p],t_reator[tipo],t_instalado[[#This Row],[T.1]],t_reator[w],t_instalado[[#This Row],[P.1(W)]]),\"\")","v":""},{"$f":"IF(t_instalado[[#This Row],[Q.2]]<>\"\",SUMIFS(t_reator[p],t_reator[tipo],t_instalado[[#This Row],[T.2]],t_reator[w],t_instalado[[#This Row],[P.2(W)]]),\"\")","v":""},{"$f":"IF(t_instalado[[#This Row],[Q.3]]<>\"\",SUMIFS(t_reator[p],t_reator[tipo],t_instalado[[#This Row],[T.3]],t_reator[w],t_instalado[[#This Row],[P.3(W)]]),\"\")","v":""},{"$f":"IF(t_instalado[[#This Row],[Q.1]]<>\"\",IFERROR(IFERROR(D292*(E292+O292)+G292*(H292+P292)+J292*(K292+Q292),D292*(E292+O292)+G292*(H292+P292)),D292*(E292+O292)),\"\")","v":""},{"$f":"IF(t_instalado[[#This Row],[Consumo_W]]<>\"\",ROUND(t_instalado[[#This Row],[Consumo_W]]/t_instalado[[#This Row],[Luminárias]],0),\"\")","v":""},{"$f":"IF(t_instalado[[#This Row],[Q.1]]<>\"\",SUMIFS(t_fluxo_lumin[fluxo],t_fluxo_lumin[tipo],t_instalado[[#This Row],[T.1]])*t_instalado[[#This Row],[P.1(W)]]*t_instalado[[#This Row],[Q.1]],\"\")","v":""},{"$f":"IF(t_instalado[[#This Row],[Q.2]]<>\"\",SUMIFS(t_fluxo_lumin[fluxo],t_fluxo_lumin[tipo],t_instalado[[#This Row],[T.2]])*t_instalado[[#This Row],[Q.2]]*t_instalado[[#This Row],[P.2(W)]],\"\")","v":""},{"$f":"IF(t_instalado[[#This Row],[Q.3]]<>\"\",SUMIFS(t_fluxo_lumin[fluxo],t_fluxo_lumin[tipo],t_instalado[[#This Row],[T.3]])*t_instalado[[#This Row],[Q.3]]*t_instalado[[#This Row],[P.3(W)]],\"\")","v":""},{"$f":"IF(t_instalado[[#This Row],[Trecho]]<>\"\",SUM(t_instalado[[#This Row],[f.1]:[f.3]]),\"\")","v":""},{"$f":"IF(t_instalado[[#This Row],[Trecho]]<>\"\",t_instalado[[#This Row],[Q.1]]+t_instalado[[#This Row],[Q.2]]+t_instalado[[#This Row],[Q.3]],\"\")","v":""},{"$f":"IF(t_instalado[[#This Row],[FLUXO]]<>\"\",ROUND(t_instalado[[#This Row],[FLUXO]]/t_instalado[[#This Row],[Luminárias]],0),\"\")","v":""},{"$f":"IF(t_instalado[[#This Row],[Luminárias]]<>\"\",ROUND(t_instalado[[#This Row],[lm_médio]]/t_instalado[[#This Row],[W_médio]],2),\"\")","v":""}]
[59,{"$f":"_xlfn.XLOOKUP(t_instalado[[#This Row],[cód.]],t_sitio[cód],t_sitio[Trecho],\"\")","v":""},null,null,null,null,null,null,null,null,null,null,{"$f":"t_instalado[[#This Row],[Q.1]]+t_instalado[[#This Row],[Q.2]]+t_instalado[[#This Row],[Q.3]]","v":0},{"$f":"t_instalado[[#This Row],[Q.1]]+t_instalado[[#This Row],[Q.2]]+t_instalado[[#This Row],[Q.3]]","v":0},{"$f":"IF(t_instalado[[#This Row],[Q.1]]<>\"\",SUMIFS(t_reator[p],t_reator[tipo],t_instalado[[#This Row],[T.1]],t_reator[w],t_instalado[[#This Row],[P.1(W)]]),\"\")","v":""},{"$f":"IF(t_instalado[[#This Row],[Q.2]]<>\"\",SUMIFS(t_reator[p],t_reator[tipo],t_instalado[[#This Row],[T.2]],t_reator[w],t_instalado[[#This Row],[P.2(W)]]),\"\")","v":""},{"$f":"IF(t_instalado[[#This Row],[Q.3]]<>\"\",SUMIFS(t_reator[p],t_reator[tipo],t_instalado[[#This Row],[T.3]],t_reator[w],t_instalado[[#This Row],[P.3(W)]]),\"\")","v":""},{"$f":"IF(t_instalado[[#This Row],[Q.1]]<>\"\",IFERROR(IFERROR(D293*(E293+O293)+G293*(H293+P293)+J293*(K293+Q293),D293*(E293+O293)+G293*(H293+P293)),D293*(E293+O293)),\"\")","v":""},{"$f":"IF(t_instalado[[#This Row],[Consumo_W]]<>\"\",ROUND(t_instalado[[#This Row],[Consumo_W]]/t_instalado[[#This Row],[Luminárias]],0),\"\")","v":""},{"$f":"IF(t_instalado[[#This Row],[Q.1]]<>\"\",SUMIFS(t_fluxo_lumin[fluxo],t_fluxo_lumin[tipo],t_instalado[[#This Row],[T.1]])*t_instalado[[#This Row],[P.1(W)]]*t_instalado[[#This Row],[Q.1]],\"\")","v":""},{"$f":"IF(t_instalado[[#This Row],[Q.2]]<>\"\",SUMIFS(t_fluxo_lumin[fluxo],t_fluxo_lumin[tipo],t_instalado[[#This Row],[T.2]])*t_instalado[[#This Row],[Q.2]]*t_instalado[[#This Row],[P.2(W)]],\"\")","v":""},{"$f":"IF(t_instalado[[#This Row],[Q.3]]<>\"\",SUMIFS(t_fluxo_lumin[fluxo],t_fluxo_lumin[tipo],t_instalado[[#This Row],[T.3]])*t_instalado[[#This Row],[Q.3]]*t_instalado[[#This Row],[P.3(W)]],\"\")","v":""},{"$f":"IF(t_instalado[[#This Row],[Trecho]]<>\"\",SUM(t_instalado[[#This Row],[f.1]:[f.3]]),\"\")","v":""},{"$f":"IF(t_instalado[[#This Row],[Trecho]]<>\"\",t_instalado[[#This Row],[Q.1]]+t_instalado[[#This Row],[Q.2]]+t_instalado[[#This Row],[Q.3]],\"\")","v":""},{"$f":"IF(t_instalado[[#This Row],[FLUXO]]<>\"\",ROUND(t_instalado[[#This Row],[FLUXO]]/t_instalado[[#This Row],[Luminárias]],0),\"\")","v":""},{"$f":"IF(t_instalado[[#This Row],[Luminárias]]<>\"\",ROUND(t_instalado[[#This Row],[lm_médio]]/t_instalado[[#This Row],[W_médio]],2),\"\")","v":""}]
[60,{"$f":"_xlfn.XLOOKUP(t_instalado[[#This Row],[cód.]],t_sitio[cód],t_sitio[Trecho],\"\")","v":""},null,null,null,null,null,null,null,null,null,null,{"$f":"t_instalado[[#This Row],[Q.1]]+t_instalado[[#This Row],[Q.2]]+t_instalado[[#This Row],[Q.3]]","v":0},{"$f":"t_instalado[[#This Row],[Q.1]]+t_instalado[[#This Row],[Q.2]]+t_instalado[[#This Row],[Q.3]]","v":0},{"$f":"IF(t_instalado[[#This Row],[Q.1]]<>\"\",SUMIFS(t_reator[p],t_reator[tipo],t_instalado[[#This Row],[T.1]],t_reator[w],t_instalado[[#This Row],[P.1(W)]]),\"\")","v":""},{"$f":"IF(t_instalado[[#This Row],[Q.2]]<>\"\",SUMIFS(t_reator[p],t_reator[tipo],t_instalado[[#This Row],[T.2]],t_reator[w],t_instalado[[#This Row],[P.2(W)]]),\"\")","v":""},{"$f":"IF(t_instalado[[#This Row],[Q.3]]<>\"\",SUMIFS(t_reator[p],t_reator[tipo],t_instalado[[#This Row],[T.3]],t_reator[w],t_instalado[[#This Row],[P.3(W)]]),\"\")","v":""},{"$f":"IF(t_instalado[[#This Row],[Q.1]]<>\"\",IFERROR(IFERROR(D294*(E294+O294)+G294*(H294+P294)+J294*(K294+Q294),D294*(E294+O294)+G294*(H294+P294)),D294*(E294+O294)),\"\")","v":""},{"$f":"IF(t_instalado[[#This Row],[Consumo_W]]<>\"\",ROUND(t_instalado[[#This Row],[Consumo_W]]/t_instalado[[#This Row],[Luminárias]],0),\"\")","v":""},{"$f":"IF(t_instalado[[#This Row],[Q.1]]<>\"\",SUMIFS(t_fluxo_lumin[fluxo],t_fluxo_lumin[tipo],t_instalado[[#This Row],[T.1]])*t_instalado[[#This Row],[P.1(W)]]*t_instalado[[#This Row],[Q.1]],\"\")","v":""},{"$f":"IF(t_instalado[[#This Row],[Q.2]]<>\"\",SUMIFS(t_fluxo_lumin[fluxo],t_fluxo_lumin[tipo],t_instalado[[#This Row],[T.2]])*t_instalado[[#This Row],[Q.2]]*t_instalado[[#This Row],[P.2(W)]],\"\")","v":""},{"$f":"IF(t_instalado[[#This Row],[Q.3]]<>\"\",SUMIFS(t_fluxo_lumin[fluxo],t_fluxo_lumin[tipo],t_instalado[[#This Row],[T.3]])*t_instalado[[#This Row],[Q.3]]*t_instalado[[#This Row],[P.3(W)]],\"\")","v":""},{"$f":"IF(t_instalado[[#This Row],[Trecho]]<>\"\",SUM(t_instalado[[#This Row],[f.1]:[f.3]]),\"\")","v":""},{"$f":"IF(t_instalado[[#This Row],[Trecho]]<>\"\",t_instalado[[#This Row],[Q.1]]+t_instalado[[#This Row],[Q.2]]+t_instalado[[#This Row],[Q.3]],\"\")","v":""},{"$f":"IF(t_instalado[[#This Row],[FLUXO]]<>\"\",ROUND(t_instalado[[#This Row],[FLUXO]]/t_instalado[[#This Row],[Luminárias]],0),\"\")","v":""},{"$f":"IF(t_instalado[[#This Row],[Luminárias]]<>\"\",ROUND(t_instalado[[#This Row],[lm_médio]]/t_instalado[[#This Row],[W_médio]],2),\"\")","v":""}]
[61,{"$f":"_xlfn.XLOOKUP(t_instalado[[#This Row],[cód.]],t_sitio[cód],t_sitio[Trecho],\"\")","v":""},null,null,null,null,null,null,null,null,null,null,{"$f":"t_instalado[[#This Row],[Q.1]]+t_instalado[[#This Row],[Q.2]]+t_instalado[[#This Row],[Q.3]]","v":0},{"$f":"t_instalado[[#This Row],[Q.1]]+t_instalado[[#This Row],[Q.2]]+t_instalado[[#This Row],[Q.3]]","v":0},{"$f":"IF(t_instalado[[#This Row],[Q.1]]<>\"\",SUMIFS(t_reator[p],t_reator[tipo],t_instalado[[#This Row],[T.1]],t_reator[w],t_instalado[[#This Row],[P.1(W)]]),\"\")","v":""},{"$f":"IF(t_instalado[[#This Row],[Q.2]]<>\"\",SUMIFS(t_reator[p],t_reator[tipo],t_instalado[[#This Row],[T.2]],t_reator[w],t_instalado[[#This Row],[P.2(W)]]),\"\")","v":""},{"$f":"IF(t_instalado[[#This Row],[Q.3]]<>\"\",SUMIFS(t_reator[p],t_reator[tipo],t_instalado[[#This Row],[T.3]],t_reator[w],t_instalado[[#This Row],[P.3(W)]]),\"\")","v":""},{"$f":"IF(t_instalado[[#This Row],[Q.1]]<>\"\",IFERROR(IFERROR(D295*(E295+O295)+G295*(H295+P295)+J295*(K295+Q295),D295*(E295+O295)+G295*(H295+P295)),D295*(E295+O295)),\"\")","v":""},{"$f":"IF(t_instalado[[#This Row],[Consumo_W]]<>\"\",ROUND(t_instalado[[#This Row],[Consumo_W]]/t_instalado[[#This Row],[Luminárias]],0),\"\")","v":""},{"$f":"IF(t_instalado[[#This Row],[Q.1]]<>\"\",SUMIFS(t_fluxo_lumin[fluxo],t_fluxo_lumin[tipo],t_instalado[[#This Row],[T.1]])*t_instalado[[#This Row],[P.1(W)]]*t_instalado[[#This Row],[Q.1]],\"\")","v":""},{"$f":"IF(t_instalado[[#This Row],[Q.2]]<>\"\",SUMIFS(t_fluxo_lumin[fluxo],t_fluxo_lumin[tipo],t_instalado[[#This Row],[T.2]])*t_instalado[[#This Row],[Q.2]]*t_instalado[[#This Row],[P.2(W)]],\"\")","v":""},{"$f":"IF(t_instalado[[#This Row],[Q.3]]<>\"\",SUMIFS(t_fluxo_lumin[fluxo],t_fluxo_lumin[tipo],t_instalado[[#This Row],[T.3]])*t_instalado[[#This Row],[Q.3]]*t_instalado[[#This Row],[P.3(W)]],\"\")","v":""},{"$f":"IF(t_instalado[[#This Row],[Trecho]]<>\"\",SUM(t_instalado[[#This Row],[f.1]:[f.3]]),\"\")","v":""},{"$f":"IF(t_instalado[[#This Row],[Trecho]]<>\"\",t_instalado[[#This Row],[Q.1]]+t_instalado[[#This Row],[Q.2]]+t_instalado[[#This Row],[Q.3]],\"\")","v":""},{"$f":"IF(t_instalado[[#This Row],[FLUXO]]<>\"\",ROUND(t_instalado[[#This Row],[FLUXO]]/t_instalado[[#This Row],[Luminárias]],0),\"\")","v":""},{"$f":"IF(t_instalado[[#This Row],[Luminárias]]<>\"\",ROUND(t_instalado[[#This Row],[lm_médio]]/t_instalado[[#This Row],[W_médio]],2),\"\")","v":""}]
[62,{"$f":"_xlfn.XLOOKUP(t_instalado[[#This Row],[cód.]],t_sitio[cód],t_sitio[Trecho],\"\")","v":""},null,null,null,null,null,null,null,null,null,null,{"$f":"t_instalado[[#This Row],[Q.1]]+t_instalado[[#This Row],[Q.2]]+t_instalado[[#This Row],[Q.3]]","v":0},{"$f":"t_instalado[[#This Row],[Q.1]]+t_instalado[[#This Row],[Q.2]]+t_instalado[[#This Row],[Q.3]]","v":0},{"$f":"IF(t_instalado[[#This Row],[Q.1]]<>\"\",SUMIFS(t_reator[p],t_reator[tipo],t_instalado[[#This Row],[T.1]],t_reator[w],t_instalado[[#This Row],[P.1(W)]]),\"\")","v":""},{"$f":"IF(t_instalado[[#This Row],[Q.2]]<>\"\",SUMIFS(t_reator[p],t_reator[tipo],t_instalado[[#This Row],[T.2]],t_reator[w],t_instalado[[#This Row],[P.2(W)]]),\"\")","v":""},{"$f":"IF(t_instalado[[#This Row],[Q.3]]<>\"\",SUMIFS(t_reator[p],t_reator[tipo],t_instalado[[#This Row],[T.3]],t_reator[w],t_instalado[[#This Row],[P.3(W)]]),\"\")","v":""},{"$f":"IF(t_instalado[[#This Row],[Q.1]]<>\"\",IFERROR(IFERROR(D296*(E296+O296)+G296*(H296+P296)+J296*(K296+Q296),D296*(E296+O296)+G296*(H296+P296)),D296*(E296+O296)),\"\")","v":""},{"$f":"IF(t_instalado[[#This Row],[Consumo_W]]<>\"\",ROUND(t_instalado[[#This Row],[Consumo_W]]/t_instalado[[#This Row],[Luminárias]],0),\"\")","v":""},{"$f":"IF(t_instalado[[#This Row],[Q.1]]<>\"\",SUMIFS(t_fluxo_lumin[fluxo],t_fluxo_lumin[tipo],t_instalado[[#This Row],[T.1]])*t_instalado[[#This Row],[P.1(W)]]*t_instalado[[#This Row],[Q.1]],\"\")","v":""},{"$f":"IF(t_instalado[[#This Row],[Q.2]]<>\"\",SUMIFS(t_fluxo_lumin[fluxo],t_fluxo_lumin[tipo],t_instalado[[#This Row],[T.2]])*t_instalado[[#This Row],[Q.2]]*t_instalado[[#This Row],[P.2(W)]],\"\")","v":""},{"$f":"IF(t_instalado[[#This Row],[Q.3]]<>\"\",SUMIFS(t_fluxo_lumin[fluxo],t_fluxo_lumin[tipo],t_instalado[[#This Row],[T.3]])*t_instalado[[#This Row],[Q.3]]*t_instalado[[#This Row],[P.3(W)]],\"\")","v":""},{"$f":"IF(t_instalado[[#This Row],[Trecho]]<>\"\",SUM(t_instalado[[#This Row],[f.1]:[f.3]]),\"\")","v":""},{"$f":"IF(t_instalado[[#This Row],[Trecho]]<>\"\",t_instalado[[#This Row],[Q.1]]+t_instalado[[#This Row],[Q.2]]+t_instalado[[#This Row],[Q.3]],\"\")","v":""},{"$f":"IF(t_instalado[[#This Row],[FLUXO]]<>\"\",ROUND(t_instalado[[#This Row],[FLUXO]]/t_instalado[[#This Row],[Luminárias]],0),\"\")","v":""},{"$f":"IF(t_instalado[[#This Row],[Luminárias]]<>\"\",ROUND(t_instalado[[#This Row],[lm_médio]]/t_instalado[[#This Row],[W_médio]],2),\"\")","v":""}]
[63,{"$f":"_xlfn.XLOOKUP(t_instalado[[#This Row],[cód.]],t_sitio[cód],t_sitio[Trecho],\"\")","v":""},null,null,null,null,null,null,null,null,null,null,{"$f":"t_instalado[[#This Row],[Q.1]]+t_instalado[[#This Row],[Q.2]]+t_instalado[[#This Row],[Q.3]]","v":0},{"$f":"t_instalado[[#This Row],[Q.1]]+t_instalado[[#This Row],[Q.2]]+t_instalado[[#This Row],[Q.3]]","v":0},{"$f":"IF(t_instalado[[#This Row],[Q.1]]<>\"\",SUMIFS(t_reator[p],t_reator[tipo],t_instalado[[#This Row],[T.1]],t_reator[w],t_instalado[[#This Row],[P.1(W)]]),\"\")","v":""},{"$f":"IF(t_instalado[[#This Row],[Q.2]]<>\"\",SUMIFS(t_reator[p],t_reator[tipo],t_instalado[[#This Row],[T.2]],t_reator[w],t_instalado[[#This Row],[P.2(W)]]),\"\")","v":""},{"$f":"IF(t_instalado[[#This Row],[Q.3]]<>\"\",SUMIFS(t_reator[p],t_reator[tipo],t_instalado[[#This Row],[T.3]],t_reator[w],t_instalado[[#This Row],[P.3(W)]]),\"\")","v":""},{"$f":"IF(t_instalado[[#This Row],[Q.1]]<>\"\",IFERROR(IFERROR(D297*(E297+O297)+G297*(H297+P297)+J297*(K297+Q297),D297*(E297+O297)+G297*(H297+P297)),D297*(E297+O297)),\"\")","v":""},{"$f":"IF(t_instalado[[#This Row],[Consumo_W]]<>\"\",ROUND(t_instalado[[#This Row],[Consumo_W]]/t_instalado[[#This Row],[Luminárias]],0),\"\")","v":""},{"$f":"IF(t_instalado[[#This Row],[Q.1]]<>\"\",SUMIFS(t_fluxo_lumin[fluxo],t_fluxo_lumin[tipo],t_instalado[[#This Row],[T.1]])*t_instalado[[#This Row],[P.1(W)]]*t_instalado[[#This Row],[Q.1]],\"\")","v":""},{"$f":"IF(t_instalado[[#This Row],[Q.2]]<>\"\",SUMIFS(t_fluxo_lumin[fluxo],t_fluxo_lumin[tipo],t_instalado[[#This Row],[T.2]])*t_instalado[[#This Row],[Q.2]]*t_instalado[[#This Row],[P.2(W)]],\"\")","v":""},{"$f":"IF(t_instalado[[#This Row],[Q.3]]<>\"\",SUMIFS(t_fluxo_lumin[fluxo],t_fluxo_lumin[tipo],t_instalado[[#This Row],[T.3]])*t_instalado[[#This Row],[Q.3]]*t_instalado[[#This Row],[P.3(W)]],\"\")","v":""},{"$f":"IF(t_instalado[[#This Row],[Trecho]]<>\"\",SUM(t_instalado[[#This Row],[f.1]:[f.3]]),\"\")","v":""},{"$f":"IF(t_instalado[[#This Row],[Trecho]]<>\"\",t_instalado[[#This Row],[Q.1]]+t_instalado[[#This Row],[Q.2]]+t_instalado[[#This Row],[Q.3]],\"\")","v":""},{"$f":"IF(t_instalado[[#This Row],[FLUXO]]<>\"\",ROUND(t_instalado[[#This Row],[FLUXO]]/t_instalado[[#This Row],[Luminárias]],0),\"\")","v":""},{"$f":"IF(t_instalado[[#This Row],[Luminárias]]<>\"\",ROUND(t_instalado[[#This Row],[lm_médio]]/t_instalado[[#This Row],[W_médio]],2),\"\")","v":""}]
[64,{"$f":"_xlfn.XLOOKUP(t_instalado[[#This Row],[cód.]],t_sitio[cód],t_sitio[Trecho],\"\")","v":""},null,null,null,null,null,null,null,null,null,null,{"$f":"t_instalado[[#This Row],[Q.1]]+t_instalado[[#This Row],[Q.2]]+t_instalado[[#This Row],[Q.3]]","v":0},{"$f":"t_instalado[[#This Row],[Q.1]]+t_instalado[[#This Row],[Q.2]]+t_instalado[[#This Row],[Q.3]]","v":0},{"$f":"IF(t_instalado[[#This Row],[Q.1]]<>\"\",SUMIFS(t_reator[p],t_reator[tipo],t_instalado[[#This Row],[T.1]],t_reator[w],t_instalado[[#This Row],[P.1(W)]]),\"\")","v":""},{"$f":"IF(t_instalado[[#This Row],[Q.2]]<>\"\",SUMIFS(t_reator[p],t_reator[tipo],t_instalado[[#This Row],[T.2]],t_reator[w],t_instalado[[#This Row],[P.2(W)]]),\"\")","v":""},{"$f":"IF(t_instalado[[#This Row],[Q.3]]<>\"\",SUMIFS(t_reator[p],t_reator[tipo],t_instalado[[#This Row],[T.3]],t_reator[w],t_instalado[[#This Row],[P.3(W)]]),\"\")","v":""},{"$f":"IF(t_instalado[[#This Row],[Q.1]]<>\"\",IFERROR(IFERROR(D298*(E298+O298)+G298*(H298+P298)+J298*(K298+Q298),D298*(E298+O298)+G298*(H298+P298)),D298*(E298+O298)),\"\")","v":""},{"$f":"IF(t_instalado[[#This Row],[Consumo_W]]<>\"\",ROUND(t_instalado[[#This Row],[Consumo_W]]/t_instalado[[#This Row],[Luminárias]],0),\"\")","v":""},{"$f":"IF(t_instalado[[#This Row],[Q.1]]<>\"\",SUMIFS(t_fluxo_lumin[fluxo],t_fluxo_lumin[tipo],t_instalado[[#This Row],[T.1]])*t_instalado[[#This Row],[P.1(W)]]*t_instalado[[#This Row],[Q.1]],\"\")","v":""},{"$f":"IF(t_instalado[[#This Row],[Q.2]]<>\"\",SUMIFS(t_fluxo_lumin[fluxo],t_fluxo_lumin[tipo],t_instalado[[#This Row],[T.2]])*t_instalado[[#This Row],[Q.2]]*t_instalado[[#This Row],[P.2(W)]],\"\")","v":""},{"$f":"IF(t_instalado[[#This Row],[Q.3]]<>\"\",SUMIFS(t_fluxo_lumin[fluxo],t_fluxo_lumin[tipo],t_instalado[[#This Row],[T.3]])*t_instalado[[#This Row],[Q.3]]*t_instalado[[#This Row],[P.3(W)]],\"\")","v":""},{"$f":"IF(t_instalado[[#This Row],[Trecho]]<>\"\",SUM(t_instalado[[#This Row],[f.1]:[f.3]]),\"\")","v":""},{"$f":"IF(t_instalado[[#This Row],[Trecho]]<>\"\",t_instalado[[#This Row],[Q.1]]+t_instalado[[#This Row],[Q.2]]+t_instalado[[#This Row],[Q.3]],\"\")","v":""},{"$f":"IF(t_instalado[[#This Row],[FLUXO]]<>\"\",ROUND(t_instalado[[#This Row],[FLUXO]]/t_instalado[[#This Row],[Luminárias]],0),\"\")","v":""},{"$f":"IF(t_instalado[[#This Row],[Luminárias]]<>\"\",ROUND(t_instalado[[#This Row],[lm_médio]]/t_instalado[[#This Row],[W_médio]],2),\"\")","v":""}]
[65,{"$f":"_xlfn.XLOOKUP(t_instalado[[#This Row],[cód.]],t_sitio[cód],t_sitio[Trecho],\"\")","v":""},null,null,null,null,null,null,null,null,null,null,{"$f":"t_instalado[[#This Row],[Q.1]]+t_instalado[[#This Row],[Q.2]]+t_instalado[[#This Row],[Q.3]]","v":0},{"$f":"t_instalado[[#This Row],[Q.1]]+t_instalado[[#This Row],[Q.2]]+t_instalado[[#This Row],[Q.3]]","v":0},{"$f":"IF(t_instalado[[#This Row],[Q.1]]<>\"\",SUMIFS(t_reator[p],t_reator[tipo],t_instalado[[#This Row],[T.1]],t_reator[w],t_instalado[[#This Row],[P.1(W)]]),\"\")","v":""},{"$f":"IF(t_instalado[[#This Row],[Q.2]]<>\"\",SUMIFS(t_reator[p],t_reator[tipo],t_instalado[[#This Row],[T.2]],t_reator[w],t_instalado[[#This Row],[P.2(W)]]),\"\")","v":""},{"$f":"IF(t_instalado[[#This Row],[Q.3]]<>\"\",SUMIFS(t_reator[p],t_reator[tipo],t_instalado[[#This Row],[T.3]],t_reator[w],t_instalado[[#This Row],[P.3(W)]]),\"\")","v":""},{"$f":"IF(t_instalado[[#This Row],[Q.1]]<>\"\",IFERROR(IFERROR(D299*(E299+O299)+G299*(H299+P299)+J299*(K299+Q299),D299*(E299+O299)+G299*(H299+P299)),D299*(E299+O299)),\"\")","v":""},{"$f":"IF(t_instalado[[#This Row],[Consumo_W]]<>\"\",ROUND(t_instalado[[#This Row],[Consumo_W]]/t_instalado[[#This Row],[Luminárias]],0),\"\")","v":""},{"$f":"IF(t_instalado[[#This Row],[Q.1]]<>\"\",SUMIFS(t_fluxo_lumin[fluxo],t_fluxo_lumin[tipo],t_instalado[[#This Row],[T.1]])*t_instalado[[#This Row],[P.1(W)]]*t_instalado[[#This Row],[Q.1]],\"\")","v":""},{"$f":"IF(t_instalado[[#This Row],[Q.2]]<>\"\",SUMIFS(t_fluxo_lumin[fluxo],t_fluxo_lumin[tipo],t_instalado[[#This Row],[T.2]])*t_instalado[[#This Row],[Q.2]]*t_instalado[[#This Row],[P.2(W)]],\"\")","v":""},{"$f":"IF(t_instalado[[#This Row],[Q.3]]<>\"\",SUMIFS(t_fluxo_lumin[fluxo],t_fluxo_lumin[tipo],t_instalado[[#This Row],[T.3]])*t_instalado[[#This Row],[Q.3]]*t_instalado[[#This Row],[P.3(W)]],\"\")","v":""},{"$f":"IF(t_instalado[[#This Row],[Trecho]]<>\"\",SUM(t_instalado[[#This Row],[f.1]:[f.3]]),\"\")","v":""},{"$f":"IF(t_instalado[[#This Row],[Trecho]]<>\"\",t_instalado[[#This Row],[Q.1]]+t_instalado[[#This Row],[Q.2]]+t_instalado[[#This Row],[Q.3]],\"\")","v":""},{"$f":"IF(t_instalado[[#This Row],[FLUXO]]<>\"\",ROUND(t_instalado[[#This Row],[FLUXO]]/t_instalado[[#This Row],[Luminárias]],0),\"\")","v":""},{"$f":"IF(t_instalado[[#This Row],[Luminárias]]<>\"\",ROUND(t_instalado[[#This Row],[lm_médio]]/t_instalado[[#This Row],[W_médio]],2),\"\")","v":""}]
[66,{"$f":"_xlfn.XLOOKUP(t_instalado[[#This Row],[cód.]],t_sitio[cód],t_sitio[Trecho],\"\")","v":""},null,null,null,null,null,null,null,null,null,null,{"$f":"t_instalado[[#This Row],[Q.1]]+t_instalado[[#This Row],[Q.2]]+t_instalado[[#This Row],[Q.3]]","v":0},{"$f":"t_instalado[[#This Row],[Q.1]]+t_instalado[[#This Row],[Q.2]]+t_instalado[[#This Row],[Q.3]]","v":0},{"$f":"IF(t_instalado[[#This Row],[Q.1]]<>\"\",SUMIFS(t_reator[p],t_reator[tipo],t_instalado[[#This Row],[T.1]],t_reator[w],t_instalado[[#This Row],[P.1(W)]]),\"\")","v":""},{"$f":"IF(t_instalado[[#This Row],[Q.2]]<>\"\",SUMIFS(t_reator[p],t_reator[tipo],t_instalado[[#This Row],[T.2]],t_reator[w],t_instalado[[#This Row],[P.2(W)]]),\"\")","v":""},{"$f":"IF(t_instalado[[#This Row],[Q.3]]<>\"\",SUMIFS(t_reator[p],t_reator[tipo],t_instalado[[#This Row],[T.3]],t_reator[w],t_instalado[[#This Row],[P.3(W)]]),\"\")","v":""},{"$f":"IF(t_instalado[[#This Row],[Q.1]]<>\"\",IFERROR(IFERROR(D300*(E300+O300)+G300*(H300+P300)+J300*(K300+Q300),D300*(E300+O300)+G300*(H300+P300)),D300*(E300+O300)),\"\")","v":""},{"$f":"IF(t_instalado[[#This Row],[Consumo_W]]<>\"\",ROUND(t_instalado[[#This Row],[Consumo_W]]/t_instalado[[#This Row],[Luminárias]],0),\"\")","v":""},{"$f":"IF(t_instalado[[#This Row],[Q.1]]<>\"\",SUMIFS(t_fluxo_lumin[fluxo],t_fluxo_lumin[tipo],t_instalado[[#This Row],[T.1]])*t_instalado[[#This Row],[P.1(W)]]*t_instalado[[#This Row],[Q.1]],\"\")","v":""},{"$f":"IF(t_instalado[[#This Row],[Q.2]]<>\"\",SUMIFS(t_fluxo_lumin[fluxo],t_fluxo_lumin[tipo],t_instalado[[#This Row],[T.2]])*t_instalado[[#This Row],[Q.2]]*t_instalado[[#This Row],[P.2(W)]],\"\")","v":""},{"$f":"IF(t_instalado[[#This Row],[Q.3]]<>\"\",SUMIFS(t_fluxo_lumin[fluxo],t_fluxo_lumin[tipo],t_instalado[[#This Row],[T.3]])*t_instalado[[#This Row],[Q.3]]*t_instalado[[#This Row],[P.3(W)]],\"\")","v":""},{"$f":"IF(t_instalado[[#This Row],[Trecho]]<>\"\",SUM(t_instalado[[#This Row],[f.1]:[f.3]]),\"\")","v":""},{"$f":"IF(t_instalado[[#This Row],[Trecho]]<>\"\",t_instalado[[#This Row],[Q.1]]+t_instalado[[#This Row],[Q.2]]+t_instalado[[#This Row],[Q.3]],\"\")","v":""},{"$f":"IF(t_instalado[[#This Row],[FLUXO]]<>\"\",ROUND(t_instalado[[#This Row],[FLUXO]]/t_instalado[[#This Row],[Luminárias]],0),\"\")","v":""},{"$f":"IF(t_instalado[[#This Row],[Luminárias]]<>\"\",ROUND(t_instalado[[#This Row],[lm_médio]]/t_instalado[[#This Row],[W_médio]],2),\"\")","v":""}]
[67,{"$f":"_xlfn.XLOOKUP(t_instalado[[#This Row],[cód.]],t_sitio[cód],t_sitio[Trecho],\"\")","v":""},null,null,null,null,null,null,null,null,null,null,{"$f":"t_instalado[[#This Row],[Q.1]]+t_instalado[[#This Row],[Q.2]]+t_instalado[[#This Row],[Q.3]]","v":0},{"$f":"t_instalado[[#This Row],[Q.1]]+t_instalado[[#This Row],[Q.2]]+t_instalado[[#This Row],[Q.3]]","v":0},{"$f":"IF(t_instalado[[#This Row],[Q.1]]<>\"\",SUMIFS(t_reator[p],t_reator[tipo],t_instalado[[#This Row],[T.1]],t_reator[w],t_instalado[[#This Row],[P.1(W)]]),\"\")","v":""},{"$f":"IF(t_instalado[[#This Row],[Q.2]]<>\"\",SUMIFS(t_reator[p],t_reator[tipo],t_instalado[[#This Row],[T.2]],t_reator[w],t_instalado[[#This Row],[P.2(W)]]),\"\")","v":""},{"$f":"IF(t_instalado[[#This Row],[Q.3]]<>\"\",SUMIFS(t_reator[p],t_reator[tipo],t_instalado[[#This Row],[T.3]],t_reator[w],t_instalado[[#This Row],[P.3(W)]]),\"\")","v":""},{"$f":"IF(t_instalado[[#This Row],[Q.1]]<>\"\",IFERROR(IFERROR(D301*(E301+O301)+G301*(H301+P301)+J301*(K301+Q301),D301*(E301+O301)+G301*(H301+P301)),D301*(E301+O301)),\"\")","v":""},{"$f":"IF(t_instalado[[#This Row],[Consumo_W]]<>\"\",ROUND(t_instalado[[#This Row],[Consumo_W]]/t_instalado[[#This Row],[Luminárias]],0),\"\")","v":""},{"$f":"IF(t_instalado[[#This Row],[Q.1]]<>\"\",SUMIFS(t_fluxo_lumin[fluxo],t_fluxo_lumin[tipo],t_instalado[[#This Row],[T.1]])*t_instalado[[#This Row],[P.1(W)]]*t_instalado[[#This Row],[Q.1]],\"\")","v":""},{"$f":"IF(t_instalado[[#This Row],[Q.2]]<>\"\",SUMIFS(t_fluxo_lumin[fluxo],t_fluxo_lumin[tipo],t_instalado[[#This Row],[T.2]])*t_instalado[[#This Row],[Q.2]]*t_instalado[[#This Row],[P.2(W)]],\"\")","v":""},{"$f":"IF(t_instalado[[#This Row],[Q.3]]<>\"\",SUMIFS(t_fluxo_lumin[fluxo],t_fluxo_lumin[tipo],t_instalado[[#This Row],[T.3]])*t_instalado[[#This Row],[Q.3]]*t_instalado[[#This Row],[P.3(W)]],\"\")","v":""},{"$f":"IF(t_instalado[[#This Row],[Trecho]]<>\"\",SUM(t_instalado[[#This Row],[f.1]:[f.3]]),\"\")","v":""},{"$f":"IF(t_instalado[[#This Row],[Trecho]]<>\"\",t_instalado[[#This Row],[Q.1]]+t_instalado[[#This Row],[Q.2]]+t_instalado[[#This Row],[Q.3]],\"\")","v":""},{"$f":"IF(t_instalado[[#This Row],[FLUXO]]<>\"\",ROUND(t_instalado[[#This Row],[FLUXO]]/t_instalado[[#This Row],[Luminárias]],0),\"\")","v":""},{"$f":"IF(t_instalado[[#This Row],[Luminárias]]<>\"\",ROUND(t_instalado[[#This Row],[lm_médio]]/t_instalado[[#This Row],[W_médio]],2),\"\")","v":""}]
[68,{"$f":"_xlfn.XLOOKUP(t_instalado[[#This Row],[cód.]],t_sitio[cód],t_sitio[Trecho],\"\")","v":""},null,null,null,null,null,null,null,null,null,null,{"$f":"t_instalado[[#This Row],[Q.1]]+t_instalado[[#This Row],[Q.2]]+t_instalado[[#This Row],[Q.3]]","v":0},{"$f":"t_instalado[[#This Row],[Q.1]]+t_instalado[[#This Row],[Q.2]]+t_instalado[[#This Row],[Q.3]]","v":0},{"$f":"IF(t_instalado[[#This Row],[Q.1]]<>\"\",SUMIFS(t_reator[p],t_reator[tipo],t_instalado[[#This Row],[T.1]],t_reator[w],t_instalado[[#This Row],[P.1(W)]]),\"\")","v":""},{"$f":"IF(t_instalado[[#This Row],[Q.2]]<>\"\",SUMIFS(t_reator[p],t_reator[tipo],t_instalado[[#This Row],[T.2]],t_reator[w],t_instalado[[#This Row],[P.2(W)]]),\"\")","v":""},{"$f":"IF(t_instalado[[#This Row],[Q.3]]<>\"\",SUMIFS(t_reator[p],t_reator[tipo],t_instalado[[#This Row],[T.3]],t_reator[w],t_instalado[[#This Row],[P.3(W)]]),\"\")","v":""},{"$f":"IF(t_instalado[[#This Row],[Q.1]]<>\"\",IFERROR(IFERROR(D302*(E302+O302)+G302*(H302+P302)+J302*(K302+Q302),D302*(E302+O302)+G302*(H302+P302)),D302*(E302+O302)),\"\")","v":""},{"$f":"IF(t_instalado[[#This Row],[Consumo_W]]<>\"\",ROUND(t_instalado[[#This Row],[Consumo_W]]/t_instalado[[#This Row],[Luminárias]],0),\"\")","v":""},{"$f":"IF(t_instalado[[#This Row],[Q.1]]<>\"\",SUMIFS(t_fluxo_lumin[fluxo],t_fluxo_lumin[tipo],t_instalado[[#This Row],[T.1]])*t_instalado[[#This Row],[P.1(W)]]*t_instalado[[#This Row],[Q.1]],\"\")","v":""},{"$f":"IF(t_instalado[[#This Row],[Q.2]]<>\"\",SUMIFS(t_fluxo_lumin[fluxo],t_fluxo_lumin[tipo],t_instalado[[#This Row],[T.2]])*t_instalado[[#This Row],[Q.2]]*t_instalado[[#This Row],[P.2(W)]],\"\")","v":""},{"$f":"IF(t_instalado[[#This Row],[Q.3]]<>\"\",SUMIFS(t_fluxo_lumin[fluxo],t_fluxo_lumin[tipo],t_instalado[[#This Row],[T.3]])*t_instalado[[#This Row],[Q.3]]*t_instalado[[#This Row],[P.3(W)]],\"\")","v":""},{"$f":"IF(t_instalado[[#This Row],[Trecho]]<>\"\",SUM(t_instalado[[#This Row],[f.1]:[f.3]]),\"\")","v":""},{"$f":"IF(t_instalado[[#This Row],[Trecho]]<>\"\",t_instalado[[#This Row],[Q.1]]+t_instalado[[#This Row],[Q.2]]+t_instalado[[#This Row],[Q.3]],\"\")","v":""},{"$f":"IF(t_instalado[[#This Row],[FLUXO]]<>\"\",ROUND(t_instalado[[#This Row],[FLUXO]]/t_instalado[[#This Row],[Luminárias]],0),\"\")","v":""},{"$f":"IF(t_instalado[[#This Row],[Luminárias]]<>\"\",ROUND(t_instalado[[#This Row],[lm_médio]]/t_instalado[[#This Row],[W_médio]],2),\"\")","v":""}]
[69,{"$f":"_xlfn.XLOOKUP(t_instalado[[#This Row],[cód.]],t_sitio[cód],t_sitio[Trecho],\"\")","v":""},null,null,null,null,null,null,null,null,null,null,{"$f":"t_instalado[[#This Row],[Q.1]]+t_instalado[[#This Row],[Q.2]]+t_instalado[[#This Row],[Q.3]]","v":0},{"$f":"t_instalado[[#This Row],[Q.1]]+t_instalado[[#This Row],[Q.2]]+t_instalado[[#This Row],[Q.3]]","v":0},{"$f":"IF(t_instalado[[#This Row],[Q.1]]<>\"\",SUMIFS(t_reator[p],t_reator[tipo],t_instalado[[#This Row],[T.1]],t_reator[w],t_instalado[[#This Row],[P.1(W)]]),\"\")","v":""},{"$f":"IF(t_instalado[[#This Row],[Q.2]]<>\"\",SUMIFS(t_reator[p],t_reator[tipo],t_instalado[[#This Row],[T.2]],t_reator[w],t_instalado[[#This Row],[P.2(W)]]),\"\")","v":""},{"$f":"IF(t_instalado[[#This Row],[Q.3]]<>\"\",SUMIFS(t_reator[p],t_reator[tipo],t_instalado[[#This Row],[T.3]],t_reator[w],t_instalado[[#This Row],[P.3(W)]]),\"\")","v":""},{"$f":"IF(t_instalado[[#This Row],[Q.1]]<>\"\",IFERROR(IFERROR(D303*(E303+O303)+G303*(H303+P303)+J303*(K303+Q303),D303*(E303+O303)+G303*(H303+P303)),D303*(E303+O303)),\"\")","v":""},{"$f":"IF(t_instalado[[#This Row],[Consumo_W]]<>\"\",ROUND(t_instalado[[#This Row],[Consumo_W]]/t_instalado[[#This Row],[Luminárias]],0),\"\")","v":""},{"$f":"IF(t_instalado[[#This Row],[Q.1]]<>\"\",SUMIFS(t_fluxo_lumin[fluxo],t_fluxo_lumin[tipo],t_instalado[[#This Row],[T.1]])*t_instalado[[#This Row],[P.1(W)]]*t_instalado[[#This Row],[Q.1]],\"\")","v":""},{"$f":"IF(t_instalado[[#This Row],[Q.2]]<>\"\",SUMIFS(t_fluxo_lumin[fluxo],t_fluxo_lumin[tipo],t_instalado[[#This Row],[T.2]])*t_instalado[[#This Row],[Q.2]]*t_instalado[[#This Row],[P.2(W)]],\"\")","v":""},{"$f":"IF(t_instalado[[#This Row],[Q.3]]<>\"\",SUMIFS(t_fluxo_lumin[fluxo],t_fluxo_lumin[tipo],t_instalado[[#This Row],[T.3]])*t_instalado[[#This Row],[Q.3]]*t_instalado[[#This Row],[P.3(W)]],\"\")","v":""},{"$f":"IF(t_instalado[[#This Row],[Trecho]]<>\"\",SUM(t_instalado[[#This Row],[f.1]:[f.3]]),\"\")","v":""},{"$f":"IF(t_instalado[[#This Row],[Trecho]]<>\"\",t_instalado[[#This Row],[Q.1]]+t_instalado[[#This Row],[Q.2]]+t_instalado[[#This Row],[Q.3]],\"\")","v":""},{"$f":"IF(t_instalado[[#This Row],[FLUXO]]<>\"\",ROUND(t_instalado[[#This Row],[FLUXO]]/t_instalado[[#This Row],[Luminárias]],0),\"\")","v":""},{"$f":"IF(t_instalado[[#This Row],[Luminárias]]<>\"\",ROUND(t_instalado[[#This Row],[lm_médio]]/t_instalado[[#This Row],[W_médio]],2),\"\")","v":""}]
[70,{"$f":"_xlfn.XLOOKUP(t_instalado[[#This Row],[cód.]],t_sitio[cód],t_sitio[Trecho],\"\")","v":""},null,null,null,null,null,null,null,null,null,null,{"$f":"t_instalado[[#This Row],[Q.1]]+t_instalado[[#This Row],[Q.2]]+t_instalado[[#This Row],[Q.3]]","v":0},{"$f":"t_instalado[[#This Row],[Q.1]]+t_instalado[[#This Row],[Q.2]]+t_instalado[[#This Row],[Q.3]]","v":0},{"$f":"IF(t_instalado[[#This Row],[Q.1]]<>\"\",SUMIFS(t_reator[p],t_reator[tipo],t_instalado[[#This Row],[T.1]],t_reator[w],t_instalado[[#This Row],[P.1(W)]]),\"\")","v":""},{"$f":"IF(t_instalado[[#This Row],[Q.2]]<>\"\",SUMIFS(t_reator[p],t_reator[tipo],t_instalado[[#This Row],[T.2]],t_reator[w],t_instalado[[#This Row],[P.2(W)]]),\"\")","v":""},{"$f":"IF(t_instalado[[#This Row],[Q.3]]<>\"\",SUMIFS(t_reator[p],t_reator[tipo],t_instalado[[#This Row],[T.3]],t_reator[w],t_instalado[[#This Row],[P.3(W)]]),\"\")","v":""},{"$f":"IF(t_instalado[[#This Row],[Q.1]]<>\"\",IFERROR(IFERROR(D304*(E304+O304)+G304*(H304+P304)+J304*(K304+Q304),D304*(E304+O304)+G304*(H304+P304)),D304*(E304+O304)),\"\")","v":""},{"$f":"IF(t_instalado[[#This Row],[Consumo_W]]<>\"\",ROUND(t_instalado[[#This Row],[Consumo_W]]/t_instalado[[#This Row],[Luminárias]],0),\"\")","v":""},{"$f":"IF(t_instalado[[#This Row],[Q.1]]<>\"\",SUMIFS(t_fluxo_lumin[fluxo],t_fluxo_lumin[tipo],t_instalado[[#This Row],[T.1]])*t_instalado[[#This Row],[P.1(W)]]*t_instalado[[#This Row],[Q.1]],\"\")","v":""},{"$f":"IF(t_instalado[[#This Row],[Q.2]]<>\"\",SUMIFS(t_fluxo_lumin[fluxo],t_fluxo_lumin[tipo],t_instalado[[#This Row],[T.2]])*t_instalado[[#This Row],[Q.2]]*t_instalado[[#This Row],[P.2(W)]],\"\")","v":""},{"$f":"IF(t_instalado[[#This Row],[Q.3]]<>\"\",SUMIFS(t_fluxo_lumin[fluxo],t_fluxo_lumin[tipo],t_instalado[[#This Row],[T.3]])*t_instalado[[#This Row],[Q.3]]*t_instalado[[#This Row],[P.3(W)]],\"\")","v":""},{"$f":"IF(t_instalado[[#This Row],[Trecho]]<>\"\",SUM(t_instalado[[#This Row],[f.1]:[f.3]]),\"\")","v":""},{"$f":"IF(t_instalado[[#This Row],[Trecho]]<>\"\",t_instalado[[#This Row],[Q.1]]+t_instalado[[#This Row],[Q.2]]+t_instalado[[#This Row],[Q.3]],\"\")","v":""},{"$f":"IF(t_instalado[[#This Row],[FLUXO]]<>\"\",ROUND(t_instalado[[#This Row],[FLUXO]]/t_instalado[[#This Row],[Luminárias]],0),\"\")","v":""},{"$f":"IF(t_instalado[[#This Row],[Luminárias]]<>\"\",ROUND(t_instalado[[#This Row],[lm_médio]]/t_instalado[[#This Row],[W_médio]],2),\"\")","v":""}]
[71,{"$f":"_xlfn.XLOOKUP(t_instalado[[#This Row],[cód.]],t_sitio[cód],t_sitio[Trecho],\"\")","v":""},null,null,null,null,null,null,null,null,null,null,{"$f":"t_instalado[[#This Row],[Q.1]]+t_instalado[[#This Row],[Q.2]]+t_instalado[[#This Row],[Q.3]]","v":0},{"$f":"t_instalado[[#This Row],[Q.1]]+t_instalado[[#This Row],[Q.2]]+t_instalado[[#This Row],[Q.3]]","v":0},{"$f":"IF(t_instalado[[#This Row],[Q.1]]<>\"\",SUMIFS(t_reator[p],t_reator[tipo],t_instalado[[#This Row],[T.1]],t_reator[w],t_instalado[[#This Row],[P.1(W)]]),\"\")","v":""},{"$f":"IF(t_instalado[[#This Row],[Q.2]]<>\"\",SUMIFS(t_reator[p],t_reator[tipo],t_instalado[[#This Row],[T.2]],t_reator[w],t_instalado[[#This Row],[P.2(W)]]),\"\")","v":""},{"$f":"IF(t_instalado[[#This Row],[Q.3]]<>\"\",SUMIFS(t_reator[p],t_reator[tipo],t_instalado[[#This Row],[T.3]],t_reator[w],t_instalado[[#This Row],[P.3(W)]]),\"\")","v":""},{"$f":"IF(t_instalado[[#This Row],[Q.1]]<>\"\",IFERROR(IFERROR(D305*(E305+O305)+G305*(H305+P305)+J305*(K305+Q305),D305*(E305+O305)+G305*(H305+P305)),D305*(E305+O305)),\"\")","v":""},{"$f":"IF(t_instalado[[#This Row],[Consumo_W]]<>\"\",ROUND(t_instalado[[#This Row],[Consumo_W]]/t_instalado[[#This Row],[Luminárias]],0),\"\")","v":""},{"$f":"IF(t_instalado[[#This Row],[Q.1]]<>\"\",SUMIFS(t_fluxo_lumin[fluxo],t_fluxo_lumin[tipo],t_instalado[[#This Row],[T.1]])*t_instalado[[#This Row],[P.1(W)]]*t_instalado[[#This Row],[Q.1]],\"\")","v":""},{"$f":"IF(t_instalado[[#This Row],[Q.2]]<>\"\",SUMIFS(t_fluxo_lumin[fluxo],t_fluxo_lumin[tipo],t_instalado[[#This Row],[T.2]])*t_instalado[[#This Row],[Q.2]]*t_instalado[[#This Row],[P.2(W)]],\"\")","v":""},{"$f":"IF(t_instalado[[#This Row],[Q.3]]<>\"\",SUMIFS(t_fluxo_lumin[fluxo],t_fluxo_lumin[tipo],t_instalado[[#This Row],[T.3]])*t_instalado[[#This Row],[Q.3]]*t_instalado[[#This Row],[P.3(W)]],\"\")","v":""},{"$f":"IF(t_instalado[[#This Row],[Trecho]]<>\"\",SUM(t_instalado[[#This Row],[f.1]:[f.3]]),\"\")","v":""},{"$f":"IF(t_instalado[[#This Row],[Trecho]]<>\"\",t_instalado[[#This Row],[Q.1]]+t_instalado[[#This Row],[Q.2]]+t_instalado[[#This Row],[Q.3]],\"\")","v":""},{"$f":"IF(t_instalado[[#This Row],[FLUXO]]<>\"\",ROUND(t_instalado[[#This Row],[FLUXO]]/t_instalado[[#This Row],[Luminárias]],0),\"\")","v":""},{"$f":"IF(t_instalado[[#This Row],[Luminárias]]<>\"\",ROUND(t_instalado[[#This Row],[lm_médio]]/t_instalado[[#This Row],[W_médio]],2),\"\")","v":""}]
[72,{"$f":"_xlfn.XLOOKUP(t_instalado[[#This Row],[cód.]],t_sitio[cód],t_sitio[Trecho],\"\")","v":""},null,null,null,null,null,null,null,null,null,null,{"$f":"t_instalado[[#This Row],[Q.1]]+t_instalado[[#This Row],[Q.2]]+t_instalado[[#This Row],[Q.3]]","v":0},{"$f":"t_instalado[[#This Row],[Q.1]]+t_instalado[[#This Row],[Q.2]]+t_instalado[[#This Row],[Q.3]]","v":0},{"$f":"IF(t_instalado[[#This Row],[Q.1]]<>\"\",SUMIFS(t_reator[p],t_reator[tipo],t_instalado[[#This Row],[T.1]],t_reator[w],t_instalado[[#This Row],[P.1(W)]]),\"\")","v":""},{"$f":"IF(t_instalado[[#This Row],[Q.2]]<>\"\",SUMIFS(t_reator[p],t_reator[tipo],t_instalado[[#This Row],[T.2]],t_reator[w],t_instalado[[#This Row],[P.2(W)]]),\"\")","v":""},{"$f":"IF(t_instalado[[#This Row],[Q.3]]<>\"\",SUMIFS(t_reator[p],t_reator[tipo],t_instalado[[#This Row],[T.3]],t_reator[w],t_instalado[[#This Row],[P.3(W)]]),\"\")","v":""},{"$f":"IF(t_instalado[[#This Row],[Q.1]]<>\"\",IFERROR(IFERROR(D306*(E306+O306)+G306*(H306+P306)+J306*(K306+Q306),D306*(E306+O306)+G306*(H306+P306)),D306*(E306+O306)),\"\")","v":""},{"$f":"IF(t_instalado[[#This Row],[Consumo_W]]<>\"\",ROUND(t_instalado[[#This Row],[Consumo_W]]/t_instalado[[#This Row],[Luminárias]],0),\"\")","v":""},{"$f":"IF(t_instalado[[#This Row],[Q.1]]<>\"\",SUMIFS(t_fluxo_lumin[fluxo],t_fluxo_lumin[tipo],t_instalado[[#This Row],[T.1]])*t_instalado[[#This Row],[P.1(W)]]*t_instalado[[#This Row],[Q.1]],\"\")","v":""},{"$f":"IF(t_instalado[[#This Row],[Q.2]]<>\"\",SUMIFS(t_fluxo_lumin[fluxo],t_fluxo_lumin[tipo],t_instalado[[#This Row],[T.2]])*t_instalado[[#This Row],[Q.2]]*t_instalado[[#This Row],[P.2(W)]],\"\")","v":""},{"$f":"IF(t_instalado[[#This Row],[Q.3]]<>\"\",SUMIFS(t_fluxo_lumin[fluxo],t_fluxo_lumin[tipo],t_instalado[[#This Row],[T.3]])*t_instalado[[#This Row],[Q.3]]*t_instalado[[#This Row],[P.3(W)]],\"\")","v":""},{"$f":"IF(t_instalado[[#This Row],[Trecho]]<>\"\",SUM(t_instalado[[#This Row],[f.1]:[f.3]]),\"\")","v":""},{"$f":"IF(t_instalado[[#This Row],[Trecho]]<>\"\",t_instalado[[#This Row],[Q.1]]+t_instalado[[#This Row],[Q.2]]+t_instalado[[#This Row],[Q.3]],\"\")","v":""},{"$f":"IF(t_instalado[[#This Row],[FLUXO]]<>\"\",ROUND(t_instalado[[#This Row],[FLUXO]]/t_instalado[[#This Row],[Luminárias]],0),\"\")","v":""},{"$f":"IF(t_instalado[[#This Row],[Luminárias]]<>\"\",ROUND(t_instalado[[#This Row],[lm_médio]]/t_instalado[[#This Row],[W_médio]],2),\"\")","v":""}]
[73,{"$f":"_xlfn.XLOOKUP(t_instalado[[#This Row],[cód.]],t_sitio[cód],t_sitio[Trecho],\"\")","v":""},null,null,null,null,null,null,null,null,null,null,{"$f":"t_instalado[[#This Row],[Q.1]]+t_instalado[[#This Row],[Q.2]]+t_instalado[[#This Row],[Q.3]]","v":0},{"$f":"t_instalado[[#This Row],[Q.1]]+t_instalado[[#This Row],[Q.2]]+t_instalado[[#This Row],[Q.3]]","v":0},{"$f":"IF(t_instalado[[#This Row],[Q.1]]<>\"\",SUMIFS(t_reator[p],t_reator[tipo],t_instalado[[#This Row],[T.1]],t_reator[w],t_instalado[[#This Row],[P.1(W)]]),\"\")","v":""},{"$f":"IF(t_instalado[[#This Row],[Q.2]]<>\"\",SUMIFS(t_reator[p],t_reator[tipo],t_instalado[[#This Row],[T.2]],t_reator[w],t_instalado[[#This Row],[P.2(W)]]),\"\")","v":""},{"$f":"IF(t_instalado[[#This Row],[Q.3]]<>\"\",SUMIFS(t_reator[p],t_reator[tipo],t_instalado[[#This Row],[T.3]],t_reator[w],t_instalado[[#This Row],[P.3(W)]]),\"\")","v":""},{"$f":"IF(t_instalado[[#This Row],[Q.1]]<>\"\",IFERROR(IFERROR(D307*(E307+O307)+G307*(H307+P307)+J307*(K307+Q307),D307*(E307+O307)+G307*(H307+P307)),D307*(E307+O307)),\"\")","v":""},{"$f":"IF(t_instalado[[#This Row],[Consumo_W]]<>\"\",ROUND(t_instalado[[#This Row],[Consumo_W]]/t_instalado[[#This Row],[Luminárias]],0),\"\")","v":""},{"$f":"IF(t_instalado[[#This Row],[Q.1]]<>\"\",SUMIFS(t_fluxo_lumin[fluxo],t_fluxo_lumin[tipo],t_instalado[[#This Row],[T.1]])*t_instalado[[#This Row],[P.1(W)]]*t_instalado[[#This Row],[Q.1]],\"\")","v":""},{"$f":"IF(t_instalado[[#This Row],[Q.2]]<>\"\",SUMIFS(t_fluxo_lumin[fluxo],t_fluxo_lumin[tipo],t_instalado[[#This Row],[T.2]])*t_instalado[[#This Row],[Q.2]]*t_instalado[[#This Row],[P.2(W)]],\"\")","v":""},{"$f":"IF(t_instalado[[#This Row],[Q.3]]<>\"\",SUMIFS(t_fluxo_lumin[fluxo],t_fluxo_lumin[tipo],t_instalado[[#This Row],[T.3]])*t_instalado[[#This Row],[Q.3]]*t_instalado[[#This Row],[P.3(W)]],\"\")","v":""},{"$f":"IF(t_instalado[[#This Row],[Trecho]]<>\"\",SUM(t_instalado[[#This Row],[f.1]:[f.3]]),\"\")","v":""},{"$f":"IF(t_instalado[[#This Row],[Trecho]]<>\"\",t_instalado[[#This Row],[Q.1]]+t_instalado[[#This Row],[Q.2]]+t_instalado[[#This Row],[Q.3]],\"\")","v":""},{"$f":"IF(t_instalado[[#This Row],[FLUXO]]<>\"\",ROUND(t_instalado[[#This Row],[FLUXO]]/t_instalado[[#This Row],[Luminárias]],0),\"\")","v":""},{"$f":"IF(t_instalado[[#This Row],[Luminárias]]<>\"\",ROUND(t_instalado[[#This Row],[lm_médio]]/t_instalado[[#This Row],[W_médio]],2),\"\")","v":""}]
[74,{"$f":"_xlfn.XLOOKUP(t_instalado[[#This Row],[cód.]],t_sitio[cód],t_sitio[Trecho],\"\")","v":""},null,null,null,null,null,null,null,null,null,null,{"$f":"t_instalado[[#This Row],[Q.1]]+t_instalado[[#This Row],[Q.2]]+t_instalado[[#This Row],[Q.3]]","v":0},{"$f":"t_instalado[[#This Row],[Q.1]]+t_instalado[[#This Row],[Q.2]]+t_instalado[[#This Row],[Q.3]]","v":0},{"$f":"IF(t_instalado[[#This Row],[Q.1]]<>\"\",SUMIFS(t_reator[p],t_reator[tipo],t_instalado[[#This Row],[T.1]],t_reator[w],t_instalado[[#This Row],[P.1(W)]]),\"\")","v":""},{"$f":"IF(t_instalado[[#This Row],[Q.2]]<>\"\",SUMIFS(t_reator[p],t_reator[tipo],t_instalado[[#This Row],[T.2]],t_reator[w],t_instalado[[#This Row],[P.2(W)]]),\"\")","v":""},{"$f":"IF(t_instalado[[#This Row],[Q.3]]<>\"\",SUMIFS(t_reator[p],t_reator[tipo],t_instalado[[#This Row],[T.3]],t_reator[w],t_instalado[[#This Row],[P.3(W)]]),\"\")","v":""},{"$f":"IF(t_instalado[[#This Row],[Q.1]]<>\"\",IFERROR(IFERROR(D308*(E308+O308)+G308*(H308+P308)+J308*(K308+Q308),D308*(E308+O308)+G308*(H308+P308)),D308*(E308+O308)),\"\")","v":""},{"$f":"IF(t_instalado[[#This Row],[Consumo_W]]<>\"\",ROUND(t_instalado[[#This Row],[Consumo_W]]/t_instalado[[#This Row],[Luminárias]],0),\"\")","v":""},{"$f":"IF(t_instalado[[#This Row],[Q.1]]<>\"\",SUMIFS(t_fluxo_lumin[fluxo],t_fluxo_lumin[tipo],t_instalado[[#This Row],[T.1]])*t_instalado[[#This Row],[P.1(W)]]*t_instalado[[#This Row],[Q.1]],\"\")","v":""},{"$f":"IF(t_instalado[[#This Row],[Q.2]]<>\"\",SUMIFS(t_fluxo_lumin[fluxo],t_fluxo_lumin[tipo],t_instalado[[#This Row],[T.2]])*t_instalado[[#This Row],[Q.2]]*t_instalado[[#This Row],[P.2(W)]],\"\")","v":""},{"$f":"IF(t_instalado[[#This Row],[Q.3]]<>\"\",SUMIFS(t_fluxo_lumin[fluxo],t_fluxo_lumin[tipo],t_instalado[[#This Row],[T.3]])*t_instalado[[#This Row],[Q.3]]*t_instalado[[#This Row],[P.3(W)]],\"\")","v":""},{"$f":"IF(t_instalado[[#This Row],[Trecho]]<>\"\",SUM(t_instalado[[#This Row],[f.1]:[f.3]]),\"\")","v":""},{"$f":"IF(t_instalado[[#This Row],[Trecho]]<>\"\",t_instalado[[#This Row],[Q.1]]+t_instalado[[#This Row],[Q.2]]+t_instalado[[#This Row],[Q.3]],\"\")","v":""},{"$f":"IF(t_instalado[[#This Row],[FLUXO]]<>\"\",ROUND(t_instalado[[#This Row],[FLUXO]]/t_instalado[[#This Row],[Luminárias]],0),\"\")","v":""},{"$f":"IF(t_instalado[[#This Row],[Luminárias]]<>\"\",ROUND(t_instalado[[#This Row],[lm_médio]]/t_instalado[[#This Row],[W_médio]],2),\"\")","v":""}]
[75,{"$f":"_xlfn.XLOOKUP(t_instalado[[#This Row],[cód.]],t_sitio[cód],t_sitio[Trecho],\"\")","v":""},null,null,null,null,null,null,null,null,null,null,{"$f":"t_instalado[[#This Row],[Q.1]]+t_instalado[[#This Row],[Q.2]]+t_instalado[[#This Row],[Q.3]]","v":0},{"$f":"t_instalado[[#This Row],[Q.1]]+t_instalado[[#This Row],[Q.2]]+t_instalado[[#This Row],[Q.3]]","v":0},{"$f":"IF(t_instalado[[#This Row],[Q.1]]<>\"\",SUMIFS(t_reator[p],t_reator[tipo],t_instalado[[#This Row],[T.1]],t_reator[w],t_instalado[[#This Row],[P.1(W)]]),\"\")","v":""},{"$f":"IF(t_instalado[[#This Row],[Q.2]]<>\"\",SUMIFS(t_reator[p],t_reator[tipo],t_instalado[[#This Row],[T.2]],t_reator[w],t_instalado[[#This Row],[P.2(W)]]),\"\")","v":""},{"$f":"IF(t_instalado[[#This Row],[Q.3]]<>\"\",SUMIFS(t_reator[p],t_reator[tipo],t_instalado[[#This Row],[T.3]],t_reator[w],t_instalado[[#This Row],[P.3(W)]]),\"\")","v":""},{"$f":"IF(t_instalado[[#This Row],[Q.1]]<>\"\",IFERROR(IFERROR(D309*(E309+O309)+G309*(H309+P309)+J309*(K309+Q309),D309*(E309+O309)+G309*(H309+P309)),D309*(E309+O309)),\"\")","v":""},{"$f":"IF(t_instalado[[#This Row],[Consumo_W]]<>\"\",ROUND(t_instalado[[#This Row],[Consumo_W]]/t_instalado[[#This Row],[Luminárias]],0),\"\")","v":""},{"$f":"IF(t_instalado[[#This Row],[Q.1]]<>\"\",SUMIFS(t_fluxo_lumin[fluxo],t_fluxo_lumin[tipo],t_instalado[[#This Row],[T.1]])*t_instalado[[#This Row],[P.1(W)]]*t_instalado[[#This Row],[Q.1]],\"\")","v":""},{"$f":"IF(t_instalado[[#This Row],[Q.2]]<>\"\",SUMIFS(t_fluxo_lumin[fluxo],t_fluxo_lumin[tipo],t_instalado[[#This Row],[T.2]])*t_instalado[[#This Row],[Q.2]]*t_instalado[[#This Row],[P.2(W)]],\"\")","v":""},{"$f":"IF(t_instalado[[#This Row],[Q.3]]<>\"\",SUMIFS(t_fluxo_lumin[fluxo],t_fluxo_lumin[tipo],t_instalado[[#This Row],[T.3]])*t_instalado[[#This Row],[Q.3]]*t_instalado[[#This Row],[P.3(W)]],\"\")","v":""},{"$f":"IF(t_instalado[[#This Row],[Trecho]]<>\"\",SUM(t_instalado[[#This Row],[f.1]:[f.3]]),\"\")","v":""},{"$f":"IF(t_instalado[[#This Row],[Trecho]]<>\"\",t_instalado[[#This Row],[Q.1]]+t_instalado[[#This Row],[Q.2]]+t_instalado[[#This Row],[Q.3]],\"\")","v":""},{"$f":"IF(t_instalado[[#This Row],[FLUXO]]<>\"\",ROUND(t_instalado[[#This Row],[FLUXO]]/t_instalado[[#This Row],[Luminárias]],0),\"\")","v":""},{"$f":"IF(t_instalado[[#This Row],[Luminárias]]<>\"\",ROUND(t_instalado[[#This Row],[lm_médio]]/t_instalado[[#This Row],[W_médio]],2),\"\")","v":""}]
[76,{"$f":"_xlfn.XLOOKUP(t_instalado[[#This Row],[cód.]],t_sitio[cód],t_sitio[Trecho],\"\")","v":""},null,null,null,null,null,null,null,null,null,null,{"$f":"t_instalado[[#This Row],[Q.1]]+t_instalado[[#This Row],[Q.2]]+t_instalado[[#This Row],[Q.3]]","v":0},{"$f":"t_instalado[[#This Row],[Q.1]]+t_instalado[[#This Row],[Q.2]]+t_instalado[[#This Row],[Q.3]]","v":0},{"$f":"IF(t_instalado[[#This Row],[Q.1]]<>\"\",SUMIFS(t_reator[p],t_reator[tipo],t_instalado[[#This Row],[T.1]],t_reator[w],t_instalado[[#This Row],[P.1(W)]]),\"\")","v":""},{"$f":"IF(t_instalado[[#This Row],[Q.2]]<>\"\",SUMIFS(t_reator[p],t_reator[tipo],t_instalado[[#This Row],[T.2]],t_reator[w],t_instalado[[#This Row],[P.2(W)]]),\"\")","v":""},{"$f":"IF(t_instalado[[#This Row],[Q.3]]<>\"\",SUMIFS(t_reator[p],t_reator[tipo],t_instalado[[#This Row],[T.3]],t_reator[w],t_instalado[[#This Row],[P.3(W)]]),\"\")","v":""},{"$f":"IF(t_instalado[[#This Row],[Q.1]]<>\"\",IFERROR(IFERROR(D310*(E310+O310)+G310*(H310+P310)+J310*(K310+Q310),D310*(E310+O310)+G310*(H310+P310)),D310*(E310+O310)),\"\")","v":""},{"$f":"IF(t_instalado[[#This Row],[Consumo_W]]<>\"\",ROUND(t_instalado[[#This Row],[Consumo_W]]/t_instalado[[#This Row],[Luminárias]],0),\"\")","v":""},{"$f":"IF(t_instalado[[#This Row],[Q.1]]<>\"\",SUMIFS(t_fluxo_lumin[fluxo],t_fluxo_lumin[tipo],t_instalado[[#This Row],[T.1]])*t_instalado[[#This Row],[P.1(W)]]*t_instalado[[#This Row],[Q.1]],\"\")","v":""},{"$f":"IF(t_instalado[[#This Row],[Q.2]]<>\"\",SUMIFS(t_fluxo_lumin[fluxo],t_fluxo_lumin[tipo],t_instalado[[#This Row],[T.2]])*t_instalado[[#This Row],[Q.2]]*t_instalado[[#This Row],[P.2(W)]],\"\")","v":""},{"$f":"IF(t_instalado[[#This Row],[Q.3]]<>\"\",SUMIFS(t_fluxo_lumin[fluxo],t_fluxo_lumin[tipo],t_instalado[[#This Row],[T.3]])*t_instalado[[#This Row],[Q.3]]*t_instalado[[#This Row],[P.3(W)]],\"\")","v":""},{"$f":"IF(t_instalado[[#This Row],[Trecho]]<>\"\",SUM(t_instalado[[#This Row],[f.1]:[f.3]]),\"\")","v":""},{"$f":"IF(t_instalado[[#This Row],[Trecho]]<>\"\",t_instalado[[#This Row],[Q.1]]+t_instalado[[#This Row],[Q.2]]+t_instalado[[#This Row],[Q.3]],\"\")","v":""},{"$f":"IF(t_instalado[[#This Row],[FLUXO]]<>\"\",ROUND(t_instalado[[#This Row],[FLUXO]]/t_instalado[[#This Row],[Luminárias]],0),\"\")","v":""},{"$f":"IF(t_instalado[[#This Row],[Luminárias]]<>\"\",ROUND(t_instalado[[#This Row],[lm_médio]]/t_instalado[[#This Row],[W_médio]],2),\"\")","v":""}]
[77,{"$f":"_xlfn.XLOOKUP(t_instalado[[#This Row],[cód.]],t_sitio[cód],t_sitio[Trecho],\"\")","v":""},null,null,null,null,null,null,null,null,null,null,{"$f":"t_instalado[[#This Row],[Q.1]]+t_instalado[[#This Row],[Q.2]]+t_instalado[[#This Row],[Q.3]]","v":0},{"$f":"t_instalado[[#This Row],[Q.1]]+t_instalado[[#This Row],[Q.2]]+t_instalado[[#This Row],[Q.3]]","v":0},{"$f":"IF(t_instalado[[#This Row],[Q.1]]<>\"\",SUMIFS(t_reator[p],t_reator[tipo],t_instalado[[#This Row],[T.1]],t_reator[w],t_instalado[[#This Row],[P.1(W)]]),\"\")","v":""},{"$f":"IF(t_instalado[[#This Row],[Q.2]]<>\"\",SUMIFS(t_reator[p],t_reator[tipo],t_instalado[[#This Row],[T.2]],t_reator[w],t_instalado[[#This Row],[P.2(W)]]),\"\")","v":""},{"$f":"IF(t_instalado[[#This Row],[Q.3]]<>\"\",SUMIFS(t_reator[p],t_reator[tipo],t_instalado[[#This Row],[T.3]],t_reator[w],t_instalado[[#This Row],[P.3(W)]]),\"\")","v":""},{"$f":"IF(t_instalado[[#This Row],[Q.1]]<>\"\",IFERROR(IFERROR(D311*(E311+O311)+G311*(H311+P311)+J311*(K311+Q311),D311*(E311+O311)+G311*(H311+P311)),D311*(E311+O311)),\"\")","v":""},{"$f":"IF(t_instalado[[#This Row],[Consumo_W]]<>\"\",ROUND(t_instalado[[#This Row],[Consumo_W]]/t_instalado[[#This Row],[Luminárias]],0),\"\")","v":""},{"$f":"IF(t_instalado[[#This Row],[Q.1]]<>\"\",SUMIFS(t_fluxo_lumin[fluxo],t_fluxo_lumin[tipo],t_instalado[[#This Row],[T.1]])*t_instalado[[#This Row],[P.1(W)]]*t_instalado[[#This Row],[Q.1]],\"\")","v":""},{"$f":"IF(t_instalado[[#This Row],[Q.2]]<>\"\",SUMIFS(t_fluxo_lumin[fluxo],t_fluxo_lumin[tipo],t_instalado[[#This Row],[T.2]])*t_instalado[[#This Row],[Q.2]]*t_instalado[[#This Row],[P.2(W)]],\"\")","v":""},{"$f":"IF(t_instalado[[#This Row],[Q.3]]<>\"\",SUMIFS(t_fluxo_lumin[fluxo],t_fluxo_lumin[tipo],t_instalado[[#This Row],[T.3]])*t_instalado[[#This Row],[Q.3]]*t_instalado[[#This Row],[P.3(W)]],\"\")","v":""},{"$f":"IF(t_instalado[[#This Row],[Trecho]]<>\"\",SUM(t_instalado[[#This Row],[f.1]:[f.3]]),\"\")","v":""},{"$f":"IF(t_instalado[[#This Row],[Trecho]]<>\"\",t_instalado[[#This Row],[Q.1]]+t_instalado[[#This Row],[Q.2]]+t_instalado[[#This Row],[Q.3]],\"\")","v":""},{"$f":"IF(t_instalado[[#This Row],[FLUXO]]<>\"\",ROUND(t_instalado[[#This Row],[FLUXO]]/t_instalado[[#This Row],[Luminárias]],0),\"\")","v":""},{"$f":"IF(t_instalado[[#This Row],[Luminárias]]<>\"\",ROUND(t_instalado[[#This Row],[lm_médio]]/t_instalado[[#This Row],[W_médio]],2),\"\")","v":""}]
[78,{"$f":"_xlfn.XLOOKUP(t_instalado[[#This Row],[cód.]],t_sitio[cód],t_sitio[Trecho],\"\")","v":""},null,null,null,null,null,null,null,null,null,null,{"$f":"t_instalado[[#This Row],[Q.1]]+t_instalado[[#This Row],[Q.2]]+t_instalado[[#This Row],[Q.3]]","v":0},{"$f":"t_instalado[[#This Row],[Q.1]]+t_instalado[[#This Row],[Q.2]]+t_instalado[[#This Row],[Q.3]]","v":0},{"$f":"IF(t_instalado[[#This Row],[Q.1]]<>\"\",SUMIFS(t_reator[p],t_reator[tipo],t_instalado[[#This Row],[T.1]],t_reator[w],t_instalado[[#This Row],[P.1(W)]]),\"\")","v":""},{"$f":"IF(t_instalado[[#This Row],[Q.2]]<>\"\",SUMIFS(t_reator[p],t_reator[tipo],t_instalado[[#This Row],[T.2]],t_reator[w],t_instalado[[#This Row],[P.2(W)]]),\"\")","v":""},{"$f":"IF(t_instalado[[#This Row],[Q.3]]<>\"\",SUMIFS(t_reator[p],t_reator[tipo],t_instalado[[#This Row],[T.3]],t_reator[w],t_instalado[[#This Row],[P.3(W)]]),\"\")","v":""},{"$f":"IF(t_instalado[[#This Row],[Q.1]]<>\"\",IFERROR(IFERROR(D312*(E312+O312)+G312*(H312+P312)+J312*(K312+Q312),D312*(E312+O312)+G312*(H312+P312)),D312*(E312+O312)),\"\")","v":""},{"$f":"IF(t_instalado[[#This Row],[Consumo_W]]<>\"\",ROUND(t_instalado[[#This Row],[Consumo_W]]/t_instalado[[#This Row],[Luminárias]],0),\"\")","v":""},{"$f":"IF(t_instalado[[#This Row],[Q.1]]<>\"\",SUMIFS(t_fluxo_lumin[fluxo],t_fluxo_lumin[tipo],t_instalado[[#This Row],[T.1]])*t_instalado[[#This Row],[P.1(W)]]*t_instalado[[#This Row],[Q.1]],\"\")","v":""},{"$f":"IF(t_instalado[[#This Row],[Q.2]]<>\"\",SUMIFS(t_fluxo_lumin[fluxo],t_fluxo_lumin[tipo],t_instalado[[#This Row],[T.2]])*t_instalado[[#This Row],[Q.2]]*t_instalado[[#This Row],[P.2(W)]],\"\")","v":""},{"$f":"IF(t_instalado[[#This Row],[Q.3]]<>\"\",SUMIFS(t_fluxo_lumin[fluxo],t_fluxo_lumin[tipo],t_instalado[[#This Row],[T.3]])*t_instalado[[#This Row],[Q.3]]*t_instalado[[#This Row],[P.3(W)]],\"\")","v":""},{"$f":"IF(t_instalado[[#This Row],[Trecho]]<>\"\",SUM(t_instalado[[#This Row],[f.1]:[f.3]]),\"\")","v":""},{"$f":"IF(t_instalado[[#This Row],[Trecho]]<>\"\",t_instalado[[#This Row],[Q.1]]+t_instalado[[#This Row],[Q.2]]+t_instalado[[#This Row],[Q.3]],\"\")","v":""},{"$f":"IF(t_instalado[[#This Row],[FLUXO]]<>\"\",ROUND(t_instalado[[#This Row],[FLUXO]]/t_instalado[[#This Row],[Luminárias]],0),\"\")","v":""},{"$f":"IF(t_instalado[[#This Row],[Luminárias]]<>\"\",ROUND(t_instalado[[#This Row],[lm_médio]]/t_instalado[[#This Row],[W_médio]],2),\"\")","v":""}]
[79,{"$f":"_xlfn.XLOOKUP(t_instalado[[#This Row],[cód.]],t_sitio[cód],t_sitio[Trecho],\"\")","v":""},null,null,null,null,null,null,null,null,null,null,{"$f":"t_instalado[[#This Row],[Q.1]]+t_instalado[[#This Row],[Q.2]]+t_instalado[[#This Row],[Q.3]]","v":0},{"$f":"t_instalado[[#This Row],[Q.1]]+t_instalado[[#This Row],[Q.2]]+t_instalado[[#This Row],[Q.3]]","v":0},{"$f":"IF(t_instalado[[#This Row],[Q.1]]<>\"\",SUMIFS(t_reator[p],t_reator[tipo],t_instalado[[#This Row],[T.1]],t_reator[w],t_instalado[[#This Row],[P.1(W)]]),\"\")","v":""},{"$f":"IF(t_instalado[[#This Row],[Q.2]]<>\"\",SUMIFS(t_reator[p],t_reator[tipo],t_instalado[[#This Row],[T.2]],t_reator[w],t_instalado[[#This Row],[P.2(W)]]),\"\")","v":""},{"$f":"IF(t_instalado[[#This Row],[Q.3]]<>\"\",SUMIFS(t_reator[p],t_reator[tipo],t_instalado[[#This Row],[T.3]],t_reator[w],t_instalado[[#This Row],[P.3(W)]]),\"\")","v":""},{"$f":"IF(t_instalado[[#This Row],[Q.1]]<>\"\",IFERROR(IFERROR(D313*(E313+O313)+G313*(H313+P313)+J313*(K313+Q313),D313*(E313+O313)+G313*(H313+P313)),D313*(E313+O313)),\"\")","v":""},{"$f":"IF(t_instalado[[#This Row],[Consumo_W]]<>\"\",ROUND(t_instalado[[#This Row],[Consumo_W]]/t_instalado[[#This Row],[Luminárias]],0),\"\")","v":""},{"$f":"IF(t_instalado[[#This Row],[Q.1]]<>\"\",SUMIFS(t_fluxo_lumin[fluxo],t_fluxo_lumin[tipo],t_instalado[[#This Row],[T.1]])*t_instalado[[#This Row],[P.1(W)]]*t_instalado[[#This Row],[Q.1]],\"\")","v":""},{"$f":"IF(t_instalado[[#This Row],[Q.2]]<>\"\",SUMIFS(t_fluxo_lumin[fluxo],t_fluxo_lumin[tipo],t_instalado[[#This Row],[T.2]])*t_instalado[[#This Row],[Q.2]]*t_instalado[[#This Row],[P.2(W)]],\"\")","v":""},{"$f":"IF(t_instalado[[#This Row],[Q.3]]<>\"\",SUMIFS(t_fluxo_lumin[fluxo],t_fluxo_lumin[tipo],t_instalado[[#This Row],[T.3]])*t_instalado[[#This Row],[Q.3]]*t_instalado[[#This Row],[P.3(W)]],\"\")","v":""},{"$f":"IF(t_instalado[[#This Row],[Trecho]]<>\"\",SUM(t_instalado[[#This Row],[f.1]:[f.3]]),\"\")","v":""},{"$f":"IF(t_instalado[[#This Row],[Trecho]]<>\"\",t_instalado[[#This Row],[Q.1]]+t_instalado[[#This Row],[Q.2]]+t_instalado[[#This Row],[Q.3]],\"\")","v":""},{"$f":"IF(t_instalado[[#This Row],[FLUXO]]<>\"\",ROUND(t_instalado[[#This Row],[FLUXO]]/t_instalado[[#This Row],[Luminárias]],0),\"\")","v":""},{"$f":"IF(t_instalado[[#This Row],[Luminárias]]<>\"\",ROUND(t_instalado[[#This Row],[lm_médio]]/t_instalado[[#This Row],[W_médio]],2),\"\")","v":""}]
[80,{"$f":"_xlfn.XLOOKUP(t_instalado[[#This Row],[cód.]],t_sitio[cód],t_sitio[Trecho],\"\")","v":""},null,null,null,null,null,null,null,null,null,null,{"$f":"t_instalado[[#This Row],[Q.1]]+t_instalado[[#This Row],[Q.2]]+t_instalado[[#This Row],[Q.3]]","v":0},{"$f":"t_instalado[[#This Row],[Q.1]]+t_instalado[[#This Row],[Q.2]]+t_instalado[[#This Row],[Q.3]]","v":0},{"$f":"IF(t_instalado[[#This Row],[Q.1]]<>\"\",SUMIFS(t_reator[p],t_reator[tipo],t_instalado[[#This Row],[T.1]],t_reator[w],t_instalado[[#This Row],[P.1(W)]]),\"\")","v":""},{"$f":"IF(t_instalado[[#This Row],[Q.2]]<>\"\",SUMIFS(t_reator[p],t_reator[tipo],t_instalado[[#This Row],[T.2]],t_reator[w],t_instalado[[#This Row],[P.2(W)]]),\"\")","v":""},{"$f":"IF(t_instalado[[#This Row],[Q.3]]<>\"\",SUMIFS(t_reator[p],t_reator[tipo],t_instalado[[#This Row],[T.3]],t_reator[w],t_instalado[[#This Row],[P.3(W)]]),\"\")","v":""},{"$f":"IF(t_instalado[[#This Row],[Q.1]]<>\"\",IFERROR(IFERROR(D314*(E314+O314)+G314*(H314+P314)+J314*(K314+Q314),D314*(E314+O314)+G314*(H314+P314)),D314*(E314+O314)),\"\")","v":""},{"$f":"IF(t_instalado[[#This Row],[Consumo_W]]<>\"\",ROUND(t_instalado[[#This Row],[Consumo_W]]/t_instalado[[#This Row],[Luminárias]],0),\"\")","v":""},{"$f":"IF(t_instalado[[#This Row],[Q.1]]<>\"\",SUMIFS(t_fluxo_lumin[fluxo],t_fluxo_lumin[tipo],t_instalado[[#This Row],[T.1]])*t_instalado[[#This Row],[P.1(W)]]*t_instalado[[#This Row],[Q.1]],\"\")","v":""},{"$f":"IF(t_instalado[[#This Row],[Q.2]]<>\"\",SUMIFS(t_fluxo_lumin[fluxo],t_fluxo_lumin[tipo],t_instalado[[#This Row],[T.2]])*t_instalado[[#This Row],[Q.2]]*t_instalado[[#This Row],[P.2(W)]],\"\")","v":""},{"$f":"IF(t_instalado[[#This Row],[Q.3]]<>\"\",SUMIFS(t_fluxo_lumin[fluxo],t_fluxo_lumin[tipo],t_instalado[[#This Row],[T.3]])*t_instalado[[#This Row],[Q.3]]*t_instalado[[#This Row],[P.3(W)]],\"\")","v":""},{"$f":"IF(t_instalado[[#This Row],[Trecho]]<>\"\",SUM(t_instalado[[#This Row],[f.1]:[f.3]]),\"\")","v":""},{"$f":"IF(t_instalado[[#This Row],[Trecho]]<>\"\",t_instalado[[#This Row],[Q.1]]+t_instalado[[#This Row],[Q.2]]+t_instalado[[#This Row],[Q.3]],\"\")","v":""},{"$f":"IF(t_instalado[[#This Row],[FLUXO]]<>\"\",ROUND(t_instalado[[#This Row],[FLUXO]]/t_instalado[[#This Row],[Luminárias]],0),\"\")","v":""},{"$f":"IF(t_instalado[[#This Row],[Luminárias]]<>\"\",ROUND(t_instalado[[#This Row],[lm_médio]]/t_instalado[[#This Row],[W_médio]],2),\"\")","v":""}]
[81,{"$f":"_xlfn.XLOOKUP(t_instalado[[#This Row],[cód.]],t_sitio[cód],t_sitio[Trecho],\"\")","v":""},null,null,null,null,null,null,null,null,null,null,{"$f":"t_instalado[[#This Row],[Q.1]]+t_instalado[[#This Row],[Q.2]]+t_instalado[[#This Row],[Q.3]]","v":0},{"$f":"t_instalado[[#This Row],[Q.1]]+t_instalado[[#This Row],[Q.2]]+t_instalado[[#This Row],[Q.3]]","v":0},{"$f":"IF(t_instalado[[#This Row],[Q.1]]<>\"\",SUMIFS(t_reator[p],t_reator[tipo],t_instalado[[#This Row],[T.1]],t_reator[w],t_instalado[[#This Row],[P.1(W)]]),\"\")","v":""},{"$f":"IF(t_instalado[[#This Row],[Q.2]]<>\"\",SUMIFS(t_reator[p],t_reator[tipo],t_instalado[[#This Row],[T.2]],t_reator[w],t_instalado[[#This Row],[P.2(W)]]),\"\")","v":""},{"$f":"IF(t_instalado[[#This Row],[Q.3]]<>\"\",SUMIFS(t_reator[p],t_reator[tipo],t_instalado[[#This Row],[T.3]],t_reator[w],t_instalado[[#This Row],[P.3(W)]]),\"\")","v":""},{"$f":"IF(t_instalado[[#This Row],[Q.1]]<>\"\",IFERROR(IFERROR(D315*(E315+O315)+G315*(H315+P315)+J315*(K315+Q315),D315*(E315+O315)+G315*(H315+P315)),D315*(E315+O315)),\"\")","v":""},{"$f":"IF(t_instalado[[#This Row],[Consumo_W]]<>\"\",ROUND(t_instalado[[#This Row],[Consumo_W]]/t_instalado[[#This Row],[Luminárias]],0),\"\")","v":""},{"$f":"IF(t_instalado[[#This Row],[Q.1]]<>\"\",SUMIFS(t_fluxo_lumin[fluxo],t_fluxo_lumin[tipo],t_instalado[[#This Row],[T.1]])*t_instalado[[#This Row],[P.1(W)]]*t_instalado[[#This Row],[Q.1]],\"\")","v":""},{"$f":"IF(t_instalado[[#This Row],[Q.2]]<>\"\",SUMIFS(t_fluxo_lumin[fluxo],t_fluxo_lumin[tipo],t_instalado[[#This Row],[T.2]])*t_instalado[[#This Row],[Q.2]]*t_instalado[[#This Row],[P.2(W)]],\"\")","v":""},{"$f":"IF(t_instalado[[#This Row],[Q.3]]<>\"\",SUMIFS(t_fluxo_lumin[fluxo],t_fluxo_lumin[tipo],t_instalado[[#This Row],[T.3]])*t_instalado[[#This Row],[Q.3]]*t_instalado[[#This Row],[P.3(W)]],\"\")","v":""},{"$f":"IF(t_instalado[[#This Row],[Trecho]]<>\"\",SUM(t_instalado[[#This Row],[f.1]:[f.3]]),\"\")","v":""},{"$f":"IF(t_instalado[[#This Row],[Trecho]]<>\"\",t_instalado[[#This Row],[Q.1]]+t_instalado[[#This Row],[Q.2]]+t_instalado[[#This Row],[Q.3]],\"\")","v":""},{"$f":"IF(t_instalado[[#This Row],[FLUXO]]<>\"\",ROUND(t_instalado[[#This Row],[FLUXO]]/t_instalado[[#This Row],[Luminárias]],0),\"\")","v":""},{"$f":"IF(t_instalado[[#This Row],[Luminárias]]<>\"\",ROUND(t_instalado[[#This Row],[lm_médio]]/t_instalado[[#This Row],[W_médio]],2),\"\")","v":""}]
[82,{"$f":"_xlfn.XLOOKUP(t_instalado[[#This Row],[cód.]],t_sitio[cód],t_sitio[Trecho],\"\")","v":""},null,null,null,null,null,null,null,null,null,null,{"$f":"t_instalado[[#This Row],[Q.1]]+t_instalado[[#This Row],[Q.2]]+t_instalado[[#This Row],[Q.3]]","v":0},{"$f":"t_instalado[[#This Row],[Q.1]]+t_instalado[[#This Row],[Q.2]]+t_instalado[[#This Row],[Q.3]]","v":0},{"$f":"IF(t_instalado[[#This Row],[Q.1]]<>\"\",SUMIFS(t_reator[p],t_reator[tipo],t_instalado[[#This Row],[T.1]],t_reator[w],t_instalado[[#This Row],[P.1(W)]]),\"\")","v":""},{"$f":"IF(t_instalado[[#This Row],[Q.2]]<>\"\",SUMIFS(t_reator[p],t_reator[tipo],t_instalado[[#This Row],[T.2]],t_reator[w],t_instalado[[#This Row],[P.2(W)]]),\"\")","v":""},{"$f":"IF(t_instalado[[#This Row],[Q.3]]<>\"\",SUMIFS(t_reator[p],t_reator[tipo],t_instalado[[#This Row],[T.3]],t_reator[w],t_instalado[[#This Row],[P.3(W)]]),\"\")","v":""},{"$f":"IF(t_instalado[[#This Row],[Q.1]]<>\"\",IFERROR(IFERROR(D316*(E316+O316)+G316*(H316+P316)+J316*(K316+Q316),D316*(E316+O316)+G316*(H316+P316)),D316*(E316+O316)),\"\")","v":""},{"$f":"IF(t_instalado[[#This Row],[Consumo_W]]<>\"\",ROUND(t_instalado[[#This Row],[Consumo_W]]/t_instalado[[#This Row],[Luminárias]],0),\"\")","v":""},{"$f":"IF(t_instalado[[#This Row],[Q.1]]<>\"\",SUMIFS(t_fluxo_lumin[fluxo],t_fluxo_lumin[tipo],t_instalado[[#This Row],[T.1]])*t_instalado[[#This Row],[P.1(W)]]*t_instalado[[#This Row],[Q.1]],\"\")","v":""},{"$f":"IF(t_instalado[[#This Row],[Q.2]]<>\"\",SUMIFS(t_fluxo_lumin[fluxo],t_fluxo_lumin[tipo],t_instalado[[#This Row],[T.2]])*t_instalado[[#This Row],[Q.2]]*t_instalado[[#This Row],[P.2(W)]],\"\")","v":""},{"$f":"IF(t_instalado[[#This Row],[Q.3]]<>\"\",SUMIFS(t_fluxo_lumin[fluxo],t_fluxo_lumin[tipo],t_instalado[[#This Row],[T.3]])*t_instalado[[#This Row],[Q.3]]*t_instalado[[#This Row],[P.3(W)]],\"\")","v":""},{"$f":"IF(t_instalado[[#This Row],[Trecho]]<>\"\",SUM(t_instalado[[#This Row],[f.1]:[f.3]]),\"\")","v":""},{"$f":"IF(t_instalado[[#This Row],[Trecho]]<>\"\",t_instalado[[#This Row],[Q.1]]+t_instalado[[#This Row],[Q.2]]+t_instalado[[#This Row],[Q.3]],\"\")","v":""},{"$f":"IF(t_instalado[[#This Row],[FLUXO]]<>\"\",ROUND(t_instalado[[#This Row],[FLUXO]]/t_instalado[[#This Row],[Luminárias]],0),\"\")","v":""},{"$f":"IF(t_instalado[[#This Row],[Luminárias]]<>\"\",ROUND(t_instalado[[#This Row],[lm_médio]]/t_instalado[[#This Row],[W_médio]],2),\"\")","v":""}]
[83,{"$f":"_xlfn.XLOOKUP(t_instalado[[#This Row],[cód.]],t_sitio[cód],t_sitio[Trecho],\"\")","v":""},null,null,null,null,null,null,null,null,null,null,{"$f":"t_instalado[[#This Row],[Q.1]]+t_instalado[[#This Row],[Q.2]]+t_instalado[[#This Row],[Q.3]]","v":0},{"$f":"t_instalado[[#This Row],[Q.1]]+t_instalado[[#This Row],[Q.2]]+t_instalado[[#This Row],[Q.3]]","v":0},{"$f":"IF(t_instalado[[#This Row],[Q.1]]<>\"\",SUMIFS(t_reator[p],t_reator[tipo],t_instalado[[#This Row],[T.1]],t_reator[w],t_instalado[[#This Row],[P.1(W)]]),\"\")","v":""},{"$f":"IF(t_instalado[[#This Row],[Q.2]]<>\"\",SUMIFS(t_reator[p],t_reator[tipo],t_instalado[[#This Row],[T.2]],t_reator[w],t_instalado[[#This Row],[P.2(W)]]),\"\")","v":""},{"$f":"IF(t_instalado[[#This Row],[Q.3]]<>\"\",SUMIFS(t_reator[p],t_reator[tipo],t_instalado[[#This Row],[T.3]],t_reator[w],t_instalado[[#This Row],[P.3(W)]]),\"\")","v":""},{"$f":"IF(t_instalado[[#This Row],[Q.1]]<>\"\",IFERROR(IFERROR(D317*(E317+O317)+G317*(H317+P317)+J317*(K317+Q317),D317*(E317+O317)+G317*(H317+P317)),D317*(E317+O317)),\"\")","v":""},{"$f":"IF(t_instalado[[#This Row],[Consumo_W]]<>\"\",ROUND(t_instalado[[#This Row],[Consumo_W]]/t_instalado[[#This Row],[Luminárias]],0),\"\")","v":""},{"$f":"IF(t_instalado[[#This Row],[Q.1]]<>\"\",SUMIFS(t_fluxo_lumin[fluxo],t_fluxo_lumin[tipo],t_instalado[[#This Row],[T.1]])*t_instalado[[#This Row],[P.1(W)]]*t_instalado[[#This Row],[Q.1]],\"\")","v":""},{"$f":"IF(t_instalado[[#This Row],[Q.2]]<>\"\",SUMIFS(t_fluxo_lumin[fluxo],t_fluxo_lumin[tipo],t_instalado[[#This Row],[T.2]])*t_instalado[[#This Row],[Q.2]]*t_instalado[[#This Row],[P.2(W)]],\"\")","v":""},{"$f":"IF(t_instalado[[#This Row],[Q.3]]<>\"\",SUMIFS(t_fluxo_lumin[fluxo],t_fluxo_lumin[tipo],t_instalado[[#This Row],[T.3]])*t_instalado[[#This Row],[Q.3]]*t_instalado[[#This Row],[P.3(W)]],\"\")","v":""},{"$f":"IF(t_instalado[[#This Row],[Trecho]]<>\"\",SUM(t_instalado[[#This Row],[f.1]:[f.3]]),\"\")","v":""},{"$f":"IF(t_instalado[[#This Row],[Trecho]]<>\"\",t_instalado[[#This Row],[Q.1]]+t_instalado[[#This Row],[Q.2]]+t_instalado[[#This Row],[Q.3]],\"\")","v":""},{"$f":"IF(t_instalado[[#This Row],[FLUXO]]<>\"\",ROUND(t_instalado[[#This Row],[FLUXO]]/t_instalado[[#This Row],[Luminárias]],0),\"\")","v":""},{"$f":"IF(t_instalado[[#This Row],[Luminárias]]<>\"\",ROUND(t_instalado[[#This Row],[lm_médio]]/t_instalado[[#This Row],[W_médio]],2),\"\")","v":""}]
[84,{"$f":"_xlfn.XLOOKUP(t_instalado[[#This Row],[cód.]],t_sitio[cód],t_sitio[Trecho],\"\")","v":""},null,null,null,null,null,null,null,null,null,null,{"$f":"t_instalado[[#This Row],[Q.1]]+t_instalado[[#This Row],[Q.2]]+t_instalado[[#This Row],[Q.3]]","v":0},{"$f":"t_instalado[[#This Row],[Q.1]]+t_instalado[[#This Row],[Q.2]]+t_instalado[[#This Row],[Q.3]]","v":0},{"$f":"IF(t_instalado[[#This Row],[Q.1]]<>\"\",SUMIFS(t_reator[p],t_reator[tipo],t_instalado[[#This Row],[T.1]],t_reator[w],t_instalado[[#This Row],[P.1(W)]]),\"\")","v":""},{"$f":"IF(t_instalado[[#This Row],[Q.2]]<>\"\",SUMIFS(t_reator[p],t_reator[tipo],t_instalado[[#This Row],[T.2]],t_reator[w],t_instalado[[#This Row],[P.2(W)]]),\"\")","v":""},{"$f":"IF(t_instalado[[#This Row],[Q.3]]<>\"\",SUMIFS(t_reator[p],t_reator[tipo],t_instalado[[#This Row],[T.3]],t_reator[w],t_instalado[[#This Row],[P.3(W)]]),\"\")","v":""},{"$f":"IF(t_instalado[[#This Row],[Q.1]]<>\"\",IFERROR(IFERROR(D318*(E318+O318)+G318*(H318+P318)+J318*(K318+Q318),D318*(E318+O318)+G318*(H318+P318)),D318*(E318+O318)),\"\")","v":""},{"$f":"IF(t_instalado[[#This Row],[Consumo_W]]<>\"\",ROUND(t_instalado[[#This Row],[Consumo_W]]/t_instalado[[#This Row],[Luminárias]],0),\"\")","v":""},{"$f":"IF(t_instalado[[#This Row],[Q.1]]<>\"\",SUMIFS(t_fluxo_lumin[fluxo],t_fluxo_lumin[tipo],t_instalado[[#This Row],[T.1]])*t_instalado[[#This Row],[P.1(W)]]*t_instalado[[#This Row],[Q.1]],\"\")","v":""},{"$f":"IF(t_instalado[[#This Row],[Q.2]]<>\"\",SUMIFS(t_fluxo_lumin[fluxo],t_fluxo_lumin[tipo],t_instalado[[#This Row],[T.2]])*t_instalado[[#This Row],[Q.2]]*t_instalado[[#This Row],[P.2(W)]],\"\")","v":""},{"$f":"IF(t_instalado[[#This Row],[Q.3]]<>\"\",SUMIFS(t_fluxo_lumin[fluxo],t_fluxo_lumin[tipo],t_instalado[[#This Row],[T.3]])*t_instalado[[#This Row],[Q.3]]*t_instalado[[#This Row],[P.3(W)]],\"\")","v":""},{"$f":"IF(t_instalado[[#This Row],[Trecho]]<>\"\",SUM(t_instalado[[#This Row],[f.1]:[f.3]]),\"\")","v":""},{"$f":"IF(t_instalado[[#This Row],[Trecho]]<>\"\",t_instalado[[#This Row],[Q.1]]+t_instalado[[#This Row],[Q.2]]+t_instalado[[#This Row],[Q.3]],\"\")","v":""},{"$f":"IF(t_instalado[[#This Row],[FLUXO]]<>\"\",ROUND(t_instalado[[#This Row],[FLUXO]]/t_instalado[[#This Row],[Luminárias]],0),\"\")","v":""},{"$f":"IF(t_instalado[[#This Row],[Luminárias]]<>\"\",ROUND(t_instalado[[#This Row],[lm_médio]]/t_instalado[[#This Row],[W_médio]],2),\"\")","v":""}]
[85,{"$f":"_xlfn.XLOOKUP(t_instalado[[#This Row],[cód.]],t_sitio[cód],t_sitio[Trecho],\"\")","v":""},null,null,null,null,null,null,null,null,null,null,{"$f":"t_instalado[[#This Row],[Q.1]]+t_instalado[[#This Row],[Q.2]]+t_instalado[[#This Row],[Q.3]]","v":0},{"$f":"t_instalado[[#This Row],[Q.1]]+t_instalado[[#This Row],[Q.2]]+t_instalado[[#This Row],[Q.3]]","v":0},{"$f":"IF(t_instalado[[#This Row],[Q.1]]<>\"\",SUMIFS(t_reator[p],t_reator[tipo],t_instalado[[#This Row],[T.1]],t_reator[w],t_instalado[[#This Row],[P.1(W)]]),\"\")","v":""},{"$f":"IF(t_instalado[[#This Row],[Q.2]]<>\"\",SUMIFS(t_reator[p],t_reator[tipo],t_instalado[[#This Row],[T.2]],t_reator[w],t_instalado[[#This Row],[P.2(W)]]),\"\")","v":""},{"$f":"IF(t_instalado[[#This Row],[Q.3]]<>\"\",SUMIFS(t_reator[p],t_reator[tipo],t_instalado[[#This Row],[T.3]],t_reator[w],t_instalado[[#This Row],[P.3(W)]]),\"\")","v":""},{"$f":"IF(t_instalado[[#This Row],[Q.1]]<>\"\",IFERROR(IFERROR(D319*(E319+O319)+G319*(H319+P319)+J319*(K319+Q319),D319*(E319+O319)+G319*(H319+P319)),D319*(E319+O319)),\"\")","v":""},{"$f":"IF(t_instalado[[#This Row],[Consumo_W]]<>\"\",ROUND(t_instalado[[#This Row],[Consumo_W]]/t_instalado[[#This Row],[Luminárias]],0),\"\")","v":""},{"$f":"IF(t_instalado[[#This Row],[Q.1]]<>\"\",SUMIFS(t_fluxo_lumin[fluxo],t_fluxo_lumin[tipo],t_instalado[[#This Row],[T.1]])*t_instalado[[#This Row],[P.1(W)]]*t_instalado[[#This Row],[Q.1]],\"\")","v":""},{"$f":"IF(t_instalado[[#This Row],[Q.2]]<>\"\",SUMIFS(t_fluxo_lumin[fluxo],t_fluxo_lumin[tipo],t_instalado[[#This Row],[T.2]])*t_instalado[[#This Row],[Q.2]]*t_instalado[[#This Row],[P.2(W)]],\"\")","v":""},{"$f":"IF(t_instalado[[#This Row],[Q.3]]<>\"\",SUMIFS(t_fluxo_lumin[fluxo],t_fluxo_lumin[tipo],t_instalado[[#This Row],[T.3]])*t_instalado[[#This Row],[Q.3]]*t_instalado[[#This Row],[P.3(W)]],\"\")","v":""},{"$f":"IF(t_instalado[[#This Row],[Trecho]]<>\"\",SUM(t_instalado[[#This Row],[f.1]:[f.3]]),\"\")","v":""},{"$f":"IF(t_instalado[[#This Row],[Trecho]]<>\"\",t_instalado[[#This Row],[Q.1]]+t_instalado[[#This Row],[Q.2]]+t_instalado[[#This Row],[Q.3]],\"\")","v":""},{"$f":"IF(t_instalado[[#This Row],[FLUXO]]<>\"\",ROUND(t_instalado[[#This Row],[FLUXO]]/t_instalado[[#This Row],[Luminárias]],0),\"\")","v":""},{"$f":"IF(t_instalado[[#This Row],[Luminárias]]<>\"\",ROUND(t_instalado[[#This Row],[lm_médio]]/t_instalado[[#This Row],[W_médio]],2),\"\")","v":""}]
[86,{"$f":"_xlfn.XLOOKUP(t_instalado[[#This Row],[cód.]],t_sitio[cód],t_sitio[Trecho],\"\")","v":""},null,null,null,null,null,null,null,null,null,null,{"$f":"t_instalado[[#This Row],[Q.1]]+t_instalado[[#This Row],[Q.2]]+t_instalado[[#This Row],[Q.3]]","v":0},{"$f":"t_instalado[[#This Row],[Q.1]]+t_instalado[[#This Row],[Q.2]]+t_instalado[[#This Row],[Q.3]]","v":0},{"$f":"IF(t_instalado[[#This Row],[Q.1]]<>\"\",SUMIFS(t_reator[p],t_reator[tipo],t_instalado[[#This Row],[T.1]],t_reator[w],t_instalado[[#This Row],[P.1(W)]]),\"\")","v":""},{"$f":"IF(t_instalado[[#This Row],[Q.2]]<>\"\",SUMIFS(t_reator[p],t_reator[tipo],t_instalado[[#This Row],[T.2]],t_reator[w],t_instalado[[#This Row],[P.2(W)]]),\"\")","v":""},{"$f":"IF(t_instalado[[#This Row],[Q.3]]<>\"\",SUMIFS(t_reator[p],t_reator[tipo],t_instalado[[#This Row],[T.3]],t_reator[w],t_instalado[[#This Row],[P.3(W)]]),\"\")","v":""},{"$f":"IF(t_instalado[[#This Row],[Q.1]]<>\"\",IFERROR(IFERROR(D320*(E320+O320)+G320*(H320+P320)+J320*(K320+Q320),D320*(E320+O320)+G320*(H320+P320)),D320*(E320+O320)),\"\")","v":""},{"$f":"IF(t_instalado[[#This Row],[Consumo_W]]<>\"\",ROUND(t_instalado[[#This Row],[Consumo_W]]/t_instalado[[#This Row],[Luminárias]],0),\"\")","v":""},{"$f":"IF(t_instalado[[#This Row],[Q.1]]<>\"\",SUMIFS(t_fluxo_lumin[fluxo],t_fluxo_lumin[tipo],t_instalado[[#This Row],[T.1]])*t_instalado[[#This Row],[P.1(W)]]*t_instalado[[#This Row],[Q.1]],\"\")","v":""},{"$f":"IF(t_instalado[[#This Row],[Q.2]]<>\"\",SUMIFS(t_fluxo_lumin[fluxo],t_fluxo_lumin[tipo],t_instalado[[#This Row],[T.2]])*t_instalado[[#This Row],[Q.2]]*t_instalado[[#This Row],[P.2(W)]],\"\")","v":""},{"$f":"IF(t_instalado[[#This Row],[Q.3]]<>\"\",SUMIFS(t_fluxo_lumin[fluxo],t_fluxo_lumin[tipo],t_instalado[[#This Row],[T.3]])*t_instalado[[#This Row],[Q.3]]*t_instalado[[#This Row],[P.3(W)]],\"\")","v":""},{"$f":"IF(t_instalado[[#This Row],[Trecho]]<>\"\",SUM(t_instalado[[#This Row],[f.1]:[f.3]]),\"\")","v":""},{"$f":"IF(t_instalado[[#This Row],[Trecho]]<>\"\",t_instalado[[#This Row],[Q.1]]+t_instalado[[#This Row],[Q.2]]+t_instalado[[#This Row],[Q.3]],\"\")","v":""},{"$f":"IF(t_instalado[[#This Row],[FLUXO]]<>\"\",ROUND(t_instalado[[#This Row],[FLUXO]]/t_instalado[[#This Row],[Luminárias]],0),\"\")","v":""},{"$f":"IF(t_instalado[[#This Row],[Luminárias]]<>\"\",ROUND(t_instalado[[#This Row],[lm_médio]]/t_instalado[[#This Row],[W_médio]],2),\"\")","v":""}]
[87,{"$f":"_xlfn.XLOOKUP(t_instalado[[#This Row],[cód.]],t_sitio[cód],t_sitio[Trecho],\"\")","v":""},null,null,null,null,null,null,null,null,null,null,{"$f":"t_instalado[[#This Row],[Q.1]]+t_instalado[[#This Row],[Q.2]]+t_instalado[[#This Row],[Q.3]]","v":0},{"$f":"t_instalado[[#This Row],[Q.1]]+t_instalado[[#This Row],[Q.2]]+t_instalado[[#This Row],[Q.3]]","v":0},{"$f":"IF(t_instalado[[#This Row],[Q.1]]<>\"\",SUMIFS(t_reator[p],t_reator[tipo],t_instalado[[#This Row],[T.1]],t_reator[w],t_instalado[[#This Row],[P.1(W)]]),\"\")","v":""},{"$f":"IF(t_instalado[[#This Row],[Q.2]]<>\"\",SUMIFS(t_reator[p],t_reator[tipo],t_instalado[[#This Row],[T.2]],t_reator[w],t_instalado[[#This Row],[P.2(W)]]),\"\")","v":""},{"$f":"IF(t_instalado[[#This Row],[Q.3]]<>\"\",SUMIFS(t_reator[p],t_reator[tipo],t_instalado[[#This Row],[T.3]],t_reator[w],t_instalado[[#This Row],[P.3(W)]]),\"\")","v":""},{"$f":"IF(t_instalado[[#This Row],[Q.1]]<>\"\",IFERROR(IFERROR(D321*(E321+O321)+G321*(H321+P321)+J321*(K321+Q321),D321*(E321+O321)+G321*(H321+P321)),D321*(E321+O321)),\"\")","v":""},{"$f":"IF(t_instalado[[#This Row],[Consumo_W]]<>\"\",ROUND(t_instalado[[#This Row],[Consumo_W]]/t_instalado[[#This Row],[Luminárias]],0),\"\")","v":""},{"$f":"IF(t_instalado[[#This Row],[Q.1]]<>\"\",SUMIFS(t_fluxo_lumin[fluxo],t_fluxo_lumin[tipo],t_instalado[[#This Row],[T.1]])*t_instalado[[#This Row],[P.1(W)]]*t_instalado[[#This Row],[Q.1]],\"\")","v":""},{"$f":"IF(t_instalado[[#This Row],[Q.2]]<>\"\",SUMIFS(t_fluxo_lumin[fluxo],t_fluxo_lumin[tipo],t_instalado[[#This Row],[T.2]])*t_instalado[[#This Row],[Q.2]]*t_instalado[[#This Row],[P.2(W)]],\"\")","v":""},{"$f":"IF(t_instalado[[#This Row],[Q.3]]<>\"\",SUMIFS(t_fluxo_lumin[fluxo],t_fluxo_lumin[tipo],t_instalado[[#This Row],[T.3]])*t_instalado[[#This Row],[Q.3]]*t_instalado[[#This Row],[P.3(W)]],\"\")","v":""},{"$f":"IF(t_instalado[[#This Row],[Trecho]]<>\"\",SUM(t_instalado[[#This Row],[f.1]:[f.3]]),\"\")","v":""},{"$f":"IF(t_instalado[[#This Row],[Trecho]]<>\"\",t_instalado[[#This Row],[Q.1]]+t_instalado[[#This Row],[Q.2]]+t_instalado[[#This Row],[Q.3]],\"\")","v":""},{"$f":"IF(t_instalado[[#This Row],[FLUXO]]<>\"\",ROUND(t_instalado[[#This Row],[FLUXO]]/t_instalado[[#This Row],[Luminárias]],0),\"\")","v":""},{"$f":"IF(t_instalado[[#This Row],[Luminárias]]<>\"\",ROUND(t_instalado[[#This Row],[lm_médio]]/t_instalado[[#This Row],[W_médio]],2),\"\")","v":""}]
[88,{"$f":"_xlfn.XLOOKUP(t_instalado[[#This Row],[cód.]],t_sitio[cód],t_sitio[Trecho],\"\")","v":""},null,null,null,null,null,null,null,null,null,null,{"$f":"t_instalado[[#This Row],[Q.1]]+t_instalado[[#This Row],[Q.2]]+t_instalado[[#This Row],[Q.3]]","v":0},{"$f":"t_instalado[[#This Row],[Q.1]]+t_instalado[[#This Row],[Q.2]]+t_instalado[[#This Row],[Q.3]]","v":0},{"$f":"IF(t_instalado[[#This Row],[Q.1]]<>\"\",SUMIFS(t_reator[p],t_reator[tipo],t_instalado[[#This Row],[T.1]],t_reator[w],t_instalado[[#This Row],[P.1(W)]]),\"\")","v":""},{"$f":"IF(t_instalado[[#This Row],[Q.2]]<>\"\",SUMIFS(t_reator[p],t_reator[tipo],t_instalado[[#This Row],[T.2]],t_reator[w],t_instalado[[#This Row],[P.2(W)]]),\"\")","v":""},{"$f":"IF(t_instalado[[#This Row],[Q.3]]<>\"\",SUMIFS(t_reator[p],t_reator[tipo],t_instalado[[#This Row],[T.3]],t_reator[w],t_instalado[[#This Row],[P.3(W)]]),\"\")","v":""},{"$f":"IF(t_instalado[[#This Row],[Q.1]]<>\"\",IFERROR(IFERROR(D322*(E322+O322)+G322*(H322+P322)+J322*(K322+Q322),D322*(E322+O322)+G322*(H322+P322)),D322*(E322+O322)),\"\")","v":""},{"$f":"IF(t_instalado[[#This Row],[Consumo_W]]<>\"\",ROUND(t_instalado[[#This Row],[Consumo_W]]/t_instalado[[#This Row],[Luminárias]],0),\"\")","v":""},{"$f":"IF(t_instalado[[#This Row],[Q.1]]<>\"\",SUMIFS(t_fluxo_lumin[fluxo],t_fluxo_lumin[tipo],t_instalado[[#This Row],[T.1]])*t_instalado[[#This Row],[P.1(W)]]*t_instalado[[#This Row],[Q.1]],\"\")","v":""},{"$f":"IF(t_instalado[[#This Row],[Q.2]]<>\"\",SUMIFS(t_fluxo_lumin[fluxo],t_fluxo_lumin[tipo],t_instalado[[#This Row],[T.2]])*t_instalado[[#This Row],[Q.2]]*t_instalado[[#This Row],[P.2(W)]],\"\")","v":""},{"$f":"IF(t_instalado[[#This Row],[Q.3]]<>\"\",SUMIFS(t_fluxo_lumin[fluxo],t_fluxo_lumin[tipo],t_instalado[[#This Row],[T.3]])*t_instalado[[#This Row],[Q.3]]*t_instalado[[#This Row],[P.3(W)]],\"\")","v":""},{"$f":"IF(t_instalado[[#This Row],[Trecho]]<>\"\",SUM(t_instalado[[#This Row],[f.1]:[f.3]]),\"\")","v":""},{"$f":"IF(t_instalado[[#This Row],[Trecho]]<>\"\",t_instalado[[#This Row],[Q.1]]+t_instalado[[#This Row],[Q.2]]+t_instalado[[#This Row],[Q.3]],\"\")","v":""},{"$f":"IF(t_instalado[[#This Row],[FLUXO]]<>\"\",ROUND(t_instalado[[#This Row],[FLUXO]]/t_instalado[[#This Row],[Luminárias]],0),\"\")","v":""},{"$f":"IF(t_instalado[[#This Row],[Luminárias]]<>\"\",ROUND(t_instalado[[#This Row],[lm_médio]]/t_instalado[[#This Row],[W_médio]],2),\"\")","v":""}]
[89,{"$f":"_xlfn.XLOOKUP(t_instalado[[#This Row],[cód.]],t_sitio[cód],t_sitio[Trecho],\"\")","v":""},null,null,null,null,null,null,null,null,null,null,{"$f":"t_instalado[[#This Row],[Q.1]]+t_instalado[[#This Row],[Q.2]]+t_instalado[[#This Row],[Q.3]]","v":0},{"$f":"t_instalado[[#This Row],[Q.1]]+t_instalado[[#This Row],[Q.2]]+t_instalado[[#This Row],[Q.3]]","v":0},{"$f":"IF(t_instalado[[#This Row],[Q.1]]<>\"\",SUMIFS(t_reator[p],t_reator[tipo],t_instalado[[#This Row],[T.1]],t_reator[w],t_instalado[[#This Row],[P.1(W)]]),\"\")","v":""},{"$f":"IF(t_instalado[[#This Row],[Q.2]]<>\"\",SUMIFS(t_reator[p],t_reator[tipo],t_instalado[[#This Row],[T.2]],t_reator[w],t_instalado[[#This Row],[P.2(W)]]),\"\")","v":""},{"$f":"IF(t_instalado[[#This Row],[Q.3]]<>\"\",SUMIFS(t_reator[p],t_reator[tipo],t_instalado[[#This Row],[T.3]],t_reator[w],t_instalado[[#This Row],[P.3(W)]]),\"\")","v":""},{"$f":"IF(t_instalado[[#This Row],[Q.1]]<>\"\",IFERROR(IFERROR(D323*(E323+O323)+G323*(H323+P323)+J323*(K323+Q323),D323*(E323+O323)+G323*(H323+P323)),D323*(E323+O323)),\"\")","v":""},{"$f":"IF(t_instalado[[#This Row],[Consumo_W]]<>\"\",ROUND(t_instalado[[#This Row],[Consumo_W]]/t_instalado[[#This Row],[Luminárias]],0),\"\")","v":""},{"$f":"IF(t_instalado[[#This Row],[Q.1]]<>\"\",SUMIFS(t_fluxo_lumin[fluxo],t_fluxo_lumin[tipo],t_instalado[[#This Row],[T.1]])*t_instalado[[#This Row],[P.1(W)]]*t_instalado[[#This Row],[Q.1]],\"\")","v":""},{"$f":"IF(t_instalado[[#This Row],[Q.2]]<>\"\",SUMIFS(t_fluxo_lumin[fluxo],t_fluxo_lumin[tipo],t_instalado[[#This Row],[T.2]])*t_instalado[[#This Row],[Q.2]]*t_instalado[[#This Row],[P.2(W)]],\"\")","v":""},{"$f":"IF(t_instalado[[#This Row],[Q.3]]<>\"\",SUMIFS(t_fluxo_lumin[fluxo],t_fluxo_lumin[tipo],t_instalado[[#This Row],[T.3]])*t_instalado[[#This Row],[Q.3]]*t_instalado[[#This Row],[P.3(W)]],\"\")","v":""},{"$f":"IF(t_instalado[[#This Row],[Trecho]]<>\"\",SUM(t_instalado[[#This Row],[f.1]:[f.3]]),\"\")","v":""},{"$f":"IF(t_instalado[[#This Row],[Trecho]]<>\"\",t_instalado[[#This Row],[Q.1]]+t_instalado[[#This Row],[Q.2]]+t_instalado[[#This Row],[Q.3]],\"\")","v":""},{"$f":"IF(t_instalado[[#This Row],[FLUXO]]<>\"\",ROUND(t_instalado[[#This Row],[FLUXO]]/t_instalado[[#This Row],[Luminárias]],0),\"\")","v":""},{"$f":"IF(t_instalado[[#This Row],[Luminárias]]<>\"\",ROUND(t_instalado[[#This Row],[lm_médio]]/t_instalado[[#This Row],[W_médio]],2),\"\")","v":""}]
[90,{"$f":"_xlfn.XLOOKUP(t_instalado[[#This Row],[cód.]],t_sitio[cód],t_sitio[Trecho],\"\")","v":""},null,null,null,null,null,null,null,null,null,null,{"$f":"t_instalado[[#This Row],[Q.1]]+t_instalado[[#This Row],[Q.2]]+t_instalado[[#This Row],[Q.3]]","v":0},{"$f":"t_instalado[[#This Row],[Q.1]]+t_instalado[[#This Row],[Q.2]]+t_instalado[[#This Row],[Q.3]]","v":0},{"$f":"IF(t_instalado[[#This Row],[Q.1]]<>\"\",SUMIFS(t_reator[p],t_reator[tipo],t_instalado[[#This Row],[T.1]],t_reator[w],t_instalado[[#This Row],[P.1(W)]]),\"\")","v":""},{"$f":"IF(t_instalado[[#This Row],[Q.2]]<>\"\",SUMIFS(t_reator[p],t_reator[tipo],t_instalado[[#This Row],[T.2]],t_reator[w],t_instalado[[#This Row],[P.2(W)]]),\"\")","v":""},{"$f":"IF(t_instalado[[#This Row],[Q.3]]<>\"\",SUMIFS(t_reator[p],t_reator[tipo],t_instalado[[#This Row],[T.3]],t_reator[w],t_instalado[[#This Row],[P.3(W)]]),\"\")","v":""},{"$f":"IF(t_instalado[[#This Row],[Q.1]]<>\"\",IFERROR(IFERROR(D324*(E324+O324)+G324*(H324+P324)+J324*(K324+Q324),D324*(E324+O324)+G324*(H324+P324)),D324*(E324+O324)),\"\")","v":""},{"$f":"IF(t_instalado[[#This Row],[Consumo_W]]<>\"\",ROUND(t_instalado[[#This Row],[Consumo_W]]/t_instalado[[#This Row],[Luminárias]],0),\"\")","v":""},{"$f":"IF(t_instalado[[#This Row],[Q.1]]<>\"\",SUMIFS(t_fluxo_lumin[fluxo],t_fluxo_lumin[tipo],t_instalado[[#This Row],[T.1]])*t_instalado[[#This Row],[P.1(W)]]*t_instalado[[#This Row],[Q.1]],\"\")","v":""},{"$f":"IF(t_instalado[[#This Row],[Q.2]]<>\"\",SUMIFS(t_fluxo_lumin[fluxo],t_fluxo_lumin[tipo],t_instalado[[#This Row],[T.2]])*t_instalado[[#This Row],[Q.2]]*t_instalado[[#This Row],[P.2(W)]],\"\")","v":""},{"$f":"IF(t_instalado[[#This Row],[Q.3]]<>\"\",SUMIFS(t_fluxo_lumin[fluxo],t_fluxo_lumin[tipo],t_instalado[[#This Row],[T.3]])*t_instalado[[#This Row],[Q.3]]*t_instalado[[#This Row],[P.3(W)]],\"\")","v":""},{"$f":"IF(t_instalado[[#This Row],[Trecho]]<>\"\",SUM(t_instalado[[#This Row],[f.1]:[f.3]]),\"\")","v":""},{"$f":"IF(t_instalado[[#This Row],[Trecho]]<>\"\",t_instalado[[#This Row],[Q.1]]+t_instalado[[#This Row],[Q.2]]+t_instalado[[#This Row],[Q.3]],\"\")","v":""},{"$f":"IF(t_instalado[[#This Row],[FLUXO]]<>\"\",ROUND(t_instalado[[#This Row],[FLUXO]]/t_instalado[[#This Row],[Luminárias]],0),\"\")","v":""},{"$f":"IF(t_instalado[[#This Row],[Luminárias]]<>\"\",ROUND(t_instalado[[#This Row],[lm_médio]]/t_instalado[[#This Row],[W_médio]],2),\"\")","v":""}]
[91,{"$f":"_xlfn.XLOOKUP(t_instalado[[#This Row],[cód.]],t_sitio[cód],t_sitio[Trecho],\"\")","v":""},null,null,null,null,null,null,null,null,null,null,{"$f":"t_instalado[[#This Row],[Q.1]]+t_instalado[[#This Row],[Q.2]]+t_instalado[[#This Row],[Q.3]]","v":0},{"$f":"t_instalado[[#This Row],[Q.1]]+t_instalado[[#This Row],[Q.2]]+t_instalado[[#This Row],[Q.3]]","v":0},{"$f":"IF(t_instalado[[#This Row],[Q.1]]<>\"\",SUMIFS(t_reator[p],t_reator[tipo],t_instalado[[#This Row],[T.1]],t_reator[w],t_instalado[[#This Row],[P.1(W)]]),\"\")","v":""},{"$f":"IF(t_instalado[[#This Row],[Q.2]]<>\"\",SUMIFS(t_reator[p],t_reator[tipo],t_instalado[[#This Row],[T.2]],t_reator[w],t_instalado[[#This Row],[P.2(W)]]),\"\")","v":""},{"$f":"IF(t_instalado[[#This Row],[Q.3]]<>\"\",SUMIFS(t_reator[p],t_reator[tipo],t_instalado[[#This Row],[T.3]],t_reator[w],t_instalado[[#This Row],[P.3(W)]]),\"\")","v":""},{"$f":"IF(t_instalado[[#This Row],[Q.1]]<>\"\",IFERROR(IFERROR(D325*(E325+O325)+G325*(H325+P325)+J325*(K325+Q325),D325*(E325+O325)+G325*(H325+P325)),D325*(E325+O325)),\"\")","v":""},{"$f":"IF(t_instalado[[#This Row],[Consumo_W]]<>\"\",ROUND(t_instalado[[#This Row],[Consumo_W]]/t_instalado[[#This Row],[Luminárias]],0),\"\")","v":""},{"$f":"IF(t_instalado[[#This Row],[Q.1]]<>\"\",SUMIFS(t_fluxo_lumin[fluxo],t_fluxo_lumin[tipo],t_instalado[[#This Row],[T.1]])*t_instalado[[#This Row],[P.1(W)]]*t_instalado[[#This Row],[Q.1]],\"\")","v":""},{"$f":"IF(t_instalado[[#This Row],[Q.2]]<>\"\",SUMIFS(t_fluxo_lumin[fluxo],t_fluxo_lumin[tipo],t_instalado[[#This Row],[T.2]])*t_instalado[[#This Row],[Q.2]]*t_instalado[[#This Row],[P.2(W)]],\"\")","v":""},{"$f":"IF(t_instalado[[#This Row],[Q.3]]<>\"\",SUMIFS(t_fluxo_lumin[fluxo],t_fluxo_lumin[tipo],t_instalado[[#This Row],[T.3]])*t_instalado[[#This Row],[Q.3]]*t_instalado[[#This Row],[P.3(W)]],\"\")","v":""},{"$f":"IF(t_instalado[[#This Row],[Trecho]]<>\"\",SUM(t_instalado[[#This Row],[f.1]:[f.3]]),\"\")","v":""},{"$f":"IF(t_instalado[[#This Row],[Trecho]]<>\"\",t_instalado[[#This Row],[Q.1]]+t_instalado[[#This Row],[Q.2]]+t_instalado[[#This Row],[Q.3]],\"\")","v":""},{"$f":"IF(t_instalado[[#This Row],[FLUXO]]<>\"\",ROUND(t_instalado[[#This Row],[FLUXO]]/t_instalado[[#This Row],[Luminárias]],0),\"\")","v":""},{"$f":"IF(t_instalado[[#This Row],[Luminárias]]<>\"\",ROUND(t_instalado[[#This Row],[lm_médio]]/t_instalado[[#This Row],[W_médio]],2),\"\")","v":""}]
[92,{"$f":"_xlfn.XLOOKUP(t_instalado[[#This Row],[cód.]],t_sitio[cód],t_sitio[Trecho],\"\")","v":""},null,null,null,null,null,null,null,null,null,null,{"$f":"t_instalado[[#This Row],[Q.1]]+t_instalado[[#This Row],[Q.2]]+t_instalado[[#This Row],[Q.3]]","v":0},{"$f":"t_instalado[[#This Row],[Q.1]]+t_instalado[[#This Row],[Q.2]]+t_instalado[[#This Row],[Q.3]]","v":0},{"$f":"IF(t_instalado[[#This Row],[Q.1]]<>\"\",SUMIFS(t_reator[p],t_reator[tipo],t_instalado[[#This Row],[T.1]],t_reator[w],t_instalado[[#This Row],[P.1(W)]]),\"\")","v":""},{"$f":"IF(t_instalado[[#This Row],[Q.2]]<>\"\",SUMIFS(t_reator[p],t_reator[tipo],t_instalado[[#This Row],[T.2]],t_reator[w],t_instalado[[#This Row],[P.2(W)]]),\"\")","v":""},{"$f":"IF(t_instalado[[#This Row],[Q.3]]<>\"\",SUMIFS(t_reator[p],t_reator[tipo],t_instalado[[#This Row],[T.3]],t_reator[w],t_instalado[[#This Row],[P.3(W)]]),\"\")","v":""},{"$f":"IF(t_instalado[[#This Row],[Q.1]]<>\"\",IFERROR(IFERROR(D326*(E326+O326)+G326*(H326+P326)+J326*(K326+Q326),D326*(E326+O326)+G326*(H326+P326)),D326*(E326+O326)),\"\")","v":""},{"$f":"IF(t_instalado[[#This Row],[Consumo_W]]<>\"\",ROUND(t_instalado[[#This Row],[Consumo_W]]/t_instalado[[#This Row],[Luminárias]],0),\"\")","v":""},{"$f":"IF(t_instalado[[#This Row],[Q.1]]<>\"\",SUMIFS(t_fluxo_lumin[fluxo],t_fluxo_lumin[tipo],t_instalado[[#This Row],[T.1]])*t_instalado[[#This Row],[P.1(W)]]*t_instalado[[#This Row],[Q.1]],\"\")","v":""},{"$f":"IF(t_instalado[[#This Row],[Q.2]]<>\"\",SUMIFS(t_fluxo_lumin[fluxo],t_fluxo_lumin[tipo],t_instalado[[#This Row],[T.2]])*t_instalado[[#This Row],[Q.2]]*t_instalado[[#This Row],[P.2(W)]],\"\")","v":""},{"$f":"IF(t_instalado[[#This Row],[Q.3]]<>\"\",SUMIFS(t_fluxo_lumin[fluxo],t_fluxo_lumin[tipo],t_instalado[[#This Row],[T.3]])*t_instalado[[#This Row],[Q.3]]*t_instalado[[#This Row],[P.3(W)]],\"\")","v":""},{"$f":"IF(t_instalado[[#This Row],[Trecho]]<>\"\",SUM(t_instalado[[#This Row],[f.1]:[f.3]]),\"\")","v":""},{"$f":"IF(t_instalado[[#This Row],[Trecho]]<>\"\",t_instalado[[#This Row],[Q.1]]+t_instalado[[#This Row],[Q.2]]+t_instalado[[#This Row],[Q.3]],\"\")","v":""},{"$f":"IF(t_instalado[[#This Row],[FLUXO]]<>\"\",ROUND(t_instalado[[#This Row],[FLUXO]]/t_instalado[[#This Row],[Luminárias]],0),\"\")","v":""},{"$f":"IF(t_instalado[[#This Row],[Luminárias]]<>\"\",ROUND(t_instalado[[#This Row],[lm_médio]]/t_instalado[[#This Row],[W_médio]],2),\"\")","v":""}]
[93,{"$f":"_xlfn.XLOOKUP(t_instalado[[#This Row],[cód.]],t_sitio[cód],t_sitio[Trecho],\"\")","v":""},null,null,null,null,null,null,null,null,null,null,{"$f":"t_instalado[[#This Row],[Q.1]]+t_instalado[[#This Row],[Q.2]]+t_instalado[[#This Row],[Q.3]]","v":0},{"$f":"t_instalado[[#This Row],[Q.1]]+t_instalado[[#This Row],[Q.2]]+t_instalado[[#This Row],[Q.3]]","v":0},{"$f":"IF(t_instalado[[#This Row],[Q.1]]<>\"\",SUMIFS(t_reator[p],t_reator[tipo],t_instalado[[#This Row],[T.1]],t_reator[w],t_instalado[[#This Row],[P.1(W)]]),\"\")","v":""},{"$f":"IF(t_instalado[[#This Row],[Q.2]]<>\"\",SUMIFS(t_reator[p],t_reator[tipo],t_instalado[[#This Row],[T.2]],t_reator[w],t_instalado[[#This Row],[P.2(W)]]),\"\")","v":""},{"$f":"IF(t_instalado[[#This Row],[Q.3]]<>\"\",SUMIFS(t_reator[p],t_reator[tipo],t_instalado[[#This Row],[T.3]],t_reator[w],t_instalado[[#This Row],[P.3(W)]]),\"\")","v":""},{"$f":"IF(t_instalado[[#This Row],[Q.1]]<>\"\",IFERROR(IFERROR(D327*(E327+O327)+G327*(H327+P327)+J327*(K327+Q327),D327*(E327+O327)+G327*(H327+P327)),D327*(E327+O327)),\"\")","v":""},{"$f":"IF(t_instalado[[#This Row],[Consumo_W]]<>\"\",ROUND(t_instalado[[#This Row],[Consumo_W]]/t_instalado[[#This Row],[Luminárias]],0),\"\")","v":""},{"$f":"IF(t_instalado[[#This Row],[Q.1]]<>\"\",SUMIFS(t_fluxo_lumin[fluxo],t_fluxo_lumin[tipo],t_instalado[[#This Row],[T.1]])*t_instalado[[#This Row],[P.1(W)]]*t_instalado[[#This Row],[Q.1]],\"\")","v":""},{"$f":"IF(t_instalado[[#This Row],[Q.2]]<>\"\",SUMIFS(t_fluxo_lumin[fluxo],t_fluxo_lumin[tipo],t_instalado[[#This Row],[T.2]])*t_instalado[[#This Row],[Q.2]]*t_instalado[[#This Row],[P.2(W)]],\"\")","v":""},{"$f":"IF(t_instalado[[#This Row],[Q.3]]<>\"\",SUMIFS(t_fluxo_lumin[fluxo],t_fluxo_lumin[tipo],t_instalado[[#This Row],[T.3]])*t_instalado[[#This Row],[Q.3]]*t_instalado[[#This Row],[P.3(W)]],\"\")","v":""},{"$f":"IF(t_instalado[[#This Row],[Trecho]]<>\"\",SUM(t_instalado[[#This Row],[f.1]:[f.3]]),\"\")","v":""},{"$f":"IF(t_instalado[[#This Row],[Trecho]]<>\"\",t_instalado[[#This Row],[Q.1]]+t_instalado[[#This Row],[Q.2]]+t_instalado[[#This Row],[Q.3]],\"\")","v":""},{"$f":"IF(t_instalado[[#This Row],[FLUXO]]<>\"\",ROUND(t_instalado[[#This Row],[FLUXO]]/t_instalado[[#This Row],[Luminárias]],0),\"\")","v":""},{"$f":"IF(t_instalado[[#This Row],[Luminárias]]<>\"\",ROUND(t_instalado[[#This Row],[lm_médio]]/t_instalado[[#This Row],[W_médio]],2),\"\")","v":""}]
[94,{"$f":"_xlfn.XLOOKUP(t_instalado[[#This Row],[cód.]],t_sitio[cód],t_sitio[Trecho],\"\")","v":""},null,null,null,null,null,null,null,null,null,null,{"$f":"t_instalado[[#This Row],[Q.1]]+t_instalado[[#This Row],[Q.2]]+t_instalado[[#This Row],[Q.3]]","v":0},{"$f":"t_instalado[[#This Row],[Q.1]]+t_instalado[[#This Row],[Q.2]]+t_instalado[[#This Row],[Q.3]]","v":0},{"$f":"IF(t_instalado[[#This Row],[Q.1]]<>\"\",SUMIFS(t_reator[p],t_reator[tipo],t_instalado[[#This Row],[T.1]],t_reator[w],t_instalado[[#This Row],[P.1(W)]]),\"\")","v":""},{"$f":"IF(t_instalado[[#This Row],[Q.2]]<>\"\",SUMIFS(t_reator[p],t_reator[tipo],t_instalado[[#This Row],[T.2]],t_reator[w],t_instalado[[#This Row],[P.2(W)]]),\"\")","v":""},{"$f":"IF(t_instalado[[#This Row],[Q.3]]<>\"\",SUMIFS(t_reator[p],t_reator[tipo],t_instalado[[#This Row],[T.3]],t_reator[w],t_instalado[[#This Row],[P.3(W)]]),\"\")","v":""},{"$f":"IF(t_instalado[[#This Row],[Q.1]]<>\"\",IFERROR(IFERROR(D328*(E328+O328)+G328*(H328+P328)+J328*(K328+Q328),D328*(E328+O328)+G328*(H328+P328)),D328*(E328+O328)),\"\")","v":""},{"$f":"IF(t_instalado[[#This Row],[Consumo_W]]<>\"\",ROUND(t_instalado[[#This Row],[Consumo_W]]/t_instalado[[#This Row],[Luminárias]],0),\"\")","v":""},{"$f":"IF(t_instalado[[#This Row],[Q.1]]<>\"\",SUMIFS(t_fluxo_lumin[fluxo],t_fluxo_lumin[tipo],t_instalado[[#This Row],[T.1]])*t_instalado[[#This Row],[P.1(W)]]*t_instalado[[#This Row],[Q.1]],\"\")","v":""},{"$f":"IF(t_instalado[[#This Row],[Q.2]]<>\"\",SUMIFS(t_fluxo_lumin[fluxo],t_fluxo_lumin[tipo],t_instalado[[#This Row],[T.2]])*t_instalado[[#This Row],[Q.2]]*t_instalado[[#This Row],[P.2(W)]],\"\")","v":""},{"$f":"IF(t_instalado[[#This Row],[Q.3]]<>\"\",SUMIFS(t_fluxo_lumin[fluxo],t_fluxo_lumin[tipo],t_instalado[[#This Row],[T.3]])*t_instalado[[#This Row],[Q.3]]*t_instalado[[#This Row],[P.3(W)]],\"\")","v":""},{"$f":"IF(t_instalado[[#This Row],[Trecho]]<>\"\",SUM(t_instalado[[#This Row],[f.1]:[f.3]]),\"\")","v":""},{"$f":"IF(t_instalado[[#This Row],[Trecho]]<>\"\",t_instalado[[#This Row],[Q.1]]+t_instalado[[#This Row],[Q.2]]+t_instalado[[#This Row],[Q.3]],\"\")","v":""},{"$f":"IF(t_instalado[[#This Row],[FLUXO]]<>\"\",ROUND(t_instalado[[#This Row],[FLUXO]]/t_instalado[[#This Row],[Luminárias]],0),\"\")","v":""},{"$f":"IF(t_instalado[[#This Row],[Luminárias]]<>\"\",ROUND(t_instalado[[#This Row],[lm_médio]]/t_instalado[[#This Row],[W_médio]],2),\"\")","v":""}]
[95,{"$f":"_xlfn.XLOOKUP(t_instalado[[#This Row],[cód.]],t_sitio[cód],t_sitio[Trecho],\"\")","v":""},null,null,null,null,null,null,null,null,null,null,{"$f":"t_instalado[[#This Row],[Q.1]]+t_instalado[[#This Row],[Q.2]]+t_instalado[[#This Row],[Q.3]]","v":0},{"$f":"t_instalado[[#This Row],[Q.1]]+t_instalado[[#This Row],[Q.2]]+t_instalado[[#This Row],[Q.3]]","v":0},{"$f":"IF(t_instalado[[#This Row],[Q.1]]<>\"\",SUMIFS(t_reator[p],t_reator[tipo],t_instalado[[#This Row],[T.1]],t_reator[w],t_instalado[[#This Row],[P.1(W)]]),\"\")","v":""},{"$f":"IF(t_instalado[[#This Row],[Q.2]]<>\"\",SUMIFS(t_reator[p],t_reator[tipo],t_instalado[[#This Row],[T.2]],t_reator[w],t_instalado[[#This Row],[P.2(W)]]),\"\")","v":""},{"$f":"IF(t_instalado[[#This Row],[Q.3]]<>\"\",SUMIFS(t_reator[p],t_reator[tipo],t_instalado[[#This Row],[T.3]],t_reator[w],t_instalado[[#This Row],[P.3(W)]]),\"\")","v":""},{"$f":"IF(t_instalado[[#This Row],[Q.1]]<>\"\",IFERROR(IFERROR(D329*(E329+O329)+G329*(H329+P329)+J329*(K329+Q329),D329*(E329+O329)+G329*(H329+P329)),D329*(E329+O329)),\"\")","v":""},{"$f":"IF(t_instalado[[#This Row],[Consumo_W]]<>\"\",ROUND(t_instalado[[#This Row],[Consumo_W]]/t_instalado[[#This Row],[Luminárias]],0),\"\")","v":""},{"$f":"IF(t_instalado[[#This Row],[Q.1]]<>\"\",SUMIFS(t_fluxo_lumin[fluxo],t_fluxo_lumin[tipo],t_instalado[[#This Row],[T.1]])*t_instalado[[#This Row],[P.1(W)]]*t_instalado[[#This Row],[Q.1]],\"\")","v":""},{"$f":"IF(t_instalado[[#This Row],[Q.2]]<>\"\",SUMIFS(t_fluxo_lumin[fluxo],t_fluxo_lumin[tipo],t_instalado[[#This Row],[T.2]])*t_instalado[[#This Row],[Q.2]]*t_instalado[[#This Row],[P.2(W)]],\"\")","v":""},{"$f":"IF(t_instalado[[#This Row],[Q.3]]<>\"\",SUMIFS(t_fluxo_lumin[fluxo],t_fluxo_lumin[tipo],t_instalado[[#This Row],[T.3]])*t_instalado[[#This Row],[Q.3]]*t_instalado[[#This Row],[P.3(W)]],\"\")","v":""},{"$f":"IF(t_instalado[[#This Row],[Trecho]]<>\"\",SUM(t_instalado[[#This Row],[f.1]:[f.3]]),\"\")","v":""},{"$f":"IF(t_instalado[[#This Row],[Trecho]]<>\"\",t_instalado[[#This Row],[Q.1]]+t_instalado[[#This Row],[Q.2]]+t_instalado[[#This Row],[Q.3]],\"\")","v":""},{"$f":"IF(t_instalado[[#This Row],[FLUXO]]<>\"\",ROUND(t_instalado[[#This Row],[FLUXO]]/t_instalado[[#This Row],[Luminárias]],0),\"\")","v":""},{"$f":"IF(t_instalado[[#This Row],[Luminárias]]<>\"\",ROUND(t_instalado[[#This Row],[lm_médio]]/t_instalado[[#This Row],[W_médio]],2),\"\")","v":""}]
[96,{"$f":"_xlfn.XLOOKUP(t_instalado[[#This Row],[cód.]],t_sitio[cód],t_sitio[Trecho],\"\")","v":""},null,null,null,null,null,null,null,null,null,null,{"$f":"t_instalado[[#This Row],[Q.1]]+t_instalado[[#This Row],[Q.2]]+t_instalado[[#This Row],[Q.3]]","v":0},{"$f":"t_instalado[[#This Row],[Q.1]]+t_instalado[[#This Row],[Q.2]]+t_instalado[[#This Row],[Q.3]]","v":0},{"$f":"IF(t_instalado[[#This Row],[Q.1]]<>\"\",SUMIFS(t_reator[p],t_reator[tipo],t_instalado[[#This Row],[T.1]],t_reator[w],t_instalado[[#This Row],[P.1(W)]]),\"\")","v":""},{"$f":"IF(t_instalado[[#This Row],[Q.2]]<>\"\",SUMIFS(t_reator[p],t_reator[tipo],t_instalado[[#This Row],[T.2]],t_reator[w],t_instalado[[#This Row],[P.2(W)]]),\"\")","v":""},{"$f":"IF(t_instalado[[#This Row],[Q.3]]<>\"\",SUMIFS(t_reator[p],t_reator[tipo],t_instalado[[#This Row],[T.3]],t_reator[w],t_instalado[[#This Row],[P.3(W)]]),\"\")","v":""},{"$f":"IF(t_instalado[[#This Row],[Q.1]]<>\"\",IFERROR(IFERROR(D330*(E330+O330)+G330*(H330+P330)+J330*(K330+Q330),D330*(E330+O330)+G330*(H330+P330)),D330*(E330+O330)),\"\")","v":""},{"$f":"IF(t_instalado[[#This Row],[Consumo_W]]<>\"\",ROUND(t_instalado[[#This Row],[Consumo_W]]/t_instalado[[#This Row],[Luminárias]],0),\"\")","v":""},{"$f":"IF(t_instalado[[#This Row],[Q.1]]<>\"\",SUMIFS(t_fluxo_lumin[fluxo],t_fluxo_lumin[tipo],t_instalado[[#This Row],[T.1]])*t_instalado[[#This Row],[P.1(W)]]*t_instalado[[#This Row],[Q.1]],\"\")","v":""},{"$f":"IF(t_instalado[[#This Row],[Q.2]]<>\"\",SUMIFS(t_fluxo_lumin[fluxo],t_fluxo_lumin[tipo],t_instalado[[#This Row],[T.2]])*t_instalado[[#This Row],[Q.2]]*t_instalado[[#This Row],[P.2(W)]],\"\")","v":""},{"$f":"IF(t_instalado[[#This Row],[Q.3]]<>\"\",SUMIFS(t_fluxo_lumin[fluxo],t_fluxo_lumin[tipo],t_instalado[[#This Row],[T.3]])*t_instalado[[#This Row],[Q.3]]*t_instalado[[#This Row],[P.3(W)]],\"\")","v":""},{"$f":"IF(t_instalado[[#This Row],[Trecho]]<>\"\",SUM(t_instalado[[#This Row],[f.1]:[f.3]]),\"\")","v":""},{"$f":"IF(t_instalado[[#This Row],[Trecho]]<>\"\",t_instalado[[#This Row],[Q.1]]+t_instalado[[#This Row],[Q.2]]+t_instalado[[#This Row],[Q.3]],\"\")","v":""},{"$f":"IF(t_instalado[[#This Row],[FLUXO]]<>\"\",ROUND(t_instalado[[#This Row],[FLUXO]]/t_instalado[[#This Row],[Luminárias]],0),\"\")","v":""},{"$f":"IF(t_instalado[[#This Row],[Luminárias]]<>\"\",ROUND(t_instalado[[#This Row],[lm_médio]]/t_instalado[[#This Row],[W_médio]],2),\"\")","v":""}]
[97,{"$f":"_xlfn.XLOOKUP(t_instalado[[#This Row],[cód.]],t_sitio[cód],t_sitio[Trecho],\"\")","v":""},null,null,null,null,null,null,null,null,null,null,{"$f":"t_instalado[[#This Row],[Q.1]]+t_instalado[[#This Row],[Q.2]]+t_instalado[[#This Row],[Q.3]]","v":0},{"$f":"t_instalado[[#This Row],[Q.1]]+t_instalado[[#This Row],[Q.2]]+t_instalado[[#This Row],[Q.3]]","v":0},{"$f":"IF(t_instalado[[#This Row],[Q.1]]<>\"\",SUMIFS(t_reator[p],t_reator[tipo],t_instalado[[#This Row],[T.1]],t_reator[w],t_instalado[[#This Row],[P.1(W)]]),\"\")","v":""},{"$f":"IF(t_instalado[[#This Row],[Q.2]]<>\"\",SUMIFS(t_reator[p],t_reator[tipo],t_instalado[[#This Row],[T.2]],t_reator[w],t_instalado[[#This Row],[P.2(W)]]),\"\")","v":""},{"$f":"IF(t_instalado[[#This Row],[Q.3]]<>\"\",SUMIFS(t_reator[p],t_reator[tipo],t_instalado[[#This Row],[T.3]],t_reator[w],t_instalado[[#This Row],[P.3(W)]]),\"\")","v":""},{"$f":"IF(t_instalado[[#This Row],[Q.1]]<>\"\",IFERROR(IFERROR(D331*(E331+O331)+G331*(H331+P331)+J331*(K331+Q331),D331*(E331+O331)+G331*(H331+P331)),D331*(E331+O331)),\"\")","v":""},{"$f":"IF(t_instalado[[#This Row],[Consumo_W]]<>\"\",ROUND(t_instalado[[#This Row],[Consumo_W]]/t_instalado[[#This Row],[Luminárias]],0),\"\")","v":""},{"$f":"IF(t_instalado[[#This Row],[Q.1]]<>\"\",SUMIFS(t_fluxo_lumin[fluxo],t_fluxo_lumin[tipo],t_instalado[[#This Row],[T.1]])*t_instalado[[#This Row],[P.1(W)]]*t_instalado[[#This Row],[Q.1]],\"\")","v":""},{"$f":"IF(t_instalado[[#This Row],[Q.2]]<>\"\",SUMIFS(t_fluxo_lumin[fluxo],t_fluxo_lumin[tipo],t_instalado[[#This Row],[T.2]])*t_instalado[[#This Row],[Q.2]]*t_instalado[[#This Row],[P.2(W)]],\"\")","v":""},{"$f":"IF(t_instalado[[#This Row],[Q.3]]<>\"\",SUMIFS(t_fluxo_lumin[fluxo],t_fluxo_lumin[tipo],t_instalado[[#This Row],[T.3]])*t_instalado[[#This Row],[Q.3]]*t_instalado[[#This Row],[P.3(W)]],\"\")","v":""},{"$f":"IF(t_instalado[[#This Row],[Trecho]]<>\"\",SUM(t_instalado[[#This Row],[f.1]:[f.3]]),\"\")","v":""},{"$f":"IF(t_instalado[[#This Row],[Trecho]]<>\"\",t_instalado[[#This Row],[Q.1]]+t_instalado[[#This Row],[Q.2]]+t_instalado[[#This Row],[Q.3]],\"\")","v":""},{"$f":"IF(t_instalado[[#This Row],[FLUXO]]<>\"\",ROUND(t_instalado[[#This Row],[FLUXO]]/t_instalado[[#This Row],[Luminárias]],0),\"\")","v":""},{"$f":"IF(t_instalado[[#This Row],[Luminárias]]<>\"\",ROUND(t_instalado[[#This Row],[lm_médio]]/t_instalado[[#This Row],[W_médio]],2),\"\")","v":""}]
[98,{"$f":"_xlfn.XLOOKUP(t_instalado[[#This Row],[cód.]],t_sitio[cód],t_sitio[Trecho],\"\")","v":""},null,null,null,null,null,null,null,null,null,null,{"$f":"t_instalado[[#This Row],[Q.1]]+t_instalado[[#This Row],[Q.2]]+t_instalado[[#This Row],[Q.3]]","v":0},{"$f":"t_instalado[[#This Row],[Q.1]]+t_instalado[[#This Row],[Q.2]]+t_instalado[[#This Row],[Q.3]]","v":0},{"$f":"IF(t_instalado[[#This Row],[Q.1]]<>\"\",SUMIFS(t_reator[p],t_reator[tipo],t_instalado[[#This Row],[T.1]],t_reator[w],t_instalado[[#This Row],[P.1(W)]]),\"\")","v":""},{"$f":"IF(t_instalado[[#This Row],[Q.2]]<>\"\",SUMIFS(t_reator[p],t_reator[tipo],t_instalado[[#This Row],[T.2]],t_reator[w],t_instalado[[#This Row],[P.2(W)]]),\"\")","v":""},{"$f":"IF(t_instalado[[#This Row],[Q.3]]<>\"\",SUMIFS(t_reator[p],t_reator[tipo],t_instalado[[#This Row],[T.3]],t_reator[w],t_instalado[[#This Row],[P.3(W)]]),\"\")","v":""},{"$f":"IF(t_instalado[[#This Row],[Q.1]]<>\"\",IFERROR(IFERROR(D332*(E332+O332)+G332*(H332+P332)+J332*(K332+Q332),D332*(E332+O332)+G332*(H332+P332)),D332*(E332+O332)),\"\")","v":""},{"$f":"IF(t_instalado[[#This Row],[Consumo_W]]<>\"\",ROUND(t_instalado[[#This Row],[Consumo_W]]/t_instalado[[#This Row],[Luminárias]],0),\"\")","v":""},{"$f":"IF(t_instalado[[#This Row],[Q.1]]<>\"\",SUMIFS(t_fluxo_lumin[fluxo],t_fluxo_lumin[tipo],t_instalado[[#This Row],[T.1]])*t_instalado[[#This Row],[P.1(W)]]*t_instalado[[#This Row],[Q.1]],\"\")","v":""},{"$f":"IF(t_instalado[[#This Row],[Q.2]]<>\"\",SUMIFS(t_fluxo_lumin[fluxo],t_fluxo_lumin[tipo],t_instalado[[#This Row],[T.2]])*t_instalado[[#This Row],[Q.2]]*t_instalado[[#This Row],[P.2(W)]],\"\")","v":""},{"$f":"IF(t_instalado[[#This Row],[Q.3]]<>\"\",SUMIFS(t_fluxo_lumin[fluxo],t_fluxo_lumin[tipo],t_instalado[[#This Row],[T.3]])*t_instalado[[#This Row],[Q.3]]*t_instalado[[#This Row],[P.3(W)]],\"\")","v":""},{"$f":"IF(t_instalado[[#This Row],[Trecho]]<>\"\",SUM(t_instalado[[#This Row],[f.1]:[f.3]]),\"\")","v":""},{"$f":"IF(t_instalado[[#This Row],[Trecho]]<>\"\",t_instalado[[#This Row],[Q.1]]+t_instalado[[#This Row],[Q.2]]+t_instalado[[#This Row],[Q.3]],\"\")","v":""},{"$f":"IF(t_instalado[[#This Row],[FLUXO]]<>\"\",ROUND(t_instalado[[#This Row],[FLUXO]]/t_instalado[[#This Row],[Luminárias]],0),\"\")","v":""},{"$f":"IF(t_instalado[[#This Row],[Luminárias]]<>\"\",ROUND(t_instalado[[#This Row],[lm_médio]]/t_instalado[[#This Row],[W_médio]],2),\"\")","v":""}]
[99,{"$f":"_xlfn.XLOOKUP(t_instalado[[#This Row],[cód.]],t_sitio[cód],t_sitio[Trecho],\"\")","v":""},null,null,null,null,null,null,null,null,null,null,{"$f":"t_instalado[[#This Row],[Q.1]]+t_instalado[[#This Row],[Q.2]]+t_instalado[[#This Row],[Q.3]]","v":0},{"$f":"t_instalado[[#This Row],[Q.1]]+t_instalado[[#This Row],[Q.2]]+t_instalado[[#This Row],[Q.3]]","v":0},{"$f":"IF(t_instalado[[#This Row],[Q.1]]<>\"\",SUMIFS(t_reator[p],t_reator[tipo],t_instalado[[#This Row],[T.1]],t_reator[w],t_instalado[[#This Row],[P.1(W)]]),\"\")","v":""},{"$f":"IF(t_instalado[[#This Row],[Q.2]]<>\"\",SUMIFS(t_reator[p],t_reator[tipo],t_instalado[[#This Row],[T.2]],t_reator[w],t_instalado[[#This Row],[P.2(W)]]),\"\")","v":""},{"$f":"IF(t_instalado[[#This Row],[Q.3]]<>\"\",SUMIFS(t_reator[p],t_reator[tipo],t_instalado[[#This Row],[T.3]],t_reator[w],t_instalado[[#This Row],[P.3(W)]]),\"\")","v":""},{"$f":"IF(t_instalado[[#This Row],[Q.1]]<>\"\",IFERROR(IFERROR(D333*(E333+O333)+G333*(H333+P333)+J333*(K333+Q333),D333*(E333+O333)+G333*(H333+P333)),D333*(E333+O333)),\"\")","v":""},{"$f":"IF(t_instalado[[#This Row],[Consumo_W]]<>\"\",ROUND(t_instalado[[#This Row],[Consumo_W]]/t_instalado[[#This Row],[Luminárias]],0),\"\")","v":""},{"$f":"IF(t_instalado[[#This Row],[Q.1]]<>\"\",SUMIFS(t_fluxo_lumin[fluxo],t_fluxo_lumin[tipo],t_instalado[[#This Row],[T.1]])*t_instalado[[#This Row],[P.1(W)]]*t_instalado[[#This Row],[Q.1]],\"\")","v":""},{"$f":"IF(t_instalado[[#This Row],[Q.2]]<>\"\",SUMIFS(t_fluxo_lumin[fluxo],t_fluxo_lumin[tipo],t_instalado[[#This Row],[T.2]])*t_instalado[[#This Row],[Q.2]]*t_instalado[[#This Row],[P.2(W)]],\"\")","v":""},{"$f":"IF(t_instalado[[#This Row],[Q.3]]<>\"\",SUMIFS(t_fluxo_lumin[fluxo],t_fluxo_lumin[tipo],t_instalado[[#This Row],[T.3]])*t_instalado[[#This Row],[Q.3]]*t_instalado[[#This Row],[P.3(W)]],\"\")","v":""},{"$f":"IF(t_instalado[[#This Row],[Trecho]]<>\"\",SUM(t_instalado[[#This Row],[f.1]:[f.3]]),\"\")","v":""},{"$f":"IF(t_instalado[[#This Row],[Trecho]]<>\"\",t_instalado[[#This Row],[Q.1]]+t_instalado[[#This Row],[Q.2]]+t_instalado[[#This Row],[Q.3]],\"\")","v":""},{"$f":"IF(t_instalado[[#This Row],[FLUXO]]<>\"\",ROUND(t_instalado[[#This Row],[FLUXO]]/t_instalado[[#This Row],[Luminárias]],0),\"\")","v":""},{"$f":"IF(t_instalado[[#This Row],[Luminárias]]<>\"\",ROUND(t_instalado[[#This Row],[lm_médio]]/t_instalado[[#This Row],[W_médio]],2),\"\")","v":""}]
[100,{"$f":"_xlfn.XLOOKUP(t_instalado[[#This Row],[cód.]],t_sitio[cód],t_sitio[Trecho],\"\")","v":""},null,null,null,null,null,null,null,null,null,null,{"$f":"t_instalado[[#This Row],[Q.1]]+t_instalado[[#This Row],[Q.2]]+t_instalado[[#This Row],[Q.3]]","v":0},{"$f":"t_instalado[[#This Row],[Q.1]]+t_instalado[[#This Row],[Q.2]]+t_instalado[[#This Row],[Q.3]]","v":0},{"$f":"IF(t_instalado[[#This Row],[Q.1]]<>\"\",SUMIFS(t_reator[p],t_reator[tipo],t_instalado[[#This Row],[T.1]],t_reator[w],t_instalado[[#This Row],[P.1(W)]]),\"\")","v":""},{"$f":"IF(t_instalado[[#This Row],[Q.2]]<>\"\",SUMIFS(t_reator[p],t_reator[tipo],t_instalado[[#This Row],[T.2]],t_reator[w],t_instalado[[#This Row],[P.2(W)]]),\"\")","v":""},{"$f":"IF(t_instalado[[#This Row],[Q.3]]<>\"\",SUMIFS(t_reator[p],t_reator[tipo],t_instalado[[#This Row],[T.3]],t_reator[w],t_instalado[[#This Row],[P.3(W)]]),\"\")","v":""},{"$f":"IF(t_instalado[[#This Row],[Q.1]]<>\"\",IFERROR(IFERROR(D334*(E334+O334)+G334*(H334+P334)+J334*(K334+Q334),D334*(E334+O334)+G334*(H334+P334)),D334*(E334+O334)),\"\")","v":""},{"$f":"IF(t_instalado[[#This Row],[Consumo_W]]<>\"\",ROUND(t_instalado[[#This Row],[Consumo_W]]/t_instalado[[#This Row],[Luminárias]],0),\"\")","v":""},{"$f":"IF(t_instalado[[#This Row],[Q.1]]<>\"\",SUMIFS(t_fluxo_lumin[fluxo],t_fluxo_lumin[tipo],t_instalado[[#This Row],[T.1]])*t_instalado[[#This Row],[P.1(W)]]*t_instalado[[#This Row],[Q.1]],\"\")","v":""},{"$f":"IF(t_instalado[[#This Row],[Q.2]]<>\"\",SUMIFS(t_fluxo_lumin[fluxo],t_fluxo_lumin[tipo],t_instalado[[#This Row],[T.2]])*t_instalado[[#This Row],[Q.2]]*t_instalado[[#This Row],[P.2(W)]],\"\")","v":""},{"$f":"IF(t_instalado[[#This Row],[Q.3]]<>\"\",SUMIFS(t_fluxo_lumin[fluxo],t_fluxo_lumin[tipo],t_instalado[[#This Row],[T.3]])*t_instalado[[#This Row],[Q.3]]*t_instalado[[#This Row],[P.3(W)]],\"\")","v":""},{"$f":"IF(t_instalado[[#This Row],[Trecho]]<>\"\",SUM(t_instalado[[#This Row],[f.1]:[f.3]]),\"\")","v":""},{"$f":"IF(t_instalado[[#This Row],[Trecho]]<>\"\",t_instalado[[#This Row],[Q.1]]+t_instalado[[#This Row],[Q.2]]+t_instalado[[#This Row],[Q.3]],\"\")","v":""},{"$f":"IF(t_instalado[[#This Row],[FLUXO]]<>\"\",ROUND(t_instalado[[#This Row],[FLUXO]]/t_instalado[[#This Row],[Luminárias]],0),\"\")","v":""},{"$f":"IF(t_instalado[[#This Row],[Luminárias]]<>\"\",ROUND(t_instalado[[#This Row],[lm_médio]]/t_instalado[[#This Row],[W_médio]],2),\"\")","v":""}]
[101,{"$f":"_xlfn.XLOOKUP(t_instalado[[#This Row],[cód.]],t_sitio[cód],t_sitio[Trecho],\"\")","v":""},null,null,null,null,null,null,null,null,null,null,{"$f":"t_instalado[[#This Row],[Q.1]]+t_instalado[[#This Row],[Q.2]]+t_instalado[[#This Row],[Q.3]]","v":0},{"$f":"t_instalado[[#This Row],[Q.1]]+t_instalado[[#This Row],[Q.2]]+t_instalado[[#This Row],[Q.3]]","v":0},{"$f":"IF(t_instalado[[#This Row],[Q.1]]<>\"\",SUMIFS(t_reator[p],t_reator[tipo],t_instalado[[#This Row],[T.1]],t_reator[w],t_instalado[[#This Row],[P.1(W)]]),\"\")","v":""},{"$f":"IF(t_instalado[[#This Row],[Q.2]]<>\"\",SUMIFS(t_reator[p],t_reator[tipo],t_instalado[[#This Row],[T.2]],t_reator[w],t_instalado[[#This Row],[P.2(W)]]),\"\")","v":""},{"$f":"IF(t_instalado[[#This Row],[Q.3]]<>\"\",SUMIFS(t_reator[p],t_reator[tipo],t_instalado[[#This Row],[T.3]],t_reator[w],t_instalado[[#This Row],[P.3(W)]]),\"\")","v":""},{"$f":"IF(t_instalado[[#This Row],[Q.1]]<>\"\",IFERROR(IFERROR(D335*(E335+O335)+G335*(H335+P335)+J335*(K335+Q335),D335*(E335+O335)+G335*(H335+P335)),D335*(E335+O335)),\"\")","v":""},{"$f":"IF(t_instalado[[#This Row],[Consumo_W]]<>\"\",ROUND(t_instalado[[#This Row],[Consumo_W]]/t_instalado[[#This Row],[Luminárias]],0),\"\")","v":""},{"$f":"IF(t_instalado[[#This Row],[Q.1]]<>\"\",SUMIFS(t_fluxo_lumin[fluxo],t_fluxo_lumin[tipo],t_instalado[[#This Row],[T.1]])*t_instalado[[#This Row],[P.1(W)]]*t_instalado[[#This Row],[Q.1]],\"\")","v":""},{"$f":"IF(t_instalado[[#This Row],[Q.2]]<>\"\",SUMIFS(t_fluxo_lumin[fluxo],t_fluxo_lumin[tipo],t_instalado[[#This Row],[T.2]])*t_instalado[[#This Row],[Q.2]]*t_instalado[[#This Row],[P.2(W)]],\"\")","v":""},{"$f":"IF(t_instalado[[#This Row],[Q.3]]<>\"\",SUMIFS(t_fluxo_lumin[fluxo],t_fluxo_lumin[tipo],t_instalado[[#This Row],[T.3]])*t_instalado[[#This Row],[Q.3]]*t_instalado[[#This Row],[P.3(W)]],\"\")","v":""},{"$f":"IF(t_instalado[[#This Row],[Trecho]]<>\"\",SUM(t_instalado[[#This Row],[f.1]:[f.3]]),\"\")","v":""},{"$f":"IF(t_instalado[[#This Row],[Trecho]]<>\"\",t_instalado[[#This Row],[Q.1]]+t_instalado[[#This Row],[Q.2]]+t_instalado[[#This Row],[Q.3]],\"\")","v":""},{"$f":"IF(t_instalado[[#This Row],[FLUXO]]<>\"\",ROUND(t_instalado[[#This Row],[FLUXO]]/t_instalado[[#This Row],[Luminárias]],0),\"\")","v":""},{"$f":"IF(t_instalado[[#This Row],[Luminárias]]<>\"\",ROUND(t_instalado[[#This Row],[lm_médio]]/t_instalado[[#This Row],[W_médio]],2),\"\")","v":""}]
[102,{"$f":"_xlfn.XLOOKUP(t_instalado[[#This Row],[cód.]],t_sitio[cód],t_sitio[Trecho],\"\")","v":""},null,null,null,null,null,null,null,null,null,null,{"$f":"t_instalado[[#This Row],[Q.1]]+t_instalado[[#This Row],[Q.2]]+t_instalado[[#This Row],[Q.3]]","v":0},{"$f":"t_instalado[[#This Row],[Q.1]]+t_instalado[[#This Row],[Q.2]]+t_instalado[[#This Row],[Q.3]]","v":0},{"$f":"IF(t_instalado[[#This Row],[Q.1]]<>\"\",SUMIFS(t_reator[p],t_reator[tipo],t_instalado[[#This Row],[T.1]],t_reator[w],t_instalado[[#This Row],[P.1(W)]]),\"\")","v":""},{"$f":"IF(t_instalado[[#This Row],[Q.2]]<>\"\",SUMIFS(t_reator[p],t_reator[tipo],t_instalado[[#This Row],[T.2]],t_reator[w],t_instalado[[#This Row],[P.2(W)]]),\"\")","v":""},{"$f":"IF(t_instalado[[#This Row],[Q.3]]<>\"\",SUMIFS(t_reator[p],t_reator[tipo],t_instalado[[#This Row],[T.3]],t_reator[w],t_instalado[[#This Row],[P.3(W)]]),\"\")","v":""},{"$f":"IF(t_instalado[[#This Row],[Q.1]]<>\"\",IFERROR(IFERROR(D336*(E336+O336)+G336*(H336+P336)+J336*(K336+Q336),D336*(E336+O336)+G336*(H336+P336)),D336*(E336+O336)),\"\")","v":""},{"$f":"IF(t_instalado[[#This Row],[Consumo_W]]<>\"\",ROUND(t_instalado[[#This Row],[Consumo_W]]/t_instalado[[#This Row],[Luminárias]],0),\"\")","v":""},{"$f":"IF(t_instalado[[#This Row],[Q.1]]<>\"\",SUMIFS(t_fluxo_lumin[fluxo],t_fluxo_lumin[tipo],t_instalado[[#This Row],[T.1]])*t_instalado[[#This Row],[P.1(W)]]*t_instalado[[#This Row],[Q.1]],\"\")","v":""},{"$f":"IF(t_instalado[[#This Row],[Q.2]]<>\"\",SUMIFS(t_fluxo_lumin[fluxo],t_fluxo_lumin[tipo],t_instalado[[#This Row],[T.2]])*t_instalado[[#This Row],[Q.2]]*t_instalado[[#This Row],[P.2(W)]],\"\")","v":""},{"$f":"IF(t_instalado[[#This Row],[Q.3]]<>\"\",SUMIFS(t_fluxo_lumin[fluxo],t_fluxo_lumin[tipo],t_instalado[[#This Row],[T.3]])*t_instalado[[#This Row],[Q.3]]*t_instalado[[#This Row],[P.3(W)]],\"\")","v":""},{"$f":"IF(t_instalado[[#This Row],[Trecho]]<>\"\",SUM(t_instalado[[#This Row],[f.1]:[f.3]]),\"\")","v":""},{"$f":"IF(t_instalado[[#This Row],[Trecho]]<>\"\",t_instalado[[#This Row],[Q.1]]+t_instalado[[#This Row],[Q.2]]+t_instalado[[#This Row],[Q.3]],\"\")","v":""},{"$f":"IF(t_instalado[[#This Row],[FLUXO]]<>\"\",ROUND(t_instalado[[#This Row],[FLUXO]]/t_instalado[[#This Row],[Luminárias]],0),\"\")","v":""},{"$f":"IF(t_instalado[[#This Row],[Luminárias]]<>\"\",ROUND(t_instalado[[#This Row],[lm_médio]]/t_instalado[[#This Row],[W_médio]],2),\"\")","v":""}]
[103,{"$f":"_xlfn.XLOOKUP(t_instalado[[#This Row],[cód.]],t_sitio[cód],t_sitio[Trecho],\"\")","v":""},null,null,null,null,null,null,null,null,null,null,{"$f":"t_instalado[[#This Row],[Q.1]]+t_instalado[[#This Row],[Q.2]]+t_instalado[[#This Row],[Q.3]]","v":0},{"$f":"t_instalado[[#This Row],[Q.1]]+t_instalado[[#This Row],[Q.2]]+t_instalado[[#This Row],[Q.3]]","v":0},{"$f":"IF(t_instalado[[#This Row],[Q.1]]<>\"\",SUMIFS(t_reator[p],t_reator[tipo],t_instalado[[#This Row],[T.1]],t_reator[w],t_instalado[[#This Row],[P.1(W)]]),\"\")","v":""},{"$f":"IF(t_instalado[[#This Row],[Q.2]]<>\"\",SUMIFS(t_reator[p],t_reator[tipo],t_instalado[[#This Row],[T.2]],t_reator[w],t_instalado[[#This Row],[P.2(W)]]),\"\")","v":""},{"$f":"IF(t_instalado[[#This Row],[Q.3]]<>\"\",SUMIFS(t_reator[p],t_reator[tipo],t_instalado[[#This Row],[T.3]],t_reator[w],t_instalado[[#This Row],[P.3(W)]]),\"\")","v":""},{"$f":"IF(t_instalado[[#This Row],[Q.1]]<>\"\",IFERROR(IFERROR(D337*(E337+O337)+G337*(H337+P337)+J337*(K337+Q337),D337*(E337+O337)+G337*(H337+P337)),D337*(E337+O337)),\"\")","v":""},{"$f":"IF(t_instalado[[#This Row],[Consumo_W]]<>\"\",ROUND(t_instalado[[#This Row],[Consumo_W]]/t_instalado[[#This Row],[Luminárias]],0),\"\")","v":""},{"$f":"IF(t_instalado[[#This Row],[Q.1]]<>\"\",SUMIFS(t_fluxo_lumin[fluxo],t_fluxo_lumin[tipo],t_instalado[[#This Row],[T.1]])*t_instalado[[#This Row],[P.1(W)]]*t_instalado[[#This Row],[Q.1]],\"\")","v":""},{"$f":"IF(t_instalado[[#This Row],[Q.2]]<>\"\",SUMIFS(t_fluxo_lumin[fluxo],t_fluxo_lumin[tipo],t_instalado[[#This Row],[T.2]])*t_instalado[[#This Row],[Q.2]]*t_instalado[[#This Row],[P.2(W)]],\"\")","v":""},{"$f":"IF(t_instalado[[#This Row],[Q.3]]<>\"\",SUMIFS(t_fluxo_lumin[fluxo],t_fluxo_lumin[tipo],t_instalado[[#This Row],[T.3]])*t_instalado[[#This Row],[Q.3]]*t_instalado[[#This Row],[P.3(W)]],\"\")","v":""},{"$f":"IF(t_instalado[[#This Row],[Trecho]]<>\"\",SUM(t_instalado[[#This Row],[f.1]:[f.3]]),\"\")","v":""},{"$f":"IF(t_instalado[[#This Row],[Trecho]]<>\"\",t_instalado[[#This Row],[Q.1]]+t_instalado[[#This Row],[Q.2]]+t_instalado[[#This Row],[Q.3]],\"\")","v":""},{"$f":"IF(t_instalado[[#This Row],[FLUXO]]<>\"\",ROUND(t_instalado[[#This Row],[FLUXO]]/t_instalado[[#This Row],[Luminárias]],0),\"\")","v":""},{"$f":"IF(t_instalado[[#This Row],[Luminárias]]<>\"\",ROUND(t_instalado[[#This Row],[lm_médio]]/t_instalado[[#This Row],[W_médio]],2),\"\")","v":""}]
[104,{"$f":"_xlfn.XLOOKUP(t_instalado[[#This Row],[cód.]],t_sitio[cód],t_sitio[Trecho],\"\")","v":""},null,null,null,null,null,null,null,null,null,null,{"$f":"t_instalado[[#This Row],[Q.1]]+t_instalado[[#This Row],[Q.2]]+t_instalado[[#This Row],[Q.3]]","v":0},{"$f":"t_instalado[[#This Row],[Q.1]]+t_instalado[[#This Row],[Q.2]]+t_instalado[[#This Row],[Q.3]]","v":0},{"$f":"IF(t_instalado[[#This Row],[Q.1]]<>\"\",SUMIFS(t_reator[p],t_reator[tipo],t_instalado[[#This Row],[T.1]],t_reator[w],t_instalado[[#This Row],[P.1(W)]]),\"\")","v":""},{"$f":"IF(t_instalado[[#This Row],[Q.2]]<>\"\",SUMIFS(t_reator[p],t_reator[tipo],t_instalado[[#This Row],[T.2]],t_reator[w],t_instalado[[#This Row],[P.2(W)]]),\"\")","v":""},{"$f":"IF(t_instalado[[#This Row],[Q.3]]<>\"\",SUMIFS(t_reator[p],t_reator[tipo],t_instalado[[#This Row],[T.3]],t_reator[w],t_instalado[[#This Row],[P.3(W)]]),\"\")","v":""},{"$f":"IF(t_instalado[[#This Row],[Q.1]]<>\"\",IFERROR(IFERROR(D338*(E338+O338)+G338*(H338+P338)+J338*(K338+Q338),D338*(E338+O338)+G338*(H338+P338)),D338*(E338+O338)),\"\")","v":""},{"$f":"IF(t_instalado[[#This Row],[Consumo_W]]<>\"\",ROUND(t_instalado[[#This Row],[Consumo_W]]/t_instalado[[#This Row],[Luminárias]],0),\"\")","v":""},{"$f":"IF(t_instalado[[#This Row],[Q.1]]<>\"\",SUMIFS(t_fluxo_lumin[fluxo],t_fluxo_lumin[tipo],t_instalado[[#This Row],[T.1]])*t_instalado[[#This Row],[P.1(W)]]*t_instalado[[#This Row],[Q.1]],\"\")","v":""},{"$f":"IF(t_instalado[[#This Row],[Q.2]]<>\"\",SUMIFS(t_fluxo_lumin[fluxo],t_fluxo_lumin[tipo],t_instalado[[#This Row],[T.2]])*t_instalado[[#This Row],[Q.2]]*t_instalado[[#This Row],[P.2(W)]],\"\")","v":""},{"$f":"IF(t_instalado[[#This Row],[Q.3]]<>\"\",SUMIFS(t_fluxo_lumin[fluxo],t_fluxo_lumin[tipo],t_instalado[[#This Row],[T.3]])*t_instalado[[#This Row],[Q.3]]*t_instalado[[#This Row],[P.3(W)]],\"\")","v":""},{"$f":"IF(t_instalado[[#This Row],[Trecho]]<>\"\",SUM(t_instalado[[#This Row],[f.1]:[f.3]]),\"\")","v":""},{"$f":"IF(t_instalado[[#This Row],[Trecho]]<>\"\",t_instalado[[#This Row],[Q.1]]+t_instalado[[#This Row],[Q.2]]+t_instalado[[#This Row],[Q.3]],\"\")","v":""},{"$f":"IF(t_instalado[[#This Row],[FLUXO]]<>\"\",ROUND(t_instalado[[#This Row],[FLUXO]]/t_instalado[[#This Row],[Luminárias]],0),\"\")","v":""},{"$f":"IF(t_instalado[[#This Row],[Luminárias]]<>\"\",ROUND(t_instalado[[#This Row],[lm_médio]]/t_instalado[[#This Row],[W_médio]],2),\"\")","v":""}]
[105,{"$f":"_xlfn.XLOOKUP(t_instalado[[#This Row],[cód.]],t_sitio[cód],t_sitio[Trecho],\"\")","v":""},null,null,null,null,null,null,null,null,null,null,{"$f":"t_instalado[[#This Row],[Q.1]]+t_instalado[[#This Row],[Q.2]]+t_instalado[[#This Row],[Q.3]]","v":0},{"$f":"t_instalado[[#This Row],[Q.1]]+t_instalado[[#This Row],[Q.2]]+t_instalado[[#This Row],[Q.3]]","v":0},{"$f":"IF(t_instalado[[#This Row],[Q.1]]<>\"\",SUMIFS(t_reator[p],t_reator[tipo],t_instalado[[#This Row],[T.1]],t_reator[w],t_instalado[[#This Row],[P.1(W)]]),\"\")","v":""},{"$f":"IF(t_instalado[[#This Row],[Q.2]]<>\"\",SUMIFS(t_reator[p],t_reator[tipo],t_instalado[[#This Row],[T.2]],t_reator[w],t_instalado[[#This Row],[P.2(W)]]),\"\")","v":""},{"$f":"IF(t_instalado[[#This Row],[Q.3]]<>\"\",SUMIFS(t_reator[p],t_reator[tipo],t_instalado[[#This Row],[T.3]],t_reator[w],t_instalado[[#This Row],[P.3(W)]]),\"\")","v":""},{"$f":"IF(t_instalado[[#This Row],[Q.1]]<>\"\",IFERROR(IFERROR(D339*(E339+O339)+G339*(H339+P339)+J339*(K339+Q339),D339*(E339+O339)+G339*(H339+P339)),D339*(E339+O339)),\"\")","v":""},{"$f":"IF(t_instalado[[#This Row],[Consumo_W]]<>\"\",ROUND(t_instalado[[#This Row],[Consumo_W]]/t_instalado[[#This Row],[Luminárias]],0),\"\")","v":""},{"$f":"IF(t_instalado[[#This Row],[Q.1]]<>\"\",SUMIFS(t_fluxo_lumin[fluxo],t_fluxo_lumin[tipo],t_instalado[[#This Row],[T.1]])*t_instalado[[#This Row],[P.1(W)]]*t_instalado[[#This Row],[Q.1]],\"\")","v":""},{"$f":"IF(t_instalado[[#This Row],[Q.2]]<>\"\",SUMIFS(t_fluxo_lumin[fluxo],t_fluxo_lumin[tipo],t_instalado[[#This Row],[T.2]])*t_instalado[[#This Row],[Q.2]]*t_instalado[[#This Row],[P.2(W)]],\"\")","v":""},{"$f":"IF(t_instalado[[#This Row],[Q.3]]<>\"\",SUMIFS(t_fluxo_lumin[fluxo],t_fluxo_lumin[tipo],t_instalado[[#This Row],[T.3]])*t_instalado[[#This Row],[Q.3]]*t_instalado[[#This Row],[P.3(W)]],\"\")","v":""},{"$f":"IF(t_instalado[[#This Row],[Trecho]]<>\"\",SUM(t_instalado[[#This Row],[f.1]:[f.3]]),\"\")","v":""},{"$f":"IF(t_instalado[[#This Row],[Trecho]]<>\"\",t_instalado[[#This Row],[Q.1]]+t_instalado[[#This Row],[Q.2]]+t_instalado[[#This Row],[Q.3]],\"\")","v":""},{"$f":"IF(t_instalado[[#This Row],[FLUXO]]<>\"\",ROUND(t_instalado[[#This Row],[FLUXO]]/t_instalado[[#This Row],[Luminárias]],0),\"\")","v":""},{"$f":"IF(t_instalado[[#This Row],[Luminárias]]<>\"\",ROUND(t_instalado[[#This Row],[lm_médio]]/t_instalado[[#This Row],[W_médio]],2),\"\")","v":""}]
[106,{"$f":"_xlfn.XLOOKUP(t_instalado[[#This Row],[cód.]],t_sitio[cód],t_sitio[Trecho],\"\")","v":""},null,null,null,null,null,null,null,null,null,null,{"$f":"t_instalado[[#This Row],[Q.1]]+t_instalado[[#This Row],[Q.2]]+t_instalado[[#This Row],[Q.3]]","v":0},{"$f":"t_instalado[[#This Row],[Q.1]]+t_instalado[[#This Row],[Q.2]]+t_instalado[[#This Row],[Q.3]]","v":0},{"$f":"IF(t_instalado[[#This Row],[Q.1]]<>\"\",SUMIFS(t_reator[p],t_reator[tipo],t_instalado[[#This Row],[T.1]],t_reator[w],t_instalado[[#This Row],[P.1(W)]]),\"\")","v":""},{"$f":"IF(t_instalado[[#This Row],[Q.2]]<>\"\",SUMIFS(t_reator[p],t_reator[tipo],t_instalado[[#This Row],[T.2]],t_reator[w],t_instalado[[#This Row],[P.2(W)]]),\"\")","v":""},{"$f":"IF(t_instalado[[#This Row],[Q.3]]<>\"\",SUMIFS(t_reator[p],t_reator[tipo],t_instalado[[#This Row],[T.3]],t_reator[w],t_instalado[[#This Row],[P.3(W)]]),\"\")","v":""},{"$f":"IF(t_instalado[[#This Row],[Q.1]]<>\"\",IFERROR(IFERROR(D340*(E340+O340)+G340*(H340+P340)+J340*(K340+Q340),D340*(E340+O340)+G340*(H340+P340)),D340*(E340+O340)),\"\")","v":""},{"$f":"IF(t_instalado[[#This Row],[Consumo_W]]<>\"\",ROUND(t_instalado[[#This Row],[Consumo_W]]/t_instalado[[#This Row],[Luminárias]],0),\"\")","v":""},{"$f":"IF(t_instalado[[#This Row],[Q.1]]<>\"\",SUMIFS(t_fluxo_lumin[fluxo],t_fluxo_lumin[tipo],t_instalado[[#This Row],[T.1]])*t_instalado[[#This Row],[P.1(W)]]*t_instalado[[#This Row],[Q.1]],\"\")","v":""},{"$f":"IF(t_instalado[[#This Row],[Q.2]]<>\"\",SUMIFS(t_fluxo_lumin[fluxo],t_fluxo_lumin[tipo],t_instalado[[#This Row],[T.2]])*t_instalado[[#This Row],[Q.2]]*t_instalado[[#This Row],[P.2(W)]],\"\")","v":""},{"$f":"IF(t_instalado[[#This Row],[Q.3]]<>\"\",SUMIFS(t_fluxo_lumin[fluxo],t_fluxo_lumin[tipo],t_instalado[[#This Row],[T.3]])*t_instalado[[#This Row],[Q.3]]*t_instalado[[#This Row],[P.3(W)]],\"\")","v":""},{"$f":"IF(t_instalado[[#This Row],[Trecho]]<>\"\",SUM(t_instalado[[#This Row],[f.1]:[f.3]]),\"\")","v":""},{"$f":"IF(t_instalado[[#This Row],[Trecho]]<>\"\",t_instalado[[#This Row],[Q.1]]+t_instalado[[#This Row],[Q.2]]+t_instalado[[#This Row],[Q.3]],\"\")","v":""},{"$f":"IF(t_instalado[[#This Row],[FLUXO]]<>\"\",ROUND(t_instalado[[#This Row],[FLUXO]]/t_instalado[[#This Row],[Luminárias]],0),\"\")","v":""},{"$f":"IF(t_instalado[[#This Row],[Luminárias]]<>\"\",ROUND(t_instalado[[#This Row],[lm_médio]]/t_instalado[[#This Row],[W_médio]],2),\"\")","v":""}]
[107,{"$f":"_xlfn.XLOOKUP(t_instalado[[#This Row],[cód.]],t_sitio[cód],t_sitio[Trecho],\"\")","v":""},null,null,null,null,null,null,null,null,null,null,{"$f":"t_instalado[[#This Row],[Q.1]]+t_instalado[[#This Row],[Q.2]]+t_instalado[[#This Row],[Q.3]]","v":0},{"$f":"t_instalado[[#This Row],[Q.1]]+t_instalado[[#This Row],[Q.2]]+t_instalado[[#This Row],[Q.3]]","v":0},{"$f":"IF(t_instalado[[#This Row],[Q.1]]<>\"\",SUMIFS(t_reator[p],t_reator[tipo],t_instalado[[#This Row],[T.1]],t_reator[w],t_instalado[[#This Row],[P.1(W)]]),\"\")","v":""},{"$f":"IF(t_instalado[[#This Row],[Q.2]]<>\"\",SUMIFS(t_reator[p],t_reator[tipo],t_instalado[[#This Row],[T.2]],t_reator[w],t_instalado[[#This Row],[P.2(W)]]),\"\")","v":""},{"$f":"IF(t_instalado[[#This Row],[Q.3]]<>\"\",SUMIFS(t_reator[p],t_reator[tipo],t_instalado[[#This Row],[T.3]],t_reator[w],t_instalado[[#This Row],[P.3(W)]]),\"\")","v":""},{"$f":"IF(t_instalado[[#This Row],[Q.1]]<>\"\",IFERROR(IFERROR(D341*(E341+O341)+G341*(H341+P341)+J341*(K341+Q341),D341*(E341+O341)+G341*(H341+P341)),D341*(E341+O341)),\"\")","v":""},{"$f":"IF(t_instalado[[#This Row],[Consumo_W]]<>\"\",ROUND(t_instalado[[#This Row],[Consumo_W]]/t_instalado[[#This Row],[Luminárias]],0),\"\")","v":""},{"$f":"IF(t_instalado[[#This Row],[Q.1]]<>\"\",SUMIFS(t_fluxo_lumin[fluxo],t_fluxo_lumin[tipo],t_instalado[[#This Row],[T.1]])*t_instalado[[#This Row],[P.1(W)]]*t_instalado[[#This Row],[Q.1]],\"\")","v":""},{"$f":"IF(t_instalado[[#This Row],[Q.2]]<>\"\",SUMIFS(t_fluxo_lumin[fluxo],t_fluxo_lumin[tipo],t_instalado[[#This Row],[T.2]])*t_instalado[[#This Row],[Q.2]]*t_instalado[[#This Row],[P.2(W)]],\"\")","v":""},{"$f":"IF(t_instalado[[#This Row],[Q.3]]<>\"\",SUMIFS(t_fluxo_lumin[fluxo],t_fluxo_lumin[tipo],t_instalado[[#This Row],[T.3]])*t_instalado[[#This Row],[Q.3]]*t_instalado[[#This Row],[P.3(W)]],\"\")","v":""},{"$f":"IF(t_instalado[[#This Row],[Trecho]]<>\"\",SUM(t_instalado[[#This Row],[f.1]:[f.3]]),\"\")","v":""},{"$f":"IF(t_instalado[[#This Row],[Trecho]]<>\"\",t_instalado[[#This Row],[Q.1]]+t_instalado[[#This Row],[Q.2]]+t_instalado[[#This Row],[Q.3]],\"\")","v":""},{"$f":"IF(t_instalado[[#This Row],[FLUXO]]<>\"\",ROUND(t_instalado[[#This Row],[FLUXO]]/t_instalado[[#This Row],[Luminárias]],0),\"\")","v":""},{"$f":"IF(t_instalado[[#This Row],[Luminárias]]<>\"\",ROUND(t_instalado[[#This Row],[lm_médio]]/t_instalado[[#This Row],[W_médio]],2),\"\")","v":""}]
[108,{"$f":"_xlfn.XLOOKUP(t_instalado[[#This Row],[cód.]],t_sitio[cód],t_sitio[Trecho],\"\")","v":""},null,null,null,null,null,null,null,null,null,null,{"$f":"t_instalado[[#This Row],[Q.1]]+t_instalado[[#This Row],[Q.2]]+t_instalado[[#This Row],[Q.3]]","v":0},{"$f":"t_instalado[[#This Row],[Q.1]]+t_instalado[[#This Row],[Q.2]]+t_instalado[[#This Row],[Q.3]]","v":0},{"$f":"IF(t_instalado[[#This Row],[Q.1]]<>\"\",SUMIFS(t_reator[p],t_reator[tipo],t_instalado[[#This Row],[T.1]],t_reator[w],t_instalado[[#This Row],[P.1(W)]]),\"\")","v":""},{"$f":"IF(t_instalado[[#This Row],[Q.2]]<>\"\",SUMIFS(t_reator[p],t_reator[tipo],t_instalado[[#This Row],[T.2]],t_reator[w],t_instalado[[#This Row],[P.2(W)]]),\"\")","v":""},{"$f":"IF(t_instalado[[#This Row],[Q.3]]<>\"\",SUMIFS(t_reator[p],t_reator[tipo],t_instalado[[#This Row],[T.3]],t_reator[w],t_instalado[[#This Row],[P.3(W)]]),\"\")","v":""},{"$f":"IF(t_instalado[[#This Row],[Q.1]]<>\"\",IFERROR(IFERROR(D342*(E342+O342)+G342*(H342+P342)+J342*(K342+Q342),D342*(E342+O342)+G342*(H342+P342)),D342*(E342+O342)),\"\")","v":""},{"$f":"IF(t_instalado[[#This Row],[Consumo_W]]<>\"\",ROUND(t_instalado[[#This Row],[Consumo_W]]/t_instalado[[#This Row],[Luminárias]],0),\"\")","v":""},{"$f":"IF(t_instalado[[#This Row],[Q.1]]<>\"\",SUMIFS(t_fluxo_lumin[fluxo],t_fluxo_lumin[tipo],t_instalado[[#This Row],[T.1]])*t_instalado[[#This Row],[P.1(W)]]*t_instalado[[#This Row],[Q.1]],\"\")","v":""},{"$f":"IF(t_instalado[[#This Row],[Q.2]]<>\"\",SUMIFS(t_fluxo_lumin[fluxo],t_fluxo_lumin[tipo],t_instalado[[#This Row],[T.2]])*t_instalado[[#This Row],[Q.2]]*t_instalado[[#This Row],[P.2(W)]],\"\")","v":""},{"$f":"IF(t_instalado[[#This Row],[Q.3]]<>\"\",SUMIFS(t_fluxo_lumin[fluxo],t_fluxo_lumin[tipo],t_instalado[[#This Row],[T.3]])*t_instalado[[#This Row],[Q.3]]*t_instalado[[#This Row],[P.3(W)]],\"\")","v":""},{"$f":"IF(t_instalado[[#This Row],[Trecho]]<>\"\",SUM(t_instalado[[#This Row],[f.1]:[f.3]]),\"\")","v":""},{"$f":"IF(t_instalado[[#This Row],[Trecho]]<>\"\",t_instalado[[#This Row],[Q.1]]+t_instalado[[#This Row],[Q.2]]+t_instalado[[#This Row],[Q.3]],\"\")","v":""},{"$f":"IF(t_instalado[[#This Row],[FLUXO]]<>\"\",ROUND(t_instalado[[#This Row],[FLUXO]]/t_instalado[[#This Row],[Luminárias]],0),\"\")","v":""},{"$f":"IF(t_instalado[[#This Row],[Luminárias]]<>\"\",ROUND(t_instalado[[#This Row],[lm_médio]]/t_instalado[[#This Row],[W_médio]],2),\"\")","v":""}]
[109,{"$f":"_xlfn.XLOOKUP(t_instalado[[#This Row],[cód.]],t_sitio[cód],t_sitio[Trecho],\"\")","v":""},null,null,null,null,null,null,null,null,null,null,{"$f":"t_instalado[[#This Row],[Q.1]]+t_instalado[[#This Row],[Q.2]]+t_instalado[[#This Row],[Q.3]]","v":0},{"$f":"t_instalado[[#This Row],[Q.1]]+t_instalado[[#This Row],[Q.2]]+t_instalado[[#This Row],[Q.3]]","v":0},{"$f":"IF(t_instalado[[#This Row],[Q.1]]<>\"\",SUMIFS(t_reator[p],t_reator[tipo],t_instalado[[#This Row],[T.1]],t_reator[w],t_instalado[[#This Row],[P.1(W)]]),\"\")","v":""},{"$f":"IF(t_instalado[[#This Row],[Q.2]]<>\"\",SUMIFS(t_reator[p],t_reator[tipo],t_instalado[[#This Row],[T.2]],t_reator[w],t_instalado[[#This Row],[P.2(W)]]),\"\")","v":""},{"$f":"IF(t_instalado[[#This Row],[Q.3]]<>\"\",SUMIFS(t_reator[p],t_reator[tipo],t_instalado[[#This Row],[T.3]],t_reator[w],t_instalado[[#This Row],[P.3(W)]]),\"\")","v":""},{"$f":"IF(t_instalado[[#This Row],[Q.1]]<>\"\",IFERROR(IFERROR(D343*(E343+O343)+G343*(H343+P343)+J343*(K343+Q343),D343*(E343+O343)+G343*(H343+P343)),D343*(E343+O343)),\"\")","v":""},{"$f":"IF(t_instalado[[#This Row],[Consumo_W]]<>\"\",ROUND(t_instalado[[#This Row],[Consumo_W]]/t_instalado[[#This Row],[Luminárias]],0),\"\")","v":""},{"$f":"IF(t_instalado[[#This Row],[Q.1]]<>\"\",SUMIFS(t_fluxo_lumin[fluxo],t_fluxo_lumin[tipo],t_instalado[[#This Row],[T.1]])*t_instalado[[#This Row],[P.1(W)]]*t_instalado[[#This Row],[Q.1]],\"\")","v":""},{"$f":"IF(t_instalado[[#This Row],[Q.2]]<>\"\",SUMIFS(t_fluxo_lumin[fluxo],t_fluxo_lumin[tipo],t_instalado[[#This Row],[T.2]])*t_instalado[[#This Row],[Q.2]]*t_instalado[[#This Row],[P.2(W)]],\"\")","v":""},{"$f":"IF(t_instalado[[#This Row],[Q.3]]<>\"\",SUMIFS(t_fluxo_lumin[fluxo],t_fluxo_lumin[tipo],t_instalado[[#This Row],[T.3]])*t_instalado[[#This Row],[Q.3]]*t_instalado[[#This Row],[P.3(W)]],\"\")","v":""},{"$f":"IF(t_instalado[[#This Row],[Trecho]]<>\"\",SUM(t_instalado[[#This Row],[f.1]:[f.3]]),\"\")","v":""},{"$f":"IF(t_instalado[[#This Row],[Trecho]]<>\"\",t_instalado[[#This Row],[Q.1]]+t_instalado[[#This Row],[Q.2]]+t_instalado[[#This Row],[Q.3]],\"\")","v":""},{"$f":"IF(t_instalado[[#This Row],[FLUXO]]<>\"\",ROUND(t_instalado[[#This Row],[FLUXO]]/t_instalado[[#This Row],[Luminárias]],0),\"\")","v":""},{"$f":"IF(t_instalado[[#This Row],[Luminárias]]<>\"\",ROUND(t_instalado[[#This Row],[lm_médio]]/t_instalado[[#This Row],[W_médio]],2),\"\")","v":""}]
[110,{"$f":"_xlfn.XLOOKUP(t_instalado[[#This Row],[cód.]],t_sitio[cód],t_sitio[Trecho],\"\")","v":""},null,null,null,null,null,null,null,null,null,null,{"$f":"t_instalado[[#This Row],[Q.1]]+t_instalado[[#This Row],[Q.2]]+t_instalado[[#This Row],[Q.3]]","v":0},{"$f":"t_instalado[[#This Row],[Q.1]]+t_instalado[[#This Row],[Q.2]]+t_instalado[[#This Row],[Q.3]]","v":0},{"$f":"IF(t_instalado[[#This Row],[Q.1]]<>\"\",SUMIFS(t_reator[p],t_reator[tipo],t_instalado[[#This Row],[T.1]],t_reator[w],t_instalado[[#This Row],[P.1(W)]]),\"\")","v":""},{"$f":"IF(t_instalado[[#This Row],[Q.2]]<>\"\",SUMIFS(t_reator[p],t_reator[tipo],t_instalado[[#This Row],[T.2]],t_reator[w],t_instalado[[#This Row],[P.2(W)]]),\"\")","v":""},{"$f":"IF(t_instalado[[#This Row],[Q.3]]<>\"\",SUMIFS(t_reator[p],t_reator[tipo],t_instalado[[#This Row],[T.3]],t_reator[w],t_instalado[[#This Row],[P.3(W)]]),\"\")","v":""},{"$f":"IF(t_instalado[[#This Row],[Q.1]]<>\"\",IFERROR(IFERROR(D344*(E344+O344)+G344*(H344+P344)+J344*(K344+Q344),D344*(E344+O344)+G344*(H344+P344)),D344*(E344+O344)),\"\")","v":""},{"$f":"IF(t_instalado[[#This Row],[Consumo_W]]<>\"\",ROUND(t_instalado[[#This Row],[Consumo_W]]/t_instalado[[#This Row],[Luminárias]],0),\"\")","v":""},{"$f":"IF(t_instalado[[#This Row],[Q.1]]<>\"\",SUMIFS(t_fluxo_lumin[fluxo],t_fluxo_lumin[tipo],t_instalado[[#This Row],[T.1]])*t_instalado[[#This Row],[P.1(W)]]*t_instalado[[#This Row],[Q.1]],\"\")","v":""},{"$f":"IF(t_instalado[[#This Row],[Q.2]]<>\"\",SUMIFS(t_fluxo_lumin[fluxo],t_fluxo_lumin[tipo],t_instalado[[#This Row],[T.2]])*t_instalado[[#This Row],[Q.2]]*t_instalado[[#This Row],[P.2(W)]],\"\")","v":""},{"$f":"IF(t_instalado[[#This Row],[Q.3]]<>\"\",SUMIFS(t_fluxo_lumin[fluxo],t_fluxo_lumin[tipo],t_instalado[[#This Row],[T.3]])*t_instalado[[#This Row],[Q.3]]*t_instalado[[#This Row],[P.3(W)]],\"\")","v":""},{"$f":"IF(t_instalado[[#This Row],[Trecho]]<>\"\",SUM(t_instalado[[#This Row],[f.1]:[f.3]]),\"\")","v":""},{"$f":"IF(t_instalado[[#This Row],[Trecho]]<>\"\",t_instalado[[#This Row],[Q.1]]+t_instalado[[#This Row],[Q.2]]+t_instalado[[#This Row],[Q.3]],\"\")","v":""},{"$f":"IF(t_instalado[[#This Row],[FLUXO]]<>\"\",ROUND(t_instalado[[#This Row],[FLUXO]]/t_instalado[[#This Row],[Luminárias]],0),\"\")","v":""},{"$f":"IF(t_instalado[[#This Row],[Luminárias]]<>\"\",ROUND(t_instalado[[#This Row],[lm_médio]]/t_instalado[[#This Row],[W_médio]],2),\"\")","v":""}]
[111,{"$f":"_xlfn.XLOOKUP(t_instalado[[#This Row],[cód.]],t_sitio[cód],t_sitio[Trecho],\"\")","v":""},null,null,null,null,null,null,null,null,null,null,{"$f":"t_instalado[[#This Row],[Q.1]]+t_instalado[[#This Row],[Q.2]]+t_instalado[[#This Row],[Q.3]]","v":0},{"$f":"t_instalado[[#This Row],[Q.1]]+t_instalado[[#This Row],[Q.2]]+t_instalado[[#This Row],[Q.3]]","v":0},{"$f":"IF(t_instalado[[#This Row],[Q.1]]<>\"\",SUMIFS(t_reator[p],t_reator[tipo],t_instalado[[#This Row],[T.1]],t_reator[w],t_instalado[[#This Row],[P.1(W)]]),\"\")","v":""},{"$f":"IF(t_instalado[[#This Row],[Q.2]]<>\"\",SUMIFS(t_reator[p],t_reator[tipo],t_instalado[[#This Row],[T.2]],t_reator[w],t_instalado[[#This Row],[P.2(W)]]),\"\")","v":""},{"$f":"IF(t_instalado[[#This Row],[Q.3]]<>\"\",SUMIFS(t_reator[p],t_reator[tipo],t_instalado[[#This Row],[T.3]],t_reator[w],t_instalado[[#This Row],[P.3(W)]]),\"\")","v":""},{"$f":"IF(t_instalado[[#This Row],[Q.1]]<>\"\",IFERROR(IFERROR(D345*(E345+O345)+G345*(H345+P345)+J345*(K345+Q345),D345*(E345+O345)+G345*(H345+P345)),D345*(E345+O345)),\"\")","v":""},{"$f":"IF(t_instalado[[#This Row],[Consumo_W]]<>\"\",ROUND(t_instalado[[#This Row],[Consumo_W]]/t_instalado[[#This Row],[Luminárias]],0),\"\")","v":""},{"$f":"IF(t_instalado[[#This Row],[Q.1]]<>\"\",SUMIFS(t_fluxo_lumin[fluxo],t_fluxo_lumin[tipo],t_instalado[[#This Row],[T.1]])*t_instalado[[#This Row],[P.1(W)]]*t_instalado[[#This Row],[Q.1]],\"\")","v":""},{"$f":"IF(t_instalado[[#This Row],[Q.2]]<>\"\",SUMIFS(t_fluxo_lumin[fluxo],t_fluxo_lumin[tipo],t_instalado[[#This Row],[T.2]])*t_instalado[[#This Row],[Q.2]]*t_instalado[[#This Row],[P.2(W)]],\"\")","v":""},{"$f":"IF(t_instalado[[#This Row],[Q.3]]<>\"\",SUMIFS(t_fluxo_lumin[fluxo],t_fluxo_lumin[tipo],t_instalado[[#This Row],[T.3]])*t_instalado[[#This Row],[Q.3]]*t_instalado[[#This Row],[P.3(W)]],\"\")","v":""},{"$f":"IF(t_instalado[[#This Row],[Trecho]]<>\"\",SUM(t_instalado[[#This Row],[f.1]:[f.3]]),\"\")","v":""},{"$f":"IF(t_instalado[[#This Row],[Trecho]]<>\"\",t_instalado[[#This Row],[Q.1]]+t_instalado[[#This Row],[Q.2]]+t_instalado[[#This Row],[Q.3]],\"\")","v":""},{"$f":"IF(t_instalado[[#This Row],[FLUXO]]<>\"\",ROUND(t_instalado[[#This Row],[FLUXO]]/t_instalado[[#This Row],[Luminárias]],0),\"\")","v":""},{"$f":"IF(t_instalado[[#This Row],[Luminárias]]<>\"\",ROUND(t_instalado[[#This Row],[lm_médio]]/t_instalado[[#This Row],[W_médio]],2),\"\")","v":""}]
[112,{"$f":"_xlfn.XLOOKUP(t_instalado[[#This Row],[cód.]],t_sitio[cód],t_sitio[Trecho],\"\")","v":""},null,null,null,null,null,null,null,null,null,null,{"$f":"t_instalado[[#This Row],[Q.1]]+t_instalado[[#This Row],[Q.2]]+t_instalado[[#This Row],[Q.3]]","v":0},{"$f":"t_instalado[[#This Row],[Q.1]]+t_instalado[[#This Row],[Q.2]]+t_instalado[[#This Row],[Q.3]]","v":0},{"$f":"IF(t_instalado[[#This Row],[Q.1]]<>\"\",SUMIFS(t_reator[p],t_reator[tipo],t_instalado[[#This Row],[T.1]],t_reator[w],t_instalado[[#This Row],[P.1(W)]]),\"\")","v":""},{"$f":"IF(t_instalado[[#This Row],[Q.2]]<>\"\",SUMIFS(t_reator[p],t_reator[tipo],t_instalado[[#This Row],[T.2]],t_reator[w],t_instalado[[#This Row],[P.2(W)]]),\"\")","v":""},{"$f":"IF(t_instalado[[#This Row],[Q.3]]<>\"\",SUMIFS(t_reator[p],t_reator[tipo],t_instalado[[#This Row],[T.3]],t_reator[w],t_instalado[[#This Row],[P.3(W)]]),\"\")","v":""},{"$f":"IF(t_instalado[[#This Row],[Q.1]]<>\"\",IFERROR(IFERROR(D346*(E346+O346)+G346*(H346+P346)+J346*(K346+Q346),D346*(E346+O346)+G346*(H346+P346)),D346*(E346+O346)),\"\")","v":""},{"$f":"IF(t_instalado[[#This Row],[Consumo_W]]<>\"\",ROUND(t_instalado[[#This Row],[Consumo_W]]/t_instalado[[#This Row],[Luminárias]],0),\"\")","v":""},{"$f":"IF(t_instalado[[#This Row],[Q.1]]<>\"\",SUMIFS(t_fluxo_lumin[fluxo],t_fluxo_lumin[tipo],t_instalado[[#This Row],[T.1]])*t_instalado[[#This Row],[P.1(W)]]*t_instalado[[#This Row],[Q.1]],\"\")","v":""},{"$f":"IF(t_instalado[[#This Row],[Q.2]]<>\"\",SUMIFS(t_fluxo_lumin[fluxo],t_fluxo_lumin[tipo],t_instalado[[#This Row],[T.2]])*t_instalado[[#This Row],[Q.2]]*t_instalado[[#This Row],[P.2(W)]],\"\")","v":""},{"$f":"IF(t_instalado[[#This Row],[Q.3]]<>\"\",SUMIFS(t_fluxo_lumin[fluxo],t_fluxo_lumin[tipo],t_instalado[[#This Row],[T.3]])*t_instalado[[#This Row],[Q.3]]*t_instalado[[#This Row],[P.3(W)]],\"\")","v":""},{"$f":"IF(t_instalado[[#This Row],[Trecho]]<>\"\",SUM(t_instalado[[#This Row],[f.1]:[f.3]]),\"\")","v":""},{"$f":"IF(t_instalado[[#This Row],[Trecho]]<>\"\",t_instalado[[#This Row],[Q.1]]+t_instalado[[#This Row],[Q.2]]+t_instalado[[#This Row],[Q.3]],\"\")","v":""},{"$f":"IF(t_instalado[[#This Row],[FLUXO]]<>\"\",ROUND(t_instalado[[#This Row],[FLUXO]]/t_instalado[[#This Row],[Luminárias]],0),\"\")","v":""},{"$f":"IF(t_instalado[[#This Row],[Luminárias]]<>\"\",ROUND(t_instalado[[#This Row],[lm_médio]]/t_instalado[[#This Row],[W_médio]],2),\"\")","v":""}]
[113,{"$f":"_xlfn.XLOOKUP(t_instalado[[#This Row],[cód.]],t_sitio[cód],t_sitio[Trecho],\"\")","v":""},null,null,null,null,null,null,null,null,null,null,{"$f":"t_instalado[[#This Row],[Q.1]]+t_instalado[[#This Row],[Q.2]]+t_instalado[[#This Row],[Q.3]]","v":0},{"$f":"t_instalado[[#This Row],[Q.1]]+t_instalado[[#This Row],[Q.2]]+t_instalado[[#This Row],[Q.3]]","v":0},{"$f":"IF(t_instalado[[#This Row],[Q.1]]<>\"\",SUMIFS(t_reator[p],t_reator[tipo],t_instalado[[#This Row],[T.1]],t_reator[w],t_instalado[[#This Row],[P.1(W)]]),\"\")","v":""},{"$f":"IF(t_instalado[[#This Row],[Q.2]]<>\"\",SUMIFS(t_reator[p],t_reator[tipo],t_instalado[[#This Row],[T.2]],t_reator[w],t_instalado[[#This Row],[P.2(W)]]),\"\")","v":""},{"$f":"IF(t_instalado[[#This Row],[Q.3]]<>\"\",SUMIFS(t_reator[p],t_reator[tipo],t_instalado[[#This Row],[T.3]],t_reator[w],t_instalado[[#This Row],[P.3(W)]]),\"\")","v":""},{"$f":"IF(t_instalado[[#This Row],[Q.1]]<>\"\",IFERROR(IFERROR(D347*(E347+O347)+G347*(H347+P347)+J347*(K347+Q347),D347*(E347+O347)+G347*(H347+P347)),D347*(E347+O347)),\"\")","v":""},{"$f":"IF(t_instalado[[#This Row],[Consumo_W]]<>\"\",ROUND(t_instalado[[#This Row],[Consumo_W]]/t_instalado[[#This Row],[Luminárias]],0),\"\")","v":""},{"$f":"IF(t_instalado[[#This Row],[Q.1]]<>\"\",SUMIFS(t_fluxo_lumin[fluxo],t_fluxo_lumin[tipo],t_instalado[[#This Row],[T.1]])*t_instalado[[#This Row],[P.1(W)]]*t_instalado[[#This Row],[Q.1]],\"\")","v":""},{"$f":"IF(t_instalado[[#This Row],[Q.2]]<>\"\",SUMIFS(t_fluxo_lumin[fluxo],t_fluxo_lumin[tipo],t_instalado[[#This Row],[T.2]])*t_instalado[[#This Row],[Q.2]]*t_instalado[[#This Row],[P.2(W)]],\"\")","v":""},{"$f":"IF(t_instalado[[#This Row],[Q.3]]<>\"\",SUMIFS(t_fluxo_lumin[fluxo],t_fluxo_lumin[tipo],t_instalado[[#This Row],[T.3]])*t_instalado[[#This Row],[Q.3]]*t_instalado[[#This Row],[P.3(W)]],\"\")","v":""},{"$f":"IF(t_instalado[[#This Row],[Trecho]]<>\"\",SUM(t_instalado[[#This Row],[f.1]:[f.3]]),\"\")","v":""},{"$f":"IF(t_instalado[[#This Row],[Trecho]]<>\"\",t_instalado[[#This Row],[Q.1]]+t_instalado[[#This Row],[Q.2]]+t_instalado[[#This Row],[Q.3]],\"\")","v":""},{"$f":"IF(t_instalado[[#This Row],[FLUXO]]<>\"\",ROUND(t_instalado[[#This Row],[FLUXO]]/t_instalado[[#This Row],[Luminárias]],0),\"\")","v":""},{"$f":"IF(t_instalado[[#This Row],[Luminárias]]<>\"\",ROUND(t_instalado[[#This Row],[lm_médio]]/t_instalado[[#This Row],[W_médio]],2),\"\")","v":""}]
[114,{"$f":"_xlfn.XLOOKUP(t_instalado[[#This Row],[cód.]],t_sitio[cód],t_sitio[Trecho],\"\")","v":""},null,null,null,null,null,null,null,null,null,null,{"$f":"t_instalado[[#This Row],[Q.1]]+t_instalado[[#This Row],[Q.2]]+t_instalado[[#This Row],[Q.3]]","v":0},{"$f":"t_instalado[[#This Row],[Q.1]]+t_instalado[[#This Row],[Q.2]]+t_instalado[[#This Row],[Q.3]]","v":0},{"$f":"IF(t_instalado[[#This Row],[Q.1]]<>\"\",SUMIFS(t_reator[p],t_reator[tipo],t_instalado[[#This Row],[T.1]],t_reator[w],t_instalado[[#This Row],[P.1(W)]]),\"\")","v":""},{"$f":"IF(t_instalado[[#This Row],[Q.2]]<>\"\",SUMIFS(t_reator[p],t_reator[tipo],t_instalado[[#This Row],[T.2]],t_reator[w],t_instalado[[#This Row],[P.2(W)]]),\"\")","v":""},{"$f":"IF(t_instalado[[#This Row],[Q.3]]<>\"\",SUMIFS(t_reator[p],t_reator[tipo],t_instalado[[#This Row],[T.3]],t_reator[w],t_instalado[[#This Row],[P.3(W)]]),\"\")","v":""},{"$f":"IF(t_instalado[[#This Row],[Q.1]]<>\"\",IFERROR(IFERROR(D348*(E348+O348)+G348*(H348+P348)+J348*(K348+Q348),D348*(E348+O348)+G348*(H348+P348)),D348*(E348+O348)),\"\")","v":""},{"$f":"IF(t_instalado[[#This Row],[Consumo_W]]<>\"\",ROUND(t_instalado[[#This Row],[Consumo_W]]/t_instalado[[#This Row],[Luminárias]],0),\"\")","v":""},{"$f":"IF(t_instalado[[#This Row],[Q.1]]<>\"\",SUMIFS(t_fluxo_lumin[fluxo],t_fluxo_lumin[tipo],t_instalado[[#This Row],[T.1]])*t_instalado[[#This Row],[P.1(W)]]*t_instalado[[#This Row],[Q.1]],\"\")","v":""},{"$f":"IF(t_instalado[[#This Row],[Q.2]]<>\"\",SUMIFS(t_fluxo_lumin[fluxo],t_fluxo_lumin[tipo],t_instalado[[#This Row],[T.2]])*t_instalado[[#This Row],[Q.2]]*t_instalado[[#This Row],[P.2(W)]],\"\")","v":""},{"$f":"IF(t_instalado[[#This Row],[Q.3]]<>\"\",SUMIFS(t_fluxo_lumin[fluxo],t_fluxo_lumin[tipo],t_instalado[[#This Row],[T.3]])*t_instalado[[#This Row],[Q.3]]*t_instalado[[#This Row],[P.3(W)]],\"\")","v":""},{"$f":"IF(t_instalado[[#This Row],[Trecho]]<>\"\",SUM(t_instalado[[#This Row],[f.1]:[f.3]]),\"\")","v":""},{"$f":"IF(t_instalado[[#This Row],[Trecho]]<>\"\",t_instalado[[#This Row],[Q.1]]+t_instalado[[#This Row],[Q.2]]+t_instalado[[#This Row],[Q.3]],\"\")","v":""},{"$f":"IF(t_instalado[[#This Row],[FLUXO]]<>\"\",ROUND(t_instalado[[#This Row],[FLUXO]]/t_instalado[[#This Row],[Luminárias]],0),\"\")","v":""},{"$f":"IF(t_instalado[[#This Row],[Luminárias]]<>\"\",ROUND(t_instalado[[#This Row],[lm_médio]]/t_instalado[[#This Row],[W_médio]],2),\"\")","v":""}]
[115,{"$f":"_xlfn.XLOOKUP(t_instalado[[#This Row],[cód.]],t_sitio[cód],t_sitio[Trecho],\"\")","v":""},null,null,null,null,null,null,null,null,null,null,{"$f":"t_instalado[[#This Row],[Q.1]]+t_instalado[[#This Row],[Q.2]]+t_instalado[[#This Row],[Q.3]]","v":0},{"$f":"t_instalado[[#This Row],[Q.1]]+t_instalado[[#This Row],[Q.2]]+t_instalado[[#This Row],[Q.3]]","v":0},{"$f":"IF(t_instalado[[#This Row],[Q.1]]<>\"\",SUMIFS(t_reator[p],t_reator[tipo],t_instalado[[#This Row],[T.1]],t_reator[w],t_instalado[[#This Row],[P.1(W)]]),\"\")","v":""},{"$f":"IF(t_instalado[[#This Row],[Q.2]]<>\"\",SUMIFS(t_reator[p],t_reator[tipo],t_instalado[[#This Row],[T.2]],t_reator[w],t_instalado[[#This Row],[P.2(W)]]),\"\")","v":""},{"$f":"IF(t_instalado[[#This Row],[Q.3]]<>\"\",SUMIFS(t_reator[p],t_reator[tipo],t_instalado[[#This Row],[T.3]],t_reator[w],t_instalado[[#This Row],[P.3(W)]]),\"\")","v":""},{"$f":"IF(t_instalado[[#This Row],[Q.1]]<>\"\",IFERROR(IFERROR(D349*(E349+O349)+G349*(H349+P349)+J349*(K349+Q349),D349*(E349+O349)+G349*(H349+P349)),D349*(E349+O349)),\"\")","v":""},{"$f":"IF(t_instalado[[#This Row],[Consumo_W]]<>\"\",ROUND(t_instalado[[#This Row],[Consumo_W]]/t_instalado[[#This Row],[Luminárias]],0),\"\")","v":""},{"$f":"IF(t_instalado[[#This Row],[Q.1]]<>\"\",SUMIFS(t_fluxo_lumin[fluxo],t_fluxo_lumin[tipo],t_instalado[[#This Row],[T.1]])*t_instalado[[#This Row],[P.1(W)]]*t_instalado[[#This Row],[Q.1]],\"\")","v":""},{"$f":"IF(t_instalado[[#This Row],[Q.2]]<>\"\",SUMIFS(t_fluxo_lumin[fluxo],t_fluxo_lumin[tipo],t_instalado[[#This Row],[T.2]])*t_instalado[[#This Row],[Q.2]]*t_instalado[[#This Row],[P.2(W)]],\"\")","v":""},{"$f":"IF(t_instalado[[#This Row],[Q.3]]<>\"\",SUMIFS(t_fluxo_lumin[fluxo],t_fluxo_lumin[tipo],t_instalado[[#This Row],[T.3]])*t_instalado[[#This Row],[Q.3]]*t_instalado[[#This Row],[P.3(W)]],\"\")","v":""},{"$f":"IF(t_instalado[[#This Row],[Trecho]]<>\"\",SUM(t_instalado[[#This Row],[f.1]:[f.3]]),\"\")","v":""},{"$f":"IF(t_instalado[[#This Row],[Trecho]]<>\"\",t_instalado[[#This Row],[Q.1]]+t_instalado[[#This Row],[Q.2]]+t_instalado[[#This Row],[Q.3]],\"\")","v":""},{"$f":"IF(t_instalado[[#This Row],[FLUXO]]<>\"\",ROUND(t_instalado[[#This Row],[FLUXO]]/t_instalado[[#This Row],[Luminárias]],0),\"\")","v":""},{"$f":"IF(t_instalado[[#This Row],[Luminárias]]<>\"\",ROUND(t_instalado[[#This Row],[lm_médio]]/t_instalado[[#This Row],[W_médio]],2),\"\")","v":""}]
[116,{"$f":"_xlfn.XLOOKUP(t_instalado[[#This Row],[cód.]],t_sitio[cód],t_sitio[Trecho],\"\")","v":""},null,null,null,null,null,null,null,null,null,null,{"$f":"t_instalado[[#This Row],[Q.1]]+t_instalado[[#This Row],[Q.2]]+t_instalado[[#This Row],[Q.3]]","v":0},{"$f":"t_instalado[[#This Row],[Q.1]]+t_instalado[[#This Row],[Q.2]]+t_instalado[[#This Row],[Q.3]]","v":0},{"$f":"IF(t_instalado[[#This Row],[Q.1]]<>\"\",SUMIFS(t_reator[p],t_reator[tipo],t_instalado[[#This Row],[T.1]],t_reator[w],t_instalado[[#This Row],[P.1(W)]]),\"\")","v":""},{"$f":"IF(t_instalado[[#This Row],[Q.2]]<>\"\",SUMIFS(t_reator[p],t_reator[tipo],t_instalado[[#This Row],[T.2]],t_reator[w],t_instalado[[#This Row],[P.2(W)]]),\"\")","v":""},{"$f":"IF(t_instalado[[#This Row],[Q.3]]<>\"\",SUMIFS(t_reator[p],t_reator[tipo],t_instalado[[#This Row],[T.3]],t_reator[w],t_instalado[[#This Row],[P.3(W)]]),\"\")","v":""},{"$f":"IF(t_instalado[[#This Row],[Q.1]]<>\"\",IFERROR(IFERROR(D350*(E350+O350)+G350*(H350+P350)+J350*(K350+Q350),D350*(E350+O350)+G350*(H350+P350)),D350*(E350+O350)),\"\")","v":""},{"$f":"IF(t_instalado[[#This Row],[Consumo_W]]<>\"\",ROUND(t_instalado[[#This Row],[Consumo_W]]/t_instalado[[#This Row],[Luminárias]],0),\"\")","v":""},{"$f":"IF(t_instalado[[#This Row],[Q.1]]<>\"\",SUMIFS(t_fluxo_lumin[fluxo],t_fluxo_lumin[tipo],t_instalado[[#This Row],[T.1]])*t_instalado[[#This Row],[P.1(W)]]*t_instalado[[#This Row],[Q.1]],\"\")","v":""},{"$f":"IF(t_instalado[[#This Row],[Q.2]]<>\"\",SUMIFS(t_fluxo_lumin[fluxo],t_fluxo_lumin[tipo],t_instalado[[#This Row],[T.2]])*t_instalado[[#This Row],[Q.2]]*t_instalado[[#This Row],[P.2(W)]],\"\")","v":""},{"$f":"IF(t_instalado[[#This Row],[Q.3]]<>\"\",SUMIFS(t_fluxo_lumin[fluxo],t_fluxo_lumin[tipo],t_instalado[[#This Row],[T.3]])*t_instalado[[#This Row],[Q.3]]*t_instalado[[#This Row],[P.3(W)]],\"\")","v":""},{"$f":"IF(t_instalado[[#This Row],[Trecho]]<>\"\",SUM(t_instalado[[#This Row],[f.1]:[f.3]]),\"\")","v":""},{"$f":"IF(t_instalado[[#This Row],[Trecho]]<>\"\",t_instalado[[#This Row],[Q.1]]+t_instalado[[#This Row],[Q.2]]+t_instalado[[#This Row],[Q.3]],\"\")","v":""},{"$f":"IF(t_instalado[[#This Row],[FLUXO]]<>\"\",ROUND(t_instalado[[#This Row],[FLUXO]]/t_instalado[[#This Row],[Luminárias]],0),\"\")","v":""},{"$f":"IF(t_instalado[[#This Row],[Luminárias]]<>\"\",ROUND(t_instalado[[#This Row],[lm_médio]]/t_instalado[[#This Row],[W_médio]],2),\"\")","v":""}]
[117,{"$f":"_xlfn.XLOOKUP(t_instalado[[#This Row],[cód.]],t_sitio[cód],t_sitio[Trecho],\"\")","v":""},null,null,null,null,null,null,null,null,null,null,{"$f":"t_instalado[[#This Row],[Q.1]]+t_instalado[[#This Row],[Q.2]]+t_instalado[[#This Row],[Q.3]]","v":0},{"$f":"t_instalado[[#This Row],[Q.1]]+t_instalado[[#This Row],[Q.2]]+t_instalado[[#This Row],[Q.3]]","v":0},{"$f":"IF(t_instalado[[#This Row],[Q.1]]<>\"\",SUMIFS(t_reator[p],t_reator[tipo],t_instalado[[#This Row],[T.1]],t_reator[w],t_instalado[[#This Row],[P.1(W)]]),\"\")","v":""},{"$f":"IF(t_instalado[[#This Row],[Q.2]]<>\"\",SUMIFS(t_reator[p],t_reator[tipo],t_instalado[[#This Row],[T.2]],t_reator[w],t_instalado[[#This Row],[P.2(W)]]),\"\")","v":""},{"$f":"IF(t_instalado[[#This Row],[Q.3]]<>\"\",SUMIFS(t_reator[p],t_reator[tipo],t_instalado[[#This Row],[T.3]],t_reator[w],t_instalado[[#This Row],[P.3(W)]]),\"\")","v":""},{"$f":"IF(t_instalado[[#This Row],[Q.1]]<>\"\",IFERROR(IFERROR(D351*(E351+O351)+G351*(H351+P351)+J351*(K351+Q351),D351*(E351+O351)+G351*(H351+P351)),D351*(E351+O351)),\"\")","v":""},{"$f":"IF(t_instalado[[#This Row],[Consumo_W]]<>\"\",ROUND(t_instalado[[#This Row],[Consumo_W]]/t_instalado[[#This Row],[Luminárias]],0),\"\")","v":""},{"$f":"IF(t_instalado[[#This Row],[Q.1]]<>\"\",SUMIFS(t_fluxo_lumin[fluxo],t_fluxo_lumin[tipo],t_instalado[[#This Row],[T.1]])*t_instalado[[#This Row],[P.1(W)]]*t_instalado[[#This Row],[Q.1]],\"\")","v":""},{"$f":"IF(t_instalado[[#This Row],[Q.2]]<>\"\",SUMIFS(t_fluxo_lumin[fluxo],t_fluxo_lumin[tipo],t_instalado[[#This Row],[T.2]])*t_instalado[[#This Row],[Q.2]]*t_instalado[[#This Row],[P.2(W)]],\"\")","v":""},{"$f":"IF(t_instalado[[#This Row],[Q.3]]<>\"\",SUMIFS(t_fluxo_lumin[fluxo],t_fluxo_lumin[tipo],t_instalado[[#This Row],[T.3]])*t_instalado[[#This Row],[Q.3]]*t_instalado[[#This Row],[P.3(W)]],\"\")","v":""},{"$f":"IF(t_instalado[[#This Row],[Trecho]]<>\"\",SUM(t_instalado[[#This Row],[f.1]:[f.3]]),\"\")","v":""},{"$f":"IF(t_instalado[[#This Row],[Trecho]]<>\"\",t_instalado[[#This Row],[Q.1]]+t_instalado[[#This Row],[Q.2]]+t_instalado[[#This Row],[Q.3]],\"\")","v":""},{"$f":"IF(t_instalado[[#This Row],[FLUXO]]<>\"\",ROUND(t_instalado[[#This Row],[FLUXO]]/t_instalado[[#This Row],[Luminárias]],0),\"\")","v":""},{"$f":"IF(t_instalado[[#This Row],[Luminárias]]<>\"\",ROUND(t_instalado[[#This Row],[lm_médio]]/t_instalado[[#This Row],[W_médio]],2),\"\")","v":""}]
[118,{"$f":"_xlfn.XLOOKUP(t_instalado[[#This Row],[cód.]],t_sitio[cód],t_sitio[Trecho],\"\")","v":""},null,null,null,null,null,null,null,null,null,null,{"$f":"t_instalado[[#This Row],[Q.1]]+t_instalado[[#This Row],[Q.2]]+t_instalado[[#This Row],[Q.3]]","v":0},{"$f":"t_instalado[[#This Row],[Q.1]]+t_instalado[[#This Row],[Q.2]]+t_instalado[[#This Row],[Q.3]]","v":0},{"$f":"IF(t_instalado[[#This Row],[Q.1]]<>\"\",SUMIFS(t_reator[p],t_reator[tipo],t_instalado[[#This Row],[T.1]],t_reator[w],t_instalado[[#This Row],[P.1(W)]]),\"\")","v":""},{"$f":"IF(t_instalado[[#This Row],[Q.2]]<>\"\",SUMIFS(t_reator[p],t_reator[tipo],t_instalado[[#This Row],[T.2]],t_reator[w],t_instalado[[#This Row],[P.2(W)]]),\"\")","v":""},{"$f":"IF(t_instalado[[#This Row],[Q.3]]<>\"\",SUMIFS(t_reator[p],t_reator[tipo],t_instalado[[#This Row],[T.3]],t_reator[w],t_instalado[[#This Row],[P.3(W)]]),\"\")","v":""},{"$f":"IF(t_instalado[[#This Row],[Q.1]]<>\"\",IFERROR(IFERROR(D352*(E352+O352)+G352*(H352+P352)+J352*(K352+Q352),D352*(E352+O352)+G352*(H352+P352)),D352*(E352+O352)),\"\")","v":""},{"$f":"IF(t_instalado[[#This Row],[Consumo_W]]<>\"\",ROUND(t_instalado[[#This Row],[Consumo_W]]/t_instalado[[#This Row],[Luminárias]],0),\"\")","v":""},{"$f":"IF(t_instalado[[#This Row],[Q.1]]<>\"\",SUMIFS(t_fluxo_lumin[fluxo],t_fluxo_lumin[tipo],t_instalado[[#This Row],[T.1]])*t_instalado[[#This Row],[P.1(W)]]*t_instalado[[#This Row],[Q.1]],\"\")","v":""},{"$f":"IF(t_instalado[[#This Row],[Q.2]]<>\"\",SUMIFS(t_fluxo_lumin[fluxo],t_fluxo_lumin[tipo],t_instalado[[#This Row],[T.2]])*t_instalado[[#This Row],[Q.2]]*t_instalado[[#This Row],[P.2(W)]],\"\")","v":""},{"$f":"IF(t_instalado[[#This Row],[Q.3]]<>\"\",SUMIFS(t_fluxo_lumin[fluxo],t_fluxo_lumin[tipo],t_instalado[[#This Row],[T.3]])*t_instalado[[#This Row],[Q.3]]*t_instalado[[#This Row],[P.3(W)]],\"\")","v":""},{"$f":"IF(t_instalado[[#This Row],[Trecho]]<>\"\",SUM(t_instalado[[#This Row],[f.1]:[f.3]]),\"\")","v":""},{"$f":"IF(t_instalado[[#This Row],[Trecho]]<>\"\",t_instalado[[#This Row],[Q.1]]+t_instalado[[#This Row],[Q.2]]+t_instalado[[#This Row],[Q.3]],\"\")","v":""},{"$f":"IF(t_instalado[[#This Row],[FLUXO]]<>\"\",ROUND(t_instalado[[#This Row],[FLUXO]]/t_instalado[[#This Row],[Luminárias]],0),\"\")","v":""},{"$f":"IF(t_instalado[[#This Row],[Luminárias]]<>\"\",ROUND(t_instalado[[#This Row],[lm_médio]]/t_instalado[[#This Row],[W_médio]],2),\"\")","v":""}]
[119,{"$f":"_xlfn.XLOOKUP(t_instalado[[#This Row],[cód.]],t_sitio[cód],t_sitio[Trecho],\"\")","v":""},null,null,null,null,null,null,null,null,null,null,{"$f":"t_instalado[[#This Row],[Q.1]]+t_instalado[[#This Row],[Q.2]]+t_instalado[[#This Row],[Q.3]]","v":0},{"$f":"t_instalado[[#This Row],[Q.1]]+t_instalado[[#This Row],[Q.2]]+t_instalado[[#This Row],[Q.3]]","v":0},{"$f":"IF(t_instalado[[#This Row],[Q.1]]<>\"\",SUMIFS(t_reator[p],t_reator[tipo],t_instalado[[#This Row],[T.1]],t_reator[w],t_instalado[[#This Row],[P.1(W)]]),\"\")","v":""},{"$f":"IF(t_instalado[[#This Row],[Q.2]]<>\"\",SUMIFS(t_reator[p],t_reator[tipo],t_instalado[[#This Row],[T.2]],t_reator[w],t_instalado[[#This Row],[P.2(W)]]),\"\")","v":""},{"$f":"IF(t_instalado[[#This Row],[Q.3]]<>\"\",SUMIFS(t_reator[p],t_reator[tipo],t_instalado[[#This Row],[T.3]],t_reator[w],t_instalado[[#This Row],[P.3(W)]]),\"\")","v":""},{"$f":"IF(t_instalado[[#This Row],[Q.1]]<>\"\",IFERROR(IFERROR(D353*(E353+O353)+G353*(H353+P353)+J353*(K353+Q353),D353*(E353+O353)+G353*(H353+P353)),D353*(E353+O353)),\"\")","v":""},{"$f":"IF(t_instalado[[#This Row],[Consumo_W]]<>\"\",ROUND(t_instalado[[#This Row],[Consumo_W]]/t_instalado[[#This Row],[Luminárias]],0),\"\")","v":""},{"$f":"IF(t_instalado[[#This Row],[Q.1]]<>\"\",SUMIFS(t_fluxo_lumin[fluxo],t_fluxo_lumin[tipo],t_instalado[[#This Row],[T.1]])*t_instalado[[#This Row],[P.1(W)]]*t_instalado[[#This Row],[Q.1]],\"\")","v":""},{"$f":"IF(t_instalado[[#This Row],[Q.2]]<>\"\",SUMIFS(t_fluxo_lumin[fluxo],t_fluxo_lumin[tipo],t_instalado[[#This Row],[T.2]])*t_instalado[[#This Row],[Q.2]]*t_instalado[[#This Row],[P.2(W)]],\"\")","v":""},{"$f":"IF(t_instalado[[#This Row],[Q.3]]<>\"\",SUMIFS(t_fluxo_lumin[fluxo],t_fluxo_lumin[tipo],t_instalado[[#This Row],[T.3]])*t_instalado[[#This Row],[Q.3]]*t_instalado[[#This Row],[P.3(W)]],\"\")","v":""},{"$f":"IF(t_instalado[[#This Row],[Trecho]]<>\"\",SUM(t_instalado[[#This Row],[f.1]:[f.3]]),\"\")","v":""},{"$f":"IF(t_instalado[[#This Row],[Trecho]]<>\"\",t_instalado[[#This Row],[Q.1]]+t_instalado[[#This Row],[Q.2]]+t_instalado[[#This Row],[Q.3]],\"\")","v":""},{"$f":"IF(t_instalado[[#This Row],[FLUXO]]<>\"\",ROUND(t_instalado[[#This Row],[FLUXO]]/t_instalado[[#This Row],[Luminárias]],0),\"\")","v":""},{"$f":"IF(t_instalado[[#This Row],[Luminárias]]<>\"\",ROUND(t_instalado[[#This Row],[lm_médio]]/t_instalado[[#This Row],[W_médio]],2),\"\")","v":""}]
[120,{"$f":"_xlfn.XLOOKUP(t_instalado[[#This Row],[cód.]],t_sitio[cód],t_sitio[Trecho],\"\")","v":""},null,null,null,null,null,null,null,null,null,null,{"$f":"t_instalado[[#This Row],[Q.1]]+t_instalado[[#This Row],[Q.2]]+t_instalado[[#This Row],[Q.3]]","v":0},{"$f":"t_instalado[[#This Row],[Q.1]]+t_instalado[[#This Row],[Q.2]]+t_instalado[[#This Row],[Q.3]]","v":0},{"$f":"IF(t_instalado[[#This Row],[Q.1]]<>\"\",SUMIFS(t_reator[p],t_reator[tipo],t_instalado[[#This Row],[T.1]],t_reator[w],t_instalado[[#This Row],[P.1(W)]]),\"\")","v":""},{"$f":"IF(t_instalado[[#This Row],[Q.2]]<>\"\",SUMIFS(t_reator[p],t_reator[tipo],t_instalado[[#This Row],[T.2]],t_reator[w],t_instalado[[#This Row],[P.2(W)]]),\"\")","v":""},{"$f":"IF(t_instalado[[#This Row],[Q.3]]<>\"\",SUMIFS(t_reator[p],t_reator[tipo],t_instalado[[#This Row],[T.3]],t_reator[w],t_instalado[[#This Row],[P.3(W)]]),\"\")","v":""},{"$f":"IF(t_instalado[[#This Row],[Q.1]]<>\"\",IFERROR(IFERROR(D354*(E354+O354)+G354*(H354+P354)+J354*(K354+Q354),D354*(E354+O354)+G354*(H354+P354)),D354*(E354+O354)),\"\")","v":""},{"$f":"IF(t_instalado[[#This Row],[Consumo_W]]<>\"\",ROUND(t_instalado[[#This Row],[Consumo_W]]/t_instalado[[#This Row],[Luminárias]],0),\"\")","v":""},{"$f":"IF(t_instalado[[#This Row],[Q.1]]<>\"\",SUMIFS(t_fluxo_lumin[fluxo],t_fluxo_lumin[tipo],t_instalado[[#This Row],[T.1]])*t_instalado[[#This Row],[P.1(W)]]*t_instalado[[#This Row],[Q.1]],\"\")","v":""},{"$f":"IF(t_instalado[[#This Row],[Q.2]]<>\"\",SUMIFS(t_fluxo_lumin[fluxo],t_fluxo_lumin[tipo],t_instalado[[#This Row],[T.2]])*t_instalado[[#This Row],[Q.2]]*t_instalado[[#This Row],[P.2(W)]],\"\")","v":""},{"$f":"IF(t_instalado[[#This Row],[Q.3]]<>\"\",SUMIFS(t_fluxo_lumin[fluxo],t_fluxo_lumin[tipo],t_instalado[[#This Row],[T.3]])*t_instalado[[#This Row],[Q.3]]*t_instalado[[#This Row],[P.3(W)]],\"\")","v":""},{"$f":"IF(t_instalado[[#This Row],[Trecho]]<>\"\",SUM(t_instalado[[#This Row],[f.1]:[f.3]]),\"\")","v":""},{"$f":"IF(t_instalado[[#This Row],[Trecho]]<>\"\",t_instalado[[#This Row],[Q.1]]+t_instalado[[#This Row],[Q.2]]+t_instalado[[#This Row],[Q.3]],\"\")","v":""},{"$f":"IF(t_instalado[[#This Row],[FLUXO]]<>\"\",ROUND(t_instalado[[#This Row],[FLUXO]]/t_instalado[[#This Row],[Luminárias]],0),\"\")","v":""},{"$f":"IF(t_instalado[[#This Row],[Luminárias]]<>\"\",ROUND(t_instalado[[#This Row],[lm_médio]]/t_instalado[[#This Row],[W_médio]],2),\"\")","v":""}]
[121,{"$f":"_xlfn.XLOOKUP(t_instalado[[#This Row],[cód.]],t_sitio[cód],t_sitio[Trecho],\"\")","v":""},null,null,null,null,null,null,null,null,null,null,{"$f":"t_instalado[[#This Row],[Q.1]]+t_instalado[[#This Row],[Q.2]]+t_instalado[[#This Row],[Q.3]]","v":0},{"$f":"t_instalado[[#This Row],[Q.1]]+t_instalado[[#This Row],[Q.2]]+t_instalado[[#This Row],[Q.3]]","v":0},{"$f":"IF(t_instalado[[#This Row],[Q.1]]<>\"\",SUMIFS(t_reator[p],t_reator[tipo],t_instalado[[#This Row],[T.1]],t_reator[w],t_instalado[[#This Row],[P.1(W)]]),\"\")","v":""},{"$f":"IF(t_instalado[[#This Row],[Q.2]]<>\"\",SUMIFS(t_reator[p],t_reator[tipo],t_instalado[[#This Row],[T.2]],t_reator[w],t_instalado[[#This Row],[P.2(W)]]),\"\")","v":""},{"$f":"IF(t_instalado[[#This Row],[Q.3]]<>\"\",SUMIFS(t_reator[p],t_reator[tipo],t_instalado[[#This Row],[T.3]],t_reator[w],t_instalado[[#This Row],[P.3(W)]]),\"\")","v":""},{"$f":"IF(t_instalado[[#This Row],[Q.1]]<>\"\",IFERROR(IFERROR(D355*(E355+O355)+G355*(H355+P355)+J355*(K355+Q355),D355*(E355+O355)+G355*(H355+P355)),D355*(E355+O355)),\"\")","v":""},{"$f":"IF(t_instalado[[#This Row],[Consumo_W]]<>\"\",ROUND(t_instalado[[#This Row],[Consumo_W]]/t_instalado[[#This Row],[Luminárias]],0),\"\")","v":""},{"$f":"IF(t_instalado[[#This Row],[Q.1]]<>\"\",SUMIFS(t_fluxo_lumin[fluxo],t_fluxo_lumin[tipo],t_instalado[[#This Row],[T.1]])*t_instalado[[#This Row],[P.1(W)]]*t_instalado[[#This Row],[Q.1]],\"\")","v":""},{"$f":"IF(t_instalado[[#This Row],[Q.2]]<>\"\",SUMIFS(t_fluxo_lumin[fluxo],t_fluxo_lumin[tipo],t_instalado[[#This Row],[T.2]])*t_instalado[[#This Row],[Q.2]]*t_instalado[[#This Row],[P.2(W)]],\"\")","v":""},{"$f":"IF(t_instalado[[#This Row],[Q.3]]<>\"\",SUMIFS(t_fluxo_lumin[fluxo],t_fluxo_lumin[tipo],t_instalado[[#This Row],[T.3]])*t_instalado[[#This Row],[Q.3]]*t_instalado[[#This Row],[P.3(W)]],\"\")","v":""},{"$f":"IF(t_instalado[[#This Row],[Trecho]]<>\"\",SUM(t_instalado[[#This Row],[f.1]:[f.3]]),\"\")","v":""},{"$f":"IF(t_instalado[[#This Row],[Trecho]]<>\"\",t_instalado[[#This Row],[Q.1]]+t_instalado[[#This Row],[Q.2]]+t_instalado[[#This Row],[Q.3]],\"\")","v":""},{"$f":"IF(t_instalado[[#This Row],[FLUXO]]<>\"\",ROUND(t_instalado[[#This Row],[FLUXO]]/t_instalado[[#This Row],[Luminárias]],0),\"\")","v":""},{"$f":"IF(t_instalado[[#This Row],[Luminárias]]<>\"\",ROUND(t_instalado[[#This Row],[lm_médio]]/t_instalado[[#This Row],[W_médio]],2),\"\")","v":""}]
[122,{"$f":"_xlfn.XLOOKUP(t_instalado[[#This Row],[cód.]],t_sitio[cód],t_sitio[Trecho],\"\")","v":""},null,null,null,null,null,null,null,null,null,null,{"$f":"t_instalado[[#This Row],[Q.1]]+t_instalado[[#This Row],[Q.2]]+t_instalado[[#This Row],[Q.3]]","v":0},{"$f":"t_instalado[[#This Row],[Q.1]]+t_instalado[[#This Row],[Q.2]]+t_instalado[[#This Row],[Q.3]]","v":0},{"$f":"IF(t_instalado[[#This Row],[Q.1]]<>\"\",SUMIFS(t_reator[p],t_reator[tipo],t_instalado[[#This Row],[T.1]],t_reator[w],t_instalado[[#This Row],[P.1(W)]]),\"\")","v":""},{"$f":"IF(t_instalado[[#This Row],[Q.2]]<>\"\",SUMIFS(t_reator[p],t_reator[tipo],t_instalado[[#This Row],[T.2]],t_reator[w],t_instalado[[#This Row],[P.2(W)]]),\"\")","v":""},{"$f":"IF(t_instalado[[#This Row],[Q.3]]<>\"\",SUMIFS(t_reator[p],t_reator[tipo],t_instalado[[#This Row],[T.3]],t_reator[w],t_instalado[[#This Row],[P.3(W)]]),\"\")","v":""},{"$f":"IF(t_instalado[[#This Row],[Q.1]]<>\"\",IFERROR(IFERROR(D356*(E356+O356)+G356*(H356+P356)+J356*(K356+Q356),D356*(E356+O356)+G356*(H356+P356)),D356*(E356+O356)),\"\")","v":""},{"$f":"IF(t_instalado[[#This Row],[Consumo_W]]<>\"\",ROUND(t_instalado[[#This Row],[Consumo_W]]/t_instalado[[#This Row],[Luminárias]],0),\"\")","v":""},{"$f":"IF(t_instalado[[#This Row],[Q.1]]<>\"\",SUMIFS(t_fluxo_lumin[fluxo],t_fluxo_lumin[tipo],t_instalado[[#This Row],[T.1]])*t_instalado[[#This Row],[P.1(W)]]*t_instalado[[#This Row],[Q.1]],\"\")","v":""},{"$f":"IF(t_instalado[[#This Row],[Q.2]]<>\"\",SUMIFS(t_fluxo_lumin[fluxo],t_fluxo_lumin[tipo],t_instalado[[#This Row],[T.2]])*t_instalado[[#This Row],[Q.2]]*t_instalado[[#This Row],[P.2(W)]],\"\")","v":""},{"$f":"IF(t_instalado[[#This Row],[Q.3]]<>\"\",SUMIFS(t_fluxo_lumin[fluxo],t_fluxo_lumin[tipo],t_instalado[[#This Row],[T.3]])*t_instalado[[#This Row],[Q.3]]*t_instalado[[#This Row],[P.3(W)]],\"\")","v":""},{"$f":"IF(t_instalado[[#This Row],[Trecho]]<>\"\",SUM(t_instalado[[#This Row],[f.1]:[f.3]]),\"\")","v":""},{"$f":"IF(t_instalado[[#This Row],[Trecho]]<>\"\",t_instalado[[#This Row],[Q.1]]+t_instalado[[#This Row],[Q.2]]+t_instalado[[#This Row],[Q.3]],\"\")","v":""},{"$f":"IF(t_instalado[[#This Row],[FLUXO]]<>\"\",ROUND(t_instalado[[#This Row],[FLUXO]]/t_instalado[[#This Row],[Luminárias]],0),\"\")","v":""},{"$f":"IF(t_instalado[[#This Row],[Luminárias]]<>\"\",ROUND(t_instalado[[#This Row],[lm_médio]]/t_instalado[[#This Row],[W_médio]],2),\"\")","v":""}]
[123,{"$f":"_xlfn.XLOOKUP(t_instalado[[#This Row],[cód.]],t_sitio[cód],t_sitio[Trecho],\"\")","v":""},null,null,null,null,null,null,null,null,null,null,{"$f":"t_instalado[[#This Row],[Q.1]]+t_instalado[[#This Row],[Q.2]]+t_instalado[[#This Row],[Q.3]]","v":0},{"$f":"t_instalado[[#This Row],[Q.1]]+t_instalado[[#This Row],[Q.2]]+t_instalado[[#This Row],[Q.3]]","v":0},{"$f":"IF(t_instalado[[#This Row],[Q.1]]<>\"\",SUMIFS(t_reator[p],t_reator[tipo],t_instalado[[#This Row],[T.1]],t_reator[w],t_instalado[[#This Row],[P.1(W)]]),\"\")","v":""},{"$f":"IF(t_instalado[[#This Row],[Q.2]]<>\"\",SUMIFS(t_reator[p],t_reator[tipo],t_instalado[[#This Row],[T.2]],t_reator[w],t_instalado[[#This Row],[P.2(W)]]),\"\")","v":""},{"$f":"IF(t_instalado[[#This Row],[Q.3]]<>\"\",SUMIFS(t_reator[p],t_reator[tipo],t_instalado[[#This Row],[T.3]],t_reator[w],t_instalado[[#This Row],[P.3(W)]]),\"\")","v":""},{"$f":"IF(t_instalado[[#This Row],[Q.1]]<>\"\",IFERROR(IFERROR(D357*(E357+O357)+G357*(H357+P357)+J357*(K357+Q357),D357*(E357+O357)+G357*(H357+P357)),D357*(E357+O357)),\"\")","v":""},{"$f":"IF(t_instalado[[#This Row],[Consumo_W]]<>\"\",ROUND(t_instalado[[#This Row],[Consumo_W]]/t_instalado[[#This Row],[Luminárias]],0),\"\")","v":""},{"$f":"IF(t_instalado[[#This Row],[Q.1]]<>\"\",SUMIFS(t_fluxo_lumin[fluxo],t_fluxo_lumin[tipo],t_instalado[[#This Row],[T.1]])*t_instalado[[#This Row],[P.1(W)]]*t_instalado[[#This Row],[Q.1]],\"\")","v":""},{"$f":"IF(t_instalado[[#This Row],[Q.2]]<>\"\",SUMIFS(t_fluxo_lumin[fluxo],t_fluxo_lumin[tipo],t_instalado[[#This Row],[T.2]])*t_instalado[[#This Row],[Q.2]]*t_instalado[[#This Row],[P.2(W)]],\"\")","v":""},{"$f":"IF(t_instalado[[#This Row],[Q.3]]<>\"\",SUMIFS(t_fluxo_lumin[fluxo],t_fluxo_lumin[tipo],t_instalado[[#This Row],[T.3]])*t_instalado[[#This Row],[Q.3]]*t_instalado[[#This Row],[P.3(W)]],\"\")","v":""},{"$f":"IF(t_instalado[[#This Row],[Trecho]]<>\"\",SUM(t_instalado[[#This Row],[f.1]:[f.3]]),\"\")","v":""},{"$f":"IF(t_instalado[[#This Row],[Trecho]]<>\"\",t_instalado[[#This Row],[Q.1]]+t_instalado[[#This Row],[Q.2]]+t_instalado[[#This Row],[Q.3]],\"\")","v":""},{"$f":"IF(t_instalado[[#This Row],[FLUXO]]<>\"\",ROUND(t_instalado[[#This Row],[FLUXO]]/t_instalado[[#This Row],[Luminárias]],0),\"\")","v":""},{"$f":"IF(t_instalado[[#This Row],[Luminárias]]<>\"\",ROUND(t_instalado[[#This Row],[lm_médio]]/t_instalado[[#This Row],[W_médio]],2),\"\")","v":""}]
[124,{"$f":"_xlfn.XLOOKUP(t_instalado[[#This Row],[cód.]],t_sitio[cód],t_sitio[Trecho],\"\")","v":""},null,null,null,null,null,null,null,null,null,null,{"$f":"t_instalado[[#This Row],[Q.1]]+t_instalado[[#This Row],[Q.2]]+t_instalado[[#This Row],[Q.3]]","v":0},{"$f":"t_instalado[[#This Row],[Q.1]]+t_instalado[[#This Row],[Q.2]]+t_instalado[[#This Row],[Q.3]]","v":0},{"$f":"IF(t_instalado[[#This Row],[Q.1]]<>\"\",SUMIFS(t_reator[p],t_reator[tipo],t_instalado[[#This Row],[T.1]],t_reator[w],t_instalado[[#This Row],[P.1(W)]]),\"\")","v":""},{"$f":"IF(t_instalado[[#This Row],[Q.2]]<>\"\",SUMIFS(t_reator[p],t_reator[tipo],t_instalado[[#This Row],[T.2]],t_reator[w],t_instalado[[#This Row],[P.2(W)]]),\"\")","v":""},{"$f":"IF(t_instalado[[#This Row],[Q.3]]<>\"\",SUMIFS(t_reator[p],t_reator[tipo],t_instalado[[#This Row],[T.3]],t_reator[w],t_instalado[[#This Row],[P.3(W)]]),\"\")","v":""},{"$f":"IF(t_instalado[[#This Row],[Q.1]]<>\"\",IFERROR(IFERROR(D358*(E358+O358)+G358*(H358+P358)+J358*(K358+Q358),D358*(E358+O358)+G358*(H358+P358)),D358*(E358+O358)),\"\")","v":""},{"$f":"IF(t_instalado[[#This Row],[Consumo_W]]<>\"\",ROUND(t_instalado[[#This Row],[Consumo_W]]/t_instalado[[#This Row],[Luminárias]],0),\"\")","v":""},{"$f":"IF(t_instalado[[#This Row],[Q.1]]<>\"\",SUMIFS(t_fluxo_lumin[fluxo],t_fluxo_lumin[tipo],t_instalado[[#This Row],[T.1]])*t_instalado[[#This Row],[P.1(W)]]*t_instalado[[#This Row],[Q.1]],\"\")","v":""},{"$f":"IF(t_instalado[[#This Row],[Q.2]]<>\"\",SUMIFS(t_fluxo_lumin[fluxo],t_fluxo_lumin[tipo],t_instalado[[#This Row],[T.2]])*t_instalado[[#This Row],[Q.2]]*t_instalado[[#This Row],[P.2(W)]],\"\")","v":""},{"$f":"IF(t_instalado[[#This Row],[Q.3]]<>\"\",SUMIFS(t_fluxo_lumin[fluxo],t_fluxo_lumin[tipo],t_instalado[[#This Row],[T.3]])*t_instalado[[#This Row],[Q.3]]*t_instalado[[#This Row],[P.3(W)]],\"\")","v":""},{"$f":"IF(t_instalado[[#This Row],[Trecho]]<>\"\",SUM(t_instalado[[#This Row],[f.1]:[f.3]]),\"\")","v":""},{"$f":"IF(t_instalado[[#This Row],[Trecho]]<>\"\",t_instalado[[#This Row],[Q.1]]+t_instalado[[#This Row],[Q.2]]+t_instalado[[#This Row],[Q.3]],\"\")","v":""},{"$f":"IF(t_instalado[[#This Row],[FLUXO]]<>\"\",ROUND(t_instalado[[#This Row],[FLUXO]]/t_instalado[[#This Row],[Luminárias]],0),\"\")","v":""},{"$f":"IF(t_instalado[[#This Row],[Luminárias]]<>\"\",ROUND(t_instalado[[#This Row],[lm_médio]]/t_instalado[[#This Row],[W_médio]],2),\"\")","v":""}]
[125,{"$f":"_xlfn.XLOOKUP(t_instalado[[#This Row],[cód.]],t_sitio[cód],t_sitio[Trecho],\"\")","v":""},null,null,null,null,null,null,null,null,null,null,{"$f":"t_instalado[[#This Row],[Q.1]]+t_instalado[[#This Row],[Q.2]]+t_instalado[[#This Row],[Q.3]]","v":0},{"$f":"t_instalado[[#This Row],[Q.1]]+t_instalado[[#This Row],[Q.2]]+t_instalado[[#This Row],[Q.3]]","v":0},{"$f":"IF(t_instalado[[#This Row],[Q.1]]<>\"\",SUMIFS(t_reator[p],t_reator[tipo],t_instalado[[#This Row],[T.1]],t_reator[w],t_instalado[[#This Row],[P.1(W)]]),\"\")","v":""},{"$f":"IF(t_instalado[[#This Row],[Q.2]]<>\"\",SUMIFS(t_reator[p],t_reator[tipo],t_instalado[[#This Row],[T.2]],t_reator[w],t_instalado[[#This Row],[P.2(W)]]),\"\")","v":""},{"$f":"IF(t_instalado[[#This Row],[Q.3]]<>\"\",SUMIFS(t_reator[p],t_reator[tipo],t_instalado[[#This Row],[T.3]],t_reator[w],t_instalado[[#This Row],[P.3(W)]]),\"\")","v":""},{"$f":"IF(t_instalado[[#This Row],[Q.1]]<>\"\",IFERROR(IFERROR(D359*(E359+O359)+G359*(H359+P359)+J359*(K359+Q359),D359*(E359+O359)+G359*(H359+P359)),D359*(E359+O359)),\"\")","v":""},{"$f":"IF(t_instalado[[#This Row],[Consumo_W]]<>\"\",ROUND(t_instalado[[#This Row],[Consumo_W]]/t_instalado[[#This Row],[Luminárias]],0),\"\")","v":""},{"$f":"IF(t_instalado[[#This Row],[Q.1]]<>\"\",SUMIFS(t_fluxo_lumin[fluxo],t_fluxo_lumin[tipo],t_instalado[[#This Row],[T.1]])*t_instalado[[#This Row],[P.1(W)]]*t_instalado[[#This Row],[Q.1]],\"\")","v":""},{"$f":"IF(t_instalado[[#This Row],[Q.2]]<>\"\",SUMIFS(t_fluxo_lumin[fluxo],t_fluxo_lumin[tipo],t_instalado[[#This Row],[T.2]])*t_instalado[[#This Row],[Q.2]]*t_instalado[[#This Row],[P.2(W)]],\"\")","v":""},{"$f":"IF(t_instalado[[#This Row],[Q.3]]<>\"\",SUMIFS(t_fluxo_lumin[fluxo],t_fluxo_lumin[tipo],t_instalado[[#This Row],[T.3]])*t_instalado[[#This Row],[Q.3]]*t_instalado[[#This Row],[P.3(W)]],\"\")","v":""},{"$f":"IF(t_instalado[[#This Row],[Trecho]]<>\"\",SUM(t_instalado[[#This Row],[f.1]:[f.3]]),\"\")","v":""},{"$f":"IF(t_instalado[[#This Row],[Trecho]]<>\"\",t_instalado[[#This Row],[Q.1]]+t_instalado[[#This Row],[Q.2]]+t_instalado[[#This Row],[Q.3]],\"\")","v":""},{"$f":"IF(t_instalado[[#This Row],[FLUXO]]<>\"\",ROUND(t_instalado[[#This Row],[FLUXO]]/t_instalado[[#This Row],[Luminárias]],0),\"\")","v":""},{"$f":"IF(t_instalado[[#This Row],[Luminárias]]<>\"\",ROUND(t_instalado[[#This Row],[lm_médio]]/t_instalado[[#This Row],[W_médio]],2),\"\")","v":""}]
[126,{"$f":"_xlfn.XLOOKUP(t_instalado[[#This Row],[cód.]],t_sitio[cód],t_sitio[Trecho],\"\")","v":""},null,null,null,null,null,null,null,null,null,null,{"$f":"t_instalado[[#This Row],[Q.1]]+t_instalado[[#This Row],[Q.2]]+t_instalado[[#This Row],[Q.3]]","v":0},{"$f":"t_instalado[[#This Row],[Q.1]]+t_instalado[[#This Row],[Q.2]]+t_instalado[[#This Row],[Q.3]]","v":0},{"$f":"IF(t_instalado[[#This Row],[Q.1]]<>\"\",SUMIFS(t_reator[p],t_reator[tipo],t_instalado[[#This Row],[T.1]],t_reator[w],t_instalado[[#This Row],[P.1(W)]]),\"\")","v":""},{"$f":"IF(t_instalado[[#This Row],[Q.2]]<>\"\",SUMIFS(t_reator[p],t_reator[tipo],t_instalado[[#This Row],[T.2]],t_reator[w],t_instalado[[#This Row],[P.2(W)]]),\"\")","v":""},{"$f":"IF(t_instalado[[#This Row],[Q.3]]<>\"\",SUMIFS(t_reator[p],t_reator[tipo],t_instalado[[#This Row],[T.3]],t_reator[w],t_instalado[[#This Row],[P.3(W)]]),\"\")","v":""},{"$f":"IF(t_instalado[[#This Row],[Q.1]]<>\"\",IFERROR(IFERROR(D360*(E360+O360)+G360*(H360+P360)+J360*(K360+Q360),D360*(E360+O360)+G360*(H360+P360)),D360*(E360+O360)),\"\")","v":""},{"$f":"IF(t_instalado[[#This Row],[Consumo_W]]<>\"\",ROUND(t_instalado[[#This Row],[Consumo_W]]/t_instalado[[#This Row],[Luminárias]],0),\"\")","v":""},{"$f":"IF(t_instalado[[#This Row],[Q.1]]<>\"\",SUMIFS(t_fluxo_lumin[fluxo],t_fluxo_lumin[tipo],t_instalado[[#This Row],[T.1]])*t_instalado[[#This Row],[P.1(W)]]*t_instalado[[#This Row],[Q.1]],\"\")","v":""},{"$f":"IF(t_instalado[[#This Row],[Q.2]]<>\"\",SUMIFS(t_fluxo_lumin[fluxo],t_fluxo_lumin[tipo],t_instalado[[#This Row],[T.2]])*t_instalado[[#This Row],[Q.2]]*t_instalado[[#This Row],[P.2(W)]],\"\")","v":""},{"$f":"IF(t_instalado[[#This Row],[Q.3]]<>\"\",SUMIFS(t_fluxo_lumin[fluxo],t_fluxo_lumin[tipo],t_instalado[[#This Row],[T.3]])*t_instalado[[#This Row],[Q.3]]*t_instalado[[#This Row],[P.3(W)]],\"\")","v":""},{"$f":"IF(t_instalado[[#This Row],[Trecho]]<>\"\",SUM(t_instalado[[#This Row],[f.1]:[f.3]]),\"\")","v":""},{"$f":"IF(t_instalado[[#This Row],[Trecho]]<>\"\",t_instalado[[#This Row],[Q.1]]+t_instalado[[#This Row],[Q.2]]+t_instalado[[#This Row],[Q.3]],\"\")","v":""},{"$f":"IF(t_instalado[[#This Row],[FLUXO]]<>\"\",ROUND(t_instalado[[#This Row],[FLUXO]]/t_instalado[[#This Row],[Luminárias]],0),\"\")","v":""},{"$f":"IF(t_instalado[[#This Row],[Luminárias]]<>\"\",ROUND(t_instalado[[#This Row],[lm_médio]]/t_instalado[[#This Row],[W_médio]],2),\"\")","v":""}]
[127,{"$f":"_xlfn.XLOOKUP(t_instalado[[#This Row],[cód.]],t_sitio[cód],t_sitio[Trecho],\"\")","v":""},null,null,null,null,null,null,null,null,null,null,{"$f":"t_instalado[[#This Row],[Q.1]]+t_instalado[[#This Row],[Q.2]]+t_instalado[[#This Row],[Q.3]]","v":0},{"$f":"t_instalado[[#This Row],[Q.1]]+t_instalado[[#This Row],[Q.2]]+t_instalado[[#This Row],[Q.3]]","v":0},{"$f":"IF(t_instalado[[#This Row],[Q.1]]<>\"\",SUMIFS(t_reator[p],t_reator[tipo],t_instalado[[#This Row],[T.1]],t_reator[w],t_instalado[[#This Row],[P.1(W)]]),\"\")","v":""},{"$f":"IF(t_instalado[[#This Row],[Q.2]]<>\"\",SUMIFS(t_reator[p],t_reator[tipo],t_instalado[[#This Row],[T.2]],t_reator[w],t_instalado[[#This Row],[P.2(W)]]),\"\")","v":""},{"$f":"IF(t_instalado[[#This Row],[Q.3]]<>\"\",SUMIFS(t_reator[p],t_reator[tipo],t_instalado[[#This Row],[T.3]],t_reator[w],t_instalado[[#This Row],[P.3(W)]]),\"\")","v":""},{"$f":"IF(t_instalado[[#This Row],[Q.1]]<>\"\",IFERROR(IFERROR(D361*(E361+O361)+G361*(H361+P361)+J361*(K361+Q361),D361*(E361+O361)+G361*(H361+P361)),D361*(E361+O361)),\"\")","v":""},{"$f":"IF(t_instalado[[#This Row],[Consumo_W]]<>\"\",ROUND(t_instalado[[#This Row],[Consumo_W]]/t_instalado[[#This Row],[Luminárias]],0),\"\")","v":""},{"$f":"IF(t_instalado[[#This Row],[Q.1]]<>\"\",SUMIFS(t_fluxo_lumin[fluxo],t_fluxo_lumin[tipo],t_instalado[[#This Row],[T.1]])*t_instalado[[#This Row],[P.1(W)]]*t_instalado[[#This Row],[Q.1]],\"\")","v":""},{"$f":"IF(t_instalado[[#This Row],[Q.2]]<>\"\",SUMIFS(t_fluxo_lumin[fluxo],t_fluxo_lumin[tipo],t_instalado[[#This Row],[T.2]])*t_instalado[[#This Row],[Q.2]]*t_instalado[[#This Row],[P.2(W)]],\"\")","v":""},{"$f":"IF(t_instalado[[#This Row],[Q.3]]<>\"\",SUMIFS(t_fluxo_lumin[fluxo],t_fluxo_lumin[tipo],t_instalado[[#This Row],[T.3]])*t_instalado[[#This Row],[Q.3]]*t_instalado[[#This Row],[P.3(W)]],\"\")","v":""},{"$f":"IF(t_instalado[[#This Row],[Trecho]]<>\"\",SUM(t_instalado[[#This Row],[f.1]:[f.3]]),\"\")","v":""},{"$f":"IF(t_instalado[[#This Row],[Trecho]]<>\"\",t_instalado[[#This Row],[Q.1]]+t_instalado[[#This Row],[Q.2]]+t_instalado[[#This Row],[Q.3]],\"\")","v":""},{"$f":"IF(t_instalado[[#This Row],[FLUXO]]<>\"\",ROUND(t_instalado[[#This Row],[FLUXO]]/t_instalado[[#This Row],[Luminárias]],0),\"\")","v":""},{"$f":"IF(t_instalado[[#This Row],[Luminárias]]<>\"\",ROUND(t_instalado[[#This Row],[lm_médio]]/t_instalado[[#This Row],[W_médio]],2),\"\")","v":""}]
[128,{"$f":"_xlfn.XLOOKUP(t_instalado[[#This Row],[cód.]],t_sitio[cód],t_sitio[Trecho],\"\")","v":""},null,null,null,null,null,null,null,null,null,null,{"$f":"t_instalado[[#This Row],[Q.1]]+t_instalado[[#This Row],[Q.2]]+t_instalado[[#This Row],[Q.3]]","v":0},{"$f":"t_instalado[[#This Row],[Q.1]]+t_instalado[[#This Row],[Q.2]]+t_instalado[[#This Row],[Q.3]]","v":0},{"$f":"IF(t_instalado[[#This Row],[Q.1]]<>\"\",SUMIFS(t_reator[p],t_reator[tipo],t_instalado[[#This Row],[T.1]],t_reator[w],t_instalado[[#This Row],[P.1(W)]]),\"\")","v":""},{"$f":"IF(t_instalado[[#This Row],[Q.2]]<>\"\",SUMIFS(t_reator[p],t_reator[tipo],t_instalado[[#This Row],[T.2]],t_reator[w],t_instalado[[#This Row],[P.2(W)]]),\"\")","v":""},{"$f":"IF(t_instalado[[#This Row],[Q.3]]<>\"\",SUMIFS(t_reator[p],t_reator[tipo],t_instalado[[#This Row],[T.3]],t_reator[w],t_instalado[[#This Row],[P.3(W)]]),\"\")","v":""},{"$f":"IF(t_instalado[[#This Row],[Q.1]]<>\"\",IFERROR(IFERROR(D362*(E362+O362)+G362*(H362+P362)+J362*(K362+Q362),D362*(E362+O362)+G362*(H362+P362)),D362*(E362+O362)),\"\")","v":""},{"$f":"IF(t_instalado[[#This Row],[Consumo_W]]<>\"\",ROUND(t_instalado[[#This Row],[Consumo_W]]/t_instalado[[#This Row],[Luminárias]],0),\"\")","v":""},{"$f":"IF(t_instalado[[#This Row],[Q.1]]<>\"\",SUMIFS(t_fluxo_lumin[fluxo],t_fluxo_lumin[tipo],t_instalado[[#This Row],[T.1]])*t_instalado[[#This Row],[P.1(W)]]*t_instalado[[#This Row],[Q.1]],\"\")","v":""},{"$f":"IF(t_instalado[[#This Row],[Q.2]]<>\"\",SUMIFS(t_fluxo_lumin[fluxo],t_fluxo_lumin[tipo],t_instalado[[#This Row],[T.2]])*t_instalado[[#This Row],[Q.2]]*t_instalado[[#This Row],[P.2(W)]],\"\")","v":""},{"$f":"IF(t_instalado[[#This Row],[Q.3]]<>\"\",SUMIFS(t_fluxo_lumin[fluxo],t_fluxo_lumin[tipo],t_instalado[[#This Row],[T.3]])*t_instalado[[#This Row],[Q.3]]*t_instalado[[#This Row],[P.3(W)]],\"\")","v":""},{"$f":"IF(t_instalado[[#This Row],[Trecho]]<>\"\",SUM(t_instalado[[#This Row],[f.1]:[f.3]]),\"\")","v":""},{"$f":"IF(t_instalado[[#This Row],[Trecho]]<>\"\",t_instalado[[#This Row],[Q.1]]+t_instalado[[#This Row],[Q.2]]+t_instalado[[#This Row],[Q.3]],\"\")","v":""},{"$f":"IF(t_instalado[[#This Row],[FLUXO]]<>\"\",ROUND(t_instalado[[#This Row],[FLUXO]]/t_instalado[[#This Row],[Luminárias]],0),\"\")","v":""},{"$f":"IF(t_instalado[[#This Row],[Luminárias]]<>\"\",ROUND(t_instalado[[#This Row],[lm_médio]]/t_instalado[[#This Row],[W_médio]],2),\"\")","v":""}]
[129,{"$f":"_xlfn.XLOOKUP(t_instalado[[#This Row],[cód.]],t_sitio[cód],t_sitio[Trecho],\"\")","v":""},null,null,null,null,null,null,null,null,null,null,{"$f":"t_instalado[[#This Row],[Q.1]]+t_instalado[[#This Row],[Q.2]]+t_instalado[[#This Row],[Q.3]]","v":0},{"$f":"t_instalado[[#This Row],[Q.1]]+t_instalado[[#This Row],[Q.2]]+t_instalado[[#This Row],[Q.3]]","v":0},{"$f":"IF(t_instalado[[#This Row],[Q.1]]<>\"\",SUMIFS(t_reator[p],t_reator[tipo],t_instalado[[#This Row],[T.1]],t_reator[w],t_instalado[[#This Row],[P.1(W)]]),\"\")","v":""},{"$f":"IF(t_instalado[[#This Row],[Q.2]]<>\"\",SUMIFS(t_reator[p],t_reator[tipo],t_instalado[[#This Row],[T.2]],t_reator[w],t_instalado[[#This Row],[P.2(W)]]),\"\")","v":""},{"$f":"IF(t_instalado[[#This Row],[Q.3]]<>\"\",SUMIFS(t_reator[p],t_reator[tipo],t_instalado[[#This Row],[T.3]],t_reator[w],t_instalado[[#This Row],[P.3(W)]]),\"\")","v":""},{"$f":"IF(t_instalado[[#This Row],[Q.1]]<>\"\",IFERROR(IFERROR(D363*(E363+O363)+G363*(H363+P363)+J363*(K363+Q363),D363*(E363+O363)+G363*(H363+P363)),D363*(E363+O363)),\"\")","v":""},{"$f":"IF(t_instalado[[#This Row],[Consumo_W]]<>\"\",ROUND(t_instalado[[#This Row],[Consumo_W]]/t_instalado[[#This Row],[Luminárias]],0),\"\")","v":""},{"$f":"IF(t_instalado[[#This Row],[Q.1]]<>\"\",SUMIFS(t_fluxo_lumin[fluxo],t_fluxo_lumin[tipo],t_instalado[[#This Row],[T.1]])*t_instalado[[#This Row],[P.1(W)]]*t_instalado[[#This Row],[Q.1]],\"\")","v":""},{"$f":"IF(t_instalado[[#This Row],[Q.2]]<>\"\",SUMIFS(t_fluxo_lumin[fluxo],t_fluxo_lumin[tipo],t_instalado[[#This Row],[T.2]])*t_instalado[[#This Row],[Q.2]]*t_instalado[[#This Row],[P.2(W)]],\"\")","v":""},{"$f":"IF(t_instalado[[#This Row],[Q.3]]<>\"\",SUMIFS(t_fluxo_lumin[fluxo],t_fluxo_lumin[tipo],t_instalado[[#This Row],[T.3]])*t_instalado[[#This Row],[Q.3]]*t_instalado[[#This Row],[P.3(W)]],\"\")","v":""},{"$f":"IF(t_instalado[[#This Row],[Trecho]]<>\"\",SUM(t_instalado[[#This Row],[f.1]:[f.3]]),\"\")","v":""},{"$f":"IF(t_instalado[[#This Row],[Trecho]]<>\"\",t_instalado[[#This Row],[Q.1]]+t_instalado[[#This Row],[Q.2]]+t_instalado[[#This Row],[Q.3]],\"\")","v":""},{"$f":"IF(t_instalado[[#This Row],[FLUXO]]<>\"\",ROUND(t_instalado[[#This Row],[FLUXO]]/t_instalado[[#This Row],[Luminárias]],0),\"\")","v":""},{"$f":"IF(t_instalado[[#This Row],[Luminárias]]<>\"\",ROUND(t_instalado[[#This Row],[lm_médio]]/t_instalado[[#This Row],[W_médio]],2),\"\")","v":""}]
[130,{"$f":"_xlfn.XLOOKUP(t_instalado[[#This Row],[cód.]],t_sitio[cód],t_sitio[Trecho],\"\")","v":""},null,null,null,null,null,null,null,null,null,null,{"$f":"t_instalado[[#This Row],[Q.1]]+t_instalado[[#This Row],[Q.2]]+t_instalado[[#This Row],[Q.3]]","v":0},{"$f":"t_instalado[[#This Row],[Q.1]]+t_instalado[[#This Row],[Q.2]]+t_instalado[[#This Row],[Q.3]]","v":0},{"$f":"IF(t_instalado[[#This Row],[Q.1]]<>\"\",SUMIFS(t_reator[p],t_reator[tipo],t_instalado[[#This Row],[T.1]],t_reator[w],t_instalado[[#This Row],[P.1(W)]]),\"\")","v":""},{"$f":"IF(t_instalado[[#This Row],[Q.2]]<>\"\",SUMIFS(t_reator[p],t_reator[tipo],t_instalado[[#This Row],[T.2]],t_reator[w],t_instalado[[#This Row],[P.2(W)]]),\"\")","v":""},{"$f":"IF(t_instalado[[#This Row],[Q.3]]<>\"\",SUMIFS(t_reator[p],t_reator[tipo],t_instalado[[#This Row],[T.3]],t_reator[w],t_instalado[[#This Row],[P.3(W)]]),\"\")","v":""},{"$f":"IF(t_instalado[[#This Row],[Q.1]]<>\"\",IFERROR(IFERROR(D364*(E364+O364)+G364*(H364+P364)+J364*(K364+Q364),D364*(E364+O364)+G364*(H364+P364)),D364*(E364+O364)),\"\")","v":""},{"$f":"IF(t_instalado[[#This Row],[Consumo_W]]<>\"\",ROUND(t_instalado[[#This Row],[Consumo_W]]/t_instalado[[#This Row],[Luminárias]],0),\"\")","v":""},{"$f":"IF(t_instalado[[#This Row],[Q.1]]<>\"\",SUMIFS(t_fluxo_lumin[fluxo],t_fluxo_lumin[tipo],t_instalado[[#This Row],[T.1]])*t_instalado[[#This Row],[P.1(W)]]*t_instalado[[#This Row],[Q.1]],\"\")","v":""},{"$f":"IF(t_instalado[[#This Row],[Q.2]]<>\"\",SUMIFS(t_fluxo_lumin[fluxo],t_fluxo_lumin[tipo],t_instalado[[#This Row],[T.2]])*t_instalado[[#This Row],[Q.2]]*t_instalado[[#This Row],[P.2(W)]],\"\")","v":""},{"$f":"IF(t_instalado[[#This Row],[Q.3]]<>\"\",SUMIFS(t_fluxo_lumin[fluxo],t_fluxo_lumin[tipo],t_instalado[[#This Row],[T.3]])*t_instalado[[#This Row],[Q.3]]*t_instalado[[#This Row],[P.3(W)]],\"\")","v":""},{"$f":"IF(t_instalado[[#This Row],[Trecho]]<>\"\",SUM(t_instalado[[#This Row],[f.1]:[f.3]]),\"\")","v":""},{"$f":"IF(t_instalado[[#This Row],[Trecho]]<>\"\",t_instalado[[#This Row],[Q.1]]+t_instalado[[#This Row],[Q.2]]+t_instalado[[#This Row],[Q.3]],\"\")","v":""},{"$f":"IF(t_instalado[[#This Row],[FLUXO]]<>\"\",ROUND(t_instalado[[#This Row],[FLUXO]]/t_instalado[[#This Row],[Luminárias]],0),\"\")","v":""},{"$f":"IF(t_instalado[[#This Row],[Luminárias]]<>\"\",ROUND(t_instalado[[#This Row],[lm_médio]]/t_instalado[[#This Row],[W_médio]],2),\"\")","v":""}]
[131,{"$f":"_xlfn.XLOOKUP(t_instalado[[#This Row],[cód.]],t_sitio[cód],t_sitio[Trecho],\"\")","v":""},null,null,null,null,null,null,null,null,null,null,{"$f":"t_instalado[[#This Row],[Q.1]]+t_instalado[[#This Row],[Q.2]]+t_instalado[[#This Row],[Q.3]]","v":0},{"$f":"t_instalado[[#This Row],[Q.1]]+t_instalado[[#This Row],[Q.2]]+t_instalado[[#This Row],[Q.3]]","v":0},{"$f":"IF(t_instalado[[#This Row],[Q.1]]<>\"\",SUMIFS(t_reator[p],t_reator[tipo],t_instalado[[#This Row],[T.1]],t_reator[w],t_instalado[[#This Row],[P.1(W)]]),\"\")","v":""},{"$f":"IF(t_instalado[[#This Row],[Q.2]]<>\"\",SUMIFS(t_reator[p],t_reator[tipo],t_instalado[[#This Row],[T.2]],t_reator[w],t_instalado[[#This Row],[P.2(W)]]),\"\")","v":""},{"$f":"IF(t_instalado[[#This Row],[Q.3]]<>\"\",SUMIFS(t_reator[p],t_reator[tipo],t_instalado[[#This Row],[T.3]],t_reator[w],t_instalado[[#This Row],[P.3(W)]]),\"\")","v":""},{"$f":"IF(t_instalado[[#This Row],[Q.1]]<>\"\",IFERROR(IFERROR(D365*(E365+O365)+G365*(H365+P365)+J365*(K365+Q365),D365*(E365+O365)+G365*(H365+P365)),D365*(E365+O365)),\"\")","v":""},{"$f":"IF(t_instalado[[#This Row],[Consumo_W]]<>\"\",ROUND(t_instalado[[#This Row],[Consumo_W]]/t_instalado[[#This Row],[Luminárias]],0),\"\")","v":""},{"$f":"IF(t_instalado[[#This Row],[Q.1]]<>\"\",SUMIFS(t_fluxo_lumin[fluxo],t_fluxo_lumin[tipo],t_instalado[[#This Row],[T.1]])*t_instalado[[#This Row],[P.1(W)]]*t_instalado[[#This Row],[Q.1]],\"\")","v":""},{"$f":"IF(t_instalado[[#This Row],[Q.2]]<>\"\",SUMIFS(t_fluxo_lumin[fluxo],t_fluxo_lumin[tipo],t_instalado[[#This Row],[T.2]])*t_instalado[[#This Row],[Q.2]]*t_instalado[[#This Row],[P.2(W)]],\"\")","v":""},{"$f":"IF(t_instalado[[#This Row],[Q.3]]<>\"\",SUMIFS(t_fluxo_lumin[fluxo],t_fluxo_lumin[tipo],t_instalado[[#This Row],[T.3]])*t_instalado[[#This Row],[Q.3]]*t_instalado[[#This Row],[P.3(W)]],\"\")","v":""},{"$f":"IF(t_instalado[[#This Row],[Trecho]]<>\"\",SUM(t_instalado[[#This Row],[f.1]:[f.3]]),\"\")","v":""},{"$f":"IF(t_instalado[[#This Row],[Trecho]]<>\"\",t_instalado[[#This Row],[Q.1]]+t_instalado[[#This Row],[Q.2]]+t_instalado[[#This Row],[Q.3]],\"\")","v":""},{"$f":"IF(t_instalado[[#This Row],[FLUXO]]<>\"\",ROUND(t_instalado[[#This Row],[FLUXO]]/t_instalado[[#This Row],[Luminárias]],0),\"\")","v":""},{"$f":"IF(t_instalado[[#This Row],[Luminárias]]<>\"\",ROUND(t_instalado[[#This Row],[lm_médio]]/t_instalado[[#This Row],[W_médio]],2),\"\")","v":""}]
[132,{"$f":"_xlfn.XLOOKUP(t_instalado[[#This Row],[cód.]],t_sitio[cód],t_sitio[Trecho],\"\")","v":""},null,null,null,null,null,null,null,null,null,null,{"$f":"t_instalado[[#This Row],[Q.1]]+t_instalado[[#This Row],[Q.2]]+t_instalado[[#This Row],[Q.3]]","v":0},{"$f":"t_instalado[[#This Row],[Q.1]]+t_instalado[[#This Row],[Q.2]]+t_instalado[[#This Row],[Q.3]]","v":0},{"$f":"IF(t_instalado[[#This Row],[Q.1]]<>\"\",SUMIFS(t_reator[p],t_reator[tipo],t_instalado[[#This Row],[T.1]],t_reator[w],t_instalado[[#This Row],[P.1(W)]]),\"\")","v":""},{"$f":"IF(t_instalado[[#This Row],[Q.2]]<>\"\",SUMIFS(t_reator[p],t_reator[tipo],t_instalado[[#This Row],[T.2]],t_reator[w],t_instalado[[#This Row],[P.2(W)]]),\"\")","v":""},{"$f":"IF(t_instalado[[#This Row],[Q.3]]<>\"\",SUMIFS(t_reator[p],t_reator[tipo],t_instalado[[#This Row],[T.3]],t_reator[w],t_instalado[[#This Row],[P.3(W)]]),\"\")","v":""},{"$f":"IF(t_instalado[[#This Row],[Q.1]]<>\"\",IFERROR(IFERROR(D366*(E366+O366)+G366*(H366+P366)+J366*(K366+Q366),D366*(E366+O366)+G366*(H366+P366)),D366*(E366+O366)),\"\")","v":""},{"$f":"IF(t_instalado[[#This Row],[Consumo_W]]<>\"\",ROUND(t_instalado[[#This Row],[Consumo_W]]/t_instalado[[#This Row],[Luminárias]],0),\"\")","v":""},{"$f":"IF(t_instalado[[#This Row],[Q.1]]<>\"\",SUMIFS(t_fluxo_lumin[fluxo],t_fluxo_lumin[tipo],t_instalado[[#This Row],[T.1]])*t_instalado[[#This Row],[P.1(W)]]*t_instalado[[#This Row],[Q.1]],\"\")","v":""},{"$f":"IF(t_instalado[[#This Row],[Q.2]]<>\"\",SUMIFS(t_fluxo_lumin[fluxo],t_fluxo_lumin[tipo],t_instalado[[#This Row],[T.2]])*t_instalado[[#This Row],[Q.2]]*t_instalado[[#This Row],[P.2(W)]],\"\")","v":""},{"$f":"IF(t_instalado[[#This Row],[Q.3]]<>\"\",SUMIFS(t_fluxo_lumin[fluxo],t_fluxo_lumin[tipo],t_instalado[[#This Row],[T.3]])*t_instalado[[#This Row],[Q.3]]*t_instalado[[#This Row],[P.3(W)]],\"\")","v":""},{"$f":"IF(t_instalado[[#This Row],[Trecho]]<>\"\",SUM(t_instalado[[#This Row],[f.1]:[f.3]]),\"\")","v":""},{"$f":"IF(t_instalado[[#This Row],[Trecho]]<>\"\",t_instalado[[#This Row],[Q.1]]+t_instalado[[#This Row],[Q.2]]+t_instalado[[#This Row],[Q.3]],\"\")","v":""},{"$f":"IF(t_instalado[[#This Row],[FLUXO]]<>\"\",ROUND(t_instalado[[#This Row],[FLUXO]]/t_instalado[[#This Row],[Luminárias]],0),\"\")","v":""},{"$f":"IF(t_instalado[[#This Row],[Luminárias]]<>\"\",ROUND(t_instalado[[#This Row],[lm_médio]]/t_instalado[[#This Row],[W_médio]],2),\"\")","v":""}]
[133,{"$f":"_xlfn.XLOOKUP(t_instalado[[#This Row],[cód.]],t_sitio[cód],t_sitio[Trecho],\"\")","v":""},null,null,null,null,null,null,null,null,null,null,{"$f":"t_instalado[[#This Row],[Q.1]]+t_instalado[[#This Row],[Q.2]]+t_instalado[[#This Row],[Q.3]]","v":0},{"$f":"t_instalado[[#This Row],[Q.1]]+t_instalado[[#This Row],[Q.2]]+t_instalado[[#This Row],[Q.3]]","v":0},{"$f":"IF(t_instalado[[#This Row],[Q.1]]<>\"\",SUMIFS(t_reator[p],t_reator[tipo],t_instalado[[#This Row],[T.1]],t_reator[w],t_instalado[[#This Row],[P.1(W)]]),\"\")","v":""},{"$f":"IF(t_instalado[[#This Row],[Q.2]]<>\"\",SUMIFS(t_reator[p],t_reator[tipo],t_instalado[[#This Row],[T.2]],t_reator[w],t_instalado[[#This Row],[P.2(W)]]),\"\")","v":""},{"$f":"IF(t_instalado[[#This Row],[Q.3]]<>\"\",SUMIFS(t_reator[p],t_reator[tipo],t_instalado[[#This Row],[T.3]],t_reator[w],t_instalado[[#This Row],[P.3(W)]]),\"\")","v":""},{"$f":"IF(t_instalado[[#This Row],[Q.1]]<>\"\",IFERROR(IFERROR(D367*(E367+O367)+G367*(H367+P367)+J367*(K367+Q367),D367*(E367+O367)+G367*(H367+P367)),D367*(E367+O367)),\"\")","v":""},{"$f":"IF(t_instalado[[#This Row],[Consumo_W]]<>\"\",ROUND(t_instalado[[#This Row],[Consumo_W]]/t_instalado[[#This Row],[Luminárias]],0),\"\")","v":""},{"$f":"IF(t_instalado[[#This Row],[Q.1]]<>\"\",SUMIFS(t_fluxo_lumin[fluxo],t_fluxo_lumin[tipo],t_instalado[[#This Row],[T.1]])*t_instalado[[#This Row],[P.1(W)]]*t_instalado[[#This Row],[Q.1]],\"\")","v":""},{"$f":"IF(t_instalado[[#This Row],[Q.2]]<>\"\",SUMIFS(t_fluxo_lumin[fluxo],t_fluxo_lumin[tipo],t_instalado[[#This Row],[T.2]])*t_instalado[[#This Row],[Q.2]]*t_instalado[[#This Row],[P.2(W)]],\"\")","v":""},{"$f":"IF(t_instalado[[#This Row],[Q.3]]<>\"\",SUMIFS(t_fluxo_lumin[fluxo],t_fluxo_lumin[tipo],t_instalado[[#This Row],[T.3]])*t_instalado[[#This Row],[Q.3]]*t_instalado[[#This Row],[P.3(W)]],\"\")","v":""},{"$f":"IF(t_instalado[[#This Row],[Trecho]]<>\"\",SUM(t_instalado[[#This Row],[f.1]:[f.3]]),\"\")","v":""},{"$f":"IF(t_instalado[[#This Row],[Trecho]]<>\"\",t_instalado[[#This Row],[Q.1]]+t_instalado[[#This Row],[Q.2]]+t_instalado[[#This Row],[Q.3]],\"\")","v":""},{"$f":"IF(t_instalado[[#This Row],[FLUXO]]<>\"\",ROUND(t_instalado[[#This Row],[FLUXO]]/t_instalado[[#This Row],[Luminárias]],0),\"\")","v":""},{"$f":"IF(t_instalado[[#This Row],[Luminárias]]<>\"\",ROUND(t_instalado[[#This Row],[lm_médio]]/t_instalado[[#This Row],[W_médio]],2),\"\")","v":""}]
[134,{"$f":"_xlfn.XLOOKUP(t_instalado[[#This Row],[cód.]],t_sitio[cód],t_sitio[Trecho],\"\")","v":""},null,null,null,null,null,null,null,null,null,null,{"$f":"t_instalado[[#This Row],[Q.1]]+t_instalado[[#This Row],[Q.2]]+t_instalado[[#This Row],[Q.3]]","v":0},{"$f":"t_instalado[[#This Row],[Q.1]]+t_instalado[[#This Row],[Q.2]]+t_instalado[[#This Row],[Q.3]]","v":0},{"$f":"IF(t_instalado[[#This Row],[Q.1]]<>\"\",SUMIFS(t_reator[p],t_reator[tipo],t_instalado[[#This Row],[T.1]],t_reator[w],t_instalado[[#This Row],[P.1(W)]]),\"\")","v":""},{"$f":"IF(t_instalado[[#This Row],[Q.2]]<>\"\",SUMIFS(t_reator[p],t_reator[tipo],t_instalado[[#This Row],[T.2]],t_reator[w],t_instalado[[#This Row],[P.2(W)]]),\"\")","v":""},{"$f":"IF(t_instalado[[#This Row],[Q.3]]<>\"\",SUMIFS(t_reator[p],t_reator[tipo],t_instalado[[#This Row],[T.3]],t_reator[w],t_instalado[[#This Row],[P.3(W)]]),\"\")","v":""},{"$f":"IF(t_instalado[[#This Row],[Q.1]]<>\"\",IFERROR(IFERROR(D368*(E368+O368)+G368*(H368+P368)+J368*(K368+Q368),D368*(E368+O368)+G368*(H368+P368)),D368*(E368+O368)),\"\")","v":""},{"$f":"IF(t_instalado[[#This Row],[Consumo_W]]<>\"\",ROUND(t_instalado[[#This Row],[Consumo_W]]/t_instalado[[#This Row],[Luminárias]],0),\"\")","v":""},{"$f":"IF(t_instalado[[#This Row],[Q.1]]<>\"\",SUMIFS(t_fluxo_lumin[fluxo],t_fluxo_lumin[tipo],t_instalado[[#This Row],[T.1]])*t_instalado[[#This Row],[P.1(W)]]*t_instalado[[#This Row],[Q.1]],\"\")","v":""},{"$f":"IF(t_instalado[[#This Row],[Q.2]]<>\"\",SUMIFS(t_fluxo_lumin[fluxo],t_fluxo_lumin[tipo],t_instalado[[#This Row],[T.2]])*t_instalado[[#This Row],[Q.2]]*t_instalado[[#This Row],[P.2(W)]],\"\")","v":""},{"$f":"IF(t_instalado[[#This Row],[Q.3]]<>\"\",SUMIFS(t_fluxo_lumin[fluxo],t_fluxo_lumin[tipo],t_instalado[[#This Row],[T.3]])*t_instalado[[#This Row],[Q.3]]*t_instalado[[#This Row],[P.3(W)]],\"\")","v":""},{"$f":"IF(t_instalado[[#This Row],[Trecho]]<>\"\",SUM(t_instalado[[#This Row],[f.1]:[f.3]]),\"\")","v":""},{"$f":"IF(t_instalado[[#This Row],[Trecho]]<>\"\",t_instalado[[#This Row],[Q.1]]+t_instalado[[#This Row],[Q.2]]+t_instalado[[#This Row],[Q.3]],\"\")","v":""},{"$f":"IF(t_instalado[[#This Row],[FLUXO]]<>\"\",ROUND(t_instalado[[#This Row],[FLUXO]]/t_instalado[[#This Row],[Luminárias]],0),\"\")","v":""},{"$f":"IF(t_instalado[[#This Row],[Luminárias]]<>\"\",ROUND(t_instalado[[#This Row],[lm_médio]]/t_instalado[[#This Row],[W_médio]],2),\"\")","v":""}]
[135,{"$f":"_xlfn.XLOOKUP(t_instalado[[#This Row],[cód.]],t_sitio[cód],t_sitio[Trecho],\"\")","v":""},null,null,null,null,null,null,null,null,null,null,{"$f":"t_instalado[[#This Row],[Q.1]]+t_instalado[[#This Row],[Q.2]]+t_instalado[[#This Row],[Q.3]]","v":0},{"$f":"t_instalado[[#This Row],[Q.1]]+t_instalado[[#This Row],[Q.2]]+t_instalado[[#This Row],[Q.3]]","v":0},{"$f":"IF(t_instalado[[#This Row],[Q.1]]<>\"\",SUMIFS(t_reator[p],t_reator[tipo],t_instalado[[#This Row],[T.1]],t_reator[w],t_instalado[[#This Row],[P.1(W)]]),\"\")","v":""},{"$f":"IF(t_instalado[[#This Row],[Q.2]]<>\"\",SUMIFS(t_reator[p],t_reator[tipo],t_instalado[[#This Row],[T.2]],t_reator[w],t_instalado[[#This Row],[P.2(W)]]),\"\")","v":""},{"$f":"IF(t_instalado[[#This Row],[Q.3]]<>\"\",SUMIFS(t_reator[p],t_reator[tipo],t_instalado[[#This Row],[T.3]],t_reator[w],t_instalado[[#This Row],[P.3(W)]]),\"\")","v":""},{"$f":"IF(t_instalado[[#This Row],[Q.1]]<>\"\",IFERROR(IFERROR(D369*(E369+O369)+G369*(H369+P369)+J369*(K369+Q369),D369*(E369+O369)+G369*(H369+P369)),D369*(E369+O369)),\"\")","v":""},{"$f":"IF(t_instalado[[#This Row],[Consumo_W]]<>\"\",ROUND(t_instalado[[#This Row],[Consumo_W]]/t_instalado[[#This Row],[Luminárias]],0),\"\")","v":""},{"$f":"IF(t_instalado[[#This Row],[Q.1]]<>\"\",SUMIFS(t_fluxo_lumin[fluxo],t_fluxo_lumin[tipo],t_instalado[[#This Row],[T.1]])*t_instalado[[#This Row],[P.1(W)]]*t_instalado[[#This Row],[Q.1]],\"\")","v":""},{"$f":"IF(t_instalado[[#This Row],[Q.2]]<>\"\",SUMIFS(t_fluxo_lumin[fluxo],t_fluxo_lumin[tipo],t_instalado[[#This Row],[T.2]])*t_instalado[[#This Row],[Q.2]]*t_instalado[[#This Row],[P.2(W)]],\"\")","v":""},{"$f":"IF(t_instalado[[#This Row],[Q.3]]<>\"\",SUMIFS(t_fluxo_lumin[fluxo],t_fluxo_lumin[tipo],t_instalado[[#This Row],[T.3]])*t_instalado[[#This Row],[Q.3]]*t_instalado[[#This Row],[P.3(W)]],\"\")","v":""},{"$f":"IF(t_instalado[[#This Row],[Trecho]]<>\"\",SUM(t_instalado[[#This Row],[f.1]:[f.3]]),\"\")","v":""},{"$f":"IF(t_instalado[[#This Row],[Trecho]]<>\"\",t_instalado[[#This Row],[Q.1]]+t_instalado[[#This Row],[Q.2]]+t_instalado[[#This Row],[Q.3]],\"\")","v":""},{"$f":"IF(t_instalado[[#This Row],[FLUXO]]<>\"\",ROUND(t_instalado[[#This Row],[FLUXO]]/t_instalado[[#This Row],[Luminárias]],0),\"\")","v":""},{"$f":"IF(t_instalado[[#This Row],[Luminárias]]<>\"\",ROUND(t_instalado[[#This Row],[lm_médio]]/t_instalado[[#This Row],[W_médio]],2),\"\")","v":""}]
[136,{"$f":"_xlfn.XLOOKUP(t_instalado[[#This Row],[cód.]],t_sitio[cód],t_sitio[Trecho],\"\")","v":""},null,null,null,null,null,null,null,null,null,null,{"$f":"t_instalado[[#This Row],[Q.1]]+t_instalado[[#This Row],[Q.2]]+t_instalado[[#This Row],[Q.3]]","v":0},{"$f":"t_instalado[[#This Row],[Q.1]]+t_instalado[[#This Row],[Q.2]]+t_instalado[[#This Row],[Q.3]]","v":0},{"$f":"IF(t_instalado[[#This Row],[Q.1]]<>\"\",SUMIFS(t_reator[p],t_reator[tipo],t_instalado[[#This Row],[T.1]],t_reator[w],t_instalado[[#This Row],[P.1(W)]]),\"\")","v":""},{"$f":"IF(t_instalado[[#This Row],[Q.2]]<>\"\",SUMIFS(t_reator[p],t_reator[tipo],t_instalado[[#This Row],[T.2]],t_reator[w],t_instalado[[#This Row],[P.2(W)]]),\"\")","v":""},{"$f":"IF(t_instalado[[#This Row],[Q.3]]<>\"\",SUMIFS(t_reator[p],t_reator[tipo],t_instalado[[#This Row],[T.3]],t_reator[w],t_instalado[[#This Row],[P.3(W)]]),\"\")","v":""},{"$f":"IF(t_instalado[[#This Row],[Q.1]]<>\"\",IFERROR(IFERROR(D370*(E370+O370)+G370*(H370+P370)+J370*(K370+Q370),D370*(E370+O370)+G370*(H370+P370)),D370*(E370+O370)),\"\")","v":""},{"$f":"IF(t_instalado[[#This Row],[Consumo_W]]<>\"\",ROUND(t_instalado[[#This Row],[Consumo_W]]/t_instalado[[#This Row],[Luminárias]],0),\"\")","v":""},{"$f":"IF(t_instalado[[#This Row],[Q.1]]<>\"\",SUMIFS(t_fluxo_lumin[fluxo],t_fluxo_lumin[tipo],t_instalado[[#This Row],[T.1]])*t_instalado[[#This Row],[P.1(W)]]*t_instalado[[#This Row],[Q.1]],\"\")","v":""},{"$f":"IF(t_instalado[[#This Row],[Q.2]]<>\"\",SUMIFS(t_fluxo_lumin[fluxo],t_fluxo_lumin[tipo],t_instalado[[#This Row],[T.2]])*t_instalado[[#This Row],[Q.2]]*t_instalado[[#This Row],[P.2(W)]],\"\")","v":""},{"$f":"IF(t_instalado[[#This Row],[Q.3]]<>\"\",SUMIFS(t_fluxo_lumin[fluxo],t_fluxo_lumin[tipo],t_instalado[[#This Row],[T.3]])*t_instalado[[#This Row],[Q.3]]*t_instalado[[#This Row],[P.3(W)]],\"\")","v":""},{"$f":"IF(t_instalado[[#This Row],[Trecho]]<>\"\",SUM(t_instalado[[#This Row],[f.1]:[f.3]]),\"\")","v":""},{"$f":"IF(t_instalado[[#This Row],[Trecho]]<>\"\",t_instalado[[#This Row],[Q.1]]+t_instalado[[#This Row],[Q.2]]+t_instalado[[#This Row],[Q.3]],\"\")","v":""},{"$f":"IF(t_instalado[[#This Row],[FLUXO]]<>\"\",ROUND(t_instalado[[#This Row],[FLUXO]]/t_instalado[[#This Row],[Luminárias]],0),\"\")","v":""},{"$f":"IF(t_instalado[[#This Row],[Luminárias]]<>\"\",ROUND(t_instalado[[#This Row],[lm_médio]]/t_instalado[[#This Row],[W_médio]],2),\"\")","v":""}]
[137,{"$f":"_xlfn.XLOOKUP(t_instalado[[#This Row],[cód.]],t_sitio[cód],t_sitio[Trecho],\"\")","v":""},null,null,null,null,null,null,null,null,null,null,{"$f":"t_instalado[[#This Row],[Q.1]]+t_instalado[[#This Row],[Q.2]]+t_instalado[[#This Row],[Q.3]]","v":0},{"$f":"t_instalado[[#This Row],[Q.1]]+t_instalado[[#This Row],[Q.2]]+t_instalado[[#This Row],[Q.3]]","v":0},{"$f":"IF(t_instalado[[#This Row],[Q.1]]<>\"\",SUMIFS(t_reator[p],t_reator[tipo],t_instalado[[#This Row],[T.1]],t_reator[w],t_instalado[[#This Row],[P.1(W)]]),\"\")","v":""},{"$f":"IF(t_instalado[[#This Row],[Q.2]]<>\"\",SUMIFS(t_reator[p],t_reator[tipo],t_instalado[[#This Row],[T.2]],t_reator[w],t_instalado[[#This Row],[P.2(W)]]),\"\")","v":""},{"$f":"IF(t_instalado[[#This Row],[Q.3]]<>\"\",SUMIFS(t_reator[p],t_reator[tipo],t_instalado[[#This Row],[T.3]],t_reator[w],t_instalado[[#This Row],[P.3(W)]]),\"\")","v":""},{"$f":"IF(t_instalado[[#This Row],[Q.1]]<>\"\",IFERROR(IFERROR(D371*(E371+O371)+G371*(H371+P371)+J371*(K371+Q371),D371*(E371+O371)+G371*(H371+P371)),D371*(E371+O371)),\"\")","v":""},{"$f":"IF(t_instalado[[#This Row],[Consumo_W]]<>\"\",ROUND(t_instalado[[#This Row],[Consumo_W]]/t_instalado[[#This Row],[Luminárias]],0),\"\")","v":""},{"$f":"IF(t_instalado[[#This Row],[Q.1]]<>\"\",SUMIFS(t_fluxo_lumin[fluxo],t_fluxo_lumin[tipo],t_instalado[[#This Row],[T.1]])*t_instalado[[#This Row],[P.1(W)]]*t_instalado[[#This Row],[Q.1]],\"\")","v":""},{"$f":"IF(t_instalado[[#This Row],[Q.2]]<>\"\",SUMIFS(t_fluxo_lumin[fluxo],t_fluxo_lumin[tipo],t_instalado[[#This Row],[T.2]])*t_instalado[[#This Row],[Q.2]]*t_instalado[[#This Row],[P.2(W)]],\"\")","v":""},{"$f":"IF(t_instalado[[#This Row],[Q.3]]<>\"\",SUMIFS(t_fluxo_lumin[fluxo],t_fluxo_lumin[tipo],t_instalado[[#This Row],[T.3]])*t_instalado[[#This Row],[Q.3]]*t_instalado[[#This Row],[P.3(W)]],\"\")","v":""},{"$f":"IF(t_instalado[[#This Row],[Trecho]]<>\"\",SUM(t_instalado[[#This Row],[f.1]:[f.3]]),\"\")","v":""},{"$f":"IF(t_instalado[[#This Row],[Trecho]]<>\"\",t_instalado[[#This Row],[Q.1]]+t_instalado[[#This Row],[Q.2]]+t_instalado[[#This Row],[Q.3]],\"\")","v":""},{"$f":"IF(t_instalado[[#This Row],[FLUXO]]<>\"\",ROUND(t_instalado[[#This Row],[FLUXO]]/t_instalado[[#This Row],[Luminárias]],0),\"\")","v":""},{"$f":"IF(t_instalado[[#This Row],[Luminárias]]<>\"\",ROUND(t_instalado[[#This Row],[lm_médio]]/t_instalado[[#This Row],[W_médio]],2),\"\")","v":""}]
[138,{"$f":"_xlfn.XLOOKUP(t_instalado[[#This Row],[cód.]],t_sitio[cód],t_sitio[Trecho],\"\")","v":""},null,null,null,null,null,null,null,null,null,null,{"$f":"t_instalado[[#This Row],[Q.1]]+t_instalado[[#This Row],[Q.2]]+t_instalado[[#This Row],[Q.3]]","v":0},{"$f":"t_instalado[[#This Row],[Q.1]]+t_instalado[[#This Row],[Q.2]]+t_instalado[[#This Row],[Q.3]]","v":0},{"$f":"IF(t_instalado[[#This Row],[Q.1]]<>\"\",SUMIFS(t_reator[p],t_reator[tipo],t_instalado[[#This Row],[T.1]],t_reator[w],t_instalado[[#This Row],[P.1(W)]]),\"\")","v":""},{"$f":"IF(t_instalado[[#This Row],[Q.2]]<>\"\",SUMIFS(t_reator[p],t_reator[tipo],t_instalado[[#This Row],[T.2]],t_reator[w],t_instalado[[#This Row],[P.2(W)]]),\"\")","v":""},{"$f":"IF(t_instalado[[#This Row],[Q.3]]<>\"\",SUMIFS(t_reator[p],t_reator[tipo],t_instalado[[#This Row],[T.3]],t_reator[w],t_instalado[[#This Row],[P.3(W)]]),\"\")","v":""},{"$f":"IF(t_instalado[[#This Row],[Q.1]]<>\"\",IFERROR(IFERROR(D372*(E372+O372)+G372*(H372+P372)+J372*(K372+Q372),D372*(E372+O372)+G372*(H372+P372)),D372*(E372+O372)),\"\")","v":""},{"$f":"IF(t_instalado[[#This Row],[Consumo_W]]<>\"\",ROUND(t_instalado[[#This Row],[Consumo_W]]/t_instalado[[#This Row],[Luminárias]],0),\"\")","v":""},{"$f":"IF(t_instalado[[#This Row],[Q.1]]<>\"\",SUMIFS(t_fluxo_lumin[fluxo],t_fluxo_lumin[tipo],t_instalado[[#This Row],[T.1]])*t_instalado[[#This Row],[P.1(W)]]*t_instalado[[#This Row],[Q.1]],\"\")","v":""},{"$f":"IF(t_instalado[[#This Row],[Q.2]]<>\"\",SUMIFS(t_fluxo_lumin[fluxo],t_fluxo_lumin[tipo],t_instalado[[#This Row],[T.2]])*t_instalado[[#This Row],[Q.2]]*t_instalado[[#This Row],[P.2(W)]],\"\")","v":""},{"$f":"IF(t_instalado[[#This Row],[Q.3]]<>\"\",SUMIFS(t_fluxo_lumin[fluxo],t_fluxo_lumin[tipo],t_instalado[[#This Row],[T.3]])*t_instalado[[#This Row],[Q.3]]*t_instalado[[#This Row],[P.3(W)]],\"\")","v":""},{"$f":"IF(t_instalado[[#This Row],[Trecho]]<>\"\",SUM(t_instalado[[#This Row],[f.1]:[f.3]]),\"\")","v":""},{"$f":"IF(t_instalado[[#This Row],[Trecho]]<>\"\",t_instalado[[#This Row],[Q.1]]+t_instalado[[#This Row],[Q.2]]+t_instalado[[#This Row],[Q.3]],\"\")","v":""},{"$f":"IF(t_instalado[[#This Row],[FLUXO]]<>\"\",ROUND(t_instalado[[#This Row],[FLUXO]]/t_instalado[[#This Row],[Luminárias]],0),\"\")","v":""},{"$f":"IF(t_instalado[[#This Row],[Luminárias]]<>\"\",ROUND(t_instalado[[#This Row],[lm_médio]]/t_instalado[[#This Row],[W_médio]],2),\"\")","v":""}]
[139,{"$f":"_xlfn.XLOOKUP(t_instalado[[#This Row],[cód.]],t_sitio[cód],t_sitio[Trecho],\"\")","v":""},null,null,null,null,null,null,null,null,null,null,{"$f":"t_instalado[[#This Row],[Q.1]]+t_instalado[[#This Row],[Q.2]]+t_instalado[[#This Row],[Q.3]]","v":0},{"$f":"t_instalado[[#This Row],[Q.1]]+t_instalado[[#This Row],[Q.2]]+t_instalado[[#This Row],[Q.3]]","v":0},{"$f":"IF(t_instalado[[#This Row],[Q.1]]<>\"\",SUMIFS(t_reator[p],t_reator[tipo],t_instalado[[#This Row],[T.1]],t_reator[w],t_instalado[[#This Row],[P.1(W)]]),\"\")","v":""},{"$f":"IF(t_instalado[[#This Row],[Q.2]]<>\"\",SUMIFS(t_reator[p],t_reator[tipo],t_instalado[[#This Row],[T.2]],t_reator[w],t_instalado[[#This Row],[P.2(W)]]),\"\")","v":""},{"$f":"IF(t_instalado[[#This Row],[Q.3]]<>\"\",SUMIFS(t_reator[p],t_reator[tipo],t_instalado[[#This Row],[T.3]],t_reator[w],t_instalado[[#This Row],[P.3(W)]]),\"\")","v":""},{"$f":"IF(t_instalado[[#This Row],[Q.1]]<>\"\",IFERROR(IFERROR(D373*(E373+O373)+G373*(H373+P373)+J373*(K373+Q373),D373*(E373+O373)+G373*(H373+P373)),D373*(E373+O373)),\"\")","v":""},{"$f":"IF(t_instalado[[#This Row],[Consumo_W]]<>\"\",ROUND(t_instalado[[#This Row],[Consumo_W]]/t_instalado[[#This Row],[Luminárias]],0),\"\")","v":""},{"$f":"IF(t_instalado[[#This Row],[Q.1]]<>\"\",SUMIFS(t_fluxo_lumin[fluxo],t_fluxo_lumin[tipo],t_instalado[[#This Row],[T.1]])*t_instalado[[#This Row],[P.1(W)]]*t_instalado[[#This Row],[Q.1]],\"\")","v":""},{"$f":"IF(t_instalado[[#This Row],[Q.2]]<>\"\",SUMIFS(t_fluxo_lumin[fluxo],t_fluxo_lumin[tipo],t_instalado[[#This Row],[T.2]])*t_instalado[[#This Row],[Q.2]]*t_instalado[[#This Row],[P.2(W)]],\"\")","v":""},{"$f":"IF(t_instalado[[#This Row],[Q.3]]<>\"\",SUMIFS(t_fluxo_lumin[fluxo],t_fluxo_lumin[tipo],t_instalado[[#This Row],[T.3]])*t_instalado[[#This Row],[Q.3]]*t_instalado[[#This Row],[P.3(W)]],\"\")","v":""},{"$f":"IF(t_instalado[[#This Row],[Trecho]]<>\"\",SUM(t_instalado[[#This Row],[f.1]:[f.3]]),\"\")","v":""},{"$f":"IF(t_instalado[[#This Row],[Trecho]]<>\"\",t_instalado[[#This Row],[Q.1]]+t_instalado[[#This Row],[Q.2]]+t_instalado[[#This Row],[Q.3]],\"\")","v":""},{"$f":"IF(t_instalado[[#This Row],[FLUXO]]<>\"\",ROUND(t_instalado[[#This Row],[FLUXO]]/t_instalado[[#This Row],[Luminárias]],0),\"\")","v":""},{"$f":"IF(t_instalado[[#This Row],[Luminárias]]<>\"\",ROUND(t_instalado[[#This Row],[lm_médio]]/t_instalado[[#This Row],[W_médio]],2),\"\")","v":""}]
[140,{"$f":"_xlfn.XLOOKUP(t_instalado[[#This Row],[cód.]],t_sitio[cód],t_sitio[Trecho],\"\")","v":""},null,null,null,null,null,null,null,null,null,null,{"$f":"t_instalado[[#This Row],[Q.1]]+t_instalado[[#This Row],[Q.2]]+t_instalado[[#This Row],[Q.3]]","v":0},{"$f":"t_instalado[[#This Row],[Q.1]]+t_instalado[[#This Row],[Q.2]]+t_instalado[[#This Row],[Q.3]]","v":0},{"$f":"IF(t_instalado[[#This Row],[Q.1]]<>\"\",SUMIFS(t_reator[p],t_reator[tipo],t_instalado[[#This Row],[T.1]],t_reator[w],t_instalado[[#This Row],[P.1(W)]]),\"\")","v":""},{"$f":"IF(t_instalado[[#This Row],[Q.2]]<>\"\",SUMIFS(t_reator[p],t_reator[tipo],t_instalado[[#This Row],[T.2]],t_reator[w],t_instalado[[#This Row],[P.2(W)]]),\"\")","v":""},{"$f":"IF(t_instalado[[#This Row],[Q.3]]<>\"\",SUMIFS(t_reator[p],t_reator[tipo],t_instalado[[#This Row],[T.3]],t_reator[w],t_instalado[[#This Row],[P.3(W)]]),\"\")","v":""},{"$f":"IF(t_instalado[[#This Row],[Q.1]]<>\"\",IFERROR(IFERROR(D374*(E374+O374)+G374*(H374+P374)+J374*(K374+Q374),D374*(E374+O374)+G374*(H374+P374)),D374*(E374+O374)),\"\")","v":""},{"$f":"IF(t_instalado[[#This Row],[Consumo_W]]<>\"\",ROUND(t_instalado[[#This Row],[Consumo_W]]/t_instalado[[#This Row],[Luminárias]],0),\"\")","v":""},{"$f":"IF(t_instalado[[#This Row],[Q.1]]<>\"\",SUMIFS(t_fluxo_lumin[fluxo],t_fluxo_lumin[tipo],t_instalado[[#This Row],[T.1]])*t_instalado[[#This Row],[P.1(W)]]*t_instalado[[#This Row],[Q.1]],\"\")","v":""},{"$f":"IF(t_instalado[[#This Row],[Q.2]]<>\"\",SUMIFS(t_fluxo_lumin[fluxo],t_fluxo_lumin[tipo],t_instalado[[#This Row],[T.2]])*t_instalado[[#This Row],[Q.2]]*t_instalado[[#This Row],[P.2(W)]],\"\")","v":""},{"$f":"IF(t_instalado[[#This Row],[Q.3]]<>\"\",SUMIFS(t_fluxo_lumin[fluxo],t_fluxo_lumin[tipo],t_instalado[[#This Row],[T.3]])*t_instalado[[#This Row],[Q.3]]*t_instalado[[#This Row],[P.3(W)]],\"\")","v":""},{"$f":"IF(t_instalado[[#This Row],[Trecho]]<>\"\",SUM(t_instalado[[#This Row],[f.1]:[f.3]]),\"\")","v":""},{"$f":"IF(t_instalado[[#This Row],[Trecho]]<>\"\",t_instalado[[#This Row],[Q.1]]+t_instalado[[#This Row],[Q.2]]+t_instalado[[#This Row],[Q.3]],\"\")","v":""},{"$f":"IF(t_instalado[[#This Row],[FLUXO]]<>\"\",ROUND(t_instalado[[#This Row],[FLUXO]]/t_instalado[[#This Row],[Luminárias]],0),\"\")","v":""},{"$f":"IF(t_instalado[[#This Row],[Luminárias]]<>\"\",ROUND(t_instalado[[#This Row],[lm_médio]]/t_instalado[[#This Row],[W_médio]],2),\"\")","v":""}]
[141,{"$f":"_xlfn.XLOOKUP(t_instalado[[#This Row],[cód.]],t_sitio[cód],t_sitio[Trecho],\"\")","v":""},null,null,null,null,null,null,null,null,null,null,{"$f":"t_instalado[[#This Row],[Q.1]]+t_instalado[[#This Row],[Q.2]]+t_instalado[[#This Row],[Q.3]]","v":0},{"$f":"t_instalado[[#This Row],[Q.1]]+t_instalado[[#This Row],[Q.2]]+t_instalado[[#This Row],[Q.3]]","v":0},{"$f":"IF(t_instalado[[#This Row],[Q.1]]<>\"\",SUMIFS(t_reator[p],t_reator[tipo],t_instalado[[#This Row],[T.1]],t_reator[w],t_instalado[[#This Row],[P.1(W)]]),\"\")","v":""},{"$f":"IF(t_instalado[[#This Row],[Q.2]]<>\"\",SUMIFS(t_reator[p],t_reator[tipo],t_instalado[[#This Row],[T.2]],t_reator[w],t_instalado[[#This Row],[P.2(W)]]),\"\")","v":""},{"$f":"IF(t_instalado[[#This Row],[Q.3]]<>\"\",SUMIFS(t_reator[p],t_reator[tipo],t_instalado[[#This Row],[T.3]],t_reator[w],t_instalado[[#This Row],[P.3(W)]]),\"\")","v":""},{"$f":"IF(t_instalado[[#This Row],[Q.1]]<>\"\",IFERROR(IFERROR(D375*(E375+O375)+G375*(H375+P375)+J375*(K375+Q375),D375*(E375+O375)+G375*(H375+P375)),D375*(E375+O375)),\"\")","v":""},{"$f":"IF(t_instalado[[#This Row],[Consumo_W]]<>\"\",ROUND(t_instalado[[#This Row],[Consumo_W]]/t_instalado[[#This Row],[Luminárias]],0),\"\")","v":""},{"$f":"IF(t_instalado[[#This Row],[Q.1]]<>\"\",SUMIFS(t_fluxo_lumin[fluxo],t_fluxo_lumin[tipo],t_instalado[[#This Row],[T.1]])*t_instalado[[#This Row],[P.1(W)]]*t_instalado[[#This Row],[Q.1]],\"\")","v":""},{"$f":"IF(t_instalado[[#This Row],[Q.2]]<>\"\",SUMIFS(t_fluxo_lumin[fluxo],t_fluxo_lumin[tipo],t_instalado[[#This Row],[T.2]])*t_instalado[[#This Row],[Q.2]]*t_instalado[[#This Row],[P.2(W)]],\"\")","v":""},{"$f":"IF(t_instalado[[#This Row],[Q.3]]<>\"\",SUMIFS(t_fluxo_lumin[fluxo],t_fluxo_lumin[tipo],t_instalado[[#This Row],[T.3]])*t_instalado[[#This Row],[Q.3]]*t_instalado[[#This Row],[P.3(W)]],\"\")","v":""},{"$f":"IF(t_instalado[[#This Row],[Trecho]]<>\"\",SUM(t_instalado[[#This Row],[f.1]:[f.3]]),\"\")","v":""},{"$f":"IF(t_instalado[[#This Row],[Trecho]]<>\"\",t_instalado[[#This Row],[Q.1]]+t_instalado[[#This Row],[Q.2]]+t_instalado[[#This Row],[Q.3]],\"\")","v":""},{"$f":"IF(t_instalado[[#This Row],[FLUXO]]<>\"\",ROUND(t_instalado[[#This Row],[FLUXO]]/t_instalado[[#This Row],[Luminárias]],0),\"\")","v":""},{"$f":"IF(t_instalado[[#This Row],[Luminárias]]<>\"\",ROUND(t_instalado[[#This Row],[lm_médio]]/t_instalado[[#This Row],[W_médio]],2),\"\")","v":""}]
[142,{"$f":"_xlfn.XLOOKUP(t_instalado[[#This Row],[cód.]],t_sitio[cód],t_sitio[Trecho],\"\")","v":""},null,null,null,null,null,null,null,null,null,null,{"$f":"t_instalado[[#This Row],[Q.1]]+t_instalado[[#This Row],[Q.2]]+t_instalado[[#This Row],[Q.3]]","v":0},{"$f":"t_instalado[[#This Row],[Q.1]]+t_instalado[[#This Row],[Q.2]]+t_instalado[[#This Row],[Q.3]]","v":0},{"$f":"IF(t_instalado[[#This Row],[Q.1]]<>\"\",SUMIFS(t_reator[p],t_reator[tipo],t_instalado[[#This Row],[T.1]],t_reator[w],t_instalado[[#This Row],[P.1(W)]]),\"\")","v":""},{"$f":"IF(t_instalado[[#This Row],[Q.2]]<>\"\",SUMIFS(t_reator[p],t_reator[tipo],t_instalado[[#This Row],[T.2]],t_reator[w],t_instalado[[#This Row],[P.2(W)]]),\"\")","v":""},{"$f":"IF(t_instalado[[#This Row],[Q.3]]<>\"\",SUMIFS(t_reator[p],t_reator[tipo],t_instalado[[#This Row],[T.3]],t_reator[w],t_instalado[[#This Row],[P.3(W)]]),\"\")","v":""},{"$f":"IF(t_instalado[[#This Row],[Q.1]]<>\"\",IFERROR(IFERROR(D376*(E376+O376)+G376*(H376+P376)+J376*(K376+Q376),D376*(E376+O376)+G376*(H376+P376)),D376*(E376+O376)),\"\")","v":""},{"$f":"IF(t_instalado[[#This Row],[Consumo_W]]<>\"\",ROUND(t_instalado[[#This Row],[Consumo_W]]/t_instalado[[#This Row],[Luminárias]],0),\"\")","v":""},{"$f":"IF(t_instalado[[#This Row],[Q.1]]<>\"\",SUMIFS(t_fluxo_lumin[fluxo],t_fluxo_lumin[tipo],t_instalado[[#This Row],[T.1]])*t_instalado[[#This Row],[P.1(W)]]*t_instalado[[#This Row],[Q.1]],\"\")","v":""},{"$f":"IF(t_instalado[[#This Row],[Q.2]]<>\"\",SUMIFS(t_fluxo_lumin[fluxo],t_fluxo_lumin[tipo],t_instalado[[#This Row],[T.2]])*t_instalado[[#This Row],[Q.2]]*t_instalado[[#This Row],[P.2(W)]],\"\")","v":""},{"$f":"IF(t_instalado[[#This Row],[Q.3]]<>\"\",SUMIFS(t_fluxo_lumin[fluxo],t_fluxo_lumin[tipo],t_instalado[[#This Row],[T.3]])*t_instalado[[#This Row],[Q.3]]*t_instalado[[#This Row],[P.3(W)]],\"\")","v":""},{"$f":"IF(t_instalado[[#This Row],[Trecho]]<>\"\",SUM(t_instalado[[#This Row],[f.1]:[f.3]]),\"\")","v":""},{"$f":"IF(t_instalado[[#This Row],[Trecho]]<>\"\",t_instalado[[#This Row],[Q.1]]+t_instalado[[#This Row],[Q.2]]+t_instalado[[#This Row],[Q.3]],\"\")","v":""},{"$f":"IF(t_instalado[[#This Row],[FLUXO]]<>\"\",ROUND(t_instalado[[#This Row],[FLUXO]]/t_instalado[[#This Row],[Luminárias]],0),\"\")","v":""},{"$f":"IF(t_instalado[[#This Row],[Luminárias]]<>\"\",ROUND(t_instalado[[#This Row],[lm_médio]]/t_instalado[[#This Row],[W_médio]],2),\"\")","v":""}]
[143,{"$f":"_xlfn.XLOOKUP(t_instalado[[#This Row],[cód.]],t_sitio[cód],t_sitio[Trecho],\"\")","v":""},null,null,null,null,null,null,null,null,null,null,{"$f":"t_instalado[[#This Row],[Q.1]]+t_instalado[[#This Row],[Q.2]]+t_instalado[[#This Row],[Q.3]]","v":0},{"$f":"t_instalado[[#This Row],[Q.1]]+t_instalado[[#This Row],[Q.2]]+t_instalado[[#This Row],[Q.3]]","v":0},{"$f":"IF(t_instalado[[#This Row],[Q.1]]<>\"\",SUMIFS(t_reator[p],t_reator[tipo],t_instalado[[#This Row],[T.1]],t_reator[w],t_instalado[[#This Row],[P.1(W)]]),\"\")","v":""},{"$f":"IF(t_instalado[[#This Row],[Q.2]]<>\"\",SUMIFS(t_reator[p],t_reator[tipo],t_instalado[[#This Row],[T.2]],t_reator[w],t_instalado[[#This Row],[P.2(W)]]),\"\")","v":""},{"$f":"IF(t_instalado[[#This Row],[Q.3]]<>\"\",SUMIFS(t_reator[p],t_reator[tipo],t_instalado[[#This Row],[T.3]],t_reator[w],t_instalado[[#This Row],[P.3(W)]]),\"\")","v":""},{"$f":"IF(t_instalado[[#This Row],[Q.1]]<>\"\",IFERROR(IFERROR(D377*(E377+O377)+G377*(H377+P377)+J377*(K377+Q377),D377*(E377+O377)+G377*(H377+P377)),D377*(E377+O377)),\"\")","v":""},{"$f":"IF(t_instalado[[#This Row],[Consumo_W]]<>\"\",ROUND(t_instalado[[#This Row],[Consumo_W]]/t_instalado[[#This Row],[Luminárias]],0),\"\")","v":""},{"$f":"IF(t_instalado[[#This Row],[Q.1]]<>\"\",SUMIFS(t_fluxo_lumin[fluxo],t_fluxo_lumin[tipo],t_instalado[[#This Row],[T.1]])*t_instalado[[#This Row],[P.1(W)]]*t_instalado[[#This Row],[Q.1]],\"\")","v":""},{"$f":"IF(t_instalado[[#This Row],[Q.2]]<>\"\",SUMIFS(t_fluxo_lumin[fluxo],t_fluxo_lumin[tipo],t_instalado[[#This Row],[T.2]])*t_instalado[[#This Row],[Q.2]]*t_instalado[[#This Row],[P.2(W)]],\"\")","v":""},{"$f":"IF(t_instalado[[#This Row],[Q.3]]<>\"\",SUMIFS(t_fluxo_lumin[fluxo],t_fluxo_lumin[tipo],t_instalado[[#This Row],[T.3]])*t_instalado[[#This Row],[Q.3]]*t_instalado[[#This Row],[P.3(W)]],\"\")","v":""},{"$f":"IF(t_instalado[[#This Row],[Trecho]]<>\"\",SUM(t_instalado[[#This Row],[f.1]:[f.3]]),\"\")","v":""},{"$f":"IF(t_instalado[[#This Row],[Trecho]]<>\"\",t_instalado[[#This Row],[Q.1]]+t_instalado[[#This Row],[Q.2]]+t_instalado[[#This Row],[Q.3]],\"\")","v":""},{"$f":"IF(t_instalado[[#This Row],[FLUXO]]<>\"\",ROUND(t_instalado[[#This Row],[FLUXO]]/t_instalado[[#This Row],[Luminárias]],0),\"\")","v":""},{"$f":"IF(t_instalado[[#This Row],[Luminárias]]<>\"\",ROUND(t_instalado[[#This Row],[lm_médio]]/t_instalado[[#This Row],[W_médio]],2),\"\")","v":""}]
[144,{"$f":"_xlfn.XLOOKUP(t_instalado[[#This Row],[cód.]],t_sitio[cód],t_sitio[Trecho],\"\")","v":""},null,null,null,null,null,null,null,null,null,null,{"$f":"t_instalado[[#This Row],[Q.1]]+t_instalado[[#This Row],[Q.2]]+t_instalado[[#This Row],[Q.3]]","v":0},{"$f":"t_instalado[[#This Row],[Q.1]]+t_instalado[[#This Row],[Q.2]]+t_instalado[[#This Row],[Q.3]]","v":0},{"$f":"IF(t_instalado[[#This Row],[Q.1]]<>\"\",SUMIFS(t_reator[p],t_reator[tipo],t_instalado[[#This Row],[T.1]],t_reator[w],t_instalado[[#This Row],[P.1(W)]]),\"\")","v":""},{"$f":"IF(t_instalado[[#This Row],[Q.2]]<>\"\",SUMIFS(t_reator[p],t_reator[tipo],t_instalado[[#This Row],[T.2]],t_reator[w],t_instalado[[#This Row],[P.2(W)]]),\"\")","v":""},{"$f":"IF(t_instalado[[#This Row],[Q.3]]<>\"\",SUMIFS(t_reator[p],t_reator[tipo],t_instalado[[#This Row],[T.3]],t_reator[w],t_instalado[[#This Row],[P.3(W)]]),\"\")","v":""},{"$f":"IF(t_instalado[[#This Row],[Q.1]]<>\"\",IFERROR(IFERROR(D378*(E378+O378)+G378*(H378+P378)+J378*(K378+Q378),D378*(E378+O378)+G378*(H378+P378)),D378*(E378+O378)),\"\")","v":""},{"$f":"IF(t_instalado[[#This Row],[Consumo_W]]<>\"\",ROUND(t_instalado[[#This Row],[Consumo_W]]/t_instalado[[#This Row],[Luminárias]],0),\"\")","v":""},{"$f":"IF(t_instalado[[#This Row],[Q.1]]<>\"\",SUMIFS(t_fluxo_lumin[fluxo],t_fluxo_lumin[tipo],t_instalado[[#This Row],[T.1]])*t_instalado[[#This Row],[P.1(W)]]*t_instalado[[#This Row],[Q.1]],\"\")","v":""},{"$f":"IF(t_instalado[[#This Row],[Q.2]]<>\"\",SUMIFS(t_fluxo_lumin[fluxo],t_fluxo_lumin[tipo],t_instalado[[#This Row],[T.2]])*t_instalado[[#This Row],[Q.2]]*t_instalado[[#This Row],[P.2(W)]],\"\")","v":""},{"$f":"IF(t_instalado[[#This Row],[Q.3]]<>\"\",SUMIFS(t_fluxo_lumin[fluxo],t_fluxo_lumin[tipo],t_instalado[[#This Row],[T.3]])*t_instalado[[#This Row],[Q.3]]*t_instalado[[#This Row],[P.3(W)]],\"\")","v":""},{"$f":"IF(t_instalado[[#This Row],[Trecho]]<>\"\",SUM(t_instalado[[#This Row],[f.1]:[f.3]]),\"\")","v":""},{"$f":"IF(t_instalado[[#This Row],[Trecho]]<>\"\",t_instalado[[#This Row],[Q.1]]+t_instalado[[#This Row],[Q.2]]+t_instalado[[#This Row],[Q.3]],\"\")","v":""},{"$f":"IF(t_instalado[[#This Row],[FLUXO]]<>\"\",ROUND(t_instalado[[#This Row],[FLUXO]]/t_instalado[[#This Row],[Luminárias]],0),\"\")","v":""},{"$f":"IF(t_instalado[[#This Row],[Luminárias]]<>\"\",ROUND(t_instalado[[#This Row],[lm_médio]]/t_instalado[[#This Row],[W_médio]],2),\"\")","v":""}]
[145,{"$f":"_xlfn.XLOOKUP(t_instalado[[#This Row],[cód.]],t_sitio[cód],t_sitio[Trecho],\"\")","v":""},null,null,null,null,null,null,null,null,null,null,{"$f":"t_instalado[[#This Row],[Q.1]]+t_instalado[[#This Row],[Q.2]]+t_instalado[[#This Row],[Q.3]]","v":0},{"$f":"t_instalado[[#This Row],[Q.1]]+t_instalado[[#This Row],[Q.2]]+t_instalado[[#This Row],[Q.3]]","v":0},{"$f":"IF(t_instalado[[#This Row],[Q.1]]<>\"\",SUMIFS(t_reator[p],t_reator[tipo],t_instalado[[#This Row],[T.1]],t_reator[w],t_instalado[[#This Row],[P.1(W)]]),\"\")","v":""},{"$f":"IF(t_instalado[[#This Row],[Q.2]]<>\"\",SUMIFS(t_reator[p],t_reator[tipo],t_instalado[[#This Row],[T.2]],t_reator[w],t_instalado[[#This Row],[P.2(W)]]),\"\")","v":""},{"$f":"IF(t_instalado[[#This Row],[Q.3]]<>\"\",SUMIFS(t_reator[p],t_reator[tipo],t_instalado[[#This Row],[T.3]],t_reator[w],t_instalado[[#This Row],[P.3(W)]]),\"\")","v":""},{"$f":"IF(t_instalado[[#This Row],[Q.1]]<>\"\",IFERROR(IFERROR(D379*(E379+O379)+G379*(H379+P379)+J379*(K379+Q379),D379*(E379+O379)+G379*(H379+P379)),D379*(E379+O379)),\"\")","v":""},{"$f":"IF(t_instalado[[#This Row],[Consumo_W]]<>\"\",ROUND(t_instalado[[#This Row],[Consumo_W]]/t_instalado[[#This Row],[Luminárias]],0),\"\")","v":""},{"$f":"IF(t_instalado[[#This Row],[Q.1]]<>\"\",SUMIFS(t_fluxo_lumin[fluxo],t_fluxo_lumin[tipo],t_instalado[[#This Row],[T.1]])*t_instalado[[#This Row],[P.1(W)]]*t_instalado[[#This Row],[Q.1]],\"\")","v":""},{"$f":"IF(t_instalado[[#This Row],[Q.2]]<>\"\",SUMIFS(t_fluxo_lumin[fluxo],t_fluxo_lumin[tipo],t_instalado[[#This Row],[T.2]])*t_instalado[[#This Row],[Q.2]]*t_instalado[[#This Row],[P.2(W)]],\"\")","v":""},{"$f":"IF(t_instalado[[#This Row],[Q.3]]<>\"\",SUMIFS(t_fluxo_lumin[fluxo],t_fluxo_lumin[tipo],t_instalado[[#This Row],[T.3]])*t_instalado[[#This Row],[Q.3]]*t_instalado[[#This Row],[P.3(W)]],\"\")","v":""},{"$f":"IF(t_instalado[[#This Row],[Trecho]]<>\"\",SUM(t_instalado[[#This Row],[f.1]:[f.3]]),\"\")","v":""},{"$f":"IF(t_instalado[[#This Row],[Trecho]]<>\"\",t_instalado[[#This Row],[Q.1]]+t_instalado[[#This Row],[Q.2]]+t_instalado[[#This Row],[Q.3]],\"\")","v":""},{"$f":"IF(t_instalado[[#This Row],[FLUXO]]<>\"\",ROUND(t_instalado[[#This Row],[FLUXO]]/t_instalado[[#This Row],[Luminárias]],0),\"\")","v":""},{"$f":"IF(t_instalado[[#This Row],[Luminárias]]<>\"\",ROUND(t_instalado[[#This Row],[lm_médio]]/t_instalado[[#This Row],[W_médio]],2),\"\")","v":""}]
[146,{"$f":"_xlfn.XLOOKUP(t_instalado[[#This Row],[cód.]],t_sitio[cód],t_sitio[Trecho],\"\")","v":""},null,null,null,null,null,null,null,null,null,null,{"$f":"t_instalado[[#This Row],[Q.1]]+t_instalado[[#This Row],[Q.2]]+t_instalado[[#This Row],[Q.3]]","v":0},{"$f":"t_instalado[[#This Row],[Q.1]]+t_instalado[[#This Row],[Q.2]]+t_instalado[[#This Row],[Q.3]]","v":0},{"$f":"IF(t_instalado[[#This Row],[Q.1]]<>\"\",SUMIFS(t_reator[p],t_reator[tipo],t_instalado[[#This Row],[T.1]],t_reator[w],t_instalado[[#This Row],[P.1(W)]]),\"\")","v":""},{"$f":"IF(t_instalado[[#This Row],[Q.2]]<>\"\",SUMIFS(t_reator[p],t_reator[tipo],t_instalado[[#This Row],[T.2]],t_reator[w],t_instalado[[#This Row],[P.2(W)]]),\"\")","v":""},{"$f":"IF(t_instalado[[#This Row],[Q.3]]<>\"\",SUMIFS(t_reator[p],t_reator[tipo],t_instalado[[#This Row],[T.3]],t_reator[w],t_instalado[[#This Row],[P.3(W)]]),\"\")","v":""},{"$f":"IF(t_instalado[[#This Row],[Q.1]]<>\"\",IFERROR(IFERROR(D380*(E380+O380)+G380*(H380+P380)+J380*(K380+Q380),D380*(E380+O380)+G380*(H380+P380)),D380*(E380+O380)),\"\")","v":""},{"$f":"IF(t_instalado[[#This Row],[Consumo_W]]<>\"\",ROUND(t_instalado[[#This Row],[Consumo_W]]/t_instalado[[#This Row],[Luminárias]],0),\"\")","v":""},{"$f":"IF(t_instalado[[#This Row],[Q.1]]<>\"\",SUMIFS(t_fluxo_lumin[fluxo],t_fluxo_lumin[tipo],t_instalado[[#This Row],[T.1]])*t_instalado[[#This Row],[P.1(W)]]*t_instalado[[#This Row],[Q.1]],\"\")","v":""},{"$f":"IF(t_instalado[[#This Row],[Q.2]]<>\"\",SUMIFS(t_fluxo_lumin[fluxo],t_fluxo_lumin[tipo],t_instalado[[#This Row],[T.2]])*t_instalado[[#This Row],[Q.2]]*t_instalado[[#This Row],[P.2(W)]],\"\")","v":""},{"$f":"IF(t_instalado[[#This Row],[Q.3]]<>\"\",SUMIFS(t_fluxo_lumin[fluxo],t_fluxo_lumin[tipo],t_instalado[[#This Row],[T.3]])*t_instalado[[#This Row],[Q.3]]*t_instalado[[#This Row],[P.3(W)]],\"\")","v":""},{"$f":"IF(t_instalado[[#This Row],[Trecho]]<>\"\",SUM(t_instalado[[#This Row],[f.1]:[f.3]]),\"\")","v":""},{"$f":"IF(t_instalado[[#This Row],[Trecho]]<>\"\",t_instalado[[#This Row],[Q.1]]+t_instalado[[#This Row],[Q.2]]+t_instalado[[#This Row],[Q.3]],\"\")","v":""},{"$f":"IF(t_instalado[[#This Row],[FLUXO]]<>\"\",ROUND(t_instalado[[#This Row],[FLUXO]]/t_instalado[[#This Row],[Luminárias]],0),\"\")","v":""},{"$f":"IF(t_instalado[[#This Row],[Luminárias]]<>\"\",ROUND(t_instalado[[#This Row],[lm_médio]]/t_instalado[[#This Row],[W_médio]],2),\"\")","v":""}]
[147,{"$f":"_xlfn.XLOOKUP(t_instalado[[#This Row],[cód.]],t_sitio[cód],t_sitio[Trecho],\"\")","v":""},null,null,null,null,null,null,null,null,null,null,{"$f":"t_instalado[[#This Row],[Q.1]]+t_instalado[[#This Row],[Q.2]]+t_instalado[[#This Row],[Q.3]]","v":0},{"$f":"t_instalado[[#This Row],[Q.1]]+t_instalado[[#This Row],[Q.2]]+t_instalado[[#This Row],[Q.3]]","v":0},{"$f":"IF(t_instalado[[#This Row],[Q.1]]<>\"\",SUMIFS(t_reator[p],t_reator[tipo],t_instalado[[#This Row],[T.1]],t_reator[w],t_instalado[[#This Row],[P.1(W)]]),\"\")","v":""},{"$f":"IF(t_instalado[[#This Row],[Q.2]]<>\"\",SUMIFS(t_reator[p],t_reator[tipo],t_instalado[[#This Row],[T.2]],t_reator[w],t_instalado[[#This Row],[P.2(W)]]),\"\")","v":""},{"$f":"IF(t_instalado[[#This Row],[Q.3]]<>\"\",SUMIFS(t_reator[p],t_reator[tipo],t_instalado[[#This Row],[T.3]],t_reator[w],t_instalado[[#This Row],[P.3(W)]]),\"\")","v":""},{"$f":"IF(t_instalado[[#This Row],[Q.1]]<>\"\",IFERROR(IFERROR(D381*(E381+O381)+G381*(H381+P381)+J381*(K381+Q381),D381*(E381+O381)+G381*(H381+P381)),D381*(E381+O381)),\"\")","v":""},{"$f":"IF(t_instalado[[#This Row],[Consumo_W]]<>\"\",ROUND(t_instalado[[#This Row],[Consumo_W]]/t_instalado[[#This Row],[Luminárias]],0),\"\")","v":""},{"$f":"IF(t_instalado[[#This Row],[Q.1]]<>\"\",SUMIFS(t_fluxo_lumin[fluxo],t_fluxo_lumin[tipo],t_instalado[[#This Row],[T.1]])*t_instalado[[#This Row],[P.1(W)]]*t_instalado[[#This Row],[Q.1]],\"\")","v":""},{"$f":"IF(t_instalado[[#This Row],[Q.2]]<>\"\",SUMIFS(t_fluxo_lumin[fluxo],t_fluxo_lumin[tipo],t_instalado[[#This Row],[T.2]])*t_instalado[[#This Row],[Q.2]]*t_instalado[[#This Row],[P.2(W)]],\"\")","v":""},{"$f":"IF(t_instalado[[#This Row],[Q.3]]<>\"\",SUMIFS(t_fluxo_lumin[fluxo],t_fluxo_lumin[tipo],t_instalado[[#This Row],[T.3]])*t_instalado[[#This Row],[Q.3]]*t_instalado[[#This Row],[P.3(W)]],\"\")","v":""},{"$f":"IF(t_instalado[[#This Row],[Trecho]]<>\"\",SUM(t_instalado[[#This Row],[f.1]:[f.3]]),\"\")","v":""},{"$f":"IF(t_instalado[[#This Row],[Trecho]]<>\"\",t_instalado[[#This Row],[Q.1]]+t_instalado[[#This Row],[Q.2]]+t_instalado[[#This Row],[Q.3]],\"\")","v":""},{"$f":"IF(t_instalado[[#This Row],[FLUXO]]<>\"\",ROUND(t_instalado[[#This Row],[FLUXO]]/t_instalado[[#This Row],[Luminárias]],0),\"\")","v":""},{"$f":"IF(t_instalado[[#This Row],[Luminárias]]<>\"\",ROUND(t_instalado[[#This Row],[lm_médio]]/t_instalado[[#This Row],[W_médio]],2),\"\")","v":""}]
[148,{"$f":"_xlfn.XLOOKUP(t_instalado[[#This Row],[cód.]],t_sitio[cód],t_sitio[Trecho],\"\")","v":""},null,null,null,null,null,null,null,null,null,null,{"$f":"t_instalado[[#This Row],[Q.1]]+t_instalado[[#This Row],[Q.2]]+t_instalado[[#This Row],[Q.3]]","v":0},{"$f":"t_instalado[[#This Row],[Q.1]]+t_instalado[[#This Row],[Q.2]]+t_instalado[[#This Row],[Q.3]]","v":0},{"$f":"IF(t_instalado[[#This Row],[Q.1]]<>\"\",SUMIFS(t_reator[p],t_reator[tipo],t_instalado[[#This Row],[T.1]],t_reator[w],t_instalado[[#This Row],[P.1(W)]]),\"\")","v":""},{"$f":"IF(t_instalado[[#This Row],[Q.2]]<>\"\",SUMIFS(t_reator[p],t_reator[tipo],t_instalado[[#This Row],[T.2]],t_reator[w],t_instalado[[#This Row],[P.2(W)]]),\"\")","v":""},{"$f":"IF(t_instalado[[#This Row],[Q.3]]<>\"\",SUMIFS(t_reator[p],t_reator[tipo],t_instalado[[#This Row],[T.3]],t_reator[w],t_instalado[[#This Row],[P.3(W)]]),\"\")","v":""},{"$f":"IF(t_instalado[[#This Row],[Q.1]]<>\"\",IFERROR(IFERROR(D382*(E382+O382)+G382*(H382+P382)+J382*(K382+Q382),D382*(E382+O382)+G382*(H382+P382)),D382*(E382+O382)),\"\")","v":""},{"$f":"IF(t_instalado[[#This Row],[Consumo_W]]<>\"\",ROUND(t_instalado[[#This Row],[Consumo_W]]/t_instalado[[#This Row],[Luminárias]],0),\"\")","v":""},{"$f":"IF(t_instalado[[#This Row],[Q.1]]<>\"\",SUMIFS(t_fluxo_lumin[fluxo],t_fluxo_lumin[tipo],t_instalado[[#This Row],[T.1]])*t_instalado[[#This Row],[P.1(W)]]*t_instalado[[#This Row],[Q.1]],\"\")","v":""},{"$f":"IF(t_instalado[[#This Row],[Q.2]]<>\"\",SUMIFS(t_fluxo_lumin[fluxo],t_fluxo_lumin[tipo],t_instalado[[#This Row],[T.2]])*t_instalado[[#This Row],[Q.2]]*t_instalado[[#This Row],[P.2(W)]],\"\")","v":""},{"$f":"IF(t_instalado[[#This Row],[Q.3]]<>\"\",SUMIFS(t_fluxo_lumin[fluxo],t_fluxo_lumin[tipo],t_instalado[[#This Row],[T.3]])*t_instalado[[#This Row],[Q.3]]*t_instalado[[#This Row],[P.3(W)]],\"\")","v":""},{"$f":"IF(t_instalado[[#This Row],[Trecho]]<>\"\",SUM(t_instalado[[#This Row],[f.1]:[f.3]]),\"\")","v":""},{"$f":"IF(t_instalado[[#This Row],[Trecho]]<>\"\",t_instalado[[#This Row],[Q.1]]+t_instalado[[#This Row],[Q.2]]+t_instalado[[#This Row],[Q.3]],\"\")","v":""},{"$f":"IF(t_instalado[[#This Row],[FLUXO]]<>\"\",ROUND(t_instalado[[#This Row],[FLUXO]]/t_instalado[[#This Row],[Luminárias]],0),\"\")","v":""},{"$f":"IF(t_instalado[[#This Row],[Luminárias]]<>\"\",ROUND(t_instalado[[#This Row],[lm_médio]]/t_instalado[[#This Row],[W_médio]],2),\"\")","v":""}]
[149,{"$f":"_xlfn.XLOOKUP(t_instalado[[#This Row],[cód.]],t_sitio[cód],t_sitio[Trecho],\"\")","v":""},null,null,null,null,null,null,null,null,null,null,{"$f":"t_instalado[[#This Row],[Q.1]]+t_instalado[[#This Row],[Q.2]]+t_instalado[[#This Row],[Q.3]]","v":0},{"$f":"t_instalado[[#This Row],[Q.1]]+t_instalado[[#This Row],[Q.2]]+t_instalado[[#This Row],[Q.3]]","v":0},{"$f":"IF(t_instalado[[#This Row],[Q.1]]<>\"\",SUMIFS(t_reator[p],t_reator[tipo],t_instalado[[#This Row],[T.1]],t_reator[w],t_instalado[[#This Row],[P.1(W)]]),\"\")","v":""},{"$f":"IF(t_instalado[[#This Row],[Q.2]]<>\"\",SUMIFS(t_reator[p],t_reator[tipo],t_instalado[[#This Row],[T.2]],t_reator[w],t_instalado[[#This Row],[P.2(W)]]),\"\")","v":""},{"$f":"IF(t_instalado[[#This Row],[Q.3]]<>\"\",SUMIFS(t_reator[p],t_reator[tipo],t_instalado[[#This Row],[T.3]],t_reator[w],t_instalado[[#This Row],[P.3(W)]]),\"\")","v":""},{"$f":"IF(t_instalado[[#This Row],[Q.1]]<>\"\",IFERROR(IFERROR(D383*(E383+O383)+G383*(H383+P383)+J383*(K383+Q383),D383*(E383+O383)+G383*(H383+P383)),D383*(E383+O383)),\"\")","v":""},{"$f":"IF(t_instalado[[#This Row],[Consumo_W]]<>\"\",ROUND(t_instalado[[#This Row],[Consumo_W]]/t_instalado[[#This Row],[Luminárias]],0),\"\")","v":""},{"$f":"IF(t_instalado[[#This Row],[Q.1]]<>\"\",SUMIFS(t_fluxo_lumin[fluxo],t_fluxo_lumin[tipo],t_instalado[[#This Row],[T.1]])*t_instalado[[#This Row],[P.1(W)]]*t_instalado[[#This Row],[Q.1]],\"\")","v":""},{"$f":"IF(t_instalado[[#This Row],[Q.2]]<>\"\",SUMIFS(t_fluxo_lumin[fluxo],t_fluxo_lumin[tipo],t_instalado[[#This Row],[T.2]])*t_instalado[[#This Row],[Q.2]]*t_instalado[[#This Row],[P.2(W)]],\"\")","v":""},{"$f":"IF(t_instalado[[#This Row],[Q.3]]<>\"\",SUMIFS(t_fluxo_lumin[fluxo],t_fluxo_lumin[tipo],t_instalado[[#This Row],[T.3]])*t_instalado[[#This Row],[Q.3]]*t_instalado[[#This Row],[P.3(W)]],\"\")","v":""},{"$f":"IF(t_instalado[[#This Row],[Trecho]]<>\"\",SUM(t_instalado[[#This Row],[f.1]:[f.3]]),\"\")","v":""},{"$f":"IF(t_instalado[[#This Row],[Trecho]]<>\"\",t_instalado[[#This Row],[Q.1]]+t_instalado[[#This Row],[Q.2]]+t_instalado[[#This Row],[Q.3]],\"\")","v":""},{"$f":"IF(t_instalado[[#This Row],[FLUXO]]<>\"\",ROUND(t_instalado[[#This Row],[FLUXO]]/t_instalado[[#This Row],[Luminárias]],0),\"\")","v":""},{"$f":"IF(t_instalado[[#This Row],[Luminárias]]<>\"\",ROUND(t_instalado[[#This Row],[lm_médio]]/t_instalado[[#This Row],[W_médio]],2),\"\")","v":""}]
[150,{"$f":"_xlfn.XLOOKUP(t_instalado[[#This Row],[cód.]],t_sitio[cód],t_sitio[Trecho],\"\")","v":""},null,null,null,null,null,null,null,null,null,null,{"$f":"t_instalado[[#This Row],[Q.1]]+t_instalado[[#This Row],[Q.2]]+t_instalado[[#This Row],[Q.3]]","v":0},{"$f":"t_instalado[[#This Row],[Q.1]]+t_instalado[[#This Row],[Q.2]]+t_instalado[[#This Row],[Q.3]]","v":0},{"$f":"IF(t_instalado[[#This Row],[Q.1]]<>\"\",SUMIFS(t_reator[p],t_reator[tipo],t_instalado[[#This Row],[T.1]],t_reator[w],t_instalado[[#This Row],[P.1(W)]]),\"\")","v":""},{"$f":"IF(t_instalado[[#This Row],[Q.2]]<>\"\",SUMIFS(t_reator[p],t_reator[tipo],t_instalado[[#This Row],[T.2]],t_reator[w],t_instalado[[#This Row],[P.2(W)]]),\"\")","v":""},{"$f":"IF(t_instalado[[#This Row],[Q.3]]<>\"\",SUMIFS(t_reator[p],t_reator[tipo],t_instalado[[#This Row],[T.3]],t_reator[w],t_instalado[[#This Row],[P.3(W)]]),\"\")","v":""},{"$f":"IF(t_instalado[[#This Row],[Q.1]]<>\"\",IFERROR(IFERROR(D384*(E384+O384)+G384*(H384+P384)+J384*(K384+Q384),D384*(E384+O384)+G384*(H384+P384)),D384*(E384+O384)),\"\")","v":""},{"$f":"IF(t_instalado[[#This Row],[Consumo_W]]<>\"\",ROUND(t_instalado[[#This Row],[Consumo_W]]/t_instalado[[#This Row],[Luminárias]],0),\"\")","v":""},{"$f":"IF(t_instalado[[#This Row],[Q.1]]<>\"\",SUMIFS(t_fluxo_lumin[fluxo],t_fluxo_lumin[tipo],t_instalado[[#This Row],[T.1]])*t_instalado[[#This Row],[P.1(W)]]*t_instalado[[#This Row],[Q.1]],\"\")","v":""},{"$f":"IF(t_instalado[[#This Row],[Q.2]]<>\"\",SUMIFS(t_fluxo_lumin[fluxo],t_fluxo_lumin[tipo],t_instalado[[#This Row],[T.2]])*t_instalado[[#This Row],[Q.2]]*t_instalado[[#This Row],[P.2(W)]],\"\")","v":""},{"$f":"IF(t_instalado[[#This Row],[Q.3]]<>\"\",SUMIFS(t_fluxo_lumin[fluxo],t_fluxo_lumin[tipo],t_instalado[[#This Row],[T.3]])*t_instalado[[#This Row],[Q.3]]*t_instalado[[#This Row],[P.3(W)]],\"\")","v":""},{"$f":"IF(t_instalado[[#This Row],[Trecho]]<>\"\",SUM(t_instalado[[#This Row],[f.1]:[f.3]]),\"\")","v":""},{"$f":"IF(t_instalado[[#This Row],[Trecho]]<>\"\",t_instalado[[#This Row],[Q.1]]+t_instalado[[#This Row],[Q.2]]+t_instalado[[#This Row],[Q.3]],\"\")","v":""},{"$f":"IF(t_instalado[[#This Row],[FLUXO]]<>\"\",ROUND(t_instalado[[#This Row],[FLUXO]]/t_instalado[[#This Row],[Luminárias]],0),\"\")","v":""},{"$f":"IF(t_instalado[[#This Row],[Luminárias]]<>\"\",ROUND(t_instalado[[#This Row],[lm_médio]]/t_instalado[[#This Row],[W_médio]],2),\"\")","v":""}]
[151,{"$f":"_xlfn.XLOOKUP(t_instalado[[#This Row],[cód.]],t_sitio[cód],t_sitio[Trecho],\"\")","v":""},null,null,null,null,null,null,null,null,null,null,{"$f":"t_instalado[[#This Row],[Q.1]]+t_instalado[[#This Row],[Q.2]]+t_instalado[[#This Row],[Q.3]]","v":0},{"$f":"t_instalado[[#This Row],[Q.1]]+t_instalado[[#This Row],[Q.2]]+t_instalado[[#This Row],[Q.3]]","v":0},{"$f":"IF(t_instalado[[#This Row],[Q.1]]<>\"\",SUMIFS(t_reator[p],t_reator[tipo],t_instalado[[#This Row],[T.1]],t_reator[w],t_instalado[[#This Row],[P.1(W)]]),\"\")","v":""},{"$f":"IF(t_instalado[[#This Row],[Q.2]]<>\"\",SUMIFS(t_reator[p],t_reator[tipo],t_instalado[[#This Row],[T.2]],t_reator[w],t_instalado[[#This Row],[P.2(W)]]),\"\")","v":""},{"$f":"IF(t_instalado[[#This Row],[Q.3]]<>\"\",SUMIFS(t_reator[p],t_reator[tipo],t_instalado[[#This Row],[T.3]],t_reator[w],t_instalado[[#This Row],[P.3(W)]]),\"\")","v":""},{"$f":"IF(t_instalado[[#This Row],[Q.1]]<>\"\",IFERROR(IFERROR(D385*(E385+O385)+G385*(H385+P385)+J385*(K385+Q385),D385*(E385+O385)+G385*(H385+P385)),D385*(E385+O385)),\"\")","v":""},{"$f":"IF(t_instalado[[#This Row],[Consumo_W]]<>\"\",ROUND(t_instalado[[#This Row],[Consumo_W]]/t_instalado[[#This Row],[Luminárias]],0),\"\")","v":""},{"$f":"IF(t_instalado[[#This Row],[Q.1]]<>\"\",SUMIFS(t_fluxo_lumin[fluxo],t_fluxo_lumin[tipo],t_instalado[[#This Row],[T.1]])*t_instalado[[#This Row],[P.1(W)]]*t_instalado[[#This Row],[Q.1]],\"\")","v":""},{"$f":"IF(t_instalado[[#This Row],[Q.2]]<>\"\",SUMIFS(t_fluxo_lumin[fluxo],t_fluxo_lumin[tipo],t_instalado[[#This Row],[T.2]])*t_instalado[[#This Row],[Q.2]]*t_instalado[[#This Row],[P.2(W)]],\"\")","v":""},{"$f":"IF(t_instalado[[#This Row],[Q.3]]<>\"\",SUMIFS(t_fluxo_lumin[fluxo],t_fluxo_lumin[tipo],t_instalado[[#This Row],[T.3]])*t_instalado[[#This Row],[Q.3]]*t_instalado[[#This Row],[P.3(W)]],\"\")","v":""},{"$f":"IF(t_instalado[[#This Row],[Trecho]]<>\"\",SUM(t_instalado[[#This Row],[f.1]:[f.3]]),\"\")","v":""},{"$f":"IF(t_instalado[[#This Row],[Trecho]]<>\"\",t_instalado[[#This Row],[Q.1]]+t_instalado[[#This Row],[Q.2]]+t_instalado[[#This Row],[Q.3]],\"\")","v":""},{"$f":"IF(t_instalado[[#This Row],[FLUXO]]<>\"\",ROUND(t_instalado[[#This Row],[FLUXO]]/t_instalado[[#This Row],[Luminárias]],0),\"\")","v":""},{"$f":"IF(t_instalado[[#This Row],[Luminárias]]<>\"\",ROUND(t_instalado[[#This Row],[lm_médio]]/t_instalado[[#This Row],[W_médio]],2),\"\")","v":""}]
[152,{"$f":"_xlfn.XLOOKUP(t_instalado[[#This Row],[cód.]],t_sitio[cód],t_sitio[Trecho],\"\")","v":""},null,null,null,null,null,null,null,null,null,null,{"$f":"t_instalado[[#This Row],[Q.1]]+t_instalado[[#This Row],[Q.2]]+t_instalado[[#This Row],[Q.3]]","v":0},{"$f":"t_instalado[[#This Row],[Q.1]]+t_instalado[[#This Row],[Q.2]]+t_instalado[[#This Row],[Q.3]]","v":0},{"$f":"IF(t_instalado[[#This Row],[Q.1]]<>\"\",SUMIFS(t_reator[p],t_reator[tipo],t_instalado[[#This Row],[T.1]],t_reator[w],t_instalado[[#This Row],[P.1(W)]]),\"\")","v":""},{"$f":"IF(t_instalado[[#This Row],[Q.2]]<>\"\",SUMIFS(t_reator[p],t_reator[tipo],t_instalado[[#This Row],[T.2]],t_reator[w],t_instalado[[#This Row],[P.2(W)]]),\"\")","v":""},{"$f":"IF(t_instalado[[#This Row],[Q.3]]<>\"\",SUMIFS(t_reator[p],t_reator[tipo],t_instalado[[#This Row],[T.3]],t_reator[w],t_instalado[[#This Row],[P.3(W)]]),\"\")","v":""},{"$f":"IF(t_instalado[[#This Row],[Q.1]]<>\"\",IFERROR(IFERROR(D386*(E386+O386)+G386*(H386+P386)+J386*(K386+Q386),D386*(E386+O386)+G386*(H386+P386)),D386*(E386+O386)),\"\")","v":""},{"$f":"IF(t_instalado[[#This Row],[Consumo_W]]<>\"\",ROUND(t_instalado[[#This Row],[Consumo_W]]/t_instalado[[#This Row],[Luminárias]],0),\"\")","v":""},{"$f":"IF(t_instalado[[#This Row],[Q.1]]<>\"\",SUMIFS(t_fluxo_lumin[fluxo],t_fluxo_lumin[tipo],t_instalado[[#This Row],[T.1]])*t_instalado[[#This Row],[P.1(W)]]*t_instalado[[#This Row],[Q.1]],\"\")","v":""},{"$f":"IF(t_instalado[[#This Row],[Q.2]]<>\"\",SUMIFS(t_fluxo_lumin[fluxo],t_fluxo_lumin[tipo],t_instalado[[#This Row],[T.2]])*t_instalado[[#This Row],[Q.2]]*t_instalado[[#This Row],[P.2(W)]],\"\")","v":""},{"$f":"IF(t_instalado[[#This Row],[Q.3]]<>\"\",SUMIFS(t_fluxo_lumin[fluxo],t_fluxo_lumin[tipo],t_instalado[[#This Row],[T.3]])*t_instalado[[#This Row],[Q.3]]*t_instalado[[#This Row],[P.3(W)]],\"\")","v":""},{"$f":"IF(t_instalado[[#This Row],[Trecho]]<>\"\",SUM(t_instalado[[#This Row],[f.1]:[f.3]]),\"\")","v":""},{"$f":"IF(t_instalado[[#This Row],[Trecho]]<>\"\",t_instalado[[#This Row],[Q.1]]+t_instalado[[#This Row],[Q.2]]+t_instalado[[#This Row],[Q.3]],\"\")","v":""},{"$f":"IF(t_instalado[[#This Row],[FLUXO]]<>\"\",ROUND(t_instalado[[#This Row],[FLUXO]]/t_instalado[[#This Row],[Luminárias]],0),\"\")","v":""},{"$f":"IF(t_instalado[[#This Row],[Luminárias]]<>\"\",ROUND(t_instalado[[#This Row],[lm_médio]]/t_instalado[[#This Row],[W_médio]],2),\"\")","v":""}]
[153,{"$f":"_xlfn.XLOOKUP(t_instalado[[#This Row],[cód.]],t_sitio[cód],t_sitio[Trecho],\"\")","v":""},null,null,null,null,null,null,null,null,null,null,{"$f":"t_instalado[[#This Row],[Q.1]]+t_instalado[[#This Row],[Q.2]]+t_instalado[[#This Row],[Q.3]]","v":0},{"$f":"t_instalado[[#This Row],[Q.1]]+t_instalado[[#This Row],[Q.2]]+t_instalado[[#This Row],[Q.3]]","v":0},{"$f":"IF(t_instalado[[#This Row],[Q.1]]<>\"\",SUMIFS(t_reator[p],t_reator[tipo],t_instalado[[#This Row],[T.1]],t_reator[w],t_instalado[[#This Row],[P.1(W)]]),\"\")","v":""},{"$f":"IF(t_instalado[[#This Row],[Q.2]]<>\"\",SUMIFS(t_reator[p],t_reator[tipo],t_instalado[[#This Row],[T.2]],t_reator[w],t_instalado[[#This Row],[P.2(W)]]),\"\")","v":""},{"$f":"IF(t_instalado[[#This Row],[Q.3]]<>\"\",SUMIFS(t_reator[p],t_reator[tipo],t_instalado[[#This Row],[T.3]],t_reator[w],t_instalado[[#This Row],[P.3(W)]]),\"\")","v":""},{"$f":"IF(t_instalado[[#This Row],[Q.1]]<>\"\",IFERROR(IFERROR(D387*(E387+O387)+G387*(H387+P387)+J387*(K387+Q387),D387*(E387+O387)+G387*(H387+P387)),D387*(E387+O387)),\"\")","v":""},{"$f":"IF(t_instalado[[#This Row],[Consumo_W]]<>\"\",ROUND(t_instalado[[#This Row],[Consumo_W]]/t_instalado[[#This Row],[Luminárias]],0),\"\")","v":""},{"$f":"IF(t_instalado[[#This Row],[Q.1]]<>\"\",SUMIFS(t_fluxo_lumin[fluxo],t_fluxo_lumin[tipo],t_instalado[[#This Row],[T.1]])*t_instalado[[#This Row],[P.1(W)]]*t_instalado[[#This Row],[Q.1]],\"\")","v":""},{"$f":"IF(t_instalado[[#This Row],[Q.2]]<>\"\",SUMIFS(t_fluxo_lumin[fluxo],t_fluxo_lumin[tipo],t_instalado[[#This Row],[T.2]])*t_instalado[[#This Row],[Q.2]]*t_instalado[[#This Row],[P.2(W)]],\"\")","v":""},{"$f":"IF(t_instalado[[#This Row],[Q.3]]<>\"\",SUMIFS(t_fluxo_lumin[fluxo],t_fluxo_lumin[tipo],t_instalado[[#This Row],[T.3]])*t_instalado[[#This Row],[Q.3]]*t_instalado[[#This Row],[P.3(W)]],\"\")","v":""},{"$f":"IF(t_instalado[[#This Row],[Trecho]]<>\"\",SUM(t_instalado[[#This Row],[f.1]:[f.3]]),\"\")","v":""},{"$f":"IF(t_instalado[[#This Row],[Trecho]]<>\"\",t_instalado[[#This Row],[Q.1]]+t_instalado[[#This Row],[Q.2]]+t_instalado[[#This Row],[Q.3]],\"\")","v":""},{"$f":"IF(t_instalado[[#This Row],[FLUXO]]<>\"\",ROUND(t_instalado[[#This Row],[FLUXO]]/t_instalado[[#This Row],[Luminárias]],0),\"\")","v":""},{"$f":"IF(t_instalado[[#This Row],[Luminárias]]<>\"\",ROUND(t_instalado[[#This Row],[lm_médio]]/t_instalado[[#This Row],[W_médio]],2),\"\")","v":""}]
[154,{"$f":"_xlfn.XLOOKUP(t_instalado[[#This Row],[cód.]],t_sitio[cód],t_sitio[Trecho],\"\")","v":""},null,null,null,null,null,null,null,null,null,null,{"$f":"t_instalado[[#This Row],[Q.1]]+t_instalado[[#This Row],[Q.2]]+t_instalado[[#This Row],[Q.3]]","v":0},{"$f":"t_instalado[[#This Row],[Q.1]]+t_instalado[[#This Row],[Q.2]]+t_instalado[[#This Row],[Q.3]]","v":0},{"$f":"IF(t_instalado[[#This Row],[Q.1]]<>\"\",SUMIFS(t_reator[p],t_reator[tipo],t_instalado[[#This Row],[T.1]],t_reator[w],t_instalado[[#This Row],[P.1(W)]]),\"\")","v":""},{"$f":"IF(t_instalado[[#This Row],[Q.2]]<>\"\",SUMIFS(t_reator[p],t_reator[tipo],t_instalado[[#This Row],[T.2]],t_reator[w],t_instalado[[#This Row],[P.2(W)]]),\"\")","v":""},{"$f":"IF(t_instalado[[#This Row],[Q.3]]<>\"\",SUMIFS(t_reator[p],t_reator[tipo],t_instalado[[#This Row],[T.3]],t_reator[w],t_instalado[[#This Row],[P.3(W)]]),\"\")","v":""},{"$f":"IF(t_instalado[[#This Row],[Q.1]]<>\"\",IFERROR(IFERROR(D388*(E388+O388)+G388*(H388+P388)+J388*(K388+Q388),D388*(E388+O388)+G388*(H388+P388)),D388*(E388+O388)),\"\")","v":""},{"$f":"IF(t_instalado[[#This Row],[Consumo_W]]<>\"\",ROUND(t_instalado[[#This Row],[Consumo_W]]/t_instalado[[#This Row],[Luminárias]],0),\"\")","v":""},{"$f":"IF(t_instalado[[#This Row],[Q.1]]<>\"\",SUMIFS(t_fluxo_lumin[fluxo],t_fluxo_lumin[tipo],t_instalado[[#This Row],[T.1]])*t_instalado[[#This Row],[P.1(W)]]*t_instalado[[#This Row],[Q.1]],\"\")","v":""},{"$f":"IF(t_instalado[[#This Row],[Q.2]]<>\"\",SUMIFS(t_fluxo_lumin[fluxo],t_fluxo_lumin[tipo],t_instalado[[#This Row],[T.2]])*t_instalado[[#This Row],[Q.2]]*t_instalado[[#This Row],[P.2(W)]],\"\")","v":""},{"$f":"IF(t_instalado[[#This Row],[Q.3]]<>\"\",SUMIFS(t_fluxo_lumin[fluxo],t_fluxo_lumin[tipo],t_instalado[[#This Row],[T.3]])*t_instalado[[#This Row],[Q.3]]*t_instalado[[#This Row],[P.3(W)]],\"\")","v":""},{"$f":"IF(t_instalado[[#This Row],[Trecho]]<>\"\",SUM(t_instalado[[#This Row],[f.1]:[f.3]]),\"\")","v":""},{"$f":"IF(t_instalado[[#This Row],[Trecho]]<>\"\",t_instalado[[#This Row],[Q.1]]+t_instalado[[#This Row],[Q.2]]+t_instalado[[#This Row],[Q.3]],\"\")","v":""},{"$f":"IF(t_instalado[[#This Row],[FLUXO]]<>\"\",ROUND(t_instalado[[#This Row],[FLUXO]]/t_instalado[[#This Row],[Luminárias]],0),\"\")","v":""},{"$f":"IF(t_instalado[[#This Row],[Luminárias]]<>\"\",ROUND(t_instalado[[#This Row],[lm_médio]]/t_instalado[[#This Row],[W_médio]],2),\"\")","v":""}]
[155,{"$f":"_xlfn.XLOOKUP(t_instalado[[#This Row],[cód.]],t_sitio[cód],t_sitio[Trecho],\"\")","v":""},null,null,null,null,null,null,null,null,null,null,{"$f":"t_instalado[[#This Row],[Q.1]]+t_instalado[[#This Row],[Q.2]]+t_instalado[[#This Row],[Q.3]]","v":0},{"$f":"t_instalado[[#This Row],[Q.1]]+t_instalado[[#This Row],[Q.2]]+t_instalado[[#This Row],[Q.3]]","v":0},{"$f":"IF(t_instalado[[#This Row],[Q.1]]<>\"\",SUMIFS(t_reator[p],t_reator[tipo],t_instalado[[#This Row],[T.1]],t_reator[w],t_instalado[[#This Row],[P.1(W)]]),\"\")","v":""},{"$f":"IF(t_instalado[[#This Row],[Q.2]]<>\"\",SUMIFS(t_reator[p],t_reator[tipo],t_instalado[[#This Row],[T.2]],t_reator[w],t_instalado[[#This Row],[P.2(W)]]),\"\")","v":""},{"$f":"IF(t_instalado[[#This Row],[Q.3]]<>\"\",SUMIFS(t_reator[p],t_reator[tipo],t_instalado[[#This Row],[T.3]],t_reator[w],t_instalado[[#This Row],[P.3(W)]]),\"\")","v":""},{"$f":"IF(t_instalado[[#This Row],[Q.1]]<>\"\",IFERROR(IFERROR(D389*(E389+O389)+G389*(H389+P389)+J389*(K389+Q389),D389*(E389+O389)+G389*(H389+P389)),D389*(E389+O389)),\"\")","v":""},{"$f":"IF(t_instalado[[#This Row],[Consumo_W]]<>\"\",ROUND(t_instalado[[#This Row],[Consumo_W]]/t_instalado[[#This Row],[Luminárias]],0),\"\")","v":""},{"$f":"IF(t_instalado[[#This Row],[Q.1]]<>\"\",SUMIFS(t_fluxo_lumin[fluxo],t_fluxo_lumin[tipo],t_instalado[[#This Row],[T.1]])*t_instalado[[#This Row],[P.1(W)]]*t_instalado[[#This Row],[Q.1]],\"\")","v":""},{"$f":"IF(t_instalado[[#This Row],[Q.2]]<>\"\",SUMIFS(t_fluxo_lumin[fluxo],t_fluxo_lumin[tipo],t_instalado[[#This Row],[T.2]])*t_instalado[[#This Row],[Q.2]]*t_instalado[[#This Row],[P.2(W)]],\"\")","v":""},{"$f":"IF(t_instalado[[#This Row],[Q.3]]<>\"\",SUMIFS(t_fluxo_lumin[fluxo],t_fluxo_lumin[tipo],t_instalado[[#This Row],[T.3]])*t_instalado[[#This Row],[Q.3]]*t_instalado[[#This Row],[P.3(W)]],\"\")","v":""},{"$f":"IF(t_instalado[[#This Row],[Trecho]]<>\"\",SUM(t_instalado[[#This Row],[f.1]:[f.3]]),\"\")","v":""},{"$f":"IF(t_instalado[[#This Row],[Trecho]]<>\"\",t_instalado[[#This Row],[Q.1]]+t_instalado[[#This Row],[Q.2]]+t_instalado[[#This Row],[Q.3]],\"\")","v":""},{"$f":"IF(t_instalado[[#This Row],[FLUXO]]<>\"\",ROUND(t_instalado[[#This Row],[FLUXO]]/t_instalado[[#This Row],[Luminárias]],0),\"\")","v":""},{"$f":"IF(t_instalado[[#This Row],[Luminárias]]<>\"\",ROUND(t_instalado[[#This Row],[lm_médio]]/t_instalado[[#This Row],[W_médio]],2),\"\")","v":""}]
[156,{"$f":"_xlfn.XLOOKUP(t_instalado[[#This Row],[cód.]],t_sitio[cód],t_sitio[Trecho],\"\")","v":""},null,null,null,null,null,null,null,null,null,null,{"$f":"t_instalado[[#This Row],[Q.1]]+t_instalado[[#This Row],[Q.2]]+t_instalado[[#This Row],[Q.3]]","v":0},{"$f":"t_instalado[[#This Row],[Q.1]]+t_instalado[[#This Row],[Q.2]]+t_instalado[[#This Row],[Q.3]]","v":0},{"$f":"IF(t_instalado[[#This Row],[Q.1]]<>\"\",SUMIFS(t_reator[p],t_reator[tipo],t_instalado[[#This Row],[T.1]],t_reator[w],t_instalado[[#This Row],[P.1(W)]]),\"\")","v":""},{"$f":"IF(t_instalado[[#This Row],[Q.2]]<>\"\",SUMIFS(t_reator[p],t_reator[tipo],t_instalado[[#This Row],[T.2]],t_reator[w],t_instalado[[#This Row],[P.2(W)]]),\"\")","v":""},{"$f":"IF(t_instalado[[#This Row],[Q.3]]<>\"\",SUMIFS(t_reator[p],t_reator[tipo],t_instalado[[#This Row],[T.3]],t_reator[w],t_instalado[[#This Row],[P.3(W)]]),\"\")","v":""},{"$f":"IF(t_instalado[[#This Row],[Q.1]]<>\"\",IFERROR(IFERROR(D390*(E390+O390)+G390*(H390+P390)+J390*(K390+Q390),D390*(E390+O390)+G390*(H390+P390)),D390*(E390+O390)),\"\")","v":""},{"$f":"IF(t_instalado[[#This Row],[Consumo_W]]<>\"\",ROUND(t_instalado[[#This Row],[Consumo_W]]/t_instalado[[#This Row],[Luminárias]],0),\"\")","v":""},{"$f":"IF(t_instalado[[#This Row],[Q.1]]<>\"\",SUMIFS(t_fluxo_lumin[fluxo],t_fluxo_lumin[tipo],t_instalado[[#This Row],[T.1]])*t_instalado[[#This Row],[P.1(W)]]*t_instalado[[#This Row],[Q.1]],\"\")","v":""},{"$f":"IF(t_instalado[[#This Row],[Q.2]]<>\"\",SUMIFS(t_fluxo_lumin[fluxo],t_fluxo_lumin[tipo],t_instalado[[#This Row],[T.2]])*t_instalado[[#This Row],[Q.2]]*t_instalado[[#This Row],[P.2(W)]],\"\")","v":""},{"$f":"IF(t_instalado[[#This Row],[Q.3]]<>\"\",SUMIFS(t_fluxo_lumin[fluxo],t_fluxo_lumin[tipo],t_instalado[[#This Row],[T.3]])*t_instalado[[#This Row],[Q.3]]*t_instalado[[#This Row],[P.3(W)]],\"\")","v":""},{"$f":"IF(t_instalado[[#This Row],[Trecho]]<>\"\",SUM(t_instalado[[#This Row],[f.1]:[f.3]]),\"\")","v":""},{"$f":"IF(t_instalado[[#This Row],[Trecho]]<>\"\",t_instalado[[#This Row],[Q.1]]+t_instalado[[#This Row],[Q.2]]+t_instalado[[#This Row],[Q.3]],\"\")","v":""},{"$f":"IF(t_instalado[[#This Row],[FLUXO]]<>\"\",ROUND(t_instalado[[#This Row],[FLUXO]]/t_instalado[[#This Row],[Luminárias]],0),\"\")","v":""},{"$f":"IF(t_instalado[[#This Row],[Luminárias]]<>\"\",ROUND(t_instalado[[#This Row],[lm_médio]]/t_instalado[[#This Row],[W_médio]],2),\"\")","v":""}]
[157,{"$f":"_xlfn.XLOOKUP(t_instalado[[#This Row],[cód.]],t_sitio[cód],t_sitio[Trecho],\"\")","v":""},null,null,null,null,null,null,null,null,null,null,{"$f":"t_instalado[[#This Row],[Q.1]]+t_instalado[[#This Row],[Q.2]]+t_instalado[[#This Row],[Q.3]]","v":0},{"$f":"t_instalado[[#This Row],[Q.1]]+t_instalado[[#This Row],[Q.2]]+t_instalado[[#This Row],[Q.3]]","v":0},{"$f":"IF(t_instalado[[#This Row],[Q.1]]<>\"\",SUMIFS(t_reator[p],t_reator[tipo],t_instalado[[#This Row],[T.1]],t_reator[w],t_instalado[[#This Row],[P.1(W)]]),\"\")","v":""},{"$f":"IF(t_instalado[[#This Row],[Q.2]]<>\"\",SUMIFS(t_reator[p],t_reator[tipo],t_instalado[[#This Row],[T.2]],t_reator[w],t_instalado[[#This Row],[P.2(W)]]),\"\")","v":""},{"$f":"IF(t_instalado[[#This Row],[Q.3]]<>\"\",SUMIFS(t_reator[p],t_reator[tipo],t_instalado[[#This Row],[T.3]],t_reator[w],t_instalado[[#This Row],[P.3(W)]]),\"\")","v":""},{"$f":"IF(t_instalado[[#This Row],[Q.1]]<>\"\",IFERROR(IFERROR(D391*(E391+O391)+G391*(H391+P391)+J391*(K391+Q391),D391*(E391+O391)+G391*(H391+P391)),D391*(E391+O391)),\"\")","v":""},{"$f":"IF(t_instalado[[#This Row],[Consumo_W]]<>\"\",ROUND(t_instalado[[#This Row],[Consumo_W]]/t_instalado[[#This Row],[Luminárias]],0),\"\")","v":""},{"$f":"IF(t_instalado[[#This Row],[Q.1]]<>\"\",SUMIFS(t_fluxo_lumin[fluxo],t_fluxo_lumin[tipo],t_instalado[[#This Row],[T.1]])*t_instalado[[#This Row],[P.1(W)]]*t_instalado[[#This Row],[Q.1]],\"\")","v":""},{"$f":"IF(t_instalado[[#This Row],[Q.2]]<>\"\",SUMIFS(t_fluxo_lumin[fluxo],t_fluxo_lumin[tipo],t_instalado[[#This Row],[T.2]])*t_instalado[[#This Row],[Q.2]]*t_instalado[[#This Row],[P.2(W)]],\"\")","v":""},{"$f":"IF(t_instalado[[#This Row],[Q.3]]<>\"\",SUMIFS(t_fluxo_lumin[fluxo],t_fluxo_lumin[tipo],t_instalado[[#This Row],[T.3]])*t_instalado[[#This Row],[Q.3]]*t_instalado[[#This Row],[P.3(W)]],\"\")","v":""},{"$f":"IF(t_instalado[[#This Row],[Trecho]]<>\"\",SUM(t_instalado[[#This Row],[f.1]:[f.3]]),\"\")","v":""},{"$f":"IF(t_instalado[[#This Row],[Trecho]]<>\"\",t_instalado[[#This Row],[Q.1]]+t_instalado[[#This Row],[Q.2]]+t_instalado[[#This Row],[Q.3]],\"\")","v":""},{"$f":"IF(t_instalado[[#This Row],[FLUXO]]<>\"\",ROUND(t_instalado[[#This Row],[FLUXO]]/t_instalado[[#This Row],[Luminárias]],0),\"\")","v":""},{"$f":"IF(t_instalado[[#This Row],[Luminárias]]<>\"\",ROUND(t_instalado[[#This Row],[lm_médio]]/t_instalado[[#This Row],[W_médio]],2),\"\")","v":""}]
[158,{"$f":"_xlfn.XLOOKUP(t_instalado[[#This Row],[cód.]],t_sitio[cód],t_sitio[Trecho],\"\")","v":""},null,null,null,null,null,null,null,null,null,null,{"$f":"t_instalado[[#This Row],[Q.1]]+t_instalado[[#This Row],[Q.2]]+t_instalado[[#This Row],[Q.3]]","v":0},{"$f":"t_instalado[[#This Row],[Q.1]]+t_instalado[[#This Row],[Q.2]]+t_instalado[[#This Row],[Q.3]]","v":0},{"$f":"IF(t_instalado[[#This Row],[Q.1]]<>\"\",SUMIFS(t_reator[p],t_reator[tipo],t_instalado[[#This Row],[T.1]],t_reator[w],t_instalado[[#This Row],[P.1(W)]]),\"\")","v":""},{"$f":"IF(t_instalado[[#This Row],[Q.2]]<>\"\",SUMIFS(t_reator[p],t_reator[tipo],t_instalado[[#This Row],[T.2]],t_reator[w],t_instalado[[#This Row],[P.2(W)]]),\"\")","v":""},{"$f":"IF(t_instalado[[#This Row],[Q.3]]<>\"\",SUMIFS(t_reator[p],t_reator[tipo],t_instalado[[#This Row],[T.3]],t_reator[w],t_instalado[[#This Row],[P.3(W)]]),\"\")","v":""},{"$f":"IF(t_instalado[[#This Row],[Q.1]]<>\"\",IFERROR(IFERROR(D392*(E392+O392)+G392*(H392+P392)+J392*(K392+Q392),D392*(E392+O392)+G392*(H392+P392)),D392*(E392+O392)),\"\")","v":""},{"$f":"IF(t_instalado[[#This Row],[Consumo_W]]<>\"\",ROUND(t_instalado[[#This Row],[Consumo_W]]/t_instalado[[#This Row],[Luminárias]],0),\"\")","v":""},{"$f":"IF(t_instalado[[#This Row],[Q.1]]<>\"\",SUMIFS(t_fluxo_lumin[fluxo],t_fluxo_lumin[tipo],t_instalado[[#This Row],[T.1]])*t_instalado[[#This Row],[P.1(W)]]*t_instalado[[#This Row],[Q.1]],\"\")","v":""},{"$f":"IF(t_instalado[[#This Row],[Q.2]]<>\"\",SUMIFS(t_fluxo_lumin[fluxo],t_fluxo_lumin[tipo],t_instalado[[#This Row],[T.2]])*t_instalado[[#This Row],[Q.2]]*t_instalado[[#This Row],[P.2(W)]],\"\")","v":""},{"$f":"IF(t_instalado[[#This Row],[Q.3]]<>\"\",SUMIFS(t_fluxo_lumin[fluxo],t_fluxo_lumin[tipo],t_instalado[[#This Row],[T.3]])*t_instalado[[#This Row],[Q.3]]*t_instalado[[#This Row],[P.3(W)]],\"\")","v":""},{"$f":"IF(t_instalado[[#This Row],[Trecho]]<>\"\",SUM(t_instalado[[#This Row],[f.1]:[f.3]]),\"\")","v":""},{"$f":"IF(t_instalado[[#This Row],[Trecho]]<>\"\",t_instalado[[#This Row],[Q.1]]+t_instalado[[#This Row],[Q.2]]+t_instalado[[#This Row],[Q.3]],\"\")","v":""},{"$f":"IF(t_instalado[[#This Row],[FLUXO]]<>\"\",ROUND(t_instalado[[#This Row],[FLUXO]]/t_instalado[[#This Row],[Luminárias]],0),\"\")","v":""},{"$f":"IF(t_instalado[[#This Row],[Luminárias]]<>\"\",ROUND(t_instalado[[#This Row],[lm_médio]]/t_instalado[[#This Row],[W_médio]],2),\"\")","v":""}]
[159,{"$f":"_xlfn.XLOOKUP(t_instalado[[#This Row],[cód.]],t_sitio[cód],t_sitio[Trecho],\"\")","v":""},null,null,null,null,null,null,null,null,null,null,{"$f":"t_instalado[[#This Row],[Q.1]]+t_instalado[[#This Row],[Q.2]]+t_instalado[[#This Row],[Q.3]]","v":0},{"$f":"t_instalado[[#This Row],[Q.1]]+t_instalado[[#This Row],[Q.2]]+t_instalado[[#This Row],[Q.3]]","v":0},{"$f":"IF(t_instalado[[#This Row],[Q.1]]<>\"\",SUMIFS(t_reator[p],t_reator[tipo],t_instalado[[#This Row],[T.1]],t_reator[w],t_instalado[[#This Row],[P.1(W)]]),\"\")","v":""},{"$f":"IF(t_instalado[[#This Row],[Q.2]]<>\"\",SUMIFS(t_reator[p],t_reator[tipo],t_instalado[[#This Row],[T.2]],t_reator[w],t_instalado[[#This Row],[P.2(W)]]),\"\")","v":""},{"$f":"IF(t_instalado[[#This Row],[Q.3]]<>\"\",SUMIFS(t_reator[p],t_reator[tipo],t_instalado[[#This Row],[T.3]],t_reator[w],t_instalado[[#This Row],[P.3(W)]]),\"\")","v":""},{"$f":"IF(t_instalado[[#This Row],[Q.1]]<>\"\",IFERROR(IFERROR(D393*(E393+O393)+G393*(H393+P393)+J393*(K393+Q393),D393*(E393+O393)+G393*(H393+P393)),D393*(E393+O393)),\"\")","v":""},{"$f":"IF(t_instalado[[#This Row],[Consumo_W]]<>\"\",ROUND(t_instalado[[#This Row],[Consumo_W]]/t_instalado[[#This Row],[Luminárias]],0),\"\")","v":""},{"$f":"IF(t_instalado[[#This Row],[Q.1]]<>\"\",SUMIFS(t_fluxo_lumin[fluxo],t_fluxo_lumin[tipo],t_instalado[[#This Row],[T.1]])*t_instalado[[#This Row],[P.1(W)]]*t_instalado[[#This Row],[Q.1]],\"\")","v":""},{"$f":"IF(t_instalado[[#This Row],[Q.2]]<>\"\",SUMIFS(t_fluxo_lumin[fluxo],t_fluxo_lumin[tipo],t_instalado[[#This Row],[T.2]])*t_instalado[[#This Row],[Q.2]]*t_instalado[[#This Row],[P.2(W)]],\"\")","v":""},{"$f":"IF(t_instalado[[#This Row],[Q.3]]<>\"\",SUMIFS(t_fluxo_lumin[fluxo],t_fluxo_lumin[tipo],t_instalado[[#This Row],[T.3]])*t_instalado[[#This Row],[Q.3]]*t_instalado[[#This Row],[P.3(W)]],\"\")","v":""},{"$f":"IF(t_instalado[[#This Row],[Trecho]]<>\"\",SUM(t_instalado[[#This Row],[f.1]:[f.3]]),\"\")","v":""},{"$f":"IF(t_instalado[[#This Row],[Trecho]]<>\"\",t_instalado[[#This Row],[Q.1]]+t_instalado[[#This Row],[Q.2]]+t_instalado[[#This Row],[Q.3]],\"\")","v":""},{"$f":"IF(t_instalado[[#This Row],[FLUXO]]<>\"\",ROUND(t_instalado[[#This Row],[FLUXO]]/t_instalado[[#This Row],[Luminárias]],0),\"\")","v":""},{"$f":"IF(t_instalado[[#This Row],[Luminárias]]<>\"\",ROUND(t_instalado[[#This Row],[lm_médio]]/t_instalado[[#This Row],[W_médio]],2),\"\")","v":""}]
[160,{"$f":"_xlfn.XLOOKUP(t_instalado[[#This Row],[cód.]],t_sitio[cód],t_sitio[Trecho],\"\")","v":""},null,null,null,null,null,null,null,null,null,null,{"$f":"t_instalado[[#This Row],[Q.1]]+t_instalado[[#This Row],[Q.2]]+t_instalado[[#This Row],[Q.3]]","v":0},{"$f":"t_instalado[[#This Row],[Q.1]]+t_instalado[[#This Row],[Q.2]]+t_instalado[[#This Row],[Q.3]]","v":0},{"$f":"IF(t_instalado[[#This Row],[Q.1]]<>\"\",SUMIFS(t_reator[p],t_reator[tipo],t_instalado[[#This Row],[T.1]],t_reator[w],t_instalado[[#This Row],[P.1(W)]]),\"\")","v":""},{"$f":"IF(t_instalado[[#This Row],[Q.2]]<>\"\",SUMIFS(t_reator[p],t_reator[tipo],t_instalado[[#This Row],[T.2]],t_reator[w],t_instalado[[#This Row],[P.2(W)]]),\"\")","v":""},{"$f":"IF(t_instalado[[#This Row],[Q.3]]<>\"\",SUMIFS(t_reator[p],t_reator[tipo],t_instalado[[#This Row],[T.3]],t_reator[w],t_instalado[[#This Row],[P.3(W)]]),\"\")","v":""},{"$f":"IF(t_instalado[[#This Row],[Q.1]]<>\"\",IFERROR(IFERROR(D394*(E394+O394)+G394*(H394+P394)+J394*(K394+Q394),D394*(E394+O394)+G394*(H394+P394)),D394*(E394+O394)),\"\")","v":""},{"$f":"IF(t_instalado[[#This Row],[Consumo_W]]<>\"\",ROUND(t_instalado[[#This Row],[Consumo_W]]/t_instalado[[#This Row],[Luminárias]],0),\"\")","v":""},{"$f":"IF(t_instalado[[#This Row],[Q.1]]<>\"\",SUMIFS(t_fluxo_lumin[fluxo],t_fluxo_lumin[tipo],t_instalado[[#This Row],[T.1]])*t_instalado[[#This Row],[P.1(W)]]*t_instalado[[#This Row],[Q.1]],\"\")","v":""},{"$f":"IF(t_instalado[[#This Row],[Q.2]]<>\"\",SUMIFS(t_fluxo_lumin[fluxo],t_fluxo_lumin[tipo],t_instalado[[#This Row],[T.2]])*t_instalado[[#This Row],[Q.2]]*t_instalado[[#This Row],[P.2(W)]],\"\")","v":""},{"$f":"IF(t_instalado[[#This Row],[Q.3]]<>\"\",SUMIFS(t_fluxo_lumin[fluxo],t_fluxo_lumin[tipo],t_instalado[[#This Row],[T.3]])*t_instalado[[#This Row],[Q.3]]*t_instalado[[#This Row],[P.3(W)]],\"\")","v":""},{"$f":"IF(t_instalado[[#This Row],[Trecho]]<>\"\",SUM(t_instalado[[#This Row],[f.1]:[f.3]]),\"\")","v":""},{"$f":"IF(t_instalado[[#This Row],[Trecho]]<>\"\",t_instalado[[#This Row],[Q.1]]+t_instalado[[#This Row],[Q.2]]+t_instalado[[#This Row],[Q.3]],\"\")","v":""},{"$f":"IF(t_instalado[[#This Row],[FLUXO]]<>\"\",ROUND(t_instalado[[#This Row],[FLUXO]]/t_instalado[[#This Row],[Luminárias]],0),\"\")","v":""},{"$f":"IF(t_instalado[[#This Row],[Luminárias]]<>\"\",ROUND(t_instalado[[#This Row],[lm_médio]]/t_instalado[[#This Row],[W_médio]],2),\"\")","v":""}]
[161,{"$f":"_xlfn.XLOOKUP(t_instalado[[#This Row],[cód.]],t_sitio[cód],t_sitio[Trecho],\"\")","v":""},null,null,null,null,null,null,null,null,null,null,{"$f":"t_instalado[[#This Row],[Q.1]]+t_instalado[[#This Row],[Q.2]]+t_instalado[[#This Row],[Q.3]]","v":0},{"$f":"t_instalado[[#This Row],[Q.1]]+t_instalado[[#This Row],[Q.2]]+t_instalado[[#This Row],[Q.3]]","v":0},{"$f":"IF(t_instalado[[#This Row],[Q.1]]<>\"\",SUMIFS(t_reator[p],t_reator[tipo],t_instalado[[#This Row],[T.1]],t_reator[w],t_instalado[[#This Row],[P.1(W)]]),\"\")","v":""},{"$f":"IF(t_instalado[[#This Row],[Q.2]]<>\"\",SUMIFS(t_reator[p],t_reator[tipo],t_instalado[[#This Row],[T.2]],t_reator[w],t_instalado[[#This Row],[P.2(W)]]),\"\")","v":""},{"$f":"IF(t_instalado[[#This Row],[Q.3]]<>\"\",SUMIFS(t_reator[p],t_reator[tipo],t_instalado[[#This Row],[T.3]],t_reator[w],t_instalado[[#This Row],[P.3(W)]]),\"\")","v":""},{"$f":"IF(t_instalado[[#This Row],[Q.1]]<>\"\",IFERROR(IFERROR(D395*(E395+O395)+G395*(H395+P395)+J395*(K395+Q395),D395*(E395+O395)+G395*(H395+P395)),D395*(E395+O395)),\"\")","v":""},{"$f":"IF(t_instalado[[#This Row],[Consumo_W]]<>\"\",ROUND(t_instalado[[#This Row],[Consumo_W]]/t_instalado[[#This Row],[Luminárias]],0),\"\")","v":""},{"$f":"IF(t_instalado[[#This Row],[Q.1]]<>\"\",SUMIFS(t_fluxo_lumin[fluxo],t_fluxo_lumin[tipo],t_instalado[[#This Row],[T.1]])*t_instalado[[#This Row],[P.1(W)]]*t_instalado[[#This Row],[Q.1]],\"\")","v":""},{"$f":"IF(t_instalado[[#This Row],[Q.2]]<>\"\",SUMIFS(t_fluxo_lumin[fluxo],t_fluxo_lumin[tipo],t_instalado[[#This Row],[T.2]])*t_instalado[[#This Row],[Q.2]]*t_instalado[[#This Row],[P.2(W)]],\"\")","v":""},{"$f":"IF(t_instalado[[#This Row],[Q.3]]<>\"\",SUMIFS(t_fluxo_lumin[fluxo],t_fluxo_lumin[tipo],t_instalado[[#This Row],[T.3]])*t_instalado[[#This Row],[Q.3]]*t_instalado[[#This Row],[P.3(W)]],\"\")","v":""},{"$f":"IF(t_instalado[[#This Row],[Trecho]]<>\"\",SUM(t_instalado[[#This Row],[f.1]:[f.3]]),\"\")","v":""},{"$f":"IF(t_instalado[[#This Row],[Trecho]]<>\"\",t_instalado[[#This Row],[Q.1]]+t_instalado[[#This Row],[Q.2]]+t_instalado[[#This Row],[Q.3]],\"\")","v":""},{"$f":"IF(t_instalado[[#This Row],[FLUXO]]<>\"\",ROUND(t_instalado[[#This Row],[FLUXO]]/t_instalado[[#This Row],[Luminárias]],0),\"\")","v":""},{"$f":"IF(t_instalado[[#This Row],[Luminárias]]<>\"\",ROUND(t_instalado[[#This Row],[lm_médio]]/t_instalado[[#This Row],[W_médio]],2),\"\")","v":""}]
[162,{"$f":"_xlfn.XLOOKUP(t_instalado[[#This Row],[cód.]],t_sitio[cód],t_sitio[Trecho],\"\")","v":""},null,null,null,null,null,null,null,null,null,null,{"$f":"t_instalado[[#This Row],[Q.1]]+t_instalado[[#This Row],[Q.2]]+t_instalado[[#This Row],[Q.3]]","v":0},{"$f":"t_instalado[[#This Row],[Q.1]]+t_instalado[[#This Row],[Q.2]]+t_instalado[[#This Row],[Q.3]]","v":0},{"$f":"IF(t_instalado[[#This Row],[Q.1]]<>\"\",SUMIFS(t_reator[p],t_reator[tipo],t_instalado[[#This Row],[T.1]],t_reator[w],t_instalado[[#This Row],[P.1(W)]]),\"\")","v":""},{"$f":"IF(t_instalado[[#This Row],[Q.2]]<>\"\",SUMIFS(t_reator[p],t_reator[tipo],t_instalado[[#This Row],[T.2]],t_reator[w],t_instalado[[#This Row],[P.2(W)]]),\"\")","v":""},{"$f":"IF(t_instalado[[#This Row],[Q.3]]<>\"\",SUMIFS(t_reator[p],t_reator[tipo],t_instalado[[#This Row],[T.3]],t_reator[w],t_instalado[[#This Row],[P.3(W)]]),\"\")","v":""},{"$f":"IF(t_instalado[[#This Row],[Q.1]]<>\"\",IFERROR(IFERROR(D396*(E396+O396)+G396*(H396+P396)+J396*(K396+Q396),D396*(E396+O396)+G396*(H396+P396)),D396*(E396+O396)),\"\")","v":""},{"$f":"IF(t_instalado[[#This Row],[Consumo_W]]<>\"\",ROUND(t_instalado[[#This Row],[Consumo_W]]/t_instalado[[#This Row],[Luminárias]],0),\"\")","v":""},{"$f":"IF(t_instalado[[#This Row],[Q.1]]<>\"\",SUMIFS(t_fluxo_lumin[fluxo],t_fluxo_lumin[tipo],t_instalado[[#This Row],[T.1]])*t_instalado[[#This Row],[P.1(W)]]*t_instalado[[#This Row],[Q.1]],\"\")","v":""},{"$f":"IF(t_instalado[[#This Row],[Q.2]]<>\"\",SUMIFS(t_fluxo_lumin[fluxo],t_fluxo_lumin[tipo],t_instalado[[#This Row],[T.2]])*t_instalado[[#This Row],[Q.2]]*t_instalado[[#This Row],[P.2(W)]],\"\")","v":""},{"$f":"IF(t_instalado[[#This Row],[Q.3]]<>\"\",SUMIFS(t_fluxo_lumin[fluxo],t_fluxo_lumin[tipo],t_instalado[[#This Row],[T.3]])*t_instalado[[#This Row],[Q.3]]*t_instalado[[#This Row],[P.3(W)]],\"\")","v":""},{"$f":"IF(t_instalado[[#This Row],[Trecho]]<>\"\",SUM(t_instalado[[#This Row],[f.1]:[f.3]]),\"\")","v":""},{"$f":"IF(t_instalado[[#This Row],[Trecho]]<>\"\",t_instalado[[#This Row],[Q.1]]+t_instalado[[#This Row],[Q.2]]+t_instalado[[#This Row],[Q.3]],\"\")","v":""},{"$f":"IF(t_instalado[[#This Row],[FLUXO]]<>\"\",ROUND(t_instalado[[#This Row],[FLUXO]]/t_instalado[[#This Row],[Luminárias]],0),\"\")","v":""},{"$f":"IF(t_instalado[[#This Row],[Luminárias]]<>\"\",ROUND(t_instalado[[#This Row],[lm_médio]]/t_instalado[[#This Row],[W_médio]],2),\"\")","v":""}]
[163,{"$f":"_xlfn.XLOOKUP(t_instalado[[#This Row],[cód.]],t_sitio[cód],t_sitio[Trecho],\"\")","v":""},null,null,null,null,null,null,null,null,null,null,{"$f":"t_instalado[[#This Row],[Q.1]]+t_instalado[[#This Row],[Q.2]]+t_instalado[[#This Row],[Q.3]]","v":0},{"$f":"t_instalado[[#This Row],[Q.1]]+t_instalado[[#This Row],[Q.2]]+t_instalado[[#This Row],[Q.3]]","v":0},{"$f":"IF(t_instalado[[#This Row],[Q.1]]<>\"\",SUMIFS(t_reator[p],t_reator[tipo],t_instalado[[#This Row],[T.1]],t_reator[w],t_instalado[[#This Row],[P.1(W)]]),\"\")","v":""},{"$f":"IF(t_instalado[[#This Row],[Q.2]]<>\"\",SUMIFS(t_reator[p],t_reator[tipo],t_instalado[[#This Row],[T.2]],t_reator[w],t_instalado[[#This Row],[P.2(W)]]),\"\")","v":""},{"$f":"IF(t_instalado[[#This Row],[Q.3]]<>\"\",SUMIFS(t_reator[p],t_reator[tipo],t_instalado[[#This Row],[T.3]],t_reator[w],t_instalado[[#This Row],[P.3(W)]]),\"\")","v":""},{"$f":"IF(t_instalado[[#This Row],[Q.1]]<>\"\",IFERROR(IFERROR(D397*(E397+O397)+G397*(H397+P397)+J397*(K397+Q397),D397*(E397+O397)+G397*(H397+P397)),D397*(E397+O397)),\"\")","v":""},{"$f":"IF(t_instalado[[#This Row],[Consumo_W]]<>\"\",ROUND(t_instalado[[#This Row],[Consumo_W]]/t_instalado[[#This Row],[Luminárias]],0),\"\")","v":""},{"$f":"IF(t_instalado[[#This Row],[Q.1]]<>\"\",SUMIFS(t_fluxo_lumin[fluxo],t_fluxo_lumin[tipo],t_instalado[[#This Row],[T.1]])*t_instalado[[#This Row],[P.1(W)]]*t_instalado[[#This Row],[Q.1]],\"\")","v":""},{"$f":"IF(t_instalado[[#This Row],[Q.2]]<>\"\",SUMIFS(t_fluxo_lumin[fluxo],t_fluxo_lumin[tipo],t_instalado[[#This Row],[T.2]])*t_instalado[[#This Row],[Q.2]]*t_instalado[[#This Row],[P.2(W)]],\"\")","v":""},{"$f":"IF(t_instalado[[#This Row],[Q.3]]<>\"\",SUMIFS(t_fluxo_lumin[fluxo],t_fluxo_lumin[tipo],t_instalado[[#This Row],[T.3]])*t_instalado[[#This Row],[Q.3]]*t_instalado[[#This Row],[P.3(W)]],\"\")","v":""},{"$f":"IF(t_instalado[[#This Row],[Trecho]]<>\"\",SUM(t_instalado[[#This Row],[f.1]:[f.3]]),\"\")","v":""},{"$f":"IF(t_instalado[[#This Row],[Trecho]]<>\"\",t_instalado[[#This Row],[Q.1]]+t_instalado[[#This Row],[Q.2]]+t_instalado[[#This Row],[Q.3]],\"\")","v":""},{"$f":"IF(t_instalado[[#This Row],[FLUXO]]<>\"\",ROUND(t_instalado[[#This Row],[FLUXO]]/t_instalado[[#This Row],[Luminárias]],0),\"\")","v":""},{"$f":"IF(t_instalado[[#This Row],[Luminárias]]<>\"\",ROUND(t_instalado[[#This Row],[lm_médio]]/t_instalado[[#This Row],[W_médio]],2),\"\")","v":""}]
[164,{"$f":"_xlfn.XLOOKUP(t_instalado[[#This Row],[cód.]],t_sitio[cód],t_sitio[Trecho],\"\")","v":""},null,null,null,null,null,null,null,null,null,null,{"$f":"t_instalado[[#This Row],[Q.1]]+t_instalado[[#This Row],[Q.2]]+t_instalado[[#This Row],[Q.3]]","v":0},{"$f":"t_instalado[[#This Row],[Q.1]]+t_instalado[[#This Row],[Q.2]]+t_instalado[[#This Row],[Q.3]]","v":0},{"$f":"IF(t_instalado[[#This Row],[Q.1]]<>\"\",SUMIFS(t_reator[p],t_reator[tipo],t_instalado[[#This Row],[T.1]],t_reator[w],t_instalado[[#This Row],[P.1(W)]]),\"\")","v":""},{"$f":"IF(t_instalado[[#This Row],[Q.2]]<>\"\",SUMIFS(t_reator[p],t_reator[tipo],t_instalado[[#This Row],[T.2]],t_reator[w],t_instalado[[#This Row],[P.2(W)]]),\"\")","v":""},{"$f":"IF(t_instalado[[#This Row],[Q.3]]<>\"\",SUMIFS(t_reator[p],t_reator[tipo],t_instalado[[#This Row],[T.3]],t_reator[w],t_instalado[[#This Row],[P.3(W)]]),\"\")","v":""},{"$f":"IF(t_instalado[[#This Row],[Q.1]]<>\"\",IFERROR(IFERROR(D398*(E398+O398)+G398*(H398+P398)+J398*(K398+Q398),D398*(E398+O398)+G398*(H398+P398)),D398*(E398+O398)),\"\")","v":""},{"$f":"IF(t_instalado[[#This Row],[Consumo_W]]<>\"\",ROUND(t_instalado[[#This Row],[Consumo_W]]/t_instalado[[#This Row],[Luminárias]],0),\"\")","v":""},{"$f":"IF(t_instalado[[#This Row],[Q.1]]<>\"\",SUMIFS(t_fluxo_lumin[fluxo],t_fluxo_lumin[tipo],t_instalado[[#This Row],[T.1]])*t_instalado[[#This Row],[P.1(W)]]*t_instalado[[#This Row],[Q.1]],\"\")","v":""},{"$f":"IF(t_instalado[[#This Row],[Q.2]]<>\"\",SUMIFS(t_fluxo_lumin[fluxo],t_fluxo_lumin[tipo],t_instalado[[#This Row],[T.2]])*t_instalado[[#This Row],[Q.2]]*t_instalado[[#This Row],[P.2(W)]],\"\")","v":""},{"$f":"IF(t_instalado[[#This Row],[Q.3]]<>\"\",SUMIFS(t_fluxo_lumin[fluxo],t_fluxo_lumin[tipo],t_instalado[[#This Row],[T.3]])*t_instalado[[#This Row],[Q.3]]*t_instalado[[#This Row],[P.3(W)]],\"\")","v":""},{"$f":"IF(t_instalado[[#This Row],[Trecho]]<>\"\",SUM(t_instalado[[#This Row],[f.1]:[f.3]]),\"\")","v":""},{"$f":"IF(t_instalado[[#This Row],[Trecho]]<>\"\",t_instalado[[#This Row],[Q.1]]+t_instalado[[#This Row],[Q.2]]+t_instalado[[#This Row],[Q.3]],\"\")","v":""},{"$f":"IF(t_instalado[[#This Row],[FLUXO]]<>\"\",ROUND(t_instalado[[#This Row],[FLUXO]]/t_instalado[[#This Row],[Luminárias]],0),\"\")","v":""},{"$f":"IF(t_instalado[[#This Row],[Luminárias]]<>\"\",ROUND(t_instalado[[#This Row],[lm_médio]]/t_instalado[[#This Row],[W_médio]],2),\"\")","v":""}]
[165,{"$f":"_xlfn.XLOOKUP(t_instalado[[#This Row],[cód.]],t_sitio[cód],t_sitio[Trecho],\"\")","v":""},null,null,null,null,null,null,null,null,null,null,{"$f":"t_instalado[[#This Row],[Q.1]]+t_instalado[[#This Row],[Q.2]]+t_instalado[[#This Row],[Q.3]]","v":0},{"$f":"t_instalado[[#This Row],[Q.1]]+t_instalado[[#This Row],[Q.2]]+t_instalado[[#This Row],[Q.3]]","v":0},{"$f":"IF(t_instalado[[#This Row],[Q.1]]<>\"\",SUMIFS(t_reator[p],t_reator[tipo],t_instalado[[#This Row],[T.1]],t_reator[w],t_instalado[[#This Row],[P.1(W)]]),\"\")","v":""},{"$f":"IF(t_instalado[[#This Row],[Q.2]]<>\"\",SUMIFS(t_reator[p],t_reator[tipo],t_instalado[[#This Row],[T.2]],t_reator[w],t_instalado[[#This Row],[P.2(W)]]),\"\")","v":""},{"$f":"IF(t_instalado[[#This Row],[Q.3]]<>\"\",SUMIFS(t_reator[p],t_reator[tipo],t_instalado[[#This Row],[T.3]],t_reator[w],t_instalado[[#This Row],[P.3(W)]]),\"\")","v":""},{"$f":"IF(t_instalado[[#This Row],[Q.1]]<>\"\",IFERROR(IFERROR(D399*(E399+O399)+G399*(H399+P399)+J399*(K399+Q399),D399*(E399+O399)+G399*(H399+P399)),D399*(E399+O399)),\"\")","v":""},{"$f":"IF(t_instalado[[#This Row],[Consumo_W]]<>\"\",ROUND(t_instalado[[#This Row],[Consumo_W]]/t_instalado[[#This Row],[Luminárias]],0),\"\")","v":""},{"$f":"IF(t_instalado[[#This Row],[Q.1]]<>\"\",SUMIFS(t_fluxo_lumin[fluxo],t_fluxo_lumin[tipo],t_instalado[[#This Row],[T.1]])*t_instalado[[#This Row],[P.1(W)]]*t_instalado[[#This Row],[Q.1]],\"\")","v":""},{"$f":"IF(t_instalado[[#This Row],[Q.2]]<>\"\",SUMIFS(t_fluxo_lumin[fluxo],t_fluxo_lumin[tipo],t_instalado[[#This Row],[T.2]])*t_instalado[[#This Row],[Q.2]]*t_instalado[[#This Row],[P.2(W)]],\"\")","v":""},{"$f":"IF(t_instalado[[#This Row],[Q.3]]<>\"\",SUMIFS(t_fluxo_lumin[fluxo],t_fluxo_lumin[tipo],t_instalado[[#This Row],[T.3]])*t_instalado[[#This Row],[Q.3]]*t_instalado[[#This Row],[P.3(W)]],\"\")","v":""},{"$f":"IF(t_instalado[[#This Row],[Trecho]]<>\"\",SUM(t_instalado[[#This Row],[f.1]:[f.3]]),\"\")","v":""},{"$f":"IF(t_instalado[[#This Row],[Trecho]]<>\"\",t_instalado[[#This Row],[Q.1]]+t_instalado[[#This Row],[Q.2]]+t_instalado[[#This Row],[Q.3]],\"\")","v":""},{"$f":"IF(t_instalado[[#This Row],[FLUXO]]<>\"\",ROUND(t_instalado[[#This Row],[FLUXO]]/t_instalado[[#This Row],[Luminárias]],0),\"\")","v":""},{"$f":"IF(t_instalado[[#This Row],[Luminárias]]<>\"\",ROUND(t_instalado[[#This Row],[lm_médio]]/t_instalado[[#This Row],[W_médio]],2),\"\")","v":""}]
[166,{"$f":"_xlfn.XLOOKUP(t_instalado[[#This Row],[cód.]],t_sitio[cód],t_sitio[Trecho],\"\")","v":""},null,null,null,null,null,null,null,null,null,null,{"$f":"t_instalado[[#This Row],[Q.1]]+t_instalado[[#This Row],[Q.2]]+t_instalado[[#This Row],[Q.3]]","v":0},{"$f":"t_instalado[[#This Row],[Q.1]]+t_instalado[[#This Row],[Q.2]]+t_instalado[[#This Row],[Q.3]]","v":0},{"$f":"IF(t_instalado[[#This Row],[Q.1]]<>\"\",SUMIFS(t_reator[p],t_reator[tipo],t_instalado[[#This Row],[T.1]],t_reator[w],t_instalado[[#This Row],[P.1(W)]]),\"\")","v":""},{"$f":"IF(t_instalado[[#This Row],[Q.2]]<>\"\",SUMIFS(t_reator[p],t_reator[tipo],t_instalado[[#This Row],[T.2]],t_reator[w],t_instalado[[#This Row],[P.2(W)]]),\"\")","v":""},{"$f":"IF(t_instalado[[#This Row],[Q.3]]<>\"\",SUMIFS(t_reator[p],t_reator[tipo],t_instalado[[#This Row],[T.3]],t_reator[w],t_instalado[[#This Row],[P.3(W)]]),\"\")","v":""},{"$f":"IF(t_instalado[[#This Row],[Q.1]]<>\"\",IFERROR(IFERROR(D400*(E400+O400)+G400*(H400+P400)+J400*(K400+Q400),D400*(E400+O400)+G400*(H400+P400)),D400*(E400+O400)),\"\")","v":""},{"$f":"IF(t_instalado[[#This Row],[Consumo_W]]<>\"\",ROUND(t_instalado[[#This Row],[Consumo_W]]/t_instalado[[#This Row],[Luminárias]],0),\"\")","v":""},{"$f":"IF(t_instalado[[#This Row],[Q.1]]<>\"\",SUMIFS(t_fluxo_lumin[fluxo],t_fluxo_lumin[tipo],t_instalado[[#This Row],[T.1]])*t_instalado[[#This Row],[P.1(W)]]*t_instalado[[#This Row],[Q.1]],\"\")","v":""},{"$f":"IF(t_instalado[[#This Row],[Q.2]]<>\"\",SUMIFS(t_fluxo_lumin[fluxo],t_fluxo_lumin[tipo],t_instalado[[#This Row],[T.2]])*t_instalado[[#This Row],[Q.2]]*t_instalado[[#This Row],[P.2(W)]],\"\")","v":""},{"$f":"IF(t_instalado[[#This Row],[Q.3]]<>\"\",SUMIFS(t_fluxo_lumin[fluxo],t_fluxo_lumin[tipo],t_instalado[[#This Row],[T.3]])*t_instalado[[#This Row],[Q.3]]*t_instalado[[#This Row],[P.3(W)]],\"\")","v":""},{"$f":"IF(t_instalado[[#This Row],[Trecho]]<>\"\",SUM(t_instalado[[#This Row],[f.1]:[f.3]]),\"\")","v":""},{"$f":"IF(t_instalado[[#This Row],[Trecho]]<>\"\",t_instalado[[#This Row],[Q.1]]+t_instalado[[#This Row],[Q.2]]+t_instalado[[#This Row],[Q.3]],\"\")","v":""},{"$f":"IF(t_instalado[[#This Row],[FLUXO]]<>\"\",ROUND(t_instalado[[#This Row],[FLUXO]]/t_instalado[[#This Row],[Luminárias]],0),\"\")","v":""},{"$f":"IF(t_instalado[[#This Row],[Luminárias]]<>\"\",ROUND(t_instalado[[#This Row],[lm_médio]]/t_instalado[[#This Row],[W_médio]],2),\"\")","v":""}]
[167,{"$f":"_xlfn.XLOOKUP(t_instalado[[#This Row],[cód.]],t_sitio[cód],t_sitio[Trecho],\"\")","v":""},null,null,null,null,null,null,null,null,null,null,{"$f":"t_instalado[[#This Row],[Q.1]]+t_instalado[[#This Row],[Q.2]]+t_instalado[[#This Row],[Q.3]]","v":0},{"$f":"t_instalado[[#This Row],[Q.1]]+t_instalado[[#This Row],[Q.2]]+t_instalado[[#This Row],[Q.3]]","v":0},{"$f":"IF(t_instalado[[#This Row],[Q.1]]<>\"\",SUMIFS(t_reator[p],t_reator[tipo],t_instalado[[#This Row],[T.1]],t_reator[w],t_instalado[[#This Row],[P.1(W)]]),\"\")","v":""},{"$f":"IF(t_instalado[[#This Row],[Q.2]]<>\"\",SUMIFS(t_reator[p],t_reator[tipo],t_instalado[[#This Row],[T.2]],t_reator[w],t_instalado[[#This Row],[P.2(W)]]),\"\")","v":""},{"$f":"IF(t_instalado[[#This Row],[Q.3]]<>\"\",SUMIFS(t_reator[p],t_reator[tipo],t_instalado[[#This Row],[T.3]],t_reator[w],t_instalado[[#This Row],[P.3(W)]]),\"\")","v":""},{"$f":"IF(t_instalado[[#This Row],[Q.1]]<>\"\",IFERROR(IFERROR(D401*(E401+O401)+G401*(H401+P401)+J401*(K401+Q401),D401*(E401+O401)+G401*(H401+P401)),D401*(E401+O401)),\"\")","v":""},{"$f":"IF(t_instalado[[#This Row],[Consumo_W]]<>\"\",ROUND(t_instalado[[#This Row],[Consumo_W]]/t_instalado[[#This Row],[Luminárias]],0),\"\")","v":""},{"$f":"IF(t_instalado[[#This Row],[Q.1]]<>\"\",SUMIFS(t_fluxo_lumin[fluxo],t_fluxo_lumin[tipo],t_instalado[[#This Row],[T.1]])*t_instalado[[#This Row],[P.1(W)]]*t_instalado[[#This Row],[Q.1]],\"\")","v":""},{"$f":"IF(t_instalado[[#This Row],[Q.2]]<>\"\",SUMIFS(t_fluxo_lumin[fluxo],t_fluxo_lumin[tipo],t_instalado[[#This Row],[T.2]])*t_instalado[[#This Row],[Q.2]]*t_instalado[[#This Row],[P.2(W)]],\"\")","v":""},{"$f":"IF(t_instalado[[#This Row],[Q.3]]<>\"\",SUMIFS(t_fluxo_lumin[fluxo],t_fluxo_lumin[tipo],t_instalado[[#This Row],[T.3]])*t_instalado[[#This Row],[Q.3]]*t_instalado[[#This Row],[P.3(W)]],\"\")","v":""},{"$f":"IF(t_instalado[[#This Row],[Trecho]]<>\"\",SUM(t_instalado[[#This Row],[f.1]:[f.3]]),\"\")","v":""},{"$f":"IF(t_instalado[[#This Row],[Trecho]]<>\"\",t_instalado[[#This Row],[Q.1]]+t_instalado[[#This Row],[Q.2]]+t_instalado[[#This Row],[Q.3]],\"\")","v":""},{"$f":"IF(t_instalado[[#This Row],[FLUXO]]<>\"\",ROUND(t_instalado[[#This Row],[FLUXO]]/t_instalado[[#This Row],[Luminárias]],0),\"\")","v":""},{"$f":"IF(t_instalado[[#This Row],[Luminárias]]<>\"\",ROUND(t_instalado[[#This Row],[lm_médio]]/t_instalado[[#This Row],[W_médio]],2),\"\")","v":""}]
[168,{"$f":"_xlfn.XLOOKUP(t_instalado[[#This Row],[cód.]],t_sitio[cód],t_sitio[Trecho],\"\")","v":""},null,null,null,null,null,null,null,null,null,null,{"$f":"t_instalado[[#This Row],[Q.1]]+t_instalado[[#This Row],[Q.2]]+t_instalado[[#This Row],[Q.3]]","v":0},{"$f":"t_instalado[[#This Row],[Q.1]]+t_instalado[[#This Row],[Q.2]]+t_instalado[[#This Row],[Q.3]]","v":0},{"$f":"IF(t_instalado[[#This Row],[Q.1]]<>\"\",SUMIFS(t_reator[p],t_reator[tipo],t_instalado[[#This Row],[T.1]],t_reator[w],t_instalado[[#This Row],[P.1(W)]]),\"\")","v":""},{"$f":"IF(t_instalado[[#This Row],[Q.2]]<>\"\",SUMIFS(t_reator[p],t_reator[tipo],t_instalado[[#This Row],[T.2]],t_reator[w],t_instalado[[#This Row],[P.2(W)]]),\"\")","v":""},{"$f":"IF(t_instalado[[#This Row],[Q.3]]<>\"\",SUMIFS(t_reator[p],t_reator[tipo],t_instalado[[#This Row],[T.3]],t_reator[w],t_instalado[[#This Row],[P.3(W)]]),\"\")","v":""},{"$f":"IF(t_instalado[[#This Row],[Q.1]]<>\"\",IFERROR(IFERROR(D402*(E402+O402)+G402*(H402+P402)+J402*(K402+Q402),D402*(E402+O402)+G402*(H402+P402)),D402*(E402+O402)),\"\")","v":""},{"$f":"IF(t_instalado[[#This Row],[Consumo_W]]<>\"\",ROUND(t_instalado[[#This Row],[Consumo_W]]/t_instalado[[#This Row],[Luminárias]],0),\"\")","v":""},{"$f":"IF(t_instalado[[#This Row],[Q.1]]<>\"\",SUMIFS(t_fluxo_lumin[fluxo],t_fluxo_lumin[tipo],t_instalado[[#This Row],[T.1]])*t_instalado[[#This Row],[P.1(W)]]*t_instalado[[#This Row],[Q.1]],\"\")","v":""},{"$f":"IF(t_instalado[[#This Row],[Q.2]]<>\"\",SUMIFS(t_fluxo_lumin[fluxo],t_fluxo_lumin[tipo],t_instalado[[#This Row],[T.2]])*t_instalado[[#This Row],[Q.2]]*t_instalado[[#This Row],[P.2(W)]],\"\")","v":""},{"$f":"IF(t_instalado[[#This Row],[Q.3]]<>\"\",SUMIFS(t_fluxo_lumin[fluxo],t_fluxo_lumin[tipo],t_instalado[[#This Row],[T.3]])*t_instalado[[#This Row],[Q.3]]*t_instalado[[#This Row],[P.3(W)]],\"\")","v":""},{"$f":"IF(t_instalado[[#This Row],[Trecho]]<>\"\",SUM(t_instalado[[#This Row],[f.1]:[f.3]]),\"\")","v":""},{"$f":"IF(t_instalado[[#This Row],[Trecho]]<>\"\",t_instalado[[#This Row],[Q.1]]+t_instalado[[#This Row],[Q.2]]+t_instalado[[#This Row],[Q.3]],\"\")","v":""},{"$f":"IF(t_instalado[[#This Row],[FLUXO]]<>\"\",ROUND(t_instalado[[#This Row],[FLUXO]]/t_instalado[[#This Row],[Luminárias]],0),\"\")","v":""},{"$f":"IF(t_instalado[[#This Row],[Luminárias]]<>\"\",ROUND(t_instalado[[#This Row],[lm_médio]]/t_instalado[[#This Row],[W_médio]],2),\"\")","v":""}]
[169,{"$f":"_xlfn.XLOOKUP(t_instalado[[#This Row],[cód.]],t_sitio[cód],t_sitio[Trecho],\"\")","v":""},null,null,null,null,null,null,null,null,null,null,{"$f":"t_instalado[[#This Row],[Q.1]]+t_instalado[[#This Row],[Q.2]]+t_instalado[[#This Row],[Q.3]]","v":0},{"$f":"t_instalado[[#This Row],[Q.1]]+t_instalado[[#This Row],[Q.2]]+t_instalado[[#This Row],[Q.3]]","v":0},{"$f":"IF(t_instalado[[#This Row],[Q.1]]<>\"\",SUMIFS(t_reator[p],t_reator[tipo],t_instalado[[#This Row],[T.1]],t_reator[w],t_instalado[[#This Row],[P.1(W)]]),\"\")","v":""},{"$f":"IF(t_instalado[[#This Row],[Q.2]]<>\"\",SUMIFS(t_reator[p],t_reator[tipo],t_instalado[[#This Row],[T.2]],t_reator[w],t_instalado[[#This Row],[P.2(W)]]),\"\")","v":""},{"$f":"IF(t_instalado[[#This Row],[Q.3]]<>\"\",SUMIFS(t_reator[p],t_reator[tipo],t_instalado[[#This Row],[T.3]],t_reator[w],t_instalado[[#This Row],[P.3(W)]]),\"\")","v":""},{"$f":"IF(t_instalado[[#This Row],[Q.1]]<>\"\",IFERROR(IFERROR(D403*(E403+O403)+G403*(H403+P403)+J403*(K403+Q403),D403*(E403+O403)+G403*(H403+P403)),D403*(E403+O403)),\"\")","v":""},{"$f":"IF(t_instalado[[#This Row],[Consumo_W]]<>\"\",ROUND(t_instalado[[#This Row],[Consumo_W]]/t_instalado[[#This Row],[Luminárias]],0),\"\")","v":""},{"$f":"IF(t_instalado[[#This Row],[Q.1]]<>\"\",SUMIFS(t_fluxo_lumin[fluxo],t_fluxo_lumin[tipo],t_instalado[[#This Row],[T.1]])*t_instalado[[#This Row],[P.1(W)]]*t_instalado[[#This Row],[Q.1]],\"\")","v":""},{"$f":"IF(t_instalado[[#This Row],[Q.2]]<>\"\",SUMIFS(t_fluxo_lumin[fluxo],t_fluxo_lumin[tipo],t_instalado[[#This Row],[T.2]])*t_instalado[[#This Row],[Q.2]]*t_instalado[[#This Row],[P.2(W)]],\"\")","v":""},{"$f":"IF(t_instalado[[#This Row],[Q.3]]<>\"\",SUMIFS(t_fluxo_lumin[fluxo],t_fluxo_lumin[tipo],t_instalado[[#This Row],[T.3]])*t_instalado[[#This Row],[Q.3]]*t_instalado[[#This Row],[P.3(W)]],\"\")","v":""},{"$f":"IF(t_instalado[[#This Row],[Trecho]]<>\"\",SUM(t_instalado[[#This Row],[f.1]:[f.3]]),\"\")","v":""},{"$f":"IF(t_instalado[[#This Row],[Trecho]]<>\"\",t_instalado[[#This Row],[Q.1]]+t_instalado[[#This Row],[Q.2]]+t_instalado[[#This Row],[Q.3]],\"\")","v":""},{"$f":"IF(t_instalado[[#This Row],[FLUXO]]<>\"\",ROUND(t_instalado[[#This Row],[FLUXO]]/t_instalado[[#This Row],[Luminárias]],0),\"\")","v":""},{"$f":"IF(t_instalado[[#This Row],[Luminárias]]<>\"\",ROUND(t_instalado[[#This Row],[lm_médio]]/t_instalado[[#This Row],[W_médio]],2),\"\")","v":""}]
[170,{"$f":"_xlfn.XLOOKUP(t_instalado[[#This Row],[cód.]],t_sitio[cód],t_sitio[Trecho],\"\")","v":""},null,null,null,null,null,null,null,null,null,null,{"$f":"t_instalado[[#This Row],[Q.1]]+t_instalado[[#This Row],[Q.2]]+t_instalado[[#This Row],[Q.3]]","v":0},{"$f":"t_instalado[[#This Row],[Q.1]]+t_instalado[[#This Row],[Q.2]]+t_instalado[[#This Row],[Q.3]]","v":0},{"$f":"IF(t_instalado[[#This Row],[Q.1]]<>\"\",SUMIFS(t_reator[p],t_reator[tipo],t_instalado[[#This Row],[T.1]],t_reator[w],t_instalado[[#This Row],[P.1(W)]]),\"\")","v":""},{"$f":"IF(t_instalado[[#This Row],[Q.2]]<>\"\",SUMIFS(t_reator[p],t_reator[tipo],t_instalado[[#This Row],[T.2]],t_reator[w],t_instalado[[#This Row],[P.2(W)]]),\"\")","v":""},{"$f":"IF(t_instalado[[#This Row],[Q.3]]<>\"\",SUMIFS(t_reator[p],t_reator[tipo],t_instalado[[#This Row],[T.3]],t_reator[w],t_instalado[[#This Row],[P.3(W)]]),\"\")","v":""},{"$f":"IF(t_instalado[[#This Row],[Q.1]]<>\"\",IFERROR(IFERROR(D404*(E404+O404)+G404*(H404+P404)+J404*(K404+Q404),D404*(E404+O404)+G404*(H404+P404)),D404*(E404+O404)),\"\")","v":""},{"$f":"IF(t_instalado[[#This Row],[Consumo_W]]<>\"\",ROUND(t_instalado[[#This Row],[Consumo_W]]/t_instalado[[#This Row],[Luminárias]],0),\"\")","v":""},{"$f":"IF(t_instalado[[#This Row],[Q.1]]<>\"\",SUMIFS(t_fluxo_lumin[fluxo],t_fluxo_lumin[tipo],t_instalado[[#This Row],[T.1]])*t_instalado[[#This Row],[P.1(W)]]*t_instalado[[#This Row],[Q.1]],\"\")","v":""},{"$f":"IF(t_instalado[[#This Row],[Q.2]]<>\"\",SUMIFS(t_fluxo_lumin[fluxo],t_fluxo_lumin[tipo],t_instalado[[#This Row],[T.2]])*t_instalado[[#This Row],[Q.2]]*t_instalado[[#This Row],[P.2(W)]],\"\")","v":""},{"$f":"IF(t_instalado[[#This Row],[Q.3]]<>\"\",SUMIFS(t_fluxo_lumin[fluxo],t_fluxo_lumin[tipo],t_instalado[[#This Row],[T.3]])*t_instalado[[#This Row],[Q.3]]*t_instalado[[#This Row],[P.3(W)]],\"\")","v":""},{"$f":"IF(t_instalado[[#This Row],[Trecho]]<>\"\",SUM(t_instalado[[#This Row],[f.1]:[f.3]]),\"\")","v":""},{"$f":"IF(t_instalado[[#This Row],[Trecho]]<>\"\",t_instalado[[#This Row],[Q.1]]+t_instalado[[#This Row],[Q.2]]+t_instalado[[#This Row],[Q.3]],\"\")","v":""},{"$f":"IF(t_instalado[[#This Row],[FLUXO]]<>\"\",ROUND(t_instalado[[#This Row],[FLUXO]]/t_instalado[[#This Row],[Luminárias]],0),\"\")","v":""},{"$f":"IF(t_instalado[[#This Row],[Luminárias]]<>\"\",ROUND(t_instalado[[#This Row],[lm_médio]]/t_instalado[[#This Row],[W_médio]],2),\"\")","v":""}]
[171,{"$f":"_xlfn.XLOOKUP(t_instalado[[#This Row],[cód.]],t_sitio[cód],t_sitio[Trecho],\"\")","v":""},null,null,null,null,null,null,null,null,null,null,{"$f":"t_instalado[[#This Row],[Q.1]]+t_instalado[[#This Row],[Q.2]]+t_instalado[[#This Row],[Q.3]]","v":0},{"$f":"t_instalado[[#This Row],[Q.1]]+t_instalado[[#This Row],[Q.2]]+t_instalado[[#This Row],[Q.3]]","v":0},{"$f":"IF(t_instalado[[#This Row],[Q.1]]<>\"\",SUMIFS(t_reator[p],t_reator[tipo],t_instalado[[#This Row],[T.1]],t_reator[w],t_instalado[[#This Row],[P.1(W)]]),\"\")","v":""},{"$f":"IF(t_instalado[[#This Row],[Q.2]]<>\"\",SUMIFS(t_reator[p],t_reator[tipo],t_instalado[[#This Row],[T.2]],t_reator[w],t_instalado[[#This Row],[P.2(W)]]),\"\")","v":""},{"$f":"IF(t_instalado[[#This Row],[Q.3]]<>\"\",SUMIFS(t_reator[p],t_reator[tipo],t_instalado[[#This Row],[T.3]],t_reator[w],t_instalado[[#This Row],[P.3(W)]]),\"\")","v":""},{"$f":"IF(t_instalado[[#This Row],[Q.1]]<>\"\",IFERROR(IFERROR(D405*(E405+O405)+G405*(H405+P405)+J405*(K405+Q405),D405*(E405+O405)+G405*(H405+P405)),D405*(E405+O405)),\"\")","v":""},{"$f":"IF(t_instalado[[#This Row],[Consumo_W]]<>\"\",ROUND(t_instalado[[#This Row],[Consumo_W]]/t_instalado[[#This Row],[Luminárias]],0),\"\")","v":""},{"$f":"IF(t_instalado[[#This Row],[Q.1]]<>\"\",SUMIFS(t_fluxo_lumin[fluxo],t_fluxo_lumin[tipo],t_instalado[[#This Row],[T.1]])*t_instalado[[#This Row],[P.1(W)]]*t_instalado[[#This Row],[Q.1]],\"\")","v":""},{"$f":"IF(t_instalado[[#This Row],[Q.2]]<>\"\",SUMIFS(t_fluxo_lumin[fluxo],t_fluxo_lumin[tipo],t_instalado[[#This Row],[T.2]])*t_instalado[[#This Row],[Q.2]]*t_instalado[[#This Row],[P.2(W)]],\"\")","v":""},{"$f":"IF(t_instalado[[#This Row],[Q.3]]<>\"\",SUMIFS(t_fluxo_lumin[fluxo],t_fluxo_lumin[tipo],t_instalado[[#This Row],[T.3]])*t_instalado[[#This Row],[Q.3]]*t_instalado[[#This Row],[P.3(W)]],\"\")","v":""},{"$f":"IF(t_instalado[[#This Row],[Trecho]]<>\"\",SUM(t_instalado[[#This Row],[f.1]:[f.3]]),\"\")","v":""},{"$f":"IF(t_instalado[[#This Row],[Trecho]]<>\"\",t_instalado[[#This Row],[Q.1]]+t_instalado[[#This Row],[Q.2]]+t_instalado[[#This Row],[Q.3]],\"\")","v":""},{"$f":"IF(t_instalado[[#This Row],[FLUXO]]<>\"\",ROUND(t_instalado[[#This Row],[FLUXO]]/t_instalado[[#This Row],[Luminárias]],0),\"\")","v":""},{"$f":"IF(t_instalado[[#This Row],[Luminárias]]<>\"\",ROUND(t_instalado[[#This Row],[lm_médio]]/t_instalado[[#This Row],[W_médio]],2),\"\")","v":""}]
[172,{"$f":"_xlfn.XLOOKUP(t_instalado[[#This Row],[cód.]],t_sitio[cód],t_sitio[Trecho],\"\")","v":""},null,null,null,null,null,null,null,null,null,null,{"$f":"t_instalado[[#This Row],[Q.1]]+t_instalado[[#This Row],[Q.2]]+t_instalado[[#This Row],[Q.3]]","v":0},{"$f":"t_instalado[[#This Row],[Q.1]]+t_instalado[[#This Row],[Q.2]]+t_instalado[[#This Row],[Q.3]]","v":0},{"$f":"IF(t_instalado[[#This Row],[Q.1]]<>\"\",SUMIFS(t_reator[p],t_reator[tipo],t_instalado[[#This Row],[T.1]],t_reator[w],t_instalado[[#This Row],[P.1(W)]]),\"\")","v":""},{"$f":"IF(t_instalado[[#This Row],[Q.2]]<>\"\",SUMIFS(t_reator[p],t_reator[tipo],t_instalado[[#This Row],[T.2]],t_reator[w],t_instalado[[#This Row],[P.2(W)]]),\"\")","v":""},{"$f":"IF(t_instalado[[#This Row],[Q.3]]<>\"\",SUMIFS(t_reator[p],t_reator[tipo],t_instalado[[#This Row],[T.3]],t_reator[w],t_instalado[[#This Row],[P.3(W)]]),\"\")","v":""},{"$f":"IF(t_instalado[[#This Row],[Q.1]]<>\"\",IFERROR(IFERROR(D406*(E406+O406)+G406*(H406+P406)+J406*(K406+Q406),D406*(E406+O406)+G406*(H406+P406)),D406*(E406+O406)),\"\")","v":""},{"$f":"IF(t_instalado[[#This Row],[Consumo_W]]<>\"\",ROUND(t_instalado[[#This Row],[Consumo_W]]/t_instalado[[#This Row],[Luminárias]],0),\"\")","v":""},{"$f":"IF(t_instalado[[#This Row],[Q.1]]<>\"\",SUMIFS(t_fluxo_lumin[fluxo],t_fluxo_lumin[tipo],t_instalado[[#This Row],[T.1]])*t_instalado[[#This Row],[P.1(W)]]*t_instalado[[#This Row],[Q.1]],\"\")","v":""},{"$f":"IF(t_instalado[[#This Row],[Q.2]]<>\"\",SUMIFS(t_fluxo_lumin[fluxo],t_fluxo_lumin[tipo],t_instalado[[#This Row],[T.2]])*t_instalado[[#This Row],[Q.2]]*t_instalado[[#This Row],[P.2(W)]],\"\")","v":""},{"$f":"IF(t_instalado[[#This Row],[Q.3]]<>\"\",SUMIFS(t_fluxo_lumin[fluxo],t_fluxo_lumin[tipo],t_instalado[[#This Row],[T.3]])*t_instalado[[#This Row],[Q.3]]*t_instalado[[#This Row],[P.3(W)]],\"\")","v":""},{"$f":"IF(t_instalado[[#This Row],[Trecho]]<>\"\",SUM(t_instalado[[#This Row],[f.1]:[f.3]]),\"\")","v":""},{"$f":"IF(t_instalado[[#This Row],[Trecho]]<>\"\",t_instalado[[#This Row],[Q.1]]+t_instalado[[#This Row],[Q.2]]+t_instalado[[#This Row],[Q.3]],\"\")","v":""},{"$f":"IF(t_instalado[[#This Row],[FLUXO]]<>\"\",ROUND(t_instalado[[#This Row],[FLUXO]]/t_instalado[[#This Row],[Luminárias]],0),\"\")","v":""},{"$f":"IF(t_instalado[[#This Row],[Luminárias]]<>\"\",ROUND(t_instalado[[#This Row],[lm_médio]]/t_instalado[[#This Row],[W_médio]],2),\"\")","v":""}]
[173,{"$f":"_xlfn.XLOOKUP(t_instalado[[#This Row],[cód.]],t_sitio[cód],t_sitio[Trecho],\"\")","v":""},null,null,null,null,null,null,null,null,null,null,{"$f":"t_instalado[[#This Row],[Q.1]]+t_instalado[[#This Row],[Q.2]]+t_instalado[[#This Row],[Q.3]]","v":0},{"$f":"t_instalado[[#This Row],[Q.1]]+t_instalado[[#This Row],[Q.2]]+t_instalado[[#This Row],[Q.3]]","v":0},{"$f":"IF(t_instalado[[#This Row],[Q.1]]<>\"\",SUMIFS(t_reator[p],t_reator[tipo],t_instalado[[#This Row],[T.1]],t_reator[w],t_instalado[[#This Row],[P.1(W)]]),\"\")","v":""},{"$f":"IF(t_instalado[[#This Row],[Q.2]]<>\"\",SUMIFS(t_reator[p],t_reator[tipo],t_instalado[[#This Row],[T.2]],t_reator[w],t_instalado[[#This Row],[P.2(W)]]),\"\")","v":""},{"$f":"IF(t_instalado[[#This Row],[Q.3]]<>\"\",SUMIFS(t_reator[p],t_reator[tipo],t_instalado[[#This Row],[T.3]],t_reator[w],t_instalado[[#This Row],[P.3(W)]]),\"\")","v":""},{"$f":"IF(t_instalado[[#This Row],[Q.1]]<>\"\",IFERROR(IFERROR(D407*(E407+O407)+G407*(H407+P407)+J407*(K407+Q407),D407*(E407+O407)+G407*(H407+P407)),D407*(E407+O407)),\"\")","v":""},{"$f":"IF(t_instalado[[#This Row],[Consumo_W]]<>\"\",ROUND(t_instalado[[#This Row],[Consumo_W]]/t_instalado[[#This Row],[Luminárias]],0),\"\")","v":""},{"$f":"IF(t_instalado[[#This Row],[Q.1]]<>\"\",SUMIFS(t_fluxo_lumin[fluxo],t_fluxo_lumin[tipo],t_instalado[[#This Row],[T.1]])*t_instalado[[#This Row],[P.1(W)]]*t_instalado[[#This Row],[Q.1]],\"\")","v":""},{"$f":"IF(t_instalado[[#This Row],[Q.2]]<>\"\",SUMIFS(t_fluxo_lumin[fluxo],t_fluxo_lumin[tipo],t_instalado[[#This Row],[T.2]])*t_instalado[[#This Row],[Q.2]]*t_instalado[[#This Row],[P.2(W)]],\"\")","v":""},{"$f":"IF(t_instalado[[#This Row],[Q.3]]<>\"\",SUMIFS(t_fluxo_lumin[fluxo],t_fluxo_lumin[tipo],t_instalado[[#This Row],[T.3]])*t_instalado[[#This Row],[Q.3]]*t_instalado[[#This Row],[P.3(W)]],\"\")","v":""},{"$f":"IF(t_instalado[[#This Row],[Trecho]]<>\"\",SUM(t_instalado[[#This Row],[f.1]:[f.3]]),\"\")","v":""},{"$f":"IF(t_instalado[[#This Row],[Trecho]]<>\"\",t_instalado[[#This Row],[Q.1]]+t_instalado[[#This Row],[Q.2]]+t_instalado[[#This Row],[Q.3]],\"\")","v":""},{"$f":"IF(t_instalado[[#This Row],[FLUXO]]<>\"\",ROUND(t_instalado[[#This Row],[FLUXO]]/t_instalado[[#This Row],[Luminárias]],0),\"\")","v":""},{"$f":"IF(t_instalado[[#This Row],[Luminárias]]<>\"\",ROUND(t_instalado[[#This Row],[lm_médio]]/t_instalado[[#This Row],[W_médio]],2),\"\")","v":""}]
[174,{"$f":"_xlfn.XLOOKUP(t_instalado[[#This Row],[cód.]],t_sitio[cód],t_sitio[Trecho],\"\")","v":""},null,null,null,null,null,null,null,null,null,null,{"$f":"t_instalado[[#This Row],[Q.1]]+t_instalado[[#This Row],[Q.2]]+t_instalado[[#This Row],[Q.3]]","v":0},{"$f":"t_instalado[[#This Row],[Q.1]]+t_instalado[[#This Row],[Q.2]]+t_instalado[[#This Row],[Q.3]]","v":0},{"$f":"IF(t_instalado[[#This Row],[Q.1]]<>\"\",SUMIFS(t_reator[p],t_reator[tipo],t_instalado[[#This Row],[T.1]],t_reator[w],t_instalado[[#This Row],[P.1(W)]]),\"\")","v":""},{"$f":"IF(t_instalado[[#This Row],[Q.2]]<>\"\",SUMIFS(t_reator[p],t_reator[tipo],t_instalado[[#This Row],[T.2]],t_reator[w],t_instalado[[#This Row],[P.2(W)]]),\"\")","v":""},{"$f":"IF(t_instalado[[#This Row],[Q.3]]<>\"\",SUMIFS(t_reator[p],t_reator[tipo],t_instalado[[#This Row],[T.3]],t_reator[w],t_instalado[[#This Row],[P.3(W)]]),\"\")","v":""},{"$f":"IF(t_instalado[[#This Row],[Q.1]]<>\"\",IFERROR(IFERROR(D408*(E408+O408)+G408*(H408+P408)+J408*(K408+Q408),D408*(E408+O408)+G408*(H408+P408)),D408*(E408+O408)),\"\")","v":""},{"$f":"IF(t_instalado[[#This Row],[Consumo_W]]<>\"\",ROUND(t_instalado[[#This Row],[Consumo_W]]/t_instalado[[#This Row],[Luminárias]],0),\"\")","v":""},{"$f":"IF(t_instalado[[#This Row],[Q.1]]<>\"\",SUMIFS(t_fluxo_lumin[fluxo],t_fluxo_lumin[tipo],t_instalado[[#This Row],[T.1]])*t_instalado[[#This Row],[P.1(W)]]*t_instalado[[#This Row],[Q.1]],\"\")","v":""},{"$f":"IF(t_instalado[[#This Row],[Q.2]]<>\"\",SUMIFS(t_fluxo_lumin[fluxo],t_fluxo_lumin[tipo],t_instalado[[#This Row],[T.2]])*t_instalado[[#This Row],[Q.2]]*t_instalado[[#This Row],[P.2(W)]],\"\")","v":""},{"$f":"IF(t_instalado[[#This Row],[Q.3]]<>\"\",SUMIFS(t_fluxo_lumin[fluxo],t_fluxo_lumin[tipo],t_instalado[[#This Row],[T.3]])*t_instalado[[#This Row],[Q.3]]*t_instalado[[#This Row],[P.3(W)]],\"\")","v":""},{"$f":"IF(t_instalado[[#This Row],[Trecho]]<>\"\",SUM(t_instalado[[#This Row],[f.1]:[f.3]]),\"\")","v":""},{"$f":"IF(t_instalado[[#This Row],[Trecho]]<>\"\",t_instalado[[#This Row],[Q.1]]+t_instalado[[#This Row],[Q.2]]+t_instalado[[#This Row],[Q.3]],\"\")","v":""},{"$f":"IF(t_instalado[[#This Row],[FLUXO]]<>\"\",ROUND(t_instalado[[#This Row],[FLUXO]]/t_instalado[[#This Row],[Luminárias]],0),\"\")","v":""},{"$f":"IF(t_instalado[[#This Row],[Luminárias]]<>\"\",ROUND(t_instalado[[#This Row],[lm_médio]]/t_instalado[[#This Row],[W_médio]],2),\"\")","v":""}]
[175,{"$f":"_xlfn.XLOOKUP(t_instalado[[#This Row],[cód.]],t_sitio[cód],t_sitio[Trecho],\"\")","v":""},null,null,null,null,null,null,null,null,null,null,{"$f":"t_instalado[[#This Row],[Q.1]]+t_instalado[[#This Row],[Q.2]]+t_instalado[[#This Row],[Q.3]]","v":0},{"$f":"t_instalado[[#This Row],[Q.1]]+t_instalado[[#This Row],[Q.2]]+t_instalado[[#This Row],[Q.3]]","v":0},{"$f":"IF(t_instalado[[#This Row],[Q.1]]<>\"\",SUMIFS(t_reator[p],t_reator[tipo],t_instalado[[#This Row],[T.1]],t_reator[w],t_instalado[[#This Row],[P.1(W)]]),\"\")","v":""},{"$f":"IF(t_instalado[[#This Row],[Q.2]]<>\"\",SUMIFS(t_reator[p],t_reator[tipo],t_instalado[[#This Row],[T.2]],t_reator[w],t_instalado[[#This Row],[P.2(W)]]),\"\")","v":""},{"$f":"IF(t_instalado[[#This Row],[Q.3]]<>\"\",SUMIFS(t_reator[p],t_reator[tipo],t_instalado[[#This Row],[T.3]],t_reator[w],t_instalado[[#This Row],[P.3(W)]]),\"\")","v":""},{"$f":"IF(t_instalado[[#This Row],[Q.1]]<>\"\",IFERROR(IFERROR(D409*(E409+O409)+G409*(H409+P409)+J409*(K409+Q409),D409*(E409+O409)+G409*(H409+P409)),D409*(E409+O409)),\"\")","v":""},{"$f":"IF(t_instalado[[#This Row],[Consumo_W]]<>\"\",ROUND(t_instalado[[#This Row],[Consumo_W]]/t_instalado[[#This Row],[Luminárias]],0),\"\")","v":""},{"$f":"IF(t_instalado[[#This Row],[Q.1]]<>\"\",SUMIFS(t_fluxo_lumin[fluxo],t_fluxo_lumin[tipo],t_instalado[[#This Row],[T.1]])*t_instalado[[#This Row],[P.1(W)]]*t_instalado[[#This Row],[Q.1]],\"\")","v":""},{"$f":"IF(t_instalado[[#This Row],[Q.2]]<>\"\",SUMIFS(t_fluxo_lumin[fluxo],t_fluxo_lumin[tipo],t_instalado[[#This Row],[T.2]])*t_instalado[[#This Row],[Q.2]]*t_instalado[[#This Row],[P.2(W)]],\"\")","v":""},{"$f":"IF(t_instalado[[#This Row],[Q.3]]<>\"\",SUMIFS(t_fluxo_lumin[fluxo],t_fluxo_lumin[tipo],t_instalado[[#This Row],[T.3]])*t_instalado[[#This Row],[Q.3]]*t_instalado[[#This Row],[P.3(W)]],\"\")","v":""},{"$f":"IF(t_instalado[[#This Row],[Trecho]]<>\"\",SUM(t_instalado[[#This Row],[f.1]:[f.3]]),\"\")","v":""},{"$f":"IF(t_instalado[[#This Row],[Trecho]]<>\"\",t_instalado[[#This Row],[Q.1]]+t_instalado[[#This Row],[Q.2]]+t_instalado[[#This Row],[Q.3]],\"\")","v":""},{"$f":"IF(t_instalado[[#This Row],[FLUXO]]<>\"\",ROUND(t_instalado[[#This Row],[FLUXO]]/t_instalado[[#This Row],[Luminárias]],0),\"\")","v":""},{"$f":"IF(t_instalado[[#This Row],[Luminárias]]<>\"\",ROUND(t_instalado[[#This Row],[lm_médio]]/t_instalado[[#This Row],[W_médio]],2),\"\")","v":""}]
[176,{"$f":"_xlfn.XLOOKUP(t_instalado[[#This Row],[cód.]],t_sitio[cód],t_sitio[Trecho],\"\")","v":""},null,null,null,null,null,null,null,null,null,null,{"$f":"t_instalado[[#This Row],[Q.1]]+t_instalado[[#This Row],[Q.2]]+t_instalado[[#This Row],[Q.3]]","v":0},{"$f":"t_instalado[[#This Row],[Q.1]]+t_instalado[[#This Row],[Q.2]]+t_instalado[[#This Row],[Q.3]]","v":0},{"$f":"IF(t_instalado[[#This Row],[Q.1]]<>\"\",SUMIFS(t_reator[p],t_reator[tipo],t_instalado[[#This Row],[T.1]],t_reator[w],t_instalado[[#This Row],[P.1(W)]]),\"\")","v":""},{"$f":"IF(t_instalado[[#This Row],[Q.2]]<>\"\",SUMIFS(t_reator[p],t_reator[tipo],t_instalado[[#This Row],[T.2]],t_reator[w],t_instalado[[#This Row],[P.2(W)]]),\"\")","v":""},{"$f":"IF(t_instalado[[#This Row],[Q.3]]<>\"\",SUMIFS(t_reator[p],t_reator[tipo],t_instalado[[#This Row],[T.3]],t_reator[w],t_instalado[[#This Row],[P.3(W)]]),\"\")","v":""},{"$f":"IF(t_instalado[[#This Row],[Q.1]]<>\"\",IFERROR(IFERROR(D410*(E410+O410)+G410*(H410+P410)+J410*(K410+Q410),D410*(E410+O410)+G410*(H410+P410)),D410*(E410+O410)),\"\")","v":""},{"$f":"IF(t_instalado[[#This Row],[Consumo_W]]<>\"\",ROUND(t_instalado[[#This Row],[Consumo_W]]/t_instalado[[#This Row],[Luminárias]],0),\"\")","v":""},{"$f":"IF(t_instalado[[#This Row],[Q.1]]<>\"\",SUMIFS(t_fluxo_lumin[fluxo],t_fluxo_lumin[tipo],t_instalado[[#This Row],[T.1]])*t_instalado[[#This Row],[P.1(W)]]*t_instalado[[#This Row],[Q.1]],\"\")","v":""},{"$f":"IF(t_instalado[[#This Row],[Q.2]]<>\"\",SUMIFS(t_fluxo_lumin[fluxo],t_fluxo_lumin[tipo],t_instalado[[#This Row],[T.2]])*t_instalado[[#This Row],[Q.2]]*t_instalado[[#This Row],[P.2(W)]],\"\")","v":""},{"$f":"IF(t_instalado[[#This Row],[Q.3]]<>\"\",SUMIFS(t_fluxo_lumin[fluxo],t_fluxo_lumin[tipo],t_instalado[[#This Row],[T.3]])*t_instalado[[#This Row],[Q.3]]*t_instalado[[#This Row],[P.3(W)]],\"\")","v":""},{"$f":"IF(t_instalado[[#This Row],[Trecho]]<>\"\",SUM(t_instalado[[#This Row],[f.1]:[f.3]]),\"\")","v":""},{"$f":"IF(t_instalado[[#This Row],[Trecho]]<>\"\",t_instalado[[#This Row],[Q.1]]+t_instalado[[#This Row],[Q.2]]+t_instalado[[#This Row],[Q.3]],\"\")","v":""},{"$f":"IF(t_instalado[[#This Row],[FLUXO]]<>\"\",ROUND(t_instalado[[#This Row],[FLUXO]]/t_instalado[[#This Row],[Luminárias]],0),\"\")","v":""},{"$f":"IF(t_instalado[[#This Row],[Luminárias]]<>\"\",ROUND(t_instalado[[#This Row],[lm_médio]]/t_instalado[[#This Row],[W_médio]],2),\"\")","v":""}]
[177,{"$f":"_xlfn.XLOOKUP(t_instalado[[#This Row],[cód.]],t_sitio[cód],t_sitio[Trecho],\"\")","v":""},null,null,null,null,null,null,null,null,null,null,{"$f":"t_instalado[[#This Row],[Q.1]]+t_instalado[[#This Row],[Q.2]]+t_instalado[[#This Row],[Q.3]]","v":0},{"$f":"t_instalado[[#This Row],[Q.1]]+t_instalado[[#This Row],[Q.2]]+t_instalado[[#This Row],[Q.3]]","v":0},{"$f":"IF(t_instalado[[#This Row],[Q.1]]<>\"\",SUMIFS(t_reator[p],t_reator[tipo],t_instalado[[#This Row],[T.1]],t_reator[w],t_instalado[[#This Row],[P.1(W)]]),\"\")","v":""},{"$f":"IF(t_instalado[[#This Row],[Q.2]]<>\"\",SUMIFS(t_reator[p],t_reator[tipo],t_instalado[[#This Row],[T.2]],t_reator[w],t_instalado[[#This Row],[P.2(W)]]),\"\")","v":""},{"$f":"IF(t_instalado[[#This Row],[Q.3]]<>\"\",SUMIFS(t_reator[p],t_reator[tipo],t_instalado[[#This Row],[T.3]],t_reator[w],t_instalado[[#This Row],[P.3(W)]]),\"\")","v":""},{"$f":"IF(t_instalado[[#This Row],[Q.1]]<>\"\",IFERROR(IFERROR(D411*(E411+O411)+G411*(H411+P411)+J411*(K411+Q411),D411*(E411+O411)+G411*(H411+P411)),D411*(E411+O411)),\"\")","v":""},{"$f":"IF(t_instalado[[#This Row],[Consumo_W]]<>\"\",ROUND(t_instalado[[#This Row],[Consumo_W]]/t_instalado[[#This Row],[Luminárias]],0),\"\")","v":""},{"$f":"IF(t_instalado[[#This Row],[Q.1]]<>\"\",SUMIFS(t_fluxo_lumin[fluxo],t_fluxo_lumin[tipo],t_instalado[[#This Row],[T.1]])*t_instalado[[#This Row],[P.1(W)]]*t_instalado[[#This Row],[Q.1]],\"\")","v":""},{"$f":"IF(t_instalado[[#This Row],[Q.2]]<>\"\",SUMIFS(t_fluxo_lumin[fluxo],t_fluxo_lumin[tipo],t_instalado[[#This Row],[T.2]])*t_instalado[[#This Row],[Q.2]]*t_instalado[[#This Row],[P.2(W)]],\"\")","v":""},{"$f":"IF(t_instalado[[#This Row],[Q.3]]<>\"\",SUMIFS(t_fluxo_lumin[fluxo],t_fluxo_lumin[tipo],t_instalado[[#This Row],[T.3]])*t_instalado[[#This Row],[Q.3]]*t_instalado[[#This Row],[P.3(W)]],\"\")","v":""},{"$f":"IF(t_instalado[[#This Row],[Trecho]]<>\"\",SUM(t_instalado[[#This Row],[f.1]:[f.3]]),\"\")","v":""},{"$f":"IF(t_instalado[[#This Row],[Trecho]]<>\"\",t_instalado[[#This Row],[Q.1]]+t_instalado[[#This Row],[Q.2]]+t_instalado[[#This Row],[Q.3]],\"\")","v":""},{"$f":"IF(t_instalado[[#This Row],[FLUXO]]<>\"\",ROUND(t_instalado[[#This Row],[FLUXO]]/t_instalado[[#This Row],[Luminárias]],0),\"\")","v":""},{"$f":"IF(t_instalado[[#This Row],[Luminárias]]<>\"\",ROUND(t_instalado[[#This Row],[lm_médio]]/t_instalado[[#This Row],[W_médio]],2),\"\")","v":""}]
[178,{"$f":"_xlfn.XLOOKUP(t_instalado[[#This Row],[cód.]],t_sitio[cód],t_sitio[Trecho],\"\")","v":""},null,null,null,null,null,null,null,null,null,null,{"$f":"t_instalado[[#This Row],[Q.1]]+t_instalado[[#This Row],[Q.2]]+t_instalado[[#This Row],[Q.3]]","v":0},{"$f":"t_instalado[[#This Row],[Q.1]]+t_instalado[[#This Row],[Q.2]]+t_instalado[[#This Row],[Q.3]]","v":0},{"$f":"IF(t_instalado[[#This Row],[Q.1]]<>\"\",SUMIFS(t_reator[p],t_reator[tipo],t_instalado[[#This Row],[T.1]],t_reator[w],t_instalado[[#This Row],[P.1(W)]]),\"\")","v":""},{"$f":"IF(t_instalado[[#This Row],[Q.2]]<>\"\",SUMIFS(t_reator[p],t_reator[tipo],t_instalado[[#This Row],[T.2]],t_reator[w],t_instalado[[#This Row],[P.2(W)]]),\"\")","v":""},{"$f":"IF(t_instalado[[#This Row],[Q.3]]<>\"\",SUMIFS(t_reator[p],t_reator[tipo],t_instalado[[#This Row],[T.3]],t_reator[w],t_instalado[[#This Row],[P.3(W)]]),\"\")","v":""},{"$f":"IF(t_instalado[[#This Row],[Q.1]]<>\"\",IFERROR(IFERROR(D412*(E412+O412)+G412*(H412+P412)+J412*(K412+Q412),D412*(E412+O412)+G412*(H412+P412)),D412*(E412+O412)),\"\")","v":""},{"$f":"IF(t_instalado[[#This Row],[Consumo_W]]<>\"\",ROUND(t_instalado[[#This Row],[Consumo_W]]/t_instalado[[#This Row],[Luminárias]],0),\"\")","v":""},{"$f":"IF(t_instalado[[#This Row],[Q.1]]<>\"\",SUMIFS(t_fluxo_lumin[fluxo],t_fluxo_lumin[tipo],t_instalado[[#This Row],[T.1]])*t_instalado[[#This Row],[P.1(W)]]*t_instalado[[#This Row],[Q.1]],\"\")","v":""},{"$f":"IF(t_instalado[[#This Row],[Q.2]]<>\"\",SUMIFS(t_fluxo_lumin[fluxo],t_fluxo_lumin[tipo],t_instalado[[#This Row],[T.2]])*t_instalado[[#This Row],[Q.2]]*t_instalado[[#This Row],[P.2(W)]],\"\")","v":""},{"$f":"IF(t_instalado[[#This Row],[Q.3]]<>\"\",SUMIFS(t_fluxo_lumin[fluxo],t_fluxo_lumin[tipo],t_instalado[[#This Row],[T.3]])*t_instalado[[#This Row],[Q.3]]*t_instalado[[#This Row],[P.3(W)]],\"\")","v":""},{"$f":"IF(t_instalado[[#This Row],[Trecho]]<>\"\",SUM(t_instalado[[#This Row],[f.1]:[f.3]]),\"\")","v":""},{"$f":"IF(t_instalado[[#This Row],[Trecho]]<>\"\",t_instalado[[#This Row],[Q.1]]+t_instalado[[#This Row],[Q.2]]+t_instalado[[#This Row],[Q.3]],\"\")","v":""},{"$f":"IF(t_instalado[[#This Row],[FLUXO]]<>\"\",ROUND(t_instalado[[#This Row],[FLUXO]]/t_instalado[[#This Row],[Luminárias]],0),\"\")","v":""},{"$f":"IF(t_instalado[[#This Row],[Luminárias]]<>\"\",ROUND(t_instalado[[#This Row],[lm_médio]]/t_instalado[[#This Row],[W_médio]],2),\"\")","v":""}]
[179,{"$f":"_xlfn.XLOOKUP(t_instalado[[#This Row],[cód.]],t_sitio[cód],t_sitio[Trecho],\"\")","v":""},null,null,null,null,null,null,null,null,null,null,{"$f":"t_instalado[[#This Row],[Q.1]]+t_instalado[[#This Row],[Q.2]]+t_instalado[[#This Row],[Q.3]]","v":0},{"$f":"t_instalado[[#This Row],[Q.1]]+t_instalado[[#This Row],[Q.2]]+t_instalado[[#This Row],[Q.3]]","v":0},{"$f":"IF(t_instalado[[#This Row],[Q.1]]<>\"\",SUMIFS(t_reator[p],t_reator[tipo],t_instalado[[#This Row],[T.1]],t_reator[w],t_instalado[[#This Row],[P.1(W)]]),\"\")","v":""},{"$f":"IF(t_instalado[[#This Row],[Q.2]]<>\"\",SUMIFS(t_reator[p],t_reator[tipo],t_instalado[[#This Row],[T.2]],t_reator[w],t_instalado[[#This Row],[P.2(W)]]),\"\")","v":""},{"$f":"IF(t_instalado[[#This Row],[Q.3]]<>\"\",SUMIFS(t_reator[p],t_reator[tipo],t_instalado[[#This Row],[T.3]],t_reator[w],t_instalado[[#This Row],[P.3(W)]]),\"\")","v":""},{"$f":"IF(t_instalado[[#This Row],[Q.1]]<>\"\",IFERROR(IFERROR(D413*(E413+O413)+G413*(H413+P413)+J413*(K413+Q413),D413*(E413+O413)+G413*(H413+P413)),D413*(E413+O413)),\"\")","v":""},{"$f":"IF(t_instalado[[#This Row],[Consumo_W]]<>\"\",ROUND(t_instalado[[#This Row],[Consumo_W]]/t_instalado[[#This Row],[Luminárias]],0),\"\")","v":""},{"$f":"IF(t_instalado[[#This Row],[Q.1]]<>\"\",SUMIFS(t_fluxo_lumin[fluxo],t_fluxo_lumin[tipo],t_instalado[[#This Row],[T.1]])*t_instalado[[#This Row],[P.1(W)]]*t_instalado[[#This Row],[Q.1]],\"\")","v":""},{"$f":"IF(t_instalado[[#This Row],[Q.2]]<>\"\",SUMIFS(t_fluxo_lumin[fluxo],t_fluxo_lumin[tipo],t_instalado[[#This Row],[T.2]])*t_instalado[[#This Row],[Q.2]]*t_instalado[[#This Row],[P.2(W)]],\"\")","v":""},{"$f":"IF(t_instalado[[#This Row],[Q.3]]<>\"\",SUMIFS(t_fluxo_lumin[fluxo],t_fluxo_lumin[tipo],t_instalado[[#This Row],[T.3]])*t_instalado[[#This Row],[Q.3]]*t_instalado[[#This Row],[P.3(W)]],\"\")","v":""},{"$f":"IF(t_instalado[[#This Row],[Trecho]]<>\"\",SUM(t_instalado[[#This Row],[f.1]:[f.3]]),\"\")","v":""},{"$f":"IF(t_instalado[[#This Row],[Trecho]]<>\"\",t_instalado[[#This Row],[Q.1]]+t_instalado[[#This Row],[Q.2]]+t_instalado[[#This Row],[Q.3]],\"\")","v":""},{"$f":"IF(t_instalado[[#This Row],[FLUXO]]<>\"\",ROUND(t_instalado[[#This Row],[FLUXO]]/t_instalado[[#This Row],[Luminárias]],0),\"\")","v":""},{"$f":"IF(t_instalado[[#This Row],[Luminárias]]<>\"\",ROUND(t_instalado[[#This Row],[lm_médio]]/t_instalado[[#This Row],[W_médio]],2),\"\")","v":""}]
[180,{"$f":"_xlfn.XLOOKUP(t_instalado[[#This Row],[cód.]],t_sitio[cód],t_sitio[Trecho],\"\")","v":""},null,null,null,null,null,null,null,null,null,null,{"$f":"t_instalado[[#This Row],[Q.1]]+t_instalado[[#This Row],[Q.2]]+t_instalado[[#This Row],[Q.3]]","v":0},{"$f":"t_instalado[[#This Row],[Q.1]]+t_instalado[[#This Row],[Q.2]]+t_instalado[[#This Row],[Q.3]]","v":0},{"$f":"IF(t_instalado[[#This Row],[Q.1]]<>\"\",SUMIFS(t_reator[p],t_reator[tipo],t_instalado[[#This Row],[T.1]],t_reator[w],t_instalado[[#This Row],[P.1(W)]]),\"\")","v":""},{"$f":"IF(t_instalado[[#This Row],[Q.2]]<>\"\",SUMIFS(t_reator[p],t_reator[tipo],t_instalado[[#This Row],[T.2]],t_reator[w],t_instalado[[#This Row],[P.2(W)]]),\"\")","v":""},{"$f":"IF(t_instalado[[#This Row],[Q.3]]<>\"\",SUMIFS(t_reator[p],t_reator[tipo],t_instalado[[#This Row],[T.3]],t_reator[w],t_instalado[[#This Row],[P.3(W)]]),\"\")","v":""},{"$f":"IF(t_instalado[[#This Row],[Q.1]]<>\"\",IFERROR(IFERROR(D414*(E414+O414)+G414*(H414+P414)+J414*(K414+Q414),D414*(E414+O414)+G414*(H414+P414)),D414*(E414+O414)),\"\")","v":""},{"$f":"IF(t_instalado[[#This Row],[Consumo_W]]<>\"\",ROUND(t_instalado[[#This Row],[Consumo_W]]/t_instalado[[#This Row],[Luminárias]],0),\"\")","v":""},{"$f":"IF(t_instalado[[#This Row],[Q.1]]<>\"\",SUMIFS(t_fluxo_lumin[fluxo],t_fluxo_lumin[tipo],t_instalado[[#This Row],[T.1]])*t_instalado[[#This Row],[P.1(W)]]*t_instalado[[#This Row],[Q.1]],\"\")","v":""},{"$f":"IF(t_instalado[[#This Row],[Q.2]]<>\"\",SUMIFS(t_fluxo_lumin[fluxo],t_fluxo_lumin[tipo],t_instalado[[#This Row],[T.2]])*t_instalado[[#This Row],[Q.2]]*t_instalado[[#This Row],[P.2(W)]],\"\")","v":""},{"$f":"IF(t_instalado[[#This Row],[Q.3]]<>\"\",SUMIFS(t_fluxo_lumin[fluxo],t_fluxo_lumin[tipo],t_instalado[[#This Row],[T.3]])*t_instalado[[#This Row],[Q.3]]*t_instalado[[#This Row],[P.3(W)]],\"\")","v":""},{"$f":"IF(t_instalado[[#This Row],[Trecho]]<>\"\",SUM(t_instalado[[#This Row],[f.1]:[f.3]]),\"\")","v":""},{"$f":"IF(t_instalado[[#This Row],[Trecho]]<>\"\",t_instalado[[#This Row],[Q.1]]+t_instalado[[#This Row],[Q.2]]+t_instalado[[#This Row],[Q.3]],\"\")","v":""},{"$f":"IF(t_instalado[[#This Row],[FLUXO]]<>\"\",ROUND(t_instalado[[#This Row],[FLUXO]]/t_instalado[[#This Row],[Luminárias]],0),\"\")","v":""},{"$f":"IF(t_instalado[[#This Row],[Luminárias]]<>\"\",ROUND(t_instalado[[#This Row],[lm_médio]]/t_instalado[[#This Row],[W_médio]],2),\"\")","v":""}]
[181,{"$f":"_xlfn.XLOOKUP(t_instalado[[#This Row],[cód.]],t_sitio[cód],t_sitio[Trecho],\"\")","v":""},null,null,null,null,null,null,null,null,null,null,{"$f":"t_instalado[[#This Row],[Q.1]]+t_instalado[[#This Row],[Q.2]]+t_instalado[[#This Row],[Q.3]]","v":0},{"$f":"t_instalado[[#This Row],[Q.1]]+t_instalado[[#This Row],[Q.2]]+t_instalado[[#This Row],[Q.3]]","v":0},{"$f":"IF(t_instalado[[#This Row],[Q.1]]<>\"\",SUMIFS(t_reator[p],t_reator[tipo],t_instalado[[#This Row],[T.1]],t_reator[w],t_instalado[[#This Row],[P.1(W)]]),\"\")","v":""},{"$f":"IF(t_instalado[[#This Row],[Q.2]]<>\"\",SUMIFS(t_reator[p],t_reator[tipo],t_instalado[[#This Row],[T.2]],t_reator[w],t_instalado[[#This Row],[P.2(W)]]),\"\")","v":""},{"$f":"IF(t_instalado[[#This Row],[Q.3]]<>\"\",SUMIFS(t_reator[p],t_reator[tipo],t_instalado[[#This Row],[T.3]],t_reator[w],t_instalado[[#This Row],[P.3(W)]]),\"\")","v":""},{"$f":"IF(t_instalado[[#This Row],[Q.1]]<>\"\",IFERROR(IFERROR(D415*(E415+O415)+G415*(H415+P415)+J415*(K415+Q415),D415*(E415+O415)+G415*(H415+P415)),D415*(E415+O415)),\"\")","v":""},{"$f":"IF(t_instalado[[#This Row],[Consumo_W]]<>\"\",ROUND(t_instalado[[#This Row],[Consumo_W]]/t_instalado[[#This Row],[Luminárias]],0),\"\")","v":""},{"$f":"IF(t_instalado[[#This Row],[Q.1]]<>\"\",SUMIFS(t_fluxo_lumin[fluxo],t_fluxo_lumin[tipo],t_instalado[[#This Row],[T.1]])*t_instalado[[#This Row],[P.1(W)]]*t_instalado[[#This Row],[Q.1]],\"\")","v":""},{"$f":"IF(t_instalado[[#This Row],[Q.2]]<>\"\",SUMIFS(t_fluxo_lumin[fluxo],t_fluxo_lumin[tipo],t_instalado[[#This Row],[T.2]])*t_instalado[[#This Row],[Q.2]]*t_instalado[[#This Row],[P.2(W)]],\"\")","v":""},{"$f":"IF(t_instalado[[#This Row],[Q.3]]<>\"\",SUMIFS(t_fluxo_lumin[fluxo],t_fluxo_lumin[tipo],t_instalado[[#This Row],[T.3]])*t_instalado[[#This Row],[Q.3]]*t_instalado[[#This Row],[P.3(W)]],\"\")","v":""},{"$f":"IF(t_instalado[[#This Row],[Trecho]]<>\"\",SUM(t_instalado[[#This Row],[f.1]:[f.3]]),\"\")","v":""},{"$f":"IF(t_instalado[[#This Row],[Trecho]]<>\"\",t_instalado[[#This Row],[Q.1]]+t_instalado[[#This Row],[Q.2]]+t_instalado[[#This Row],[Q.3]],\"\")","v":""},{"$f":"IF(t_instalado[[#This Row],[FLUXO]]<>\"\",ROUND(t_instalado[[#This Row],[FLUXO]]/t_instalado[[#This Row],[Luminárias]],0),\"\")","v":""},{"$f":"IF(t_instalado[[#This Row],[Luminárias]]<>\"\",ROUND(t_instalado[[#This Row],[lm_médio]]/t_instalado[[#This Row],[W_médio]],2),\"\")","v":""}]
[182,{"$f":"_xlfn.XLOOKUP(t_instalado[[#This Row],[cód.]],t_sitio[cód],t_sitio[Trecho],\"\")","v":""},null,null,null,null,null,null,null,null,null,null,{"$f":"t_instalado[[#This Row],[Q.1]]+t_instalado[[#This Row],[Q.2]]+t_instalado[[#This Row],[Q.3]]","v":0},{"$f":"t_instalado[[#This Row],[Q.1]]+t_instalado[[#This Row],[Q.2]]+t_instalado[[#This Row],[Q.3]]","v":0},{"$f":"IF(t_instalado[[#This Row],[Q.1]]<>\"\",SUMIFS(t_reator[p],t_reator[tipo],t_instalado[[#This Row],[T.1]],t_reator[w],t_instalado[[#This Row],[P.1(W)]]),\"\")","v":""},{"$f":"IF(t_instalado[[#This Row],[Q.2]]<>\"\",SUMIFS(t_reator[p],t_reator[tipo],t_instalado[[#This Row],[T.2]],t_reator[w],t_instalado[[#This Row],[P.2(W)]]),\"\")","v":""},{"$f":"IF(t_instalado[[#This Row],[Q.3]]<>\"\",SUMIFS(t_reator[p],t_reator[tipo],t_instalado[[#This Row],[T.3]],t_reator[w],t_instalado[[#This Row],[P.3(W)]]),\"\")","v":""},{"$f":"IF(t_instalado[[#This Row],[Q.1]]<>\"\",IFERROR(IFERROR(D416*(E416+O416)+G416*(H416+P416)+J416*(K416+Q416),D416*(E416+O416)+G416*(H416+P416)),D416*(E416+O416)),\"\")","v":""},{"$f":"IF(t_instalado[[#This Row],[Consumo_W]]<>\"\",ROUND(t_instalado[[#This Row],[Consumo_W]]/t_instalado[[#This Row],[Luminárias]],0),\"\")","v":""},{"$f":"IF(t_instalado[[#This Row],[Q.1]]<>\"\",SUMIFS(t_fluxo_lumin[fluxo],t_fluxo_lumin[tipo],t_instalado[[#This Row],[T.1]])*t_instalado[[#This Row],[P.1(W)]]*t_instalado[[#This Row],[Q.1]],\"\")","v":""},{"$f":"IF(t_instalado[[#This Row],[Q.2]]<>\"\",SUMIFS(t_fluxo_lumin[fluxo],t_fluxo_lumin[tipo],t_instalado[[#This Row],[T.2]])*t_instalado[[#This Row],[Q.2]]*t_instalado[[#This Row],[P.2(W)]],\"\")","v":""},{"$f":"IF(t_instalado[[#This Row],[Q.3]]<>\"\",SUMIFS(t_fluxo_lumin[fluxo],t_fluxo_lumin[tipo],t_instalado[[#This Row],[T.3]])*t_instalado[[#This Row],[Q.3]]*t_instalado[[#This Row],[P.3(W)]],\"\")","v":""},{"$f":"IF(t_instalado[[#This Row],[Trecho]]<>\"\",SUM(t_instalado[[#This Row],[f.1]:[f.3]]),\"\")","v":""},{"$f":"IF(t_instalado[[#This Row],[Trecho]]<>\"\",t_instalado[[#This Row],[Q.1]]+t_instalado[[#This Row],[Q.2]]+t_instalado[[#This Row],[Q.3]],\"\")","v":""},{"$f":"IF(t_instalado[[#This Row],[FLUXO]]<>\"\",ROUND(t_instalado[[#This Row],[FLUXO]]/t_instalado[[#This Row],[Luminárias]],0),\"\")","v":""},{"$f":"IF(t_instalado[[#This Row],[Luminárias]]<>\"\",ROUND(t_instalado[[#This Row],[lm_médio]]/t_instalado[[#This Row],[W_médio]],2),\"\")","v":""}]
[183,{"$f":"_xlfn.XLOOKUP(t_instalado[[#This Row],[cód.]],t_sitio[cód],t_sitio[Trecho],\"\")","v":""},null,null,null,null,null,null,null,null,null,null,{"$f":"t_instalado[[#This Row],[Q.1]]+t_instalado[[#This Row],[Q.2]]+t_instalado[[#This Row],[Q.3]]","v":0},{"$f":"t_instalado[[#This Row],[Q.1]]+t_instalado[[#This Row],[Q.2]]+t_instalado[[#This Row],[Q.3]]","v":0},{"$f":"IF(t_instalado[[#This Row],[Q.1]]<>\"\",SUMIFS(t_reator[p],t_reator[tipo],t_instalado[[#This Row],[T.1]],t_reator[w],t_instalado[[#This Row],[P.1(W)]]),\"\")","v":""},{"$f":"IF(t_instalado[[#This Row],[Q.2]]<>\"\",SUMIFS(t_reator[p],t_reator[tipo],t_instalado[[#This Row],[T.2]],t_reator[w],t_instalado[[#This Row],[P.2(W)]]),\"\")","v":""},{"$f":"IF(t_instalado[[#This Row],[Q.3]]<>\"\",SUMIFS(t_reator[p],t_reator[tipo],t_instalado[[#This Row],[T.3]],t_reator[w],t_instalado[[#This Row],[P.3(W)]]),\"\")","v":""},{"$f":"IF(t_instalado[[#This Row],[Q.1]]<>\"\",IFERROR(IFERROR(D417*(E417+O417)+G417*(H417+P417)+J417*(K417+Q417),D417*(E417+O417)+G417*(H417+P417)),D417*(E417+O417)),\"\")","v":""},{"$f":"IF(t_instalado[[#This Row],[Consumo_W]]<>\"\",ROUND(t_instalado[[#This Row],[Consumo_W]]/t_instalado[[#This Row],[Luminárias]],0),\"\")","v":""},{"$f":"IF(t_instalado[[#This Row],[Q.1]]<>\"\",SUMIFS(t_fluxo_lumin[fluxo],t_fluxo_lumin[tipo],t_instalado[[#This Row],[T.1]])*t_instalado[[#This Row],[P.1(W)]]*t_instalado[[#This Row],[Q.1]],\"\")","v":""},{"$f":"IF(t_instalado[[#This Row],[Q.2]]<>\"\",SUMIFS(t_fluxo_lumin[fluxo],t_fluxo_lumin[tipo],t_instalado[[#This Row],[T.2]])*t_instalado[[#This Row],[Q.2]]*t_instalado[[#This Row],[P.2(W)]],\"\")","v":""},{"$f":"IF(t_instalado[[#This Row],[Q.3]]<>\"\",SUMIFS(t_fluxo_lumin[fluxo],t_fluxo_lumin[tipo],t_instalado[[#This Row],[T.3]])*t_instalado[[#This Row],[Q.3]]*t_instalado[[#This Row],[P.3(W)]],\"\")","v":""},{"$f":"IF(t_instalado[[#This Row],[Trecho]]<>\"\",SUM(t_instalado[[#This Row],[f.1]:[f.3]]),\"\")","v":""},{"$f":"IF(t_instalado[[#This Row],[Trecho]]<>\"\",t_instalado[[#This Row],[Q.1]]+t_instalado[[#This Row],[Q.2]]+t_instalado[[#This Row],[Q.3]],\"\")","v":""},{"$f":"IF(t_instalado[[#This Row],[FLUXO]]<>\"\",ROUND(t_instalado[[#This Row],[FLUXO]]/t_instalado[[#This Row],[Luminárias]],0),\"\")","v":""},{"$f":"IF(t_instalado[[#This Row],[Luminárias]]<>\"\",ROUND(t_instalado[[#This Row],[lm_médio]]/t_instalado[[#This Row],[W_médio]],2),\"\")","v":""}]
[184,{"$f":"_xlfn.XLOOKUP(t_instalado[[#This Row],[cód.]],t_sitio[cód],t_sitio[Trecho],\"\")","v":""},null,null,null,null,null,null,null,null,null,null,{"$f":"t_instalado[[#This Row],[Q.1]]+t_instalado[[#This Row],[Q.2]]+t_instalado[[#This Row],[Q.3]]","v":0},{"$f":"t_instalado[[#This Row],[Q.1]]+t_instalado[[#This Row],[Q.2]]+t_instalado[[#This Row],[Q.3]]","v":0},{"$f":"IF(t_instalado[[#This Row],[Q.1]]<>\"\",SUMIFS(t_reator[p],t_reator[tipo],t_instalado[[#This Row],[T.1]],t_reator[w],t_instalado[[#This Row],[P.1(W)]]),\"\")","v":""},{"$f":"IF(t_instalado[[#This Row],[Q.2]]<>\"\",SUMIFS(t_reator[p],t_reator[tipo],t_instalado[[#This Row],[T.2]],t_reator[w],t_instalado[[#This Row],[P.2(W)]]),\"\")","v":""},{"$f":"IF(t_instalado[[#This Row],[Q.3]]<>\"\",SUMIFS(t_reator[p],t_reator[tipo],t_instalado[[#This Row],[T.3]],t_reator[w],t_instalado[[#This Row],[P.3(W)]]),\"\")","v":""},{"$f":"IF(t_instalado[[#This Row],[Q.1]]<>\"\",IFERROR(IFERROR(D418*(E418+O418)+G418*(H418+P418)+J418*(K418+Q418),D418*(E418+O418)+G418*(H418+P418)),D418*(E418+O418)),\"\")","v":""},{"$f":"IF(t_instalado[[#This Row],[Consumo_W]]<>\"\",ROUND(t_instalado[[#This Row],[Consumo_W]]/t_instalado[[#This Row],[Luminárias]],0),\"\")","v":""},{"$f":"IF(t_instalado[[#This Row],[Q.1]]<>\"\",SUMIFS(t_fluxo_lumin[fluxo],t_fluxo_lumin[tipo],t_instalado[[#This Row],[T.1]])*t_instalado[[#This Row],[P.1(W)]]*t_instalado[[#This Row],[Q.1]],\"\")","v":""},{"$f":"IF(t_instalado[[#This Row],[Q.2]]<>\"\",SUMIFS(t_fluxo_lumin[fluxo],t_fluxo_lumin[tipo],t_instalado[[#This Row],[T.2]])*t_instalado[[#This Row],[Q.2]]*t_instalado[[#This Row],[P.2(W)]],\"\")","v":""},{"$f":"IF(t_instalado[[#This Row],[Q.3]]<>\"\",SUMIFS(t_fluxo_lumin[fluxo],t_fluxo_lumin[tipo],t_instalado[[#This Row],[T.3]])*t_instalado[[#This Row],[Q.3]]*t_instalado[[#This Row],[P.3(W)]],\"\")","v":""},{"$f":"IF(t_instalado[[#This Row],[Trecho]]<>\"\",SUM(t_instalado[[#This Row],[f.1]:[f.3]]),\"\")","v":""},{"$f":"IF(t_instalado[[#This Row],[Trecho]]<>\"\",t_instalado[[#This Row],[Q.1]]+t_instalado[[#This Row],[Q.2]]+t_instalado[[#This Row],[Q.3]],\"\")","v":""},{"$f":"IF(t_instalado[[#This Row],[FLUXO]]<>\"\",ROUND(t_instalado[[#This Row],[FLUXO]]/t_instalado[[#This Row],[Luminárias]],0),\"\")","v":""},{"$f":"IF(t_instalado[[#This Row],[Luminárias]]<>\"\",ROUND(t_instalado[[#This Row],[lm_médio]]/t_instalado[[#This Row],[W_médio]],2),\"\")","v":""}]
[185,{"$f":"_xlfn.XLOOKUP(t_instalado[[#This Row],[cód.]],t_sitio[cód],t_sitio[Trecho],\"\")","v":""},null,null,null,null,null,null,null,null,null,null,{"$f":"t_instalado[[#This Row],[Q.1]]+t_instalado[[#This Row],[Q.2]]+t_instalado[[#This Row],[Q.3]]","v":0},{"$f":"t_instalado[[#This Row],[Q.1]]+t_instalado[[#This Row],[Q.2]]+t_instalado[[#This Row],[Q.3]]","v":0},{"$f":"IF(t_instalado[[#This Row],[Q.1]]<>\"\",SUMIFS(t_reator[p],t_reator[tipo],t_instalado[[#This Row],[T.1]],t_reator[w],t_instalado[[#This Row],[P.1(W)]]),\"\")","v":""},{"$f":"IF(t_instalado[[#This Row],[Q.2]]<>\"\",SUMIFS(t_reator[p],t_reator[tipo],t_instalado[[#This Row],[T.2]],t_reator[w],t_instalado[[#This Row],[P.2(W)]]),\"\")","v":""},{"$f":"IF(t_instalado[[#This Row],[Q.3]]<>\"\",SUMIFS(t_reator[p],t_reator[tipo],t_instalado[[#This Row],[T.3]],t_reator[w],t_instalado[[#This Row],[P.3(W)]]),\"\")","v":""},{"$f":"IF(t_instalado[[#This Row],[Q.1]]<>\"\",IFERROR(IFERROR(D419*(E419+O419)+G419*(H419+P419)+J419*(K419+Q419),D419*(E419+O419)+G419*(H419+P419)),D419*(E419+O419)),\"\")","v":""},{"$f":"IF(t_instalado[[#This Row],[Consumo_W]]<>\"\",ROUND(t_instalado[[#This Row],[Consumo_W]]/t_instalado[[#This Row],[Luminárias]],0),\"\")","v":""},{"$f":"IF(t_instalado[[#This Row],[Q.1]]<>\"\",SUMIFS(t_fluxo_lumin[fluxo],t_fluxo_lumin[tipo],t_instalado[[#This Row],[T.1]])*t_instalado[[#This Row],[P.1(W)]]*t_instalado[[#This Row],[Q.1]],\"\")","v":""},{"$f":"IF(t_instalado[[#This Row],[Q.2]]<>\"\",SUMIFS(t_fluxo_lumin[fluxo],t_fluxo_lumin[tipo],t_instalado[[#This Row],[T.2]])*t_instalado[[#This Row],[Q.2]]*t_instalado[[#This Row],[P.2(W)]],\"\")","v":""},{"$f":"IF(t_instalado[[#This Row],[Q.3]]<>\"\",SUMIFS(t_fluxo_lumin[fluxo],t_fluxo_lumin[tipo],t_instalado[[#This Row],[T.3]])*t_instalado[[#This Row],[Q.3]]*t_instalado[[#This Row],[P.3(W)]],\"\")","v":""},{"$f":"IF(t_instalado[[#This Row],[Trecho]]<>\"\",SUM(t_instalado[[#This Row],[f.1]:[f.3]]),\"\")","v":""},{"$f":"IF(t_instalado[[#This Row],[Trecho]]<>\"\",t_instalado[[#This Row],[Q.1]]+t_instalado[[#This Row],[Q.2]]+t_instalado[[#This Row],[Q.3]],\"\")","v":""},{"$f":"IF(t_instalado[[#This Row],[FLUXO]]<>\"\",ROUND(t_instalado[[#This Row],[FLUXO]]/t_instalado[[#This Row],[Luminárias]],0),\"\")","v":""},{"$f":"IF(t_instalado[[#This Row],[Luminárias]]<>\"\",ROUND(t_instalado[[#This Row],[lm_médio]]/t_instalado[[#This Row],[W_médio]],2),\"\")","v":""}]
[186,{"$f":"_xlfn.XLOOKUP(t_instalado[[#This Row],[cód.]],t_sitio[cód],t_sitio[Trecho],\"\")","v":""},null,null,null,null,null,null,null,null,null,null,{"$f":"t_instalado[[#This Row],[Q.1]]+t_instalado[[#This Row],[Q.2]]+t_instalado[[#This Row],[Q.3]]","v":0},{"$f":"t_instalado[[#This Row],[Q.1]]+t_instalado[[#This Row],[Q.2]]+t_instalado[[#This Row],[Q.3]]","v":0},{"$f":"IF(t_instalado[[#This Row],[Q.1]]<>\"\",SUMIFS(t_reator[p],t_reator[tipo],t_instalado[[#This Row],[T.1]],t_reator[w],t_instalado[[#This Row],[P.1(W)]]),\"\")","v":""},{"$f":"IF(t_instalado[[#This Row],[Q.2]]<>\"\",SUMIFS(t_reator[p],t_reator[tipo],t_instalado[[#This Row],[T.2]],t_reator[w],t_instalado[[#This Row],[P.2(W)]]),\"\")","v":""},{"$f":"IF(t_instalado[[#This Row],[Q.3]]<>\"\",SUMIFS(t_reator[p],t_reator[tipo],t_instalado[[#This Row],[T.3]],t_reator[w],t_instalado[[#This Row],[P.3(W)]]),\"\")","v":""},{"$f":"IF(t_instalado[[#This Row],[Q.1]]<>\"\",IFERROR(IFERROR(D420*(E420+O420)+G420*(H420+P420)+J420*(K420+Q420),D420*(E420+O420)+G420*(H420+P420)),D420*(E420+O420)),\"\")","v":""},{"$f":"IF(t_instalado[[#This Row],[Consumo_W]]<>\"\",ROUND(t_instalado[[#This Row],[Consumo_W]]/t_instalado[[#This Row],[Luminárias]],0),\"\")","v":""},{"$f":"IF(t_instalado[[#This Row],[Q.1]]<>\"\",SUMIFS(t_fluxo_lumin[fluxo],t_fluxo_lumin[tipo],t_instalado[[#This Row],[T.1]])*t_instalado[[#This Row],[P.1(W)]]*t_instalado[[#This Row],[Q.1]],\"\")","v":""},{"$f":"IF(t_instalado[[#This Row],[Q.2]]<>\"\",SUMIFS(t_fluxo_lumin[fluxo],t_fluxo_lumin[tipo],t_instalado[[#This Row],[T.2]])*t_instalado[[#This Row],[Q.2]]*t_instalado[[#This Row],[P.2(W)]],\"\")","v":""},{"$f":"IF(t_instalado[[#This Row],[Q.3]]<>\"\",SUMIFS(t_fluxo_lumin[fluxo],t_fluxo_lumin[tipo],t_instalado[[#This Row],[T.3]])*t_instalado[[#This Row],[Q.3]]*t_instalado[[#This Row],[P.3(W)]],\"\")","v":""},{"$f":"IF(t_instalado[[#This Row],[Trecho]]<>\"\",SUM(t_instalado[[#This Row],[f.1]:[f.3]]),\"\")","v":""},{"$f":"IF(t_instalado[[#This Row],[Trecho]]<>\"\",t_instalado[[#This Row],[Q.1]]+t_instalado[[#This Row],[Q.2]]+t_instalado[[#This Row],[Q.3]],\"\")","v":""},{"$f":"IF(t_instalado[[#This Row],[FLUXO]]<>\"\",ROUND(t_instalado[[#This Row],[FLUXO]]/t_instalado[[#This Row],[Luminárias]],0),\"\")","v":""},{"$f":"IF(t_instalado[[#This Row],[Luminárias]]<>\"\",ROUND(t_instalado[[#This Row],[lm_médio]]/t_instalado[[#This Row],[W_médio]],2),\"\")","v":""}]
[187,{"$f":"_xlfn.XLOOKUP(t_instalado[[#This Row],[cód.]],t_sitio[cód],t_sitio[Trecho],\"\")","v":""},null,null,null,null,null,null,null,null,null,null,{"$f":"t_instalado[[#This Row],[Q.1]]+t_instalado[[#This Row],[Q.2]]+t_instalado[[#This Row],[Q.3]]","v":0},{"$f":"t_instalado[[#This Row],[Q.1]]+t_instalado[[#This Row],[Q.2]]+t_instalado[[#This Row],[Q.3]]","v":0},{"$f":"IF(t_instalado[[#This Row],[Q.1]]<>\"\",SUMIFS(t_reator[p],t_reator[tipo],t_instalado[[#This Row],[T.1]],t_reator[w],t_instalado[[#This Row],[P.1(W)]]),\"\")","v":""},{"$f":"IF(t_instalado[[#This Row],[Q.2]]<>\"\",SUMIFS(t_reator[p],t_reator[tipo],t_instalado[[#This Row],[T.2]],t_reator[w],t_instalado[[#This Row],[P.2(W)]]),\"\")","v":""},{"$f":"IF(t_instalado[[#This Row],[Q.3]]<>\"\",SUMIFS(t_reator[p],t_reator[tipo],t_instalado[[#This Row],[T.3]],t_reator[w],t_instalado[[#This Row],[P.3(W)]]),\"\")","v":""},{"$f":"IF(t_instalado[[#This Row],[Q.1]]<>\"\",IFERROR(IFERROR(D421*(E421+O421)+G421*(H421+P421)+J421*(K421+Q421),D421*(E421+O421)+G421*(H421+P421)),D421*(E421+O421)),\"\")","v":""},{"$f":"IF(t_instalado[[#This Row],[Consumo_W]]<>\"\",ROUND(t_instalado[[#This Row],[Consumo_W]]/t_instalado[[#This Row],[Luminárias]],0),\"\")","v":""},{"$f":"IF(t_instalado[[#This Row],[Q.1]]<>\"\",SUMIFS(t_fluxo_lumin[fluxo],t_fluxo_lumin[tipo],t_instalado[[#This Row],[T.1]])*t_instalado[[#This Row],[P.1(W)]]*t_instalado[[#This Row],[Q.1]],\"\")","v":""},{"$f":"IF(t_instalado[[#This Row],[Q.2]]<>\"\",SUMIFS(t_fluxo_lumin[fluxo],t_fluxo_lumin[tipo],t_instalado[[#This Row],[T.2]])*t_instalado[[#This Row],[Q.2]]*t_instalado[[#This Row],[P.2(W)]],\"\")","v":""},{"$f":"IF(t_instalado[[#This Row],[Q.3]]<>\"\",SUMIFS(t_fluxo_lumin[fluxo],t_fluxo_lumin[tipo],t_instalado[[#This Row],[T.3]])*t_instalado[[#This Row],[Q.3]]*t_instalado[[#This Row],[P.3(W)]],\"\")","v":""},{"$f":"IF(t_instalado[[#This Row],[Trecho]]<>\"\",SUM(t_instalado[[#This Row],[f.1]:[f.3]]),\"\")","v":""},{"$f":"IF(t_instalado[[#This Row],[Trecho]]<>\"\",t_instalado[[#This Row],[Q.1]]+t_instalado[[#This Row],[Q.2]]+t_instalado[[#This Row],[Q.3]],\"\")","v":""},{"$f":"IF(t_instalado[[#This Row],[FLUXO]]<>\"\",ROUND(t_instalado[[#This Row],[FLUXO]]/t_instalado[[#This Row],[Luminárias]],0),\"\")","v":""},{"$f":"IF(t_instalado[[#This Row],[Luminárias]]<>\"\",ROUND(t_instalado[[#This Row],[lm_médio]]/t_instalado[[#This Row],[W_médio]],2),\"\")","v":""}]
[188,{"$f":"_xlfn.XLOOKUP(t_instalado[[#This Row],[cód.]],t_sitio[cód],t_sitio[Trecho],\"\")","v":""},null,null,null,null,null,null,null,null,null,null,{"$f":"t_instalado[[#This Row],[Q.1]]+t_instalado[[#This Row],[Q.2]]+t_instalado[[#This Row],[Q.3]]","v":0},{"$f":"t_instalado[[#This Row],[Q.1]]+t_instalado[[#This Row],[Q.2]]+t_instalado[[#This Row],[Q.3]]","v":0},{"$f":"IF(t_instalado[[#This Row],[Q.1]]<>\"\",SUMIFS(t_reator[p],t_reator[tipo],t_instalado[[#This Row],[T.1]],t_reator[w],t_instalado[[#This Row],[P.1(W)]]),\"\")","v":""},{"$f":"IF(t_instalado[[#This Row],[Q.2]]<>\"\",SUMIFS(t_reator[p],t_reator[tipo],t_instalado[[#This Row],[T.2]],t_reator[w],t_instalado[[#This Row],[P.2(W)]]),\"\")","v":""},{"$f":"IF(t_instalado[[#This Row],[Q.3]]<>\"\",SUMIFS(t_reator[p],t_reator[tipo],t_instalado[[#This Row],[T.3]],t_reator[w],t_instalado[[#This Row],[P.3(W)]]),\"\")","v":""},{"$f":"IF(t_instalado[[#This Row],[Q.1]]<>\"\",IFERROR(IFERROR(D422*(E422+O422)+G422*(H422+P422)+J422*(K422+Q422),D422*(E422+O422)+G422*(H422+P422)),D422*(E422+O422)),\"\")","v":""},{"$f":"IF(t_instalado[[#This Row],[Consumo_W]]<>\"\",ROUND(t_instalado[[#This Row],[Consumo_W]]/t_instalado[[#This Row],[Luminárias]],0),\"\")","v":""},{"$f":"IF(t_instalado[[#This Row],[Q.1]]<>\"\",SUMIFS(t_fluxo_lumin[fluxo],t_fluxo_lumin[tipo],t_instalado[[#This Row],[T.1]])*t_instalado[[#This Row],[P.1(W)]]*t_instalado[[#This Row],[Q.1]],\"\")","v":""},{"$f":"IF(t_instalado[[#This Row],[Q.2]]<>\"\",SUMIFS(t_fluxo_lumin[fluxo],t_fluxo_lumin[tipo],t_instalado[[#This Row],[T.2]])*t_instalado[[#This Row],[Q.2]]*t_instalado[[#This Row],[P.2(W)]],\"\")","v":""},{"$f":"IF(t_instalado[[#This Row],[Q.3]]<>\"\",SUMIFS(t_fluxo_lumin[fluxo],t_fluxo_lumin[tipo],t_instalado[[#This Row],[T.3]])*t_instalado[[#This Row],[Q.3]]*t_instalado[[#This Row],[P.3(W)]],\"\")","v":""},{"$f":"IF(t_instalado[[#This Row],[Trecho]]<>\"\",SUM(t_instalado[[#This Row],[f.1]:[f.3]]),\"\")","v":""},{"$f":"IF(t_instalado[[#This Row],[Trecho]]<>\"\",t_instalado[[#This Row],[Q.1]]+t_instalado[[#This Row],[Q.2]]+t_instalado[[#This Row],[Q.3]],\"\")","v":""},{"$f":"IF(t_instalado[[#This Row],[FLUXO]]<>\"\",ROUND(t_instalado[[#This Row],[FLUXO]]/t_instalado[[#This Row],[Luminárias]],0),\"\")","v":""},{"$f":"IF(t_instalado[[#This Row],[Luminárias]]<>\"\",ROUND(t_instalado[[#This Row],[lm_médio]]/t_instalado[[#This Row],[W_médio]],2),\"\")","v":""}]
[189,{"$f":"_xlfn.XLOOKUP(t_instalado[[#This Row],[cód.]],t_sitio[cód],t_sitio[Trecho],\"\")","v":""},null,null,null,null,null,null,null,null,null,null,{"$f":"t_instalado[[#This Row],[Q.1]]+t_instalado[[#This Row],[Q.2]]+t_instalado[[#This Row],[Q.3]]","v":0},{"$f":"t_instalado[[#This Row],[Q.1]]+t_instalado[[#This Row],[Q.2]]+t_instalado[[#This Row],[Q.3]]","v":0},{"$f":"IF(t_instalado[[#This Row],[Q.1]]<>\"\",SUMIFS(t_reator[p],t_reator[tipo],t_instalado[[#This Row],[T.1]],t_reator[w],t_instalado[[#This Row],[P.1(W)]]),\"\")","v":""},{"$f":"IF(t_instalado[[#This Row],[Q.2]]<>\"\",SUMIFS(t_reator[p],t_reator[tipo],t_instalado[[#This Row],[T.2]],t_reator[w],t_instalado[[#This Row],[P.2(W)]]),\"\")","v":""},{"$f":"IF(t_instalado[[#This Row],[Q.3]]<>\"\",SUMIFS(t_reator[p],t_reator[tipo],t_instalado[[#This Row],[T.3]],t_reator[w],t_instalado[[#This Row],[P.3(W)]]),\"\")","v":""},{"$f":"IF(t_instalado[[#This Row],[Q.1]]<>\"\",IFERROR(IFERROR(D423*(E423+O423)+G423*(H423+P423)+J423*(K423+Q423),D423*(E423+O423)+G423*(H423+P423)),D423*(E423+O423)),\"\")","v":""},{"$f":"IF(t_instalado[[#This Row],[Consumo_W]]<>\"\",ROUND(t_instalado[[#This Row],[Consumo_W]]/t_instalado[[#This Row],[Luminárias]],0),\"\")","v":""},{"$f":"IF(t_instalado[[#This Row],[Q.1]]<>\"\",SUMIFS(t_fluxo_lumin[fluxo],t_fluxo_lumin[tipo],t_instalado[[#This Row],[T.1]])*t_instalado[[#This Row],[P.1(W)]]*t_instalado[[#This Row],[Q.1]],\"\")","v":""},{"$f":"IF(t_instalado[[#This Row],[Q.2]]<>\"\",SUMIFS(t_fluxo_lumin[fluxo],t_fluxo_lumin[tipo],t_instalado[[#This Row],[T.2]])*t_instalado[[#This Row],[Q.2]]*t_instalado[[#This Row],[P.2(W)]],\"\")","v":""},{"$f":"IF(t_instalado[[#This Row],[Q.3]]<>\"\",SUMIFS(t_fluxo_lumin[fluxo],t_fluxo_lumin[tipo],t_instalado[[#This Row],[T.3]])*t_instalado[[#This Row],[Q.3]]*t_instalado[[#This Row],[P.3(W)]],\"\")","v":""},{"$f":"IF(t_instalado[[#This Row],[Trecho]]<>\"\",SUM(t_instalado[[#This Row],[f.1]:[f.3]]),\"\")","v":""},{"$f":"IF(t_instalado[[#This Row],[Trecho]]<>\"\",t_instalado[[#This Row],[Q.1]]+t_instalado[[#This Row],[Q.2]]+t_instalado[[#This Row],[Q.3]],\"\")","v":""},{"$f":"IF(t_instalado[[#This Row],[FLUXO]]<>\"\",ROUND(t_instalado[[#This Row],[FLUXO]]/t_instalado[[#This Row],[Luminárias]],0),\"\")","v":""},{"$f":"IF(t_instalado[[#This Row],[Luminárias]]<>\"\",ROUND(t_instalado[[#This Row],[lm_médio]]/t_instalado[[#This Row],[W_médio]],2),\"\")","v":""}]
[190,{"$f":"_xlfn.XLOOKUP(t_instalado[[#This Row],[cód.]],t_sitio[cód],t_sitio[Trecho],\"\")","v":""},null,null,null,null,null,null,null,null,null,null,{"$f":"t_instalado[[#This Row],[Q.1]]+t_instalado[[#This Row],[Q.2]]+t_instalado[[#This Row],[Q.3]]","v":0},{"$f":"t_instalado[[#This Row],[Q.1]]+t_instalado[[#This Row],[Q.2]]+t_instalado[[#This Row],[Q.3]]","v":0},{"$f":"IF(t_instalado[[#This Row],[Q.1]]<>\"\",SUMIFS(t_reator[p],t_reator[tipo],t_instalado[[#This Row],[T.1]],t_reator[w],t_instalado[[#This Row],[P.1(W)]]),\"\")","v":""},{"$f":"IF(t_instalado[[#This Row],[Q.2]]<>\"\",SUMIFS(t_reator[p],t_reator[tipo],t_instalado[[#This Row],[T.2]],t_reator[w],t_instalado[[#This Row],[P.2(W)]]),\"\")","v":""},{"$f":"IF(t_instalado[[#This Row],[Q.3]]<>\"\",SUMIFS(t_reator[p],t_reator[tipo],t_instalado[[#This Row],[T.3]],t_reator[w],t_instalado[[#This Row],[P.3(W)]]),\"\")","v":""},{"$f":"IF(t_instalado[[#This Row],[Q.1]]<>\"\",IFERROR(IFERROR(D424*(E424+O424)+G424*(H424+P424)+J424*(K424+Q424),D424*(E424+O424)+G424*(H424+P424)),D424*(E424+O424)),\"\")","v":""},{"$f":"IF(t_instalado[[#This Row],[Consumo_W]]<>\"\",ROUND(t_instalado[[#This Row],[Consumo_W]]/t_instalado[[#This Row],[Luminárias]],0),\"\")","v":""},{"$f":"IF(t_instalado[[#This Row],[Q.1]]<>\"\",SUMIFS(t_fluxo_lumin[fluxo],t_fluxo_lumin[tipo],t_instalado[[#This Row],[T.1]])*t_instalado[[#This Row],[P.1(W)]]*t_instalado[[#This Row],[Q.1]],\"\")","v":""},{"$f":"IF(t_instalado[[#This Row],[Q.2]]<>\"\",SUMIFS(t_fluxo_lumin[fluxo],t_fluxo_lumin[tipo],t_instalado[[#This Row],[T.2]])*t_instalado[[#This Row],[Q.2]]*t_instalado[[#This Row],[P.2(W)]],\"\")","v":""},{"$f":"IF(t_instalado[[#This Row],[Q.3]]<>\"\",SUMIFS(t_fluxo_lumin[fluxo],t_fluxo_lumin[tipo],t_instalado[[#This Row],[T.3]])*t_instalado[[#This Row],[Q.3]]*t_instalado[[#This Row],[P.3(W)]],\"\")","v":""},{"$f":"IF(t_instalado[[#This Row],[Trecho]]<>\"\",SUM(t_instalado[[#This Row],[f.1]:[f.3]]),\"\")","v":""},{"$f":"IF(t_instalado[[#This Row],[Trecho]]<>\"\",t_instalado[[#This Row],[Q.1]]+t_instalado[[#This Row],[Q.2]]+t_instalado[[#This Row],[Q.3]],\"\")","v":""},{"$f":"IF(t_instalado[[#This Row],[FLUXO]]<>\"\",ROUND(t_instalado[[#This Row],[FLUXO]]/t_instalado[[#This Row],[Luminárias]],0),\"\")","v":""},{"$f":"IF(t_instalado[[#This Row],[Luminárias]]<>\"\",ROUND(t_instalado[[#This Row],[lm_médio]]/t_instalado[[#This Row],[W_médio]],2),\"\")","v":""}]
[191,{"$f":"_xlfn.XLOOKUP(t_instalado[[#This Row],[cód.]],t_sitio[cód],t_sitio[Trecho],\"\")","v":""},null,null,null,null,null,null,null,null,null,null,{"$f":"t_instalado[[#This Row],[Q.1]]+t_instalado[[#This Row],[Q.2]]+t_instalado[[#This Row],[Q.3]]","v":0},{"$f":"t_instalado[[#This Row],[Q.1]]+t_instalado[[#This Row],[Q.2]]+t_instalado[[#This Row],[Q.3]]","v":0},{"$f":"IF(t_instalado[[#This Row],[Q.1]]<>\"\",SUMIFS(t_reator[p],t_reator[tipo],t_instalado[[#This Row],[T.1]],t_reator[w],t_instalado[[#This Row],[P.1(W)]]),\"\")","v":""},{"$f":"IF(t_instalado[[#This Row],[Q.2]]<>\"\",SUMIFS(t_reator[p],t_reator[tipo],t_instalado[[#This Row],[T.2]],t_reator[w],t_instalado[[#This Row],[P.2(W)]]),\"\")","v":""},{"$f":"IF(t_instalado[[#This Row],[Q.3]]<>\"\",SUMIFS(t_reator[p],t_reator[tipo],t_instalado[[#This Row],[T.3]],t_reator[w],t_instalado[[#This Row],[P.3(W)]]),\"\")","v":""},{"$f":"IF(t_instalado[[#This Row],[Q.1]]<>\"\",IFERROR(IFERROR(D425*(E425+O425)+G425*(H425+P425)+J425*(K425+Q425),D425*(E425+O425)+G425*(H425+P425)),D425*(E425+O425)),\"\")","v":""},{"$f":"IF(t_instalado[[#This Row],[Consumo_W]]<>\"\",ROUND(t_instalado[[#This Row],[Consumo_W]]/t_instalado[[#This Row],[Luminárias]],0),\"\")","v":""},{"$f":"IF(t_instalado[[#This Row],[Q.1]]<>\"\",SUMIFS(t_fluxo_lumin[fluxo],t_fluxo_lumin[tipo],t_instalado[[#This Row],[T.1]])*t_instalado[[#This Row],[P.1(W)]]*t_instalado[[#This Row],[Q.1]],\"\")","v":""},{"$f":"IF(t_instalado[[#This Row],[Q.2]]<>\"\",SUMIFS(t_fluxo_lumin[fluxo],t_fluxo_lumin[tipo],t_instalado[[#This Row],[T.2]])*t_instalado[[#This Row],[Q.2]]*t_instalado[[#This Row],[P.2(W)]],\"\")","v":""},{"$f":"IF(t_instalado[[#This Row],[Q.3]]<>\"\",SUMIFS(t_fluxo_lumin[fluxo],t_fluxo_lumin[tipo],t_instalado[[#This Row],[T.3]])*t_instalado[[#This Row],[Q.3]]*t_instalado[[#This Row],[P.3(W)]],\"\")","v":""},{"$f":"IF(t_instalado[[#This Row],[Trecho]]<>\"\",SUM(t_instalado[[#This Row],[f.1]:[f.3]]),\"\")","v":""},{"$f":"IF(t_instalado[[#This Row],[Trecho]]<>\"\",t_instalado[[#This Row],[Q.1]]+t_instalado[[#This Row],[Q.2]]+t_instalado[[#This Row],[Q.3]],\"\")","v":""},{"$f":"IF(t_instalado[[#This Row],[FLUXO]]<>\"\",ROUND(t_instalado[[#This Row],[FLUXO]]/t_instalado[[#This Row],[Luminárias]],0),\"\")","v":""},{"$f":"IF(t_instalado[[#This Row],[Luminárias]]<>\"\",ROUND(t_instalado[[#This Row],[lm_médio]]/t_instalado[[#This Row],[W_médio]],2),\"\")","v":""}]
[192,{"$f":"_xlfn.XLOOKUP(t_instalado[[#This Row],[cód.]],t_sitio[cód],t_sitio[Trecho],\"\")","v":""},null,null,null,null,null,null,null,null,null,null,{"$f":"t_instalado[[#This Row],[Q.1]]+t_instalado[[#This Row],[Q.2]]+t_instalado[[#This Row],[Q.3]]","v":0},{"$f":"t_instalado[[#This Row],[Q.1]]+t_instalado[[#This Row],[Q.2]]+t_instalado[[#This Row],[Q.3]]","v":0},{"$f":"IF(t_instalado[[#This Row],[Q.1]]<>\"\",SUMIFS(t_reator[p],t_reator[tipo],t_instalado[[#This Row],[T.1]],t_reator[w],t_instalado[[#This Row],[P.1(W)]]),\"\")","v":""},{"$f":"IF(t_instalado[[#This Row],[Q.2]]<>\"\",SUMIFS(t_reator[p],t_reator[tipo],t_instalado[[#This Row],[T.2]],t_reator[w],t_instalado[[#This Row],[P.2(W)]]),\"\")","v":""},{"$f":"IF(t_instalado[[#This Row],[Q.3]]<>\"\",SUMIFS(t_reator[p],t_reator[tipo],t_instalado[[#This Row],[T.3]],t_reator[w],t_instalado[[#This Row],[P.3(W)]]),\"\")","v":""},{"$f":"IF(t_instalado[[#This Row],[Q.1]]<>\"\",IFERROR(IFERROR(D426*(E426+O426)+G426*(H426+P426)+J426*(K426+Q426),D426*(E426+O426)+G426*(H426+P426)),D426*(E426+O426)),\"\")","v":""},{"$f":"IF(t_instalado[[#This Row],[Consumo_W]]<>\"\",ROUND(t_instalado[[#This Row],[Consumo_W]]/t_instalado[[#This Row],[Luminárias]],0),\"\")","v":""},{"$f":"IF(t_instalado[[#This Row],[Q.1]]<>\"\",SUMIFS(t_fluxo_lumin[fluxo],t_fluxo_lumin[tipo],t_instalado[[#This Row],[T.1]])*t_instalado[[#This Row],[P.1(W)]]*t_instalado[[#This Row],[Q.1]],\"\")","v":""},{"$f":"IF(t_instalado[[#This Row],[Q.2]]<>\"\",SUMIFS(t_fluxo_lumin[fluxo],t_fluxo_lumin[tipo],t_instalado[[#This Row],[T.2]])*t_instalado[[#This Row],[Q.2]]*t_instalado[[#This Row],[P.2(W)]],\"\")","v":""},{"$f":"IF(t_instalado[[#This Row],[Q.3]]<>\"\",SUMIFS(t_fluxo_lumin[fluxo],t_fluxo_lumin[tipo],t_instalado[[#This Row],[T.3]])*t_instalado[[#This Row],[Q.3]]*t_instalado[[#This Row],[P.3(W)]],\"\")","v":""},{"$f":"IF(t_instalado[[#This Row],[Trecho]]<>\"\",SUM(t_instalado[[#This Row],[f.1]:[f.3]]),\"\")","v":""},{"$f":"IF(t_instalado[[#This Row],[Trecho]]<>\"\",t_instalado[[#This Row],[Q.1]]+t_instalado[[#This Row],[Q.2]]+t_instalado[[#This Row],[Q.3]],\"\")","v":""},{"$f":"IF(t_instalado[[#This Row],[FLUXO]]<>\"\",ROUND(t_instalado[[#This Row],[FLUXO]]/t_instalado[[#This Row],[Luminárias]],0),\"\")","v":""},{"$f":"IF(t_instalado[[#This Row],[Luminárias]]<>\"\",ROUND(t_instalado[[#This Row],[lm_médio]]/t_instalado[[#This Row],[W_médio]],2),\"\")","v":""}]
[193,{"$f":"_xlfn.XLOOKUP(t_instalado[[#This Row],[cód.]],t_sitio[cód],t_sitio[Trecho],\"\")","v":""},null,null,null,null,null,null,null,null,null,null,{"$f":"t_instalado[[#This Row],[Q.1]]+t_instalado[[#This Row],[Q.2]]+t_instalado[[#This Row],[Q.3]]","v":0},{"$f":"t_instalado[[#This Row],[Q.1]]+t_instalado[[#This Row],[Q.2]]+t_instalado[[#This Row],[Q.3]]","v":0},{"$f":"IF(t_instalado[[#This Row],[Q.1]]<>\"\",SUMIFS(t_reator[p],t_reator[tipo],t_instalado[[#This Row],[T.1]],t_reator[w],t_instalado[[#This Row],[P.1(W)]]),\"\")","v":""},{"$f":"IF(t_instalado[[#This Row],[Q.2]]<>\"\",SUMIFS(t_reator[p],t_reator[tipo],t_instalado[[#This Row],[T.2]],t_reator[w],t_instalado[[#This Row],[P.2(W)]]),\"\")","v":""},{"$f":"IF(t_instalado[[#This Row],[Q.3]]<>\"\",SUMIFS(t_reator[p],t_reator[tipo],t_instalado[[#This Row],[T.3]],t_reator[w],t_instalado[[#This Row],[P.3(W)]]),\"\")","v":""},{"$f":"IF(t_instalado[[#This Row],[Q.1]]<>\"\",IFERROR(IFERROR(D427*(E427+O427)+G427*(H427+P427)+J427*(K427+Q427),D427*(E427+O427)+G427*(H427+P427)),D427*(E427+O427)),\"\")","v":""},{"$f":"IF(t_instalado[[#This Row],[Consumo_W]]<>\"\",ROUND(t_instalado[[#This Row],[Consumo_W]]/t_instalado[[#This Row],[Luminárias]],0),\"\")","v":""},{"$f":"IF(t_instalado[[#This Row],[Q.1]]<>\"\",SUMIFS(t_fluxo_lumin[fluxo],t_fluxo_lumin[tipo],t_instalado[[#This Row],[T.1]])*t_instalado[[#This Row],[P.1(W)]]*t_instalado[[#This Row],[Q.1]],\"\")","v":""},{"$f":"IF(t_instalado[[#This Row],[Q.2]]<>\"\",SUMIFS(t_fluxo_lumin[fluxo],t_fluxo_lumin[tipo],t_instalado[[#This Row],[T.2]])*t_instalado[[#This Row],[Q.2]]*t_instalado[[#This Row],[P.2(W)]],\"\")","v":""},{"$f":"IF(t_instalado[[#This Row],[Q.3]]<>\"\",SUMIFS(t_fluxo_lumin[fluxo],t_fluxo_lumin[tipo],t_instalado[[#This Row],[T.3]])*t_instalado[[#This Row],[Q.3]]*t_instalado[[#This Row],[P.3(W)]],\"\")","v":""},{"$f":"IF(t_instalado[[#This Row],[Trecho]]<>\"\",SUM(t_instalado[[#This Row],[f.1]:[f.3]]),\"\")","v":""},{"$f":"IF(t_instalado[[#This Row],[Trecho]]<>\"\",t_instalado[[#This Row],[Q.1]]+t_instalado[[#This Row],[Q.2]]+t_instalado[[#This Row],[Q.3]],\"\")","v":""},{"$f":"IF(t_instalado[[#This Row],[FLUXO]]<>\"\",ROUND(t_instalado[[#This Row],[FLUXO]]/t_instalado[[#This Row],[Luminárias]],0),\"\")","v":""},{"$f":"IF(t_instalado[[#This Row],[Luminárias]]<>\"\",ROUND(t_instalado[[#This Row],[lm_médio]]/t_instalado[[#This Row],[W_médio]],2),\"\")","v":""}]
[194,{"$f":"_xlfn.XLOOKUP(t_instalado[[#This Row],[cód.]],t_sitio[cód],t_sitio[Trecho],\"\")","v":""},null,null,null,null,null,null,null,null,null,null,{"$f":"t_instalado[[#This Row],[Q.1]]+t_instalado[[#This Row],[Q.2]]+t_instalado[[#This Row],[Q.3]]","v":0},{"$f":"t_instalado[[#This Row],[Q.1]]+t_instalado[[#This Row],[Q.2]]+t_instalado[[#This Row],[Q.3]]","v":0},{"$f":"IF(t_instalado[[#This Row],[Q.1]]<>\"\",SUMIFS(t_reator[p],t_reator[tipo],t_instalado[[#This Row],[T.1]],t_reator[w],t_instalado[[#This Row],[P.1(W)]]),\"\")","v":""},{"$f":"IF(t_instalado[[#This Row],[Q.2]]<>\"\",SUMIFS(t_reator[p],t_reator[tipo],t_instalado[[#This Row],[T.2]],t_reator[w],t_instalado[[#This Row],[P.2(W)]]),\"\")","v":""},{"$f":"IF(t_instalado[[#This Row],[Q.3]]<>\"\",SUMIFS(t_reator[p],t_reator[tipo],t_instalado[[#This Row],[T.3]],t_reator[w],t_instalado[[#This Row],[P.3(W)]]),\"\")","v":""},{"$f":"IF(t_instalado[[#This Row],[Q.1]]<>\"\",IFERROR(IFERROR(D428*(E428+O428)+G428*(H428+P428)+J428*(K428+Q428),D428*(E428+O428)+G428*(H428+P428)),D428*(E428+O428)),\"\")","v":""},{"$f":"IF(t_instalado[[#This Row],[Consumo_W]]<>\"\",ROUND(t_instalado[[#This Row],[Consumo_W]]/t_instalado[[#This Row],[Luminárias]],0),\"\")","v":""},{"$f":"IF(t_instalado[[#This Row],[Q.1]]<>\"\",SUMIFS(t_fluxo_lumin[fluxo],t_fluxo_lumin[tipo],t_instalado[[#This Row],[T.1]])*t_instalado[[#This Row],[P.1(W)]]*t_instalado[[#This Row],[Q.1]],\"\")","v":""},{"$f":"IF(t_instalado[[#This Row],[Q.2]]<>\"\",SUMIFS(t_fluxo_lumin[fluxo],t_fluxo_lumin[tipo],t_instalado[[#This Row],[T.2]])*t_instalado[[#This Row],[Q.2]]*t_instalado[[#This Row],[P.2(W)]],\"\")","v":""},{"$f":"IF(t_instalado[[#This Row],[Q.3]]<>\"\",SUMIFS(t_fluxo_lumin[fluxo],t_fluxo_lumin[tipo],t_instalado[[#This Row],[T.3]])*t_instalado[[#This Row],[Q.3]]*t_instalado[[#This Row],[P.3(W)]],\"\")","v":""},{"$f":"IF(t_instalado[[#This Row],[Trecho]]<>\"\",SUM(t_instalado[[#This Row],[f.1]:[f.3]]),\"\")","v":""},{"$f":"IF(t_instalado[[#This Row],[Trecho]]<>\"\",t_instalado[[#This Row],[Q.1]]+t_instalado[[#This Row],[Q.2]]+t_instalado[[#This Row],[Q.3]],\"\")","v":""},{"$f":"IF(t_instalado[[#This Row],[FLUXO]]<>\"\",ROUND(t_instalado[[#This Row],[FLUXO]]/t_instalado[[#This Row],[Luminárias]],0),\"\")","v":""},{"$f":"IF(t_instalado[[#This Row],[Luminárias]]<>\"\",ROUND(t_instalado[[#This Row],[lm_médio]]/t_instalado[[#This Row],[W_médio]],2),\"\")","v":""}]
[195,{"$f":"_xlfn.XLOOKUP(t_instalado[[#This Row],[cód.]],t_sitio[cód],t_sitio[Trecho],\"\")","v":""},null,null,null,null,null,null,null,null,null,null,{"$f":"t_instalado[[#This Row],[Q.1]]+t_instalado[[#This Row],[Q.2]]+t_instalado[[#This Row],[Q.3]]","v":0},{"$f":"t_instalado[[#This Row],[Q.1]]+t_instalado[[#This Row],[Q.2]]+t_instalado[[#This Row],[Q.3]]","v":0},{"$f":"IF(t_instalado[[#This Row],[Q.1]]<>\"\",SUMIFS(t_reator[p],t_reator[tipo],t_instalado[[#This Row],[T.1]],t_reator[w],t_instalado[[#This Row],[P.1(W)]]),\"\")","v":""},{"$f":"IF(t_instalado[[#This Row],[Q.2]]<>\"\",SUMIFS(t_reator[p],t_reator[tipo],t_instalado[[#This Row],[T.2]],t_reator[w],t_instalado[[#This Row],[P.2(W)]]),\"\")","v":""},{"$f":"IF(t_instalado[[#This Row],[Q.3]]<>\"\",SUMIFS(t_reator[p],t_reator[tipo],t_instalado[[#This Row],[T.3]],t_reator[w],t_instalado[[#This Row],[P.3(W)]]),\"\")","v":""},{"$f":"IF(t_instalado[[#This Row],[Q.1]]<>\"\",IFERROR(IFERROR(D429*(E429+O429)+G429*(H429+P429)+J429*(K429+Q429),D429*(E429+O429)+G429*(H429+P429)),D429*(E429+O429)),\"\")","v":""},{"$f":"IF(t_instalado[[#This Row],[Consumo_W]]<>\"\",ROUND(t_instalado[[#This Row],[Consumo_W]]/t_instalado[[#This Row],[Luminárias]],0),\"\")","v":""},{"$f":"IF(t_instalado[[#This Row],[Q.1]]<>\"\",SUMIFS(t_fluxo_lumin[fluxo],t_fluxo_lumin[tipo],t_instalado[[#This Row],[T.1]])*t_instalado[[#This Row],[P.1(W)]]*t_instalado[[#This Row],[Q.1]],\"\")","v":""},{"$f":"IF(t_instalado[[#This Row],[Q.2]]<>\"\",SUMIFS(t_fluxo_lumin[fluxo],t_fluxo_lumin[tipo],t_instalado[[#This Row],[T.2]])*t_instalado[[#This Row],[Q.2]]*t_instalado[[#This Row],[P.2(W)]],\"\")","v":""},{"$f":"IF(t_instalado[[#This Row],[Q.3]]<>\"\",SUMIFS(t_fluxo_lumin[fluxo],t_fluxo_lumin[tipo],t_instalado[[#This Row],[T.3]])*t_instalado[[#This Row],[Q.3]]*t_instalado[[#This Row],[P.3(W)]],\"\")","v":""},{"$f":"IF(t_instalado[[#This Row],[Trecho]]<>\"\",SUM(t_instalado[[#This Row],[f.1]:[f.3]]),\"\")","v":""},{"$f":"IF(t_instalado[[#This Row],[Trecho]]<>\"\",t_instalado[[#This Row],[Q.1]]+t_instalado[[#This Row],[Q.2]]+t_instalado[[#This Row],[Q.3]],\"\")","v":""},{"$f":"IF(t_instalado[[#This Row],[FLUXO]]<>\"\",ROUND(t_instalado[[#This Row],[FLUXO]]/t_instalado[[#This Row],[Luminárias]],0),\"\")","v":""},{"$f":"IF(t_instalado[[#This Row],[Luminárias]]<>\"\",ROUND(t_instalado[[#This Row],[lm_médio]]/t_instalado[[#This Row],[W_médio]],2),\"\")","v":""}]
[196,{"$f":"_xlfn.XLOOKUP(t_instalado[[#This Row],[cód.]],t_sitio[cód],t_sitio[Trecho],\"\")","v":""},null,null,null,null,null,null,null,null,null,null,{"$f":"t_instalado[[#This Row],[Q.1]]+t_instalado[[#This Row],[Q.2]]+t_instalado[[#This Row],[Q.3]]","v":0},{"$f":"t_instalado[[#This Row],[Q.1]]+t_instalado[[#This Row],[Q.2]]+t_instalado[[#This Row],[Q.3]]","v":0},{"$f":"IF(t_instalado[[#This Row],[Q.1]]<>\"\",SUMIFS(t_reator[p],t_reator[tipo],t_instalado[[#This Row],[T.1]],t_reator[w],t_instalado[[#This Row],[P.1(W)]]),\"\")","v":""},{"$f":"IF(t_instalado[[#This Row],[Q.2]]<>\"\",SUMIFS(t_reator[p],t_reator[tipo],t_instalado[[#This Row],[T.2]],t_reator[w],t_instalado[[#This Row],[P.2(W)]]),\"\")","v":""},{"$f":"IF(t_instalado[[#This Row],[Q.3]]<>\"\",SUMIFS(t_reator[p],t_reator[tipo],t_instalado[[#This Row],[T.3]],t_reator[w],t_instalado[[#This Row],[P.3(W)]]),\"\")","v":""},{"$f":"IF(t_instalado[[#This Row],[Q.1]]<>\"\",IFERROR(IFERROR(D430*(E430+O430)+G430*(H430+P430)+J430*(K430+Q430),D430*(E430+O430)+G430*(H430+P430)),D430*(E430+O430)),\"\")","v":""},{"$f":"IF(t_instalado[[#This Row],[Consumo_W]]<>\"\",ROUND(t_instalado[[#This Row],[Consumo_W]]/t_instalado[[#This Row],[Luminárias]],0),\"\")","v":""},{"$f":"IF(t_instalado[[#This Row],[Q.1]]<>\"\",SUMIFS(t_fluxo_lumin[fluxo],t_fluxo_lumin[tipo],t_instalado[[#This Row],[T.1]])*t_instalado[[#This Row],[P.1(W)]]*t_instalado[[#This Row],[Q.1]],\"\")","v":""},{"$f":"IF(t_instalado[[#This Row],[Q.2]]<>\"\",SUMIFS(t_fluxo_lumin[fluxo],t_fluxo_lumin[tipo],t_instalado[[#This Row],[T.2]])*t_instalado[[#This Row],[Q.2]]*t_instalado[[#This Row],[P.2(W)]],\"\")","v":""},{"$f":"IF(t_instalado[[#This Row],[Q.3]]<>\"\",SUMIFS(t_fluxo_lumin[fluxo],t_fluxo_lumin[tipo],t_instalado[[#This Row],[T.3]])*t_instalado[[#This Row],[Q.3]]*t_instalado[[#This Row],[P.3(W)]],\"\")","v":""},{"$f":"IF(t_instalado[[#This Row],[Trecho]]<>\"\",SUM(t_instalado[[#This Row],[f.1]:[f.3]]),\"\")","v":""},{"$f":"IF(t_instalado[[#This Row],[Trecho]]<>\"\",t_instalado[[#This Row],[Q.1]]+t_instalado[[#This Row],[Q.2]]+t_instalado[[#This Row],[Q.3]],\"\")","v":""},{"$f":"IF(t_instalado[[#This Row],[FLUXO]]<>\"\",ROUND(t_instalado[[#This Row],[FLUXO]]/t_instalado[[#This Row],[Luminárias]],0),\"\")","v":""},{"$f":"IF(t_instalado[[#This Row],[Luminárias]]<>\"\",ROUND(t_instalado[[#This Row],[lm_médio]]/t_instalado[[#This Row],[W_médio]],2),\"\")","v":""}]
[197,{"$f":"_xlfn.XLOOKUP(t_instalado[[#This Row],[cód.]],t_sitio[cód],t_sitio[Trecho],\"\")","v":""},null,null,null,null,null,null,null,null,null,null,{"$f":"t_instalado[[#This Row],[Q.1]]+t_instalado[[#This Row],[Q.2]]+t_instalado[[#This Row],[Q.3]]","v":0},{"$f":"t_instalado[[#This Row],[Q.1]]+t_instalado[[#This Row],[Q.2]]+t_instalado[[#This Row],[Q.3]]","v":0},{"$f":"IF(t_instalado[[#This Row],[Q.1]]<>\"\",SUMIFS(t_reator[p],t_reator[tipo],t_instalado[[#This Row],[T.1]],t_reator[w],t_instalado[[#This Row],[P.1(W)]]),\"\")","v":""},{"$f":"IF(t_instalado[[#This Row],[Q.2]]<>\"\",SUMIFS(t_reator[p],t_reator[tipo],t_instalado[[#This Row],[T.2]],t_reator[w],t_instalado[[#This Row],[P.2(W)]]),\"\")","v":""},{"$f":"IF(t_instalado[[#This Row],[Q.3]]<>\"\",SUMIFS(t_reator[p],t_reator[tipo],t_instalado[[#This Row],[T.3]],t_reator[w],t_instalado[[#This Row],[P.3(W)]]),\"\")","v":""},{"$f":"IF(t_instalado[[#This Row],[Q.1]]<>\"\",IFERROR(IFERROR(D431*(E431+O431)+G431*(H431+P431)+J431*(K431+Q431),D431*(E431+O431)+G431*(H431+P431)),D431*(E431+O431)),\"\")","v":""},{"$f":"IF(t_instalado[[#This Row],[Consumo_W]]<>\"\",ROUND(t_instalado[[#This Row],[Consumo_W]]/t_instalado[[#This Row],[Luminárias]],0),\"\")","v":""},{"$f":"IF(t_instalado[[#This Row],[Q.1]]<>\"\",SUMIFS(t_fluxo_lumin[fluxo],t_fluxo_lumin[tipo],t_instalado[[#This Row],[T.1]])*t_instalado[[#This Row],[P.1(W)]]*t_instalado[[#This Row],[Q.1]],\"\")","v":""},{"$f":"IF(t_instalado[[#This Row],[Q.2]]<>\"\",SUMIFS(t_fluxo_lumin[fluxo],t_fluxo_lumin[tipo],t_instalado[[#This Row],[T.2]])*t_instalado[[#This Row],[Q.2]]*t_instalado[[#This Row],[P.2(W)]],\"\")","v":""},{"$f":"IF(t_instalado[[#This Row],[Q.3]]<>\"\",SUMIFS(t_fluxo_lumin[fluxo],t_fluxo_lumin[tipo],t_instalado[[#This Row],[T.3]])*t_instalado[[#This Row],[Q.3]]*t_instalado[[#This Row],[P.3(W)]],\"\")","v":""},{"$f":"IF(t_instalado[[#This Row],[Trecho]]<>\"\",SUM(t_instalado[[#This Row],[f.1]:[f.3]]),\"\")","v":""},{"$f":"IF(t_instalado[[#This Row],[Trecho]]<>\"\",t_instalado[[#This Row],[Q.1]]+t_instalado[[#This Row],[Q.2]]+t_instalado[[#This Row],[Q.3]],\"\")","v":""},{"$f":"IF(t_instalado[[#This Row],[FLUXO]]<>\"\",ROUND(t_instalado[[#This Row],[FLUXO]]/t_instalado[[#This Row],[Luminárias]],0),\"\")","v":""},{"$f":"IF(t_instalado[[#This Row],[Luminárias]]<>\"\",ROUND(t_instalado[[#This Row],[lm_médio]]/t_instalado[[#This Row],[W_médio]],2),\"\")","v":""}]
[198,{"$f":"_xlfn.XLOOKUP(t_instalado[[#This Row],[cód.]],t_sitio[cód],t_sitio[Trecho],\"\")","v":""},null,null,null,null,null,null,null,null,null,null,{"$f":"t_instalado[[#This Row],[Q.1]]+t_instalado[[#This Row],[Q.2]]+t_instalado[[#This Row],[Q.3]]","v":0},{"$f":"t_instalado[[#This Row],[Q.1]]+t_instalado[[#This Row],[Q.2]]+t_instalado[[#This Row],[Q.3]]","v":0},{"$f":"IF(t_instalado[[#This Row],[Q.1]]<>\"\",SUMIFS(t_reator[p],t_reator[tipo],t_instalado[[#This Row],[T.1]],t_reator[w],t_instalado[[#This Row],[P.1(W)]]),\"\")","v":""},{"$f":"IF(t_instalado[[#This Row],[Q.2]]<>\"\",SUMIFS(t_reator[p],t_reator[tipo],t_instalado[[#This Row],[T.2]],t_reator[w],t_instalado[[#This Row],[P.2(W)]]),\"\")","v":""},{"$f":"IF(t_instalado[[#This Row],[Q.3]]<>\"\",SUMIFS(t_reator[p],t_reator[tipo],t_instalado[[#This Row],[T.3]],t_reator[w],t_instalado[[#This Row],[P.3(W)]]),\"\")","v":""},{"$f":"IF(t_instalado[[#This Row],[Q.1]]<>\"\",IFERROR(IFERROR(D432*(E432+O432)+G432*(H432+P432)+J432*(K432+Q432),D432*(E432+O432)+G432*(H432+P432)),D432*(E432+O432)),\"\")","v":""},{"$f":"IF(t_instalado[[#This Row],[Consumo_W]]<>\"\",ROUND(t_instalado[[#This Row],[Consumo_W]]/t_instalado[[#This Row],[Luminárias]],0),\"\")","v":""},{"$f":"IF(t_instalado[[#This Row],[Q.1]]<>\"\",SUMIFS(t_fluxo_lumin[fluxo],t_fluxo_lumin[tipo],t_instalado[[#This Row],[T.1]])*t_instalado[[#This Row],[P.1(W)]]*t_instalado[[#This Row],[Q.1]],\"\")","v":""},{"$f":"IF(t_instalado[[#This Row],[Q.2]]<>\"\",SUMIFS(t_fluxo_lumin[fluxo],t_fluxo_lumin[tipo],t_instalado[[#This Row],[T.2]])*t_instalado[[#This Row],[Q.2]]*t_instalado[[#This Row],[P.2(W)]],\"\")","v":""},{"$f":"IF(t_instalado[[#This Row],[Q.3]]<>\"\",SUMIFS(t_fluxo_lumin[fluxo],t_fluxo_lumin[tipo],t_instalado[[#This Row],[T.3]])*t_instalado[[#This Row],[Q.3]]*t_instalado[[#This Row],[P.3(W)]],\"\")","v":""},{"$f":"IF(t_instalado[[#This Row],[Trecho]]<>\"\",SUM(t_instalado[[#This Row],[f.1]:[f.3]]),\"\")","v":""},{"$f":"IF(t_instalado[[#This Row],[Trecho]]<>\"\",t_instalado[[#This Row],[Q.1]]+t_instalado[[#This Row],[Q.2]]+t_instalado[[#This Row],[Q.3]],\"\")","v":""},{"$f":"IF(t_instalado[[#This Row],[FLUXO]]<>\"\",ROUND(t_instalado[[#This Row],[FLUXO]]/t_instalado[[#This Row],[Luminárias]],0),\"\")","v":""},{"$f":"IF(t_instalado[[#This Row],[Luminárias]]<>\"\",ROUND(t_instalado[[#This Row],[lm_médio]]/t_instalado[[#This Row],[W_médio]],2),\"\")","v":""}]
[199,{"$f":"_xlfn.XLOOKUP(t_instalado[[#This Row],[cód.]],t_sitio[cód],t_sitio[Trecho],\"\")","v":""},null,null,null,null,null,null,null,null,null,null,{"$f":"t_instalado[[#This Row],[Q.1]]+t_instalado[[#This Row],[Q.2]]+t_instalado[[#This Row],[Q.3]]","v":0},{"$f":"t_instalado[[#This Row],[Q.1]]+t_instalado[[#This Row],[Q.2]]+t_instalado[[#This Row],[Q.3]]","v":0},{"$f":"IF(t_instalado[[#This Row],[Q.1]]<>\"\",SUMIFS(t_reator[p],t_reator[tipo],t_instalado[[#This Row],[T.1]],t_reator[w],t_instalado[[#This Row],[P.1(W)]]),\"\")","v":""},{"$f":"IF(t_instalado[[#This Row],[Q.2]]<>\"\",SUMIFS(t_reator[p],t_reator[tipo],t_instalado[[#This Row],[T.2]],t_reator[w],t_instalado[[#This Row],[P.2(W)]]),\"\")","v":""},{"$f":"IF(t_instalado[[#This Row],[Q.3]]<>\"\",SUMIFS(t_reator[p],t_reator[tipo],t_instalado[[#This Row],[T.3]],t_reator[w],t_instalado[[#This Row],[P.3(W)]]),\"\")","v":""},{"$f":"IF(t_instalado[[#This Row],[Q.1]]<>\"\",IFERROR(IFERROR(D433*(E433+O433)+G433*(H433+P433)+J433*(K433+Q433),D433*(E433+O433)+G433*(H433+P433)),D433*(E433+O433)),\"\")","v":""},{"$f":"IF(t_instalado[[#This Row],[Consumo_W]]<>\"\",ROUND(t_instalado[[#This Row],[Consumo_W]]/t_instalado[[#This Row],[Luminárias]],0),\"\")","v":""},{"$f":"IF(t_instalado[[#This Row],[Q.1]]<>\"\",SUMIFS(t_fluxo_lumin[fluxo],t_fluxo_lumin[tipo],t_instalado[[#This Row],[T.1]])*t_instalado[[#This Row],[P.1(W)]]*t_instalado[[#This Row],[Q.1]],\"\")","v":""},{"$f":"IF(t_instalado[[#This Row],[Q.2]]<>\"\",SUMIFS(t_fluxo_lumin[fluxo],t_fluxo_lumin[tipo],t_instalado[[#This Row],[T.2]])*t_instalado[[#This Row],[Q.2]]*t_instalado[[#This Row],[P.2(W)]],\"\")","v":""},{"$f":"IF(t_instalado[[#This Row],[Q.3]]<>\"\",SUMIFS(t_fluxo_lumin[fluxo],t_fluxo_lumin[tipo],t_instalado[[#This Row],[T.3]])*t_instalado[[#This Row],[Q.3]]*t_instalado[[#This Row],[P.3(W)]],\"\")","v":""},{"$f":"IF(t_instalado[[#This Row],[Trecho]]<>\"\",SUM(t_instalado[[#This Row],[f.1]:[f.3]]),\"\")","v":""},{"$f":"IF(t_instalado[[#This Row],[Trecho]]<>\"\",t_instalado[[#This Row],[Q.1]]+t_instalado[[#This Row],[Q.2]]+t_instalado[[#This Row],[Q.3]],\"\")","v":""},{"$f":"IF(t_instalado[[#This Row],[FLUXO]]<>\"\",ROUND(t_instalado[[#This Row],[FLUXO]]/t_instalado[[#This Row],[Luminárias]],0),\"\")","v":""},{"$f":"IF(t_instalado[[#This Row],[Luminárias]]<>\"\",ROUND(t_instalado[[#This Row],[lm_médio]]/t_instalado[[#This Row],[W_médio]],2),\"\")","v":""}]
[200,{"$f":"_xlfn.XLOOKUP(t_instalado[[#This Row],[cód.]],t_sitio[cód],t_sitio[Trecho],\"\")","v":""},null,null,null,null,null,null,null,null,null,null,{"$f":"t_instalado[[#This Row],[Q.1]]+t_instalado[[#This Row],[Q.2]]+t_instalado[[#This Row],[Q.3]]","v":0},{"$f":"t_instalado[[#This Row],[Q.1]]+t_instalado[[#This Row],[Q.2]]+t_instalado[[#This Row],[Q.3]]","v":0},{"$f":"IF(t_instalado[[#This Row],[Q.1]]<>\"\",SUMIFS(t_reator[p],t_reator[tipo],t_instalado[[#This Row],[T.1]],t_reator[w],t_instalado[[#This Row],[P.1(W)]]),\"\")","v":""},{"$f":"IF(t_instalado[[#This Row],[Q.2]]<>\"\",SUMIFS(t_reator[p],t_reator[tipo],t_instalado[[#This Row],[T.2]],t_reator[w],t_instalado[[#This Row],[P.2(W)]]),\"\")","v":""},{"$f":"IF(t_instalado[[#This Row],[Q.3]]<>\"\",SUMIFS(t_reator[p],t_reator[tipo],t_instalado[[#This Row],[T.3]],t_reator[w],t_instalado[[#This Row],[P.3(W)]]),\"\")","v":""},{"$f":"IF(t_instalado[[#This Row],[Q.1]]<>\"\",IFERROR(IFERROR(D434*(E434+O434)+G434*(H434+P434)+J434*(K434+Q434),D434*(E434+O434)+G434*(H434+P434)),D434*(E434+O434)),\"\")","v":""},{"$f":"IF(t_instalado[[#This Row],[Consumo_W]]<>\"\",ROUND(t_instalado[[#This Row],[Consumo_W]]/t_instalado[[#This Row],[Luminárias]],0),\"\")","v":""},{"$f":"IF(t_instalado[[#This Row],[Q.1]]<>\"\",SUMIFS(t_fluxo_lumin[fluxo],t_fluxo_lumin[tipo],t_instalado[[#This Row],[T.1]])*t_instalado[[#This Row],[P.1(W)]]*t_instalado[[#This Row],[Q.1]],\"\")","v":""},{"$f":"IF(t_instalado[[#This Row],[Q.2]]<>\"\",SUMIFS(t_fluxo_lumin[fluxo],t_fluxo_lumin[tipo],t_instalado[[#This Row],[T.2]])*t_instalado[[#This Row],[Q.2]]*t_instalado[[#This Row],[P.2(W)]],\"\")","v":""},{"$f":"IF(t_instalado[[#This Row],[Q.3]]<>\"\",SUMIFS(t_fluxo_lumin[fluxo],t_fluxo_lumin[tipo],t_instalado[[#This Row],[T.3]])*t_instalado[[#This Row],[Q.3]]*t_instalado[[#This Row],[P.3(W)]],\"\")","v":""},{"$f":"IF(t_instalado[[#This Row],[Trecho]]<>\"\",SUM(t_instalado[[#This Row],[f.1]:[f.3]]),\"\")","v":""},{"$f":"IF(t_instalado[[#This Row],[Trecho]]<>\"\",t_instalado[[#This Row],[Q.1]]+t_instalado[[#This Row],[Q.2]]+t_instalado[[#This Row],[Q.3]],\"\")","v":""},{"$f":"IF(t_instalado[[#This Row],[FLUXO]]<>\"\",ROUND(t_instalado[[#This Row],[FLUXO]]/t_instalado[[#This Row],[Luminárias]],0),\"\")","v":""},{"$f":"IF(t_instalado[[#This Row],[Luminárias]]<>\"\",ROUND(t_instalado[[#This Row],[lm_médio]]/t_instalado[[#This Row],[W_médio]],2),\"\")","v":""}]
[201,{"$f":"_xlfn.XLOOKUP(t_instalado[[#This Row],[cód.]],t_sitio[cód],t_sitio[Trecho],\"\")","v":""},null,null,null,null,null,null,null,null,null,null,{"$f":"t_instalado[[#This Row],[Q.1]]+t_instalado[[#This Row],[Q.2]]+t_instalado[[#This Row],[Q.3]]","v":0},{"$f":"t_instalado[[#This Row],[Q.1]]+t_instalado[[#This Row],[Q.2]]+t_instalado[[#This Row],[Q.3]]","v":0},{"$f":"IF(t_instalado[[#This Row],[Q.1]]<>\"\",SUMIFS(t_reator[p],t_reator[tipo],t_instalado[[#This Row],[T.1]],t_reator[w],t_instalado[[#This Row],[P.1(W)]]),\"\")","v":""},{"$f":"IF(t_instalado[[#This Row],[Q.2]]<>\"\",SUMIFS(t_reator[p],t_reator[tipo],t_instalado[[#This Row],[T.2]],t_reator[w],t_instalado[[#This Row],[P.2(W)]]),\"\")","v":""},{"$f":"IF(t_instalado[[#This Row],[Q.3]]<>\"\",SUMIFS(t_reator[p],t_reator[tipo],t_instalado[[#This Row],[T.3]],t_reator[w],t_instalado[[#This Row],[P.3(W)]]),\"\")","v":""},{"$f":"IF(t_instalado[[#This Row],[Q.1]]<>\"\",IFERROR(IFERROR(D435*(E435+O435)+G435*(H435+P435)+J435*(K435+Q435),D435*(E435+O435)+G435*(H435+P435)),D435*(E435+O435)),\"\")","v":""},{"$f":"IF(t_instalado[[#This Row],[Consumo_W]]<>\"\",ROUND(t_instalado[[#This Row],[Consumo_W]]/t_instalado[[#This Row],[Luminárias]],0),\"\")","v":""},{"$f":"IF(t_instalado[[#This Row],[Q.1]]<>\"\",SUMIFS(t_fluxo_lumin[fluxo],t_fluxo_lumin[tipo],t_instalado[[#This Row],[T.1]])*t_instalado[[#This Row],[P.1(W)]]*t_instalado[[#This Row],[Q.1]],\"\")","v":""},{"$f":"IF(t_instalado[[#This Row],[Q.2]]<>\"\",SUMIFS(t_fluxo_lumin[fluxo],t_fluxo_lumin[tipo],t_instalado[[#This Row],[T.2]])*t_instalado[[#This Row],[Q.2]]*t_instalado[[#This Row],[P.2(W)]],\"\")","v":""},{"$f":"IF(t_instalado[[#This Row],[Q.3]]<>\"\",SUMIFS(t_fluxo_lumin[fluxo],t_fluxo_lumin[tipo],t_instalado[[#This Row],[T.3]])*t_instalado[[#This Row],[Q.3]]*t_instalado[[#This Row],[P.3(W)]],\"\")","v":""},{"$f":"IF(t_instalado[[#This Row],[Trecho]]<>\"\",SUM(t_instalado[[#This Row],[f.1]:[f.3]]),\"\")","v":""},{"$f":"IF(t_instalado[[#This Row],[Trecho]]<>\"\",t_instalado[[#This Row],[Q.1]]+t_instalado[[#This Row],[Q.2]]+t_instalado[[#This Row],[Q.3]],\"\")","v":""},{"$f":"IF(t_instalado[[#This Row],[FLUXO]]<>\"\",ROUND(t_instalado[[#This Row],[FLUXO]]/t_instalado[[#This Row],[Luminárias]],0),\"\")","v":""},{"$f":"IF(t_instalado[[#This Row],[Luminárias]]<>\"\",ROUND(t_instalado[[#This Row],[lm_médio]]/t_instalado[[#This Row],[W_médio]],2),\"\")","v":""}]
[202,{"$f":"_xlfn.XLOOKUP(t_instalado[[#This Row],[cód.]],t_sitio[cód],t_sitio[Trecho],\"\")","v":""},null,null,null,null,null,null,null,null,null,null,{"$f":"t_instalado[[#This Row],[Q.1]]+t_instalado[[#This Row],[Q.2]]+t_instalado[[#This Row],[Q.3]]","v":0},{"$f":"t_instalado[[#This Row],[Q.1]]+t_instalado[[#This Row],[Q.2]]+t_instalado[[#This Row],[Q.3]]","v":0},{"$f":"IF(t_instalado[[#This Row],[Q.1]]<>\"\",SUMIFS(t_reator[p],t_reator[tipo],t_instalado[[#This Row],[T.1]],t_reator[w],t_instalado[[#This Row],[P.1(W)]]),\"\")","v":""},{"$f":"IF(t_instalado[[#This Row],[Q.2]]<>\"\",SUMIFS(t_reator[p],t_reator[tipo],t_instalado[[#This Row],[T.2]],t_reator[w],t_instalado[[#This Row],[P.2(W)]]),\"\")","v":""},{"$f":"IF(t_instalado[[#This Row],[Q.3]]<>\"\",SUMIFS(t_reator[p],t_reator[tipo],t_instalado[[#This Row],[T.3]],t_reator[w],t_instalado[[#This Row],[P.3(W)]]),\"\")","v":""},{"$f":"IF(t_instalado[[#This Row],[Q.1]]<>\"\",IFERROR(IFERROR(D436*(E436+O436)+G436*(H436+P436)+J436*(K436+Q436),D436*(E436+O436)+G436*(H436+P436)),D436*(E436+O436)),\"\")","v":""},{"$f":"IF(t_instalado[[#This Row],[Consumo_W]]<>\"\",ROUND(t_instalado[[#This Row],[Consumo_W]]/t_instalado[[#This Row],[Luminárias]],0),\"\")","v":""},{"$f":"IF(t_instalado[[#This Row],[Q.1]]<>\"\",SUMIFS(t_fluxo_lumin[fluxo],t_fluxo_lumin[tipo],t_instalado[[#This Row],[T.1]])*t_instalado[[#This Row],[P.1(W)]]*t_instalado[[#This Row],[Q.1]],\"\")","v":""},{"$f":"IF(t_instalado[[#This Row],[Q.2]]<>\"\",SUMIFS(t_fluxo_lumin[fluxo],t_fluxo_lumin[tipo],t_instalado[[#This Row],[T.2]])*t_instalado[[#This Row],[Q.2]]*t_instalado[[#This Row],[P.2(W)]],\"\")","v":""},{"$f":"IF(t_instalado[[#This Row],[Q.3]]<>\"\",SUMIFS(t_fluxo_lumin[fluxo],t_fluxo_lumin[tipo],t_instalado[[#This Row],[T.3]])*t_instalado[[#This Row],[Q.3]]*t_instalado[[#This Row],[P.3(W)]],\"\")","v":""},{"$f":"IF(t_instalado[[#This Row],[Trecho]]<>\"\",SUM(t_instalado[[#This Row],[f.1]:[f.3]]),\"\")","v":""},{"$f":"IF(t_instalado[[#This Row],[Trecho]]<>\"\",t_instalado[[#This Row],[Q.1]]+t_instalado[[#This Row],[Q.2]]+t_instalado[[#This Row],[Q.3]],\"\")","v":""},{"$f":"IF(t_instalado[[#This Row],[FLUXO]]<>\"\",ROUND(t_instalado[[#This Row],[FLUXO]]/t_instalado[[#This Row],[Luminárias]],0),\"\")","v":""},{"$f":"IF(t_instalado[[#This Row],[Luminárias]]<>\"\",ROUND(t_instalado[[#This Row],[lm_médio]]/t_instalado[[#This Row],[W_médio]],2),\"\")","v":""}]
[203,{"$f":"_xlfn.XLOOKUP(t_instalado[[#This Row],[cód.]],t_sitio[cód],t_sitio[Trecho],\"\")","v":""},null,null,null,null,null,null,null,null,null,null,{"$f":"t_instalado[[#This Row],[Q.1]]+t_instalado[[#This Row],[Q.2]]+t_instalado[[#This Row],[Q.3]]","v":0},{"$f":"t_instalado[[#This Row],[Q.1]]+t_instalado[[#This Row],[Q.2]]+t_instalado[[#This Row],[Q.3]]","v":0},{"$f":"IF(t_instalado[[#This Row],[Q.1]]<>\"\",SUMIFS(t_reator[p],t_reator[tipo],t_instalado[[#This Row],[T.1]],t_reator[w],t_instalado[[#This Row],[P.1(W)]]),\"\")","v":""},{"$f":"IF(t_instalado[[#This Row],[Q.2]]<>\"\",SUMIFS(t_reator[p],t_reator[tipo],t_instalado[[#This Row],[T.2]],t_reator[w],t_instalado[[#This Row],[P.2(W)]]),\"\")","v":""},{"$f":"IF(t_instalado[[#This Row],[Q.3]]<>\"\",SUMIFS(t_reator[p],t_reator[tipo],t_instalado[[#This Row],[T.3]],t_reator[w],t_instalado[[#This Row],[P.3(W)]]),\"\")","v":""},{"$f":"IF(t_instalado[[#This Row],[Q.1]]<>\"\",IFERROR(IFERROR(D437*(E437+O437)+G437*(H437+P437)+J437*(K437+Q437),D437*(E437+O437)+G437*(H437+P437)),D437*(E437+O437)),\"\")","v":""},{"$f":"IF(t_instalado[[#This Row],[Consumo_W]]<>\"\",ROUND(t_instalado[[#This Row],[Consumo_W]]/t_instalado[[#This Row],[Luminárias]],0),\"\")","v":""},{"$f":"IF(t_instalado[[#This Row],[Q.1]]<>\"\",SUMIFS(t_fluxo_lumin[fluxo],t_fluxo_lumin[tipo],t_instalado[[#This Row],[T.1]])*t_instalado[[#This Row],[P.1(W)]]*t_instalado[[#This Row],[Q.1]],\"\")","v":""},{"$f":"IF(t_instalado[[#This Row],[Q.2]]<>\"\",SUMIFS(t_fluxo_lumin[fluxo],t_fluxo_lumin[tipo],t_instalado[[#This Row],[T.2]])*t_instalado[[#This Row],[Q.2]]*t_instalado[[#This Row],[P.2(W)]],\"\")","v":""},{"$f":"IF(t_instalado[[#This Row],[Q.3]]<>\"\",SUMIFS(t_fluxo_lumin[fluxo],t_fluxo_lumin[tipo],t_instalado[[#This Row],[T.3]])*t_instalado[[#This Row],[Q.3]]*t_instalado[[#This Row],[P.3(W)]],\"\")","v":""},{"$f":"IF(t_instalado[[#This Row],[Trecho]]<>\"\",SUM(t_instalado[[#This Row],[f.1]:[f.3]]),\"\")","v":""},{"$f":"IF(t_instalado[[#This Row],[Trecho]]<>\"\",t_instalado[[#This Row],[Q.1]]+t_instalado[[#This Row],[Q.2]]+t_instalado[[#This Row],[Q.3]],\"\")","v":""},{"$f":"IF(t_instalado[[#This Row],[FLUXO]]<>\"\",ROUND(t_instalado[[#This Row],[FLUXO]]/t_instalado[[#This Row],[Luminárias]],0),\"\")","v":""},{"$f":"IF(t_instalado[[#This Row],[Luminárias]]<>\"\",ROUND(t_instalado[[#This Row],[lm_médio]]/t_instalado[[#This Row],[W_médio]],2),\"\")","v":""}]
[204,{"$f":"_xlfn.XLOOKUP(t_instalado[[#This Row],[cód.]],t_sitio[cód],t_sitio[Trecho],\"\")","v":""},null,null,null,null,null,null,null,null,null,null,{"$f":"t_instalado[[#This Row],[Q.1]]+t_instalado[[#This Row],[Q.2]]+t_instalado[[#This Row],[Q.3]]","v":0},{"$f":"t_instalado[[#This Row],[Q.1]]+t_instalado[[#This Row],[Q.2]]+t_instalado[[#This Row],[Q.3]]","v":0},{"$f":"IF(t_instalado[[#This Row],[Q.1]]<>\"\",SUMIFS(t_reator[p],t_reator[tipo],t_instalado[[#This Row],[T.1]],t_reator[w],t_instalado[[#This Row],[P.1(W)]]),\"\")","v":""},{"$f":"IF(t_instalado[[#This Row],[Q.2]]<>\"\",SUMIFS(t_reator[p],t_reator[tipo],t_instalado[[#This Row],[T.2]],t_reator[w],t_instalado[[#This Row],[P.2(W)]]),\"\")","v":""},{"$f":"IF(t_instalado[[#This Row],[Q.3]]<>\"\",SUMIFS(t_reator[p],t_reator[tipo],t_instalado[[#This Row],[T.3]],t_reator[w],t_instalado[[#This Row],[P.3(W)]]),\"\")","v":""},{"$f":"IF(t_instalado[[#This Row],[Q.1]]<>\"\",IFERROR(IFERROR(D438*(E438+O438)+G438*(H438+P438)+J438*(K438+Q438),D438*(E438+O438)+G438*(H438+P438)),D438*(E438+O438)),\"\")","v":""},{"$f":"IF(t_instalado[[#This Row],[Consumo_W]]<>\"\",ROUND(t_instalado[[#This Row],[Consumo_W]]/t_instalado[[#This Row],[Luminárias]],0),\"\")","v":""},{"$f":"IF(t_instalado[[#This Row],[Q.1]]<>\"\",SUMIFS(t_fluxo_lumin[fluxo],t_fluxo_lumin[tipo],t_instalado[[#This Row],[T.1]])*t_instalado[[#This Row],[P.1(W)]]*t_instalado[[#This Row],[Q.1]],\"\")","v":""},{"$f":"IF(t_instalado[[#This Row],[Q.2]]<>\"\",SUMIFS(t_fluxo_lumin[fluxo],t_fluxo_lumin[tipo],t_instalado[[#This Row],[T.2]])*t_instalado[[#This Row],[Q.2]]*t_instalado[[#This Row],[P.2(W)]],\"\")","v":""},{"$f":"IF(t_instalado[[#This Row],[Q.3]]<>\"\",SUMIFS(t_fluxo_lumin[fluxo],t_fluxo_lumin[tipo],t_instalado[[#This Row],[T.3]])*t_instalado[[#This Row],[Q.3]]*t_instalado[[#This Row],[P.3(W)]],\"\")","v":""},{"$f":"IF(t_instalado[[#This Row],[Trecho]]<>\"\",SUM(t_instalado[[#This Row],[f.1]:[f.3]]),\"\")","v":""},{"$f":"IF(t_instalado[[#This Row],[Trecho]]<>\"\",t_instalado[[#This Row],[Q.1]]+t_instalado[[#This Row],[Q.2]]+t_instalado[[#This Row],[Q.3]],\"\")","v":""},{"$f":"IF(t_instalado[[#This Row],[FLUXO]]<>\"\",ROUND(t_instalado[[#This Row],[FLUXO]]/t_instalado[[#This Row],[Luminárias]],0),\"\")","v":""},{"$f":"IF(t_instalado[[#This Row],[Luminárias]]<>\"\",ROUND(t_instalado[[#This Row],[lm_médio]]/t_instalado[[#This Row],[W_médio]],2),\"\")","v":""}]
[205,{"$f":"_xlfn.XLOOKUP(t_instalado[[#This Row],[cód.]],t_sitio[cód],t_sitio[Trecho],\"\")","v":""},null,null,null,null,null,null,null,null,null,null,{"$f":"t_instalado[[#This Row],[Q.1]]+t_instalado[[#This Row],[Q.2]]+t_instalado[[#This Row],[Q.3]]","v":0},{"$f":"t_instalado[[#This Row],[Q.1]]+t_instalado[[#This Row],[Q.2]]+t_instalado[[#This Row],[Q.3]]","v":0},{"$f":"IF(t_instalado[[#This Row],[Q.1]]<>\"\",SUMIFS(t_reator[p],t_reator[tipo],t_instalado[[#This Row],[T.1]],t_reator[w],t_instalado[[#This Row],[P.1(W)]]),\"\")","v":""},{"$f":"IF(t_instalado[[#This Row],[Q.2]]<>\"\",SUMIFS(t_reator[p],t_reator[tipo],t_instalado[[#This Row],[T.2]],t_reator[w],t_instalado[[#This Row],[P.2(W)]]),\"\")","v":""},{"$f":"IF(t_instalado[[#This Row],[Q.3]]<>\"\",SUMIFS(t_reator[p],t_reator[tipo],t_instalado[[#This Row],[T.3]],t_reator[w],t_instalado[[#This Row],[P.3(W)]]),\"\")","v":""},{"$f":"IF(t_instalado[[#This Row],[Q.1]]<>\"\",IFERROR(IFERROR(D439*(E439+O439)+G439*(H439+P439)+J439*(K439+Q439),D439*(E439+O439)+G439*(H439+P439)),D439*(E439+O439)),\"\")","v":""},{"$f":"IF(t_instalado[[#This Row],[Consumo_W]]<>\"\",ROUND(t_instalado[[#This Row],[Consumo_W]]/t_instalado[[#This Row],[Luminárias]],0),\"\")","v":""},{"$f":"IF(t_instalado[[#This Row],[Q.1]]<>\"\",SUMIFS(t_fluxo_lumin[fluxo],t_fluxo_lumin[tipo],t_instalado[[#This Row],[T.1]])*t_instalado[[#This Row],[P.1(W)]]*t_instalado[[#This Row],[Q.1]],\"\")","v":""},{"$f":"IF(t_instalado[[#This Row],[Q.2]]<>\"\",SUMIFS(t_fluxo_lumin[fluxo],t_fluxo_lumin[tipo],t_instalado[[#This Row],[T.2]])*t_instalado[[#This Row],[Q.2]]*t_instalado[[#This Row],[P.2(W)]],\"\")","v":""},{"$f":"IF(t_instalado[[#This Row],[Q.3]]<>\"\",SUMIFS(t_fluxo_lumin[fluxo],t_fluxo_lumin[tipo],t_instalado[[#This Row],[T.3]])*t_instalado[[#This Row],[Q.3]]*t_instalado[[#This Row],[P.3(W)]],\"\")","v":""},{"$f":"IF(t_instalado[[#This Row],[Trecho]]<>\"\",SUM(t_instalado[[#This Row],[f.1]:[f.3]]),\"\")","v":""},{"$f":"IF(t_instalado[[#This Row],[Trecho]]<>\"\",t_instalado[[#This Row],[Q.1]]+t_instalado[[#This Row],[Q.2]]+t_instalado[[#This Row],[Q.3]],\"\")","v":""},{"$f":"IF(t_instalado[[#This Row],[FLUXO]]<>\"\",ROUND(t_instalado[[#This Row],[FLUXO]]/t_instalado[[#This Row],[Luminárias]],0),\"\")","v":""},{"$f":"IF(t_instalado[[#This Row],[Luminárias]]<>\"\",ROUND(t_instalado[[#This Row],[lm_médio]]/t_instalado[[#This Row],[W_médio]],2),\"\")","v":""}]
[206,{"$f":"_xlfn.XLOOKUP(t_instalado[[#This Row],[cód.]],t_sitio[cód],t_sitio[Trecho],\"\")","v":""},null,null,null,null,null,null,null,null,null,null,{"$f":"t_instalado[[#This Row],[Q.1]]+t_instalado[[#This Row],[Q.2]]+t_instalado[[#This Row],[Q.3]]","v":0},{"$f":"t_instalado[[#This Row],[Q.1]]+t_instalado[[#This Row],[Q.2]]+t_instalado[[#This Row],[Q.3]]","v":0},{"$f":"IF(t_instalado[[#This Row],[Q.1]]<>\"\",SUMIFS(t_reator[p],t_reator[tipo],t_instalado[[#This Row],[T.1]],t_reator[w],t_instalado[[#This Row],[P.1(W)]]),\"\")","v":""},{"$f":"IF(t_instalado[[#This Row],[Q.2]]<>\"\",SUMIFS(t_reator[p],t_reator[tipo],t_instalado[[#This Row],[T.2]],t_reator[w],t_instalado[[#This Row],[P.2(W)]]),\"\")","v":""},{"$f":"IF(t_instalado[[#This Row],[Q.3]]<>\"\",SUMIFS(t_reator[p],t_reator[tipo],t_instalado[[#This Row],[T.3]],t_reator[w],t_instalado[[#This Row],[P.3(W)]]),\"\")","v":""},{"$f":"IF(t_instalado[[#This Row],[Q.1]]<>\"\",IFERROR(IFERROR(D440*(E440+O440)+G440*(H440+P440)+J440*(K440+Q440),D440*(E440+O440)+G440*(H440+P440)),D440*(E440+O440)),\"\")","v":""},{"$f":"IF(t_instalado[[#This Row],[Consumo_W]]<>\"\",ROUND(t_instalado[[#This Row],[Consumo_W]]/t_instalado[[#This Row],[Luminárias]],0),\"\")","v":""},{"$f":"IF(t_instalado[[#This Row],[Q.1]]<>\"\",SUMIFS(t_fluxo_lumin[fluxo],t_fluxo_lumin[tipo],t_instalado[[#This Row],[T.1]])*t_instalado[[#This Row],[P.1(W)]]*t_instalado[[#This Row],[Q.1]],\"\")","v":""},{"$f":"IF(t_instalado[[#This Row],[Q.2]]<>\"\",SUMIFS(t_fluxo_lumin[fluxo],t_fluxo_lumin[tipo],t_instalado[[#This Row],[T.2]])*t_instalado[[#This Row],[Q.2]]*t_instalado[[#This Row],[P.2(W)]],\"\")","v":""},{"$f":"IF(t_instalado[[#This Row],[Q.3]]<>\"\",SUMIFS(t_fluxo_lumin[fluxo],t_fluxo_lumin[tipo],t_instalado[[#This Row],[T.3]])*t_instalado[[#This Row],[Q.3]]*t_instalado[[#This Row],[P.3(W)]],\"\")","v":""},{"$f":"IF(t_instalado[[#This Row],[Trecho]]<>\"\",SUM(t_instalado[[#This Row],[f.1]:[f.3]]),\"\")","v":""},{"$f":"IF(t_instalado[[#This Row],[Trecho]]<>\"\",t_instalado[[#This Row],[Q.1]]+t_instalado[[#This Row],[Q.2]]+t_instalado[[#This Row],[Q.3]],\"\")","v":""},{"$f":"IF(t_instalado[[#This Row],[FLUXO]]<>\"\",ROUND(t_instalado[[#This Row],[FLUXO]]/t_instalado[[#This Row],[Luminárias]],0),\"\")","v":""},{"$f":"IF(t_instalado[[#This Row],[Luminárias]]<>\"\",ROUND(t_instalado[[#This Row],[lm_médio]]/t_instalado[[#This Row],[W_médio]],2),\"\")","v":""}]
[207,{"$f":"_xlfn.XLOOKUP(t_instalado[[#This Row],[cód.]],t_sitio[cód],t_sitio[Trecho],\"\")","v":""},null,null,null,null,null,null,null,null,null,null,{"$f":"t_instalado[[#This Row],[Q.1]]+t_instalado[[#This Row],[Q.2]]+t_instalado[[#This Row],[Q.3]]","v":0},{"$f":"t_instalado[[#This Row],[Q.1]]+t_instalado[[#This Row],[Q.2]]+t_instalado[[#This Row],[Q.3]]","v":0},{"$f":"IF(t_instalado[[#This Row],[Q.1]]<>\"\",SUMIFS(t_reator[p],t_reator[tipo],t_instalado[[#This Row],[T.1]],t_reator[w],t_instalado[[#This Row],[P.1(W)]]),\"\")","v":""},{"$f":"IF(t_instalado[[#This Row],[Q.2]]<>\"\",SUMIFS(t_reator[p],t_reator[tipo],t_instalado[[#This Row],[T.2]],t_reator[w],t_instalado[[#This Row],[P.2(W)]]),\"\")","v":""},{"$f":"IF(t_instalado[[#This Row],[Q.3]]<>\"\",SUMIFS(t_reator[p],t_reator[tipo],t_instalado[[#This Row],[T.3]],t_reator[w],t_instalado[[#This Row],[P.3(W)]]),\"\")","v":""},{"$f":"IF(t_instalado[[#This Row],[Q.1]]<>\"\",IFERROR(IFERROR(D441*(E441+O441)+G441*(H441+P441)+J441*(K441+Q441),D441*(E441+O441)+G441*(H441+P441)),D441*(E441+O441)),\"\")","v":""},{"$f":"IF(t_instalado[[#This Row],[Consumo_W]]<>\"\",ROUND(t_instalado[[#This Row],[Consumo_W]]/t_instalado[[#This Row],[Luminárias]],0),\"\")","v":""},{"$f":"IF(t_instalado[[#This Row],[Q.1]]<>\"\",SUMIFS(t_fluxo_lumin[fluxo],t_fluxo_lumin[tipo],t_instalado[[#This Row],[T.1]])*t_instalado[[#This Row],[P.1(W)]]*t_instalado[[#This Row],[Q.1]],\"\")","v":""},{"$f":"IF(t_instalado[[#This Row],[Q.2]]<>\"\",SUMIFS(t_fluxo_lumin[fluxo],t_fluxo_lumin[tipo],t_instalado[[#This Row],[T.2]])*t_instalado[[#This Row],[Q.2]]*t_instalado[[#This Row],[P.2(W)]],\"\")","v":""},{"$f":"IF(t_instalado[[#This Row],[Q.3]]<>\"\",SUMIFS(t_fluxo_lumin[fluxo],t_fluxo_lumin[tipo],t_instalado[[#This Row],[T.3]])*t_instalado[[#This Row],[Q.3]]*t_instalado[[#This Row],[P.3(W)]],\"\")","v":""},{"$f":"IF(t_instalado[[#This Row],[Trecho]]<>\"\",SUM(t_instalado[[#This Row],[f.1]:[f.3]]),\"\")","v":""},{"$f":"IF(t_instalado[[#This Row],[Trecho]]<>\"\",t_instalado[[#This Row],[Q.1]]+t_instalado[[#This Row],[Q.2]]+t_instalado[[#This Row],[Q.3]],\"\")","v":""},{"$f":"IF(t_instalado[[#This Row],[FLUXO]]<>\"\",ROUND(t_instalado[[#This Row],[FLUXO]]/t_instalado[[#This Row],[Luminárias]],0),\"\")","v":""},{"$f":"IF(t_instalado[[#This Row],[Luminárias]]<>\"\",ROUND(t_instalado[[#This Row],[lm_médio]]/t_instalado[[#This Row],[W_médio]],2),\"\")","v":""}]
[208,{"$f":"_xlfn.XLOOKUP(t_instalado[[#This Row],[cód.]],t_sitio[cód],t_sitio[Trecho],\"\")","v":""},null,null,null,null,null,null,null,null,null,null,{"$f":"t_instalado[[#This Row],[Q.1]]+t_instalado[[#This Row],[Q.2]]+t_instalado[[#This Row],[Q.3]]","v":0},{"$f":"t_instalado[[#This Row],[Q.1]]+t_instalado[[#This Row],[Q.2]]+t_instalado[[#This Row],[Q.3]]","v":0},{"$f":"IF(t_instalado[[#This Row],[Q.1]]<>\"\",SUMIFS(t_reator[p],t_reator[tipo],t_instalado[[#This Row],[T.1]],t_reator[w],t_instalado[[#This Row],[P.1(W)]]),\"\")","v":""},{"$f":"IF(t_instalado[[#This Row],[Q.2]]<>\"\",SUMIFS(t_reator[p],t_reator[tipo],t_instalado[[#This Row],[T.2]],t_reator[w],t_instalado[[#This Row],[P.2(W)]]),\"\")","v":""},{"$f":"IF(t_instalado[[#This Row],[Q.3]]<>\"\",SUMIFS(t_reator[p],t_reator[tipo],t_instalado[[#This Row],[T.3]],t_reator[w],t_instalado[[#This Row],[P.3(W)]]),\"\")","v":""},{"$f":"IF(t_instalado[[#This Row],[Q.1]]<>\"\",IFERROR(IFERROR(D442*(E442+O442)+G442*(H442+P442)+J442*(K442+Q442),D442*(E442+O442)+G442*(H442+P442)),D442*(E442+O442)),\"\")","v":""},{"$f":"IF(t_instalado[[#This Row],[Consumo_W]]<>\"\",ROUND(t_instalado[[#This Row],[Consumo_W]]/t_instalado[[#This Row],[Luminárias]],0),\"\")","v":""},{"$f":"IF(t_instalado[[#This Row],[Q.1]]<>\"\",SUMIFS(t_fluxo_lumin[fluxo],t_fluxo_lumin[tipo],t_instalado[[#This Row],[T.1]])*t_instalado[[#This Row],[P.1(W)]]*t_instalado[[#This Row],[Q.1]],\"\")","v":""},{"$f":"IF(t_instalado[[#This Row],[Q.2]]<>\"\",SUMIFS(t_fluxo_lumin[fluxo],t_fluxo_lumin[tipo],t_instalado[[#This Row],[T.2]])*t_instalado[[#This Row],[Q.2]]*t_instalado[[#This Row],[P.2(W)]],\"\")","v":""},{"$f":"IF(t_instalado[[#This Row],[Q.3]]<>\"\",SUMIFS(t_fluxo_lumin[fluxo],t_fluxo_lumin[tipo],t_instalado[[#This Row],[T.3]])*t_instalado[[#This Row],[Q.3]]*t_instalado[[#This Row],[P.3(W)]],\"\")","v":""},{"$f":"IF(t_instalado[[#This Row],[Trecho]]<>\"\",SUM(t_instalado[[#This Row],[f.1]:[f.3]]),\"\")","v":""},{"$f":"IF(t_instalado[[#This Row],[Trecho]]<>\"\",t_instalado[[#This Row],[Q.1]]+t_instalado[[#This Row],[Q.2]]+t_instalado[[#This Row],[Q.3]],\"\")","v":""},{"$f":"IF(t_instalado[[#This Row],[FLUXO]]<>\"\",ROUND(t_instalado[[#This Row],[FLUXO]]/t_instalado[[#This Row],[Luminárias]],0),\"\")","v":""},{"$f":"IF(t_instalado[[#This Row],[Luminárias]]<>\"\",ROUND(t_instalado[[#This Row],[lm_médio]]/t_instalado[[#This Row],[W_médio]],2),\"\")","v":""}]
[209,{"$f":"_xlfn.XLOOKUP(t_instalado[[#This Row],[cód.]],t_sitio[cód],t_sitio[Trecho],\"\")","v":""},null,null,null,null,null,null,null,null,null,null,{"$f":"t_instalado[[#This Row],[Q.1]]+t_instalado[[#This Row],[Q.2]]+t_instalado[[#This Row],[Q.3]]","v":0},{"$f":"t_instalado[[#This Row],[Q.1]]+t_instalado[[#This Row],[Q.2]]+t_instalado[[#This Row],[Q.3]]","v":0},{"$f":"IF(t_instalado[[#This Row],[Q.1]]<>\"\",SUMIFS(t_reator[p],t_reator[tipo],t_instalado[[#This Row],[T.1]],t_reator[w],t_instalado[[#This Row],[P.1(W)]]),\"\")","v":""},{"$f":"IF(t_instalado[[#This Row],[Q.2]]<>\"\",SUMIFS(t_reator[p],t_reator[tipo],t_instalado[[#This Row],[T.2]],t_reator[w],t_instalado[[#This Row],[P.2(W)]]),\"\")","v":""},{"$f":"IF(t_instalado[[#This Row],[Q.3]]<>\"\",SUMIFS(t_reator[p],t_reator[tipo],t_instalado[[#This Row],[T.3]],t_reator[w],t_instalado[[#This Row],[P.3(W)]]),\"\")","v":""},{"$f":"IF(t_instalado[[#This Row],[Q.1]]<>\"\",IFERROR(IFERROR(D443*(E443+O443)+G443*(H443+P443)+J443*(K443+Q443),D443*(E443+O443)+G443*(H443+P443)),D443*(E443+O443)),\"\")","v":""},{"$f":"IF(t_instalado[[#This Row],[Consumo_W]]<>\"\",ROUND(t_instalado[[#This Row],[Consumo_W]]/t_instalado[[#This Row],[Luminárias]],0),\"\")","v":""},{"$f":"IF(t_instalado[[#This Row],[Q.1]]<>\"\",SUMIFS(t_fluxo_lumin[fluxo],t_fluxo_lumin[tipo],t_instalado[[#This Row],[T.1]])*t_instalado[[#This Row],[P.1(W)]]*t_instalado[[#This Row],[Q.1]],\"\")","v":""},{"$f":"IF(t_instalado[[#This Row],[Q.2]]<>\"\",SUMIFS(t_fluxo_lumin[fluxo],t_fluxo_lumin[tipo],t_instalado[[#This Row],[T.2]])*t_instalado[[#This Row],[Q.2]]*t_instalado[[#This Row],[P.2(W)]],\"\")","v":""},{"$f":"IF(t_instalado[[#This Row],[Q.3]]<>\"\",SUMIFS(t_fluxo_lumin[fluxo],t_fluxo_lumin[tipo],t_instalado[[#This Row],[T.3]])*t_instalado[[#This Row],[Q.3]]*t_instalado[[#This Row],[P.3(W)]],\"\")","v":""},{"$f":"IF(t_instalado[[#This Row],[Trecho]]<>\"\",SUM(t_instalado[[#This Row],[f.1]:[f.3]]),\"\")","v":""},{"$f":"IF(t_instalado[[#This Row],[Trecho]]<>\"\",t_instalado[[#This Row],[Q.1]]+t_instalado[[#This Row],[Q.2]]+t_instalado[[#This Row],[Q.3]],\"\")","v":""},{"$f":"IF(t_instalado[[#This Row],[FLUXO]]<>\"\",ROUND(t_instalado[[#This Row],[FLUXO]]/t_instalado[[#This Row],[Luminárias]],0),\"\")","v":""},{"$f":"IF(t_instalado[[#This Row],[Luminárias]]<>\"\",ROUND(t_instalado[[#This Row],[lm_médio]]/t_instalado[[#This Row],[W_médio]],2),\"\")","v":""}]
[210,{"$f":"_xlfn.XLOOKUP(t_instalado[[#This Row],[cód.]],t_sitio[cód],t_sitio[Trecho],\"\")","v":""},null,null,null,null,null,null,null,null,null,null,{"$f":"t_instalado[[#This Row],[Q.1]]+t_instalado[[#This Row],[Q.2]]+t_instalado[[#This Row],[Q.3]]","v":0},{"$f":"t_instalado[[#This Row],[Q.1]]+t_instalado[[#This Row],[Q.2]]+t_instalado[[#This Row],[Q.3]]","v":0},{"$f":"IF(t_instalado[[#This Row],[Q.1]]<>\"\",SUMIFS(t_reator[p],t_reator[tipo],t_instalado[[#This Row],[T.1]],t_reator[w],t_instalado[[#This Row],[P.1(W)]]),\"\")","v":""},{"$f":"IF(t_instalado[[#This Row],[Q.2]]<>\"\",SUMIFS(t_reator[p],t_reator[tipo],t_instalado[[#This Row],[T.2]],t_reator[w],t_instalado[[#This Row],[P.2(W)]]),\"\")","v":""},{"$f":"IF(t_instalado[[#This Row],[Q.3]]<>\"\",SUMIFS(t_reator[p],t_reator[tipo],t_instalado[[#This Row],[T.3]],t_reator[w],t_instalado[[#This Row],[P.3(W)]]),\"\")","v":""},{"$f":"IF(t_instalado[[#This Row],[Q.1]]<>\"\",IFERROR(IFERROR(D444*(E444+O444)+G444*(H444+P444)+J444*(K444+Q444),D444*(E444+O444)+G444*(H444+P444)),D444*(E444+O444)),\"\")","v":""},{"$f":"IF(t_instalado[[#This Row],[Consumo_W]]<>\"\",ROUND(t_instalado[[#This Row],[Consumo_W]]/t_instalado[[#This Row],[Luminárias]],0),\"\")","v":""},{"$f":"IF(t_instalado[[#This Row],[Q.1]]<>\"\",SUMIFS(t_fluxo_lumin[fluxo],t_fluxo_lumin[tipo],t_instalado[[#This Row],[T.1]])*t_instalado[[#This Row],[P.1(W)]]*t_instalado[[#This Row],[Q.1]],\"\")","v":""},{"$f":"IF(t_instalado[[#This Row],[Q.2]]<>\"\",SUMIFS(t_fluxo_lumin[fluxo],t_fluxo_lumin[tipo],t_instalado[[#This Row],[T.2]])*t_instalado[[#This Row],[Q.2]]*t_instalado[[#This Row],[P.2(W)]],\"\")","v":""},{"$f":"IF(t_instalado[[#This Row],[Q.3]]<>\"\",SUMIFS(t_fluxo_lumin[fluxo],t_fluxo_lumin[tipo],t_instalado[[#This Row],[T.3]])*t_instalado[[#This Row],[Q.3]]*t_instalado[[#This Row],[P.3(W)]],\"\")","v":""},{"$f":"IF(t_instalado[[#This Row],[Trecho]]<>\"\",SUM(t_instalado[[#This Row],[f.1]:[f.3]]),\"\")","v":""},{"$f":"IF(t_instalado[[#This Row],[Trecho]]<>\"\",t_instalado[[#This Row],[Q.1]]+t_instalado[[#This Row],[Q.2]]+t_instalado[[#This Row],[Q.3]],\"\")","v":""},{"$f":"IF(t_instalado[[#This Row],[FLUXO]]<>\"\",ROUND(t_instalado[[#This Row],[FLUXO]]/t_instalado[[#This Row],[Luminárias]],0),\"\")","v":""},{"$f":"IF(t_instalado[[#This Row],[Luminárias]]<>\"\",ROUND(t_instalado[[#This Row],[lm_médio]]/t_instalado[[#This Row],[W_médio]],2),\"\")","v":""}]
[211,{"$f":"_xlfn.XLOOKUP(t_instalado[[#This Row],[cód.]],t_sitio[cód],t_sitio[Trecho],\"\")","v":""},null,null,null,null,null,null,null,null,null,null,{"$f":"t_instalado[[#This Row],[Q.1]]+t_instalado[[#This Row],[Q.2]]+t_instalado[[#This Row],[Q.3]]","v":0},{"$f":"t_instalado[[#This Row],[Q.1]]+t_instalado[[#This Row],[Q.2]]+t_instalado[[#This Row],[Q.3]]","v":0},{"$f":"IF(t_instalado[[#This Row],[Q.1]]<>\"\",SUMIFS(t_reator[p],t_reator[tipo],t_instalado[[#This Row],[T.1]],t_reator[w],t_instalado[[#This Row],[P.1(W)]]),\"\")","v":""},{"$f":"IF(t_instalado[[#This Row],[Q.2]]<>\"\",SUMIFS(t_reator[p],t_reator[tipo],t_instalado[[#This Row],[T.2]],t_reator[w],t_instalado[[#This Row],[P.2(W)]]),\"\")","v":""},{"$f":"IF(t_instalado[[#This Row],[Q.3]]<>\"\",SUMIFS(t_reator[p],t_reator[tipo],t_instalado[[#This Row],[T.3]],t_reator[w],t_instalado[[#This Row],[P.3(W)]]),\"\")","v":""},{"$f":"IF(t_instalado[[#This Row],[Q.1]]<>\"\",IFERROR(IFERROR(D445*(E445+O445)+G445*(H445+P445)+J445*(K445+Q445),D445*(E445+O445)+G445*(H445+P445)),D445*(E445+O445)),\"\")","v":""},{"$f":"IF(t_instalado[[#This Row],[Consumo_W]]<>\"\",ROUND(t_instalado[[#This Row],[Consumo_W]]/t_instalado[[#This Row],[Luminárias]],0),\"\")","v":""},{"$f":"IF(t_instalado[[#This Row],[Q.1]]<>\"\",SUMIFS(t_fluxo_lumin[fluxo],t_fluxo_lumin[tipo],t_instalado[[#This Row],[T.1]])*t_instalado[[#This Row],[P.1(W)]]*t_instalado[[#This Row],[Q.1]],\"\")","v":""},{"$f":"IF(t_instalado[[#This Row],[Q.2]]<>\"\",SUMIFS(t_fluxo_lumin[fluxo],t_fluxo_lumin[tipo],t_instalado[[#This Row],[T.2]])*t_instalado[[#This Row],[Q.2]]*t_instalado[[#This Row],[P.2(W)]],\"\")","v":""},{"$f":"IF(t_instalado[[#This Row],[Q.3]]<>\"\",SUMIFS(t_fluxo_lumin[fluxo],t_fluxo_lumin[tipo],t_instalado[[#This Row],[T.3]])*t_instalado[[#This Row],[Q.3]]*t_instalado[[#This Row],[P.3(W)]],\"\")","v":""},{"$f":"IF(t_instalado[[#This Row],[Trecho]]<>\"\",SUM(t_instalado[[#This Row],[f.1]:[f.3]]),\"\")","v":""},{"$f":"IF(t_instalado[[#This Row],[Trecho]]<>\"\",t_instalado[[#This Row],[Q.1]]+t_instalado[[#This Row],[Q.2]]+t_instalado[[#This Row],[Q.3]],\"\")","v":""},{"$f":"IF(t_instalado[[#This Row],[FLUXO]]<>\"\",ROUND(t_instalado[[#This Row],[FLUXO]]/t_instalado[[#This Row],[Luminárias]],0),\"\")","v":""},{"$f":"IF(t_instalado[[#This Row],[Luminárias]]<>\"\",ROUND(t_instalado[[#This Row],[lm_médio]]/t_instalado[[#This Row],[W_médio]],2),\"\")","v":""}]
[212,{"$f":"_xlfn.XLOOKUP(t_instalado[[#This Row],[cód.]],t_sitio[cód],t_sitio[Trecho],\"\")","v":""},null,null,null,null,null,null,null,null,null,null,{"$f":"t_instalado[[#This Row],[Q.1]]+t_instalado[[#This Row],[Q.2]]+t_instalado[[#This Row],[Q.3]]","v":0},{"$f":"t_instalado[[#This Row],[Q.1]]+t_instalado[[#This Row],[Q.2]]+t_instalado[[#This Row],[Q.3]]","v":0},{"$f":"IF(t_instalado[[#This Row],[Q.1]]<>\"\",SUMIFS(t_reator[p],t_reator[tipo],t_instalado[[#This Row],[T.1]],t_reator[w],t_instalado[[#This Row],[P.1(W)]]),\"\")","v":""},{"$f":"IF(t_instalado[[#This Row],[Q.2]]<>\"\",SUMIFS(t_reator[p],t_reator[tipo],t_instalado[[#This Row],[T.2]],t_reator[w],t_instalado[[#This Row],[P.2(W)]]),\"\")","v":""},{"$f":"IF(t_instalado[[#This Row],[Q.3]]<>\"\",SUMIFS(t_reator[p],t_reator[tipo],t_instalado[[#This Row],[T.3]],t_reator[w],t_instalado[[#This Row],[P.3(W)]]),\"\")","v":""},{"$f":"IF(t_instalado[[#This Row],[Q.1]]<>\"\",IFERROR(IFERROR(D446*(E446+O446)+G446*(H446+P446)+J446*(K446+Q446),D446*(E446+O446)+G446*(H446+P446)),D446*(E446+O446)),\"\")","v":""},{"$f":"IF(t_instalado[[#This Row],[Consumo_W]]<>\"\",ROUND(t_instalado[[#This Row],[Consumo_W]]/t_instalado[[#This Row],[Luminárias]],0),\"\")","v":""},{"$f":"IF(t_instalado[[#This Row],[Q.1]]<>\"\",SUMIFS(t_fluxo_lumin[fluxo],t_fluxo_lumin[tipo],t_instalado[[#This Row],[T.1]])*t_instalado[[#This Row],[P.1(W)]]*t_instalado[[#This Row],[Q.1]],\"\")","v":""},{"$f":"IF(t_instalado[[#This Row],[Q.2]]<>\"\",SUMIFS(t_fluxo_lumin[fluxo],t_fluxo_lumin[tipo],t_instalado[[#This Row],[T.2]])*t_instalado[[#This Row],[Q.2]]*t_instalado[[#This Row],[P.2(W)]],\"\")","v":""},{"$f":"IF(t_instalado[[#This Row],[Q.3]]<>\"\",SUMIFS(t_fluxo_lumin[fluxo],t_fluxo_lumin[tipo],t_instalado[[#This Row],[T.3]])*t_instalado[[#This Row],[Q.3]]*t_instalado[[#This Row],[P.3(W)]],\"\")","v":""},{"$f":"IF(t_instalado[[#This Row],[Trecho]]<>\"\",SUM(t_instalado[[#This Row],[f.1]:[f.3]]),\"\")","v":""},{"$f":"IF(t_instalado[[#This Row],[Trecho]]<>\"\",t_instalado[[#This Row],[Q.1]]+t_instalado[[#This Row],[Q.2]]+t_instalado[[#This Row],[Q.3]],\"\")","v":""},{"$f":"IF(t_instalado[[#This Row],[FLUXO]]<>\"\",ROUND(t_instalado[[#This Row],[FLUXO]]/t_instalado[[#This Row],[Luminárias]],0),\"\")","v":""},{"$f":"IF(t_instalado[[#This Row],[Luminárias]]<>\"\",ROUND(t_instalado[[#This Row],[lm_médio]]/t_instalado[[#This Row],[W_médio]],2),\"\")","v":""}]
[213,{"$f":"_xlfn.XLOOKUP(t_instalado[[#This Row],[cód.]],t_sitio[cód],t_sitio[Trecho],\"\")","v":""},null,null,null,null,null,null,null,null,null,null,{"$f":"t_instalado[[#This Row],[Q.1]]+t_instalado[[#This Row],[Q.2]]+t_instalado[[#This Row],[Q.3]]","v":0},{"$f":"t_instalado[[#This Row],[Q.1]]+t_instalado[[#This Row],[Q.2]]+t_instalado[[#This Row],[Q.3]]","v":0},{"$f":"IF(t_instalado[[#This Row],[Q.1]]<>\"\",SUMIFS(t_reator[p],t_reator[tipo],t_instalado[[#This Row],[T.1]],t_reator[w],t_instalado[[#This Row],[P.1(W)]]),\"\")","v":""},{"$f":"IF(t_instalado[[#This Row],[Q.2]]<>\"\",SUMIFS(t_reator[p],t_reator[tipo],t_instalado[[#This Row],[T.2]],t_reator[w],t_instalado[[#This Row],[P.2(W)]]),\"\")","v":""},{"$f":"IF(t_instalado[[#This Row],[Q.3]]<>\"\",SUMIFS(t_reator[p],t_reator[tipo],t_instalado[[#This Row],[T.3]],t_reator[w],t_instalado[[#This Row],[P.3(W)]]),\"\")","v":""},{"$f":"IF(t_instalado[[#This Row],[Q.1]]<>\"\",IFERROR(IFERROR(D447*(E447+O447)+G447*(H447+P447)+J447*(K447+Q447),D447*(E447+O447)+G447*(H447+P447)),D447*(E447+O447)),\"\")","v":""},{"$f":"IF(t_instalado[[#This Row],[Consumo_W]]<>\"\",ROUND(t_instalado[[#This Row],[Consumo_W]]/t_instalado[[#This Row],[Luminárias]],0),\"\")","v":""},{"$f":"IF(t_instalado[[#This Row],[Q.1]]<>\"\",SUMIFS(t_fluxo_lumin[fluxo],t_fluxo_lumin[tipo],t_instalado[[#This Row],[T.1]])*t_instalado[[#This Row],[P.1(W)]]*t_instalado[[#This Row],[Q.1]],\"\")","v":""},{"$f":"IF(t_instalado[[#This Row],[Q.2]]<>\"\",SUMIFS(t_fluxo_lumin[fluxo],t_fluxo_lumin[tipo],t_instalado[[#This Row],[T.2]])*t_instalado[[#This Row],[Q.2]]*t_instalado[[#This Row],[P.2(W)]],\"\")","v":""},{"$f":"IF(t_instalado[[#This Row],[Q.3]]<>\"\",SUMIFS(t_fluxo_lumin[fluxo],t_fluxo_lumin[tipo],t_instalado[[#This Row],[T.3]])*t_instalado[[#This Row],[Q.3]]*t_instalado[[#This Row],[P.3(W)]],\"\")","v":""},{"$f":"IF(t_instalado[[#This Row],[Trecho]]<>\"\",SUM(t_instalado[[#This Row],[f.1]:[f.3]]),\"\")","v":""},{"$f":"IF(t_instalado[[#This Row],[Trecho]]<>\"\",t_instalado[[#This Row],[Q.1]]+t_instalado[[#This Row],[Q.2]]+t_instalado[[#This Row],[Q.3]],\"\")","v":""},{"$f":"IF(t_instalado[[#This Row],[FLUXO]]<>\"\",ROUND(t_instalado[[#This Row],[FLUXO]]/t_instalado[[#This Row],[Luminárias]],0),\"\")","v":""},{"$f":"IF(t_instalado[[#This Row],[Luminárias]]<>\"\",ROUND(t_instalado[[#This Row],[lm_médio]]/t_instalado[[#This Row],[W_médio]],2),\"\")","v":""}]
[214,{"$f":"_xlfn.XLOOKUP(t_instalado[[#This Row],[cód.]],t_sitio[cód],t_sitio[Trecho],\"\")","v":""},null,null,null,null,null,null,null,null,null,null,{"$f":"t_instalado[[#This Row],[Q.1]]+t_instalado[[#This Row],[Q.2]]+t_instalado[[#This Row],[Q.3]]","v":0},{"$f":"t_instalado[[#This Row],[Q.1]]+t_instalado[[#This Row],[Q.2]]+t_instalado[[#This Row],[Q.3]]","v":0},{"$f":"IF(t_instalado[[#This Row],[Q.1]]<>\"\",SUMIFS(t_reator[p],t_reator[tipo],t_instalado[[#This Row],[T.1]],t_reator[w],t_instalado[[#This Row],[P.1(W)]]),\"\")","v":""},{"$f":"IF(t_instalado[[#This Row],[Q.2]]<>\"\",SUMIFS(t_reator[p],t_reator[tipo],t_instalado[[#This Row],[T.2]],t_reator[w],t_instalado[[#This Row],[P.2(W)]]),\"\")","v":""},{"$f":"IF(t_instalado[[#This Row],[Q.3]]<>\"\",SUMIFS(t_reator[p],t_reator[tipo],t_instalado[[#This Row],[T.3]],t_reator[w],t_instalado[[#This Row],[P.3(W)]]),\"\")","v":""},{"$f":"IF(t_instalado[[#This Row],[Q.1]]<>\"\",IFERROR(IFERROR(D448*(E448+O448)+G448*(H448+P448)+J448*(K448+Q448),D448*(E448+O448)+G448*(H448+P448)),D448*(E448+O448)),\"\")","v":""},{"$f":"IF(t_instalado[[#This Row],[Consumo_W]]<>\"\",ROUND(t_instalado[[#This Row],[Consumo_W]]/t_instalado[[#This Row],[Luminárias]],0),\"\")","v":""},{"$f":"IF(t_instalado[[#This Row],[Q.1]]<>\"\",SUMIFS(t_fluxo_lumin[fluxo],t_fluxo_lumin[tipo],t_instalado[[#This Row],[T.1]])*t_instalado[[#This Row],[P.1(W)]]*t_instalado[[#This Row],[Q.1]],\"\")","v":""},{"$f":"IF(t_instalado[[#This Row],[Q.2]]<>\"\",SUMIFS(t_fluxo_lumin[fluxo],t_fluxo_lumin[tipo],t_instalado[[#This Row],[T.2]])*t_instalado[[#This Row],[Q.2]]*t_instalado[[#This Row],[P.2(W)]],\"\")","v":""},{"$f":"IF(t_instalado[[#This Row],[Q.3]]<>\"\",SUMIFS(t_fluxo_lumin[fluxo],t_fluxo_lumin[tipo],t_instalado[[#This Row],[T.3]])*t_instalado[[#This Row],[Q.3]]*t_instalado[[#This Row],[P.3(W)]],\"\")","v":""},{"$f":"IF(t_instalado[[#This Row],[Trecho]]<>\"\",SUM(t_instalado[[#This Row],[f.1]:[f.3]]),\"\")","v":""},{"$f":"IF(t_instalado[[#This Row],[Trecho]]<>\"\",t_instalado[[#This Row],[Q.1]]+t_instalado[[#This Row],[Q.2]]+t_instalado[[#This Row],[Q.3]],\"\")","v":""},{"$f":"IF(t_instalado[[#This Row],[FLUXO]]<>\"\",ROUND(t_instalado[[#This Row],[FLUXO]]/t_instalado[[#This Row],[Luminárias]],0),\"\")","v":""},{"$f":"IF(t_instalado[[#This Row],[Luminárias]]<>\"\",ROUND(t_instalado[[#This Row],[lm_médio]]/t_instalado[[#This Row],[W_médio]],2),\"\")","v":""}]
[215,{"$f":"_xlfn.XLOOKUP(t_instalado[[#This Row],[cód.]],t_sitio[cód],t_sitio[Trecho],\"\")","v":""},null,null,null,null,null,null,null,null,null,null,{"$f":"t_instalado[[#This Row],[Q.1]]+t_instalado[[#This Row],[Q.2]]+t_instalado[[#This Row],[Q.3]]","v":0},{"$f":"t_instalado[[#This Row],[Q.1]]+t_instalado[[#This Row],[Q.2]]+t_instalado[[#This Row],[Q.3]]","v":0},{"$f":"IF(t_instalado[[#This Row],[Q.1]]<>\"\",SUMIFS(t_reator[p],t_reator[tipo],t_instalado[[#This Row],[T.1]],t_reator[w],t_instalado[[#This Row],[P.1(W)]]),\"\")","v":""},{"$f":"IF(t_instalado[[#This Row],[Q.2]]<>\"\",SUMIFS(t_reator[p],t_reator[tipo],t_instalado[[#This Row],[T.2]],t_reator[w],t_instalado[[#This Row],[P.2(W)]]),\"\")","v":""},{"$f":"IF(t_instalado[[#This Row],[Q.3]]<>\"\",SUMIFS(t_reator[p],t_reator[tipo],t_instalado[[#This Row],[T.3]],t_reator[w],t_instalado[[#This Row],[P.3(W)]]),\"\")","v":""},{"$f":"IF(t_instalado[[#This Row],[Q.1]]<>\"\",IFERROR(IFERROR(D449*(E449+O449)+G449*(H449+P449)+J449*(K449+Q449),D449*(E449+O449)+G449*(H449+P449)),D449*(E449+O449)),\"\")","v":""},{"$f":"IF(t_instalado[[#This Row],[Consumo_W]]<>\"\",ROUND(t_instalado[[#This Row],[Consumo_W]]/t_instalado[[#This Row],[Luminárias]],0),\"\")","v":""},{"$f":"IF(t_instalado[[#This Row],[Q.1]]<>\"\",SUMIFS(t_fluxo_lumin[fluxo],t_fluxo_lumin[tipo],t_instalado[[#This Row],[T.1]])*t_instalado[[#This Row],[P.1(W)]]*t_instalado[[#This Row],[Q.1]],\"\")","v":""},{"$f":"IF(t_instalado[[#This Row],[Q.2]]<>\"\",SUMIFS(t_fluxo_lumin[fluxo],t_fluxo_lumin[tipo],t_instalado[[#This Row],[T.2]])*t_instalado[[#This Row],[Q.2]]*t_instalado[[#This Row],[P.2(W)]],\"\")","v":""},{"$f":"IF(t_instalado[[#This Row],[Q.3]]<>\"\",SUMIFS(t_fluxo_lumin[fluxo],t_fluxo_lumin[tipo],t_instalado[[#This Row],[T.3]])*t_instalado[[#This Row],[Q.3]]*t_instalado[[#This Row],[P.3(W)]],\"\")","v":""},{"$f":"IF(t_instalado[[#This Row],[Trecho]]<>\"\",SUM(t_instalado[[#This Row],[f.1]:[f.3]]),\"\")","v":""},{"$f":"IF(t_instalado[[#This Row],[Trecho]]<>\"\",t_instalado[[#This Row],[Q.1]]+t_instalado[[#This Row],[Q.2]]+t_instalado[[#This Row],[Q.3]],\"\")","v":""},{"$f":"IF(t_instalado[[#This Row],[FLUXO]]<>\"\",ROUND(t_instalado[[#This Row],[FLUXO]]/t_instalado[[#This Row],[Luminárias]],0),\"\")","v":""},{"$f":"IF(t_instalado[[#This Row],[Luminárias]]<>\"\",ROUND(t_instalado[[#This Row],[lm_médio]]/t_instalado[[#This Row],[W_médio]],2),\"\")","v":""}]
[216,{"$f":"_xlfn.XLOOKUP(t_instalado[[#This Row],[cód.]],t_sitio[cód],t_sitio[Trecho],\"\")","v":""},null,null,null,null,null,null,null,null,null,null,{"$f":"t_instalado[[#This Row],[Q.1]]+t_instalado[[#This Row],[Q.2]]+t_instalado[[#This Row],[Q.3]]","v":0},{"$f":"t_instalado[[#This Row],[Q.1]]+t_instalado[[#This Row],[Q.2]]+t_instalado[[#This Row],[Q.3]]","v":0},{"$f":"IF(t_instalado[[#This Row],[Q.1]]<>\"\",SUMIFS(t_reator[p],t_reator[tipo],t_instalado[[#This Row],[T.1]],t_reator[w],t_instalado[[#This Row],[P.1(W)]]),\"\")","v":""},{"$f":"IF(t_instalado[[#This Row],[Q.2]]<>\"\",SUMIFS(t_reator[p],t_reator[tipo],t_instalado[[#This Row],[T.2]],t_reator[w],t_instalado[[#This Row],[P.2(W)]]),\"\")","v":""},{"$f":"IF(t_instalado[[#This Row],[Q.3]]<>\"\",SUMIFS(t_reator[p],t_reator[tipo],t_instalado[[#This Row],[T.3]],t_reator[w],t_instalado[[#This Row],[P.3(W)]]),\"\")","v":""},{"$f":"IF(t_instalado[[#This Row],[Q.1]]<>\"\",IFERROR(IFERROR(D450*(E450+O450)+G450*(H450+P450)+J450*(K450+Q450),D450*(E450+O450)+G450*(H450+P450)),D450*(E450+O450)),\"\")","v":""},{"$f":"IF(t_instalado[[#This Row],[Consumo_W]]<>\"\",ROUND(t_instalado[[#This Row],[Consumo_W]]/t_instalado[[#This Row],[Luminárias]],0),\"\")","v":""},{"$f":"IF(t_instalado[[#This Row],[Q.1]]<>\"\",SUMIFS(t_fluxo_lumin[fluxo],t_fluxo_lumin[tipo],t_instalado[[#This Row],[T.1]])*t_instalado[[#This Row],[P.1(W)]]*t_instalado[[#This Row],[Q.1]],\"\")","v":""},{"$f":"IF(t_instalado[[#This Row],[Q.2]]<>\"\",SUMIFS(t_fluxo_lumin[fluxo],t_fluxo_lumin[tipo],t_instalado[[#This Row],[T.2]])*t_instalado[[#This Row],[Q.2]]*t_instalado[[#This Row],[P.2(W)]],\"\")","v":""},{"$f":"IF(t_instalado[[#This Row],[Q.3]]<>\"\",SUMIFS(t_fluxo_lumin[fluxo],t_fluxo_lumin[tipo],t_instalado[[#This Row],[T.3]])*t_instalado[[#This Row],[Q.3]]*t_instalado[[#This Row],[P.3(W)]],\"\")","v":""},{"$f":"IF(t_instalado[[#This Row],[Trecho]]<>\"\",SUM(t_instalado[[#This Row],[f.1]:[f.3]]),\"\")","v":""},{"$f":"IF(t_instalado[[#This Row],[Trecho]]<>\"\",t_instalado[[#This Row],[Q.1]]+t_instalado[[#This Row],[Q.2]]+t_instalado[[#This Row],[Q.3]],\"\")","v":""},{"$f":"IF(t_instalado[[#This Row],[FLUXO]]<>\"\",ROUND(t_instalado[[#This Row],[FLUXO]]/t_instalado[[#This Row],[Luminárias]],0),\"\")","v":""},{"$f":"IF(t_instalado[[#This Row],[Luminárias]]<>\"\",ROUND(t_instalado[[#This Row],[lm_médio]]/t_instalado[[#This Row],[W_médio]],2),\"\")","v":""}]
[217,{"$f":"_xlfn.XLOOKUP(t_instalado[[#This Row],[cód.]],t_sitio[cód],t_sitio[Trecho],\"\")","v":""},null,null,null,null,null,null,null,null,null,null,{"$f":"t_instalado[[#This Row],[Q.1]]+t_instalado[[#This Row],[Q.2]]+t_instalado[[#This Row],[Q.3]]","v":0},{"$f":"t_instalado[[#This Row],[Q.1]]+t_instalado[[#This Row],[Q.2]]+t_instalado[[#This Row],[Q.3]]","v":0},{"$f":"IF(t_instalado[[#This Row],[Q.1]]<>\"\",SUMIFS(t_reator[p],t_reator[tipo],t_instalado[[#This Row],[T.1]],t_reator[w],t_instalado[[#This Row],[P.1(W)]]),\"\")","v":""},{"$f":"IF(t_instalado[[#This Row],[Q.2]]<>\"\",SUMIFS(t_reator[p],t_reator[tipo],t_instalado[[#This Row],[T.2]],t_reator[w],t_instalado[[#This Row],[P.2(W)]]),\"\")","v":""},{"$f":"IF(t_instalado[[#This Row],[Q.3]]<>\"\",SUMIFS(t_reator[p],t_reator[tipo],t_instalado[[#This Row],[T.3]],t_reator[w],t_instalado[[#This Row],[P.3(W)]]),\"\")","v":""},{"$f":"IF(t_instalado[[#This Row],[Q.1]]<>\"\",IFERROR(IFERROR(D451*(E451+O451)+G451*(H451+P451)+J451*(K451+Q451),D451*(E451+O451)+G451*(H451+P451)),D451*(E451+O451)),\"\")","v":""},{"$f":"IF(t_instalado[[#This Row],[Consumo_W]]<>\"\",ROUND(t_instalado[[#This Row],[Consumo_W]]/t_instalado[[#This Row],[Luminárias]],0),\"\")","v":""},{"$f":"IF(t_instalado[[#This Row],[Q.1]]<>\"\",SUMIFS(t_fluxo_lumin[fluxo],t_fluxo_lumin[tipo],t_instalado[[#This Row],[T.1]])*t_instalado[[#This Row],[P.1(W)]]*t_instalado[[#This Row],[Q.1]],\"\")","v":""},{"$f":"IF(t_instalado[[#This Row],[Q.2]]<>\"\",SUMIFS(t_fluxo_lumin[fluxo],t_fluxo_lumin[tipo],t_instalado[[#This Row],[T.2]])*t_instalado[[#This Row],[Q.2]]*t_instalado[[#This Row],[P.2(W)]],\"\")","v":""},{"$f":"IF(t_instalado[[#This Row],[Q.3]]<>\"\",SUMIFS(t_fluxo_lumin[fluxo],t_fluxo_lumin[tipo],t_instalado[[#This Row],[T.3]])*t_instalado[[#This Row],[Q.3]]*t_instalado[[#This Row],[P.3(W)]],\"\")","v":""},{"$f":"IF(t_instalado[[#This Row],[Trecho]]<>\"\",SUM(t_instalado[[#This Row],[f.1]:[f.3]]),\"\")","v":""},{"$f":"IF(t_instalado[[#This Row],[Trecho]]<>\"\",t_instalado[[#This Row],[Q.1]]+t_instalado[[#This Row],[Q.2]]+t_instalado[[#This Row],[Q.3]],\"\")","v":""},{"$f":"IF(t_instalado[[#This Row],[FLUXO]]<>\"\",ROUND(t_instalado[[#This Row],[FLUXO]]/t_instalado[[#This Row],[Luminárias]],0),\"\")","v":""},{"$f":"IF(t_instalado[[#This Row],[Luminárias]]<>\"\",ROUND(t_instalado[[#This Row],[lm_médio]]/t_instalado[[#This Row],[W_médio]],2),\"\")","v":""}]
[218,{"$f":"_xlfn.XLOOKUP(t_instalado[[#This Row],[cód.]],t_sitio[cód],t_sitio[Trecho],\"\")","v":""},null,null,null,null,null,null,null,null,null,null,{"$f":"t_instalado[[#This Row],[Q.1]]+t_instalado[[#This Row],[Q.2]]+t_instalado[[#This Row],[Q.3]]","v":0},{"$f":"t_instalado[[#This Row],[Q.1]]+t_instalado[[#This Row],[Q.2]]+t_instalado[[#This Row],[Q.3]]","v":0},{"$f":"IF(t_instalado[[#This Row],[Q.1]]<>\"\",SUMIFS(t_reator[p],t_reator[tipo],t_instalado[[#This Row],[T.1]],t_reator[w],t_instalado[[#This Row],[P.1(W)]]),\"\")","v":""},{"$f":"IF(t_instalado[[#This Row],[Q.2]]<>\"\",SUMIFS(t_reator[p],t_reator[tipo],t_instalado[[#This Row],[T.2]],t_reator[w],t_instalado[[#This Row],[P.2(W)]]),\"\")","v":""},{"$f":"IF(t_instalado[[#This Row],[Q.3]]<>\"\",SUMIFS(t_reator[p],t_reator[tipo],t_instalado[[#This Row],[T.3]],t_reator[w],t_instalado[[#This Row],[P.3(W)]]),\"\")","v":""},{"$f":"IF(t_instalado[[#This Row],[Q.1]]<>\"\",IFERROR(IFERROR(D452*(E452+O452)+G452*(H452+P452)+J452*(K452+Q452),D452*(E452+O452)+G452*(H452+P452)),D452*(E452+O452)),\"\")","v":""},{"$f":"IF(t_instalado[[#This Row],[Consumo_W]]<>\"\",ROUND(t_instalado[[#This Row],[Consumo_W]]/t_instalado[[#This Row],[Luminárias]],0),\"\")","v":""},{"$f":"IF(t_instalado[[#This Row],[Q.1]]<>\"\",SUMIFS(t_fluxo_lumin[fluxo],t_fluxo_lumin[tipo],t_instalado[[#This Row],[T.1]])*t_instalado[[#This Row],[P.1(W)]]*t_instalado[[#This Row],[Q.1]],\"\")","v":""},{"$f":"IF(t_instalado[[#This Row],[Q.2]]<>\"\",SUMIFS(t_fluxo_lumin[fluxo],t_fluxo_lumin[tipo],t_instalado[[#This Row],[T.2]])*t_instalado[[#This Row],[Q.2]]*t_instalado[[#This Row],[P.2(W)]],\"\")","v":""},{"$f":"IF(t_instalado[[#This Row],[Q.3]]<>\"\",SUMIFS(t_fluxo_lumin[fluxo],t_fluxo_lumin[tipo],t_instalado[[#This Row],[T.3]])*t_instalado[[#This Row],[Q.3]]*t_instalado[[#This Row],[P.3(W)]],\"\")","v":""},{"$f":"IF(t_instalado[[#This Row],[Trecho]]<>\"\",SUM(t_instalado[[#This Row],[f.1]:[f.3]]),\"\")","v":""},{"$f":"IF(t_instalado[[#This Row],[Trecho]]<>\"\",t_instalado[[#This Row],[Q.1]]+t_instalado[[#This Row],[Q.2]]+t_instalado[[#This Row],[Q.3]],\"\")","v":""},{"$f":"IF(t_instalado[[#This Row],[FLUXO]]<>\"\",ROUND(t_instalado[[#This Row],[FLUXO]]/t_instalado[[#This Row],[Luminárias]],0),\"\")","v":""},{"$f":"IF(t_instalado[[#This Row],[Luminárias]]<>\"\",ROUND(t_instalado[[#This Row],[lm_médio]]/t_instalado[[#This Row],[W_médio]],2),\"\")","v":""}]
[219,{"$f":"_xlfn.XLOOKUP(t_instalado[[#This Row],[cód.]],t_sitio[cód],t_sitio[Trecho],\"\")","v":""},null,null,null,null,null,null,null,null,null,null,{"$f":"t_instalado[[#This Row],[Q.1]]+t_instalado[[#This Row],[Q.2]]+t_instalado[[#This Row],[Q.3]]","v":0},{"$f":"t_instalado[[#This Row],[Q.1]]+t_instalado[[#This Row],[Q.2]]+t_instalado[[#This Row],[Q.3]]","v":0},{"$f":"IF(t_instalado[[#This Row],[Q.1]]<>\"\",SUMIFS(t_reator[p],t_reator[tipo],t_instalado[[#This Row],[T.1]],t_reator[w],t_instalado[[#This Row],[P.1(W)]]),\"\")","v":""},{"$f":"IF(t_instalado[[#This Row],[Q.2]]<>\"\",SUMIFS(t_reator[p],t_reator[tipo],t_instalado[[#This Row],[T.2]],t_reator[w],t_instalado[[#This Row],[P.2(W)]]),\"\")","v":""},{"$f":"IF(t_instalado[[#This Row],[Q.3]]<>\"\",SUMIFS(t_reator[p],t_reator[tipo],t_instalado[[#This Row],[T.3]],t_reator[w],t_instalado[[#This Row],[P.3(W)]]),\"\")","v":""},{"$f":"IF(t_instalado[[#This Row],[Q.1]]<>\"\",IFERROR(IFERROR(D453*(E453+O453)+G453*(H453+P453)+J453*(K453+Q453),D453*(E453+O453)+G453*(H453+P453)),D453*(E453+O453)),\"\")","v":""},{"$f":"IF(t_instalado[[#This Row],[Consumo_W]]<>\"\",ROUND(t_instalado[[#This Row],[Consumo_W]]/t_instalado[[#This Row],[Luminárias]],0),\"\")","v":""},{"$f":"IF(t_instalado[[#This Row],[Q.1]]<>\"\",SUMIFS(t_fluxo_lumin[fluxo],t_fluxo_lumin[tipo],t_instalado[[#This Row],[T.1]])*t_instalado[[#This Row],[P.1(W)]]*t_instalado[[#This Row],[Q.1]],\"\")","v":""},{"$f":"IF(t_instalado[[#This Row],[Q.2]]<>\"\",SUMIFS(t_fluxo_lumin[fluxo],t_fluxo_lumin[tipo],t_instalado[[#This Row],[T.2]])*t_instalado[[#This Row],[Q.2]]*t_instalado[[#This Row],[P.2(W)]],\"\")","v":""},{"$f":"IF(t_instalado[[#This Row],[Q.3]]<>\"\",SUMIFS(t_fluxo_lumin[fluxo],t_fluxo_lumin[tipo],t_instalado[[#This Row],[T.3]])*t_instalado[[#This Row],[Q.3]]*t_instalado[[#This Row],[P.3(W)]],\"\")","v":""},{"$f":"IF(t_instalado[[#This Row],[Trecho]]<>\"\",SUM(t_instalado[[#This Row],[f.1]:[f.3]]),\"\")","v":""},{"$f":"IF(t_instalado[[#This Row],[Trecho]]<>\"\",t_instalado[[#This Row],[Q.1]]+t_instalado[[#This Row],[Q.2]]+t_instalado[[#This Row],[Q.3]],\"\")","v":""},{"$f":"IF(t_instalado[[#This Row],[FLUXO]]<>\"\",ROUND(t_instalado[[#This Row],[FLUXO]]/t_instalado[[#This Row],[Luminárias]],0),\"\")","v":""},{"$f":"IF(t_instalado[[#This Row],[Luminárias]]<>\"\",ROUND(t_instalado[[#This Row],[lm_médio]]/t_instalado[[#This Row],[W_médio]],2),\"\")","v":""}]
[220,{"$f":"_xlfn.XLOOKUP(t_instalado[[#This Row],[cód.]],t_sitio[cód],t_sitio[Trecho],\"\")","v":""},null,null,null,null,null,null,null,null,null,null,{"$f":"t_instalado[[#This Row],[Q.1]]+t_instalado[[#This Row],[Q.2]]+t_instalado[[#This Row],[Q.3]]","v":0},{"$f":"t_instalado[[#This Row],[Q.1]]+t_instalado[[#This Row],[Q.2]]+t_instalado[[#This Row],[Q.3]]","v":0},{"$f":"IF(t_instalado[[#This Row],[Q.1]]<>\"\",SUMIFS(t_reator[p],t_reator[tipo],t_instalado[[#This Row],[T.1]],t_reator[w],t_instalado[[#This Row],[P.1(W)]]),\"\")","v":""},{"$f":"IF(t_instalado[[#This Row],[Q.2]]<>\"\",SUMIFS(t_reator[p],t_reator[tipo],t_instalado[[#This Row],[T.2]],t_reator[w],t_instalado[[#This Row],[P.2(W)]]),\"\")","v":""},{"$f":"IF(t_instalado[[#This Row],[Q.3]]<>\"\",SUMIFS(t_reator[p],t_reator[tipo],t_instalado[[#This Row],[T.3]],t_reator[w],t_instalado[[#This Row],[P.3(W)]]),\"\")","v":""},{"$f":"IF(t_instalado[[#This Row],[Q.1]]<>\"\",IFERROR(IFERROR(D454*(E454+O454)+G454*(H454+P454)+J454*(K454+Q454),D454*(E454+O454)+G454*(H454+P454)),D454*(E454+O454)),\"\")","v":""},{"$f":"IF(t_instalado[[#This Row],[Consumo_W]]<>\"\",ROUND(t_instalado[[#This Row],[Consumo_W]]/t_instalado[[#This Row],[Luminárias]],0),\"\")","v":""},{"$f":"IF(t_instalado[[#This Row],[Q.1]]<>\"\",SUMIFS(t_fluxo_lumin[fluxo],t_fluxo_lumin[tipo],t_instalado[[#This Row],[T.1]])*t_instalado[[#This Row],[P.1(W)]]*t_instalado[[#This Row],[Q.1]],\"\")","v":""},{"$f":"IF(t_instalado[[#This Row],[Q.2]]<>\"\",SUMIFS(t_fluxo_lumin[fluxo],t_fluxo_lumin[tipo],t_instalado[[#This Row],[T.2]])*t_instalado[[#This Row],[Q.2]]*t_instalado[[#This Row],[P.2(W)]],\"\")","v":""},{"$f":"IF(t_instalado[[#This Row],[Q.3]]<>\"\",SUMIFS(t_fluxo_lumin[fluxo],t_fluxo_lumin[tipo],t_instalado[[#This Row],[T.3]])*t_instalado[[#This Row],[Q.3]]*t_instalado[[#This Row],[P.3(W)]],\"\")","v":""},{"$f":"IF(t_instalado[[#This Row],[Trecho]]<>\"\",SUM(t_instalado[[#This Row],[f.1]:[f.3]]),\"\")","v":""},{"$f":"IF(t_instalado[[#This Row],[Trecho]]<>\"\",t_instalado[[#This Row],[Q.1]]+t_instalado[[#This Row],[Q.2]]+t_instalado[[#This Row],[Q.3]],\"\")","v":""},{"$f":"IF(t_instalado[[#This Row],[FLUXO]]<>\"\",ROUND(t_instalado[[#This Row],[FLUXO]]/t_instalado[[#This Row],[Luminárias]],0),\"\")","v":""},{"$f":"IF(t_instalado[[#This Row],[Luminárias]]<>\"\",ROUND(t_instalado[[#This Row],[lm_médio]]/t_instalado[[#This Row],[W_médio]],2),\"\")","v":""}]
[221,{"$f":"_xlfn.XLOOKUP(t_instalado[[#This Row],[cód.]],t_sitio[cód],t_sitio[Trecho],\"\")","v":""},null,null,null,null,null,null,null,null,null,null,{"$f":"t_instalado[[#This Row],[Q.1]]+t_instalado[[#This Row],[Q.2]]+t_instalado[[#This Row],[Q.3]]","v":0},{"$f":"t_instalado[[#This Row],[Q.1]]+t_instalado[[#This Row],[Q.2]]+t_instalado[[#This Row],[Q.3]]","v":0},{"$f":"IF(t_instalado[[#This Row],[Q.1]]<>\"\",SUMIFS(t_reator[p],t_reator[tipo],t_instalado[[#This Row],[T.1]],t_reator[w],t_instalado[[#This Row],[P.1(W)]]),\"\")","v":""},{"$f":"IF(t_instalado[[#This Row],[Q.2]]<>\"\",SUMIFS(t_reator[p],t_reator[tipo],t_instalado[[#This Row],[T.2]],t_reator[w],t_instalado[[#This Row],[P.2(W)]]),\"\")","v":""},{"$f":"IF(t_instalado[[#This Row],[Q.3]]<>\"\",SUMIFS(t_reator[p],t_reator[tipo],t_instalado[[#This Row],[T.3]],t_reator[w],t_instalado[[#This Row],[P.3(W)]]),\"\")","v":""},{"$f":"IF(t_instalado[[#This Row],[Q.1]]<>\"\",IFERROR(IFERROR(D455*(E455+O455)+G455*(H455+P455)+J455*(K455+Q455),D455*(E455+O455)+G455*(H455+P455)),D455*(E455+O455)),\"\")","v":""},{"$f":"IF(t_instalado[[#This Row],[Consumo_W]]<>\"\",ROUND(t_instalado[[#This Row],[Consumo_W]]/t_instalado[[#This Row],[Luminárias]],0),\"\")","v":""},{"$f":"IF(t_instalado[[#This Row],[Q.1]]<>\"\",SUMIFS(t_fluxo_lumin[fluxo],t_fluxo_lumin[tipo],t_instalado[[#This Row],[T.1]])*t_instalado[[#This Row],[P.1(W)]]*t_instalado[[#This Row],[Q.1]],\"\")","v":""},{"$f":"IF(t_instalado[[#This Row],[Q.2]]<>\"\",SUMIFS(t_fluxo_lumin[fluxo],t_fluxo_lumin[tipo],t_instalado[[#This Row],[T.2]])*t_instalado[[#This Row],[Q.2]]*t_instalado[[#This Row],[P.2(W)]],\"\")","v":""},{"$f":"IF(t_instalado[[#This Row],[Q.3]]<>\"\",SUMIFS(t_fluxo_lumin[fluxo],t_fluxo_lumin[tipo],t_instalado[[#This Row],[T.3]])*t_instalado[[#This Row],[Q.3]]*t_instalado[[#This Row],[P.3(W)]],\"\")","v":""},{"$f":"IF(t_instalado[[#This Row],[Trecho]]<>\"\",SUM(t_instalado[[#This Row],[f.1]:[f.3]]),\"\")","v":""},{"$f":"IF(t_instalado[[#This Row],[Trecho]]<>\"\",t_instalado[[#This Row],[Q.1]]+t_instalado[[#This Row],[Q.2]]+t_instalado[[#This Row],[Q.3]],\"\")","v":""},{"$f":"IF(t_instalado[[#This Row],[FLUXO]]<>\"\",ROUND(t_instalado[[#This Row],[FLUXO]]/t_instalado[[#This Row],[Luminárias]],0),\"\")","v":""},{"$f":"IF(t_instalado[[#This Row],[Luminárias]]<>\"\",ROUND(t_instalado[[#This Row],[lm_médio]]/t_instalado[[#This Row],[W_médio]],2),\"\")","v":""}]
[222,{"$f":"_xlfn.XLOOKUP(t_instalado[[#This Row],[cód.]],t_sitio[cód],t_sitio[Trecho],\"\")","v":""},null,null,null,null,null,null,null,null,null,null,{"$f":"t_instalado[[#This Row],[Q.1]]+t_instalado[[#This Row],[Q.2]]+t_instalado[[#This Row],[Q.3]]","v":0},{"$f":"t_instalado[[#This Row],[Q.1]]+t_instalado[[#This Row],[Q.2]]+t_instalado[[#This Row],[Q.3]]","v":0},{"$f":"IF(t_instalado[[#This Row],[Q.1]]<>\"\",SUMIFS(t_reator[p],t_reator[tipo],t_instalado[[#This Row],[T.1]],t_reator[w],t_instalado[[#This Row],[P.1(W)]]),\"\")","v":""},{"$f":"IF(t_instalado[[#This Row],[Q.2]]<>\"\",SUMIFS(t_reator[p],t_reator[tipo],t_instalado[[#This Row],[T.2]],t_reator[w],t_instalado[[#This Row],[P.2(W)]]),\"\")","v":""},{"$f":"IF(t_instalado[[#This Row],[Q.3]]<>\"\",SUMIFS(t_reator[p],t_reator[tipo],t_instalado[[#This Row],[T.3]],t_reator[w],t_instalado[[#This Row],[P.3(W)]]),\"\")","v":""},{"$f":"IF(t_instalado[[#This Row],[Q.1]]<>\"\",IFERROR(IFERROR(D456*(E456+O456)+G456*(H456+P456)+J456*(K456+Q456),D456*(E456+O456)+G456*(H456+P456)),D456*(E456+O456)),\"\")","v":""},{"$f":"IF(t_instalado[[#This Row],[Consumo_W]]<>\"\",ROUND(t_instalado[[#This Row],[Consumo_W]]/t_instalado[[#This Row],[Luminárias]],0),\"\")","v":""},{"$f":"IF(t_instalado[[#This Row],[Q.1]]<>\"\",SUMIFS(t_fluxo_lumin[fluxo],t_fluxo_lumin[tipo],t_instalado[[#This Row],[T.1]])*t_instalado[[#This Row],[P.1(W)]]*t_instalado[[#This Row],[Q.1]],\"\")","v":""},{"$f":"IF(t_instalado[[#This Row],[Q.2]]<>\"\",SUMIFS(t_fluxo_lumin[fluxo],t_fluxo_lumin[tipo],t_instalado[[#This Row],[T.2]])*t_instalado[[#This Row],[Q.2]]*t_instalado[[#This Row],[P.2(W)]],\"\")","v":""},{"$f":"IF(t_instalado[[#This Row],[Q.3]]<>\"\",SUMIFS(t_fluxo_lumin[fluxo],t_fluxo_lumin[tipo],t_instalado[[#This Row],[T.3]])*t_instalado[[#This Row],[Q.3]]*t_instalado[[#This Row],[P.3(W)]],\"\")","v":""},{"$f":"IF(t_instalado[[#This Row],[Trecho]]<>\"\",SUM(t_instalado[[#This Row],[f.1]:[f.3]]),\"\")","v":""},{"$f":"IF(t_instalado[[#This Row],[Trecho]]<>\"\",t_instalado[[#This Row],[Q.1]]+t_instalado[[#This Row],[Q.2]]+t_instalado[[#This Row],[Q.3]],\"\")","v":""},{"$f":"IF(t_instalado[[#This Row],[FLUXO]]<>\"\",ROUND(t_instalado[[#This Row],[FLUXO]]/t_instalado[[#This Row],[Luminárias]],0),\"\")","v":""},{"$f":"IF(t_instalado[[#This Row],[Luminárias]]<>\"\",ROUND(t_instalado[[#This Row],[lm_médio]]/t_instalado[[#This Row],[W_médio]],2),\"\")","v":""}]
[223,{"$f":"_xlfn.XLOOKUP(t_instalado[[#This Row],[cód.]],t_sitio[cód],t_sitio[Trecho],\"\")","v":""},null,null,null,null,null,null,null,null,null,null,{"$f":"t_instalado[[#This Row],[Q.1]]+t_instalado[[#This Row],[Q.2]]+t_instalado[[#This Row],[Q.3]]","v":0},{"$f":"t_instalado[[#This Row],[Q.1]]+t_instalado[[#This Row],[Q.2]]+t_instalado[[#This Row],[Q.3]]","v":0},{"$f":"IF(t_instalado[[#This Row],[Q.1]]<>\"\",SUMIFS(t_reator[p],t_reator[tipo],t_instalado[[#This Row],[T.1]],t_reator[w],t_instalado[[#This Row],[P.1(W)]]),\"\")","v":""},{"$f":"IF(t_instalado[[#This Row],[Q.2]]<>\"\",SUMIFS(t_reator[p],t_reator[tipo],t_instalado[[#This Row],[T.2]],t_reator[w],t_instalado[[#This Row],[P.2(W)]]),\"\")","v":""},{"$f":"IF(t_instalado[[#This Row],[Q.3]]<>\"\",SUMIFS(t_reator[p],t_reator[tipo],t_instalado[[#This Row],[T.3]],t_reator[w],t_instalado[[#This Row],[P.3(W)]]),\"\")","v":""},{"$f":"IF(t_instalado[[#This Row],[Q.1]]<>\"\",IFERROR(IFERROR(D457*(E457+O457)+G457*(H457+P457)+J457*(K457+Q457),D457*(E457+O457)+G457*(H457+P457)),D457*(E457+O457)),\"\")","v":""},{"$f":"IF(t_instalado[[#This Row],[Consumo_W]]<>\"\",ROUND(t_instalado[[#This Row],[Consumo_W]]/t_instalado[[#This Row],[Luminárias]],0),\"\")","v":""},{"$f":"IF(t_instalado[[#This Row],[Q.1]]<>\"\",SUMIFS(t_fluxo_lumin[fluxo],t_fluxo_lumin[tipo],t_instalado[[#This Row],[T.1]])*t_instalado[[#This Row],[P.1(W)]]*t_instalado[[#This Row],[Q.1]],\"\")","v":""},{"$f":"IF(t_instalado[[#This Row],[Q.2]]<>\"\",SUMIFS(t_fluxo_lumin[fluxo],t_fluxo_lumin[tipo],t_instalado[[#This Row],[T.2]])*t_instalado[[#This Row],[Q.2]]*t_instalado[[#This Row],[P.2(W)]],\"\")","v":""},{"$f":"IF(t_instalado[[#This Row],[Q.3]]<>\"\",SUMIFS(t_fluxo_lumin[fluxo],t_fluxo_lumin[tipo],t_instalado[[#This Row],[T.3]])*t_instalado[[#This Row],[Q.3]]*t_instalado[[#This Row],[P.3(W)]],\"\")","v":""},{"$f":"IF(t_instalado[[#This Row],[Trecho]]<>\"\",SUM(t_instalado[[#This Row],[f.1]:[f.3]]),\"\")","v":""},{"$f":"IF(t_instalado[[#This Row],[Trecho]]<>\"\",t_instalado[[#This Row],[Q.1]]+t_instalado[[#This Row],[Q.2]]+t_instalado[[#This Row],[Q.3]],\"\")","v":""},{"$f":"IF(t_instalado[[#This Row],[FLUXO]]<>\"\",ROUND(t_instalado[[#This Row],[FLUXO]]/t_instalado[[#This Row],[Luminárias]],0),\"\")","v":""},{"$f":"IF(t_instalado[[#This Row],[Luminárias]]<>\"\",ROUND(t_instalado[[#This Row],[lm_médio]]/t_instalado[[#This Row],[W_médio]],2),\"\")","v":""}]
[224,{"$f":"_xlfn.XLOOKUP(t_instalado[[#This Row],[cód.]],t_sitio[cód],t_sitio[Trecho],\"\")","v":""},null,null,null,null,null,null,null,null,null,null,{"$f":"t_instalado[[#This Row],[Q.1]]+t_instalado[[#This Row],[Q.2]]+t_instalado[[#This Row],[Q.3]]","v":0},{"$f":"t_instalado[[#This Row],[Q.1]]+t_instalado[[#This Row],[Q.2]]+t_instalado[[#This Row],[Q.3]]","v":0},{"$f":"IF(t_instalado[[#This Row],[Q.1]]<>\"\",SUMIFS(t_reator[p],t_reator[tipo],t_instalado[[#This Row],[T.1]],t_reator[w],t_instalado[[#This Row],[P.1(W)]]),\"\")","v":""},{"$f":"IF(t_instalado[[#This Row],[Q.2]]<>\"\",SUMIFS(t_reator[p],t_reator[tipo],t_instalado[[#This Row],[T.2]],t_reator[w],t_instalado[[#This Row],[P.2(W)]]),\"\")","v":""},{"$f":"IF(t_instalado[[#This Row],[Q.3]]<>\"\",SUMIFS(t_reator[p],t_reator[tipo],t_instalado[[#This Row],[T.3]],t_reator[w],t_instalado[[#This Row],[P.3(W)]]),\"\")","v":""},{"$f":"IF(t_instalado[[#This Row],[Q.1]]<>\"\",IFERROR(IFERROR(D458*(E458+O458)+G458*(H458+P458)+J458*(K458+Q458),D458*(E458+O458)+G458*(H458+P458)),D458*(E458+O458)),\"\")","v":""},{"$f":"IF(t_instalado[[#This Row],[Consumo_W]]<>\"\",ROUND(t_instalado[[#This Row],[Consumo_W]]/t_instalado[[#This Row],[Luminárias]],0),\"\")","v":""},{"$f":"IF(t_instalado[[#This Row],[Q.1]]<>\"\",SUMIFS(t_fluxo_lumin[fluxo],t_fluxo_lumin[tipo],t_instalado[[#This Row],[T.1]])*t_instalado[[#This Row],[P.1(W)]]*t_instalado[[#This Row],[Q.1]],\"\")","v":""},{"$f":"IF(t_instalado[[#This Row],[Q.2]]<>\"\",SUMIFS(t_fluxo_lumin[fluxo],t_fluxo_lumin[tipo],t_instalado[[#This Row],[T.2]])*t_instalado[[#This Row],[Q.2]]*t_instalado[[#This Row],[P.2(W)]],\"\")","v":""},{"$f":"IF(t_instalado[[#This Row],[Q.3]]<>\"\",SUMIFS(t_fluxo_lumin[fluxo],t_fluxo_lumin[tipo],t_instalado[[#This Row],[T.3]])*t_instalado[[#This Row],[Q.3]]*t_instalado[[#This Row],[P.3(W)]],\"\")","v":""},{"$f":"IF(t_instalado[[#This Row],[Trecho]]<>\"\",SUM(t_instalado[[#This Row],[f.1]:[f.3]]),\"\")","v":""},{"$f":"IF(t_instalado[[#This Row],[Trecho]]<>\"\",t_instalado[[#This Row],[Q.1]]+t_instalado[[#This Row],[Q.2]]+t_instalado[[#This Row],[Q.3]],\"\")","v":""},{"$f":"IF(t_instalado[[#This Row],[FLUXO]]<>\"\",ROUND(t_instalado[[#This Row],[FLUXO]]/t_instalado[[#This Row],[Luminárias]],0),\"\")","v":""},{"$f":"IF(t_instalado[[#This Row],[Luminárias]]<>\"\",ROUND(t_instalado[[#This Row],[lm_médio]]/t_instalado[[#This Row],[W_médio]],2),\"\")","v":""}]
[225,{"$f":"_xlfn.XLOOKUP(t_instalado[[#This Row],[cód.]],t_sitio[cód],t_sitio[Trecho],\"\")","v":""},null,null,null,null,null,null,null,null,null,null,{"$f":"t_instalado[[#This Row],[Q.1]]+t_instalado[[#This Row],[Q.2]]+t_instalado[[#This Row],[Q.3]]","v":0},{"$f":"t_instalado[[#This Row],[Q.1]]+t_instalado[[#This Row],[Q.2]]+t_instalado[[#This Row],[Q.3]]","v":0},{"$f":"IF(t_instalado[[#This Row],[Q.1]]<>\"\",SUMIFS(t_reator[p],t_reator[tipo],t_instalado[[#This Row],[T.1]],t_reator[w],t_instalado[[#This Row],[P.1(W)]]),\"\")","v":""},{"$f":"IF(t_instalado[[#This Row],[Q.2]]<>\"\",SUMIFS(t_reator[p],t_reator[tipo],t_instalado[[#This Row],[T.2]],t_reator[w],t_instalado[[#This Row],[P.2(W)]]),\"\")","v":""},{"$f":"IF(t_instalado[[#This Row],[Q.3]]<>\"\",SUMIFS(t_reator[p],t_reator[tipo],t_instalado[[#This Row],[T.3]],t_reator[w],t_instalado[[#This Row],[P.3(W)]]),\"\")","v":""},{"$f":"IF(t_instalado[[#This Row],[Q.1]]<>\"\",IFERROR(IFERROR(D459*(E459+O459)+G459*(H459+P459)+J459*(K459+Q459),D459*(E459+O459)+G459*(H459+P459)),D459*(E459+O459)),\"\")","v":""},{"$f":"IF(t_instalado[[#This Row],[Consumo_W]]<>\"\",ROUND(t_instalado[[#This Row],[Consumo_W]]/t_instalado[[#This Row],[Luminárias]],0),\"\")","v":""},{"$f":"IF(t_instalado[[#This Row],[Q.1]]<>\"\",SUMIFS(t_fluxo_lumin[fluxo],t_fluxo_lumin[tipo],t_instalado[[#This Row],[T.1]])*t_instalado[[#This Row],[P.1(W)]]*t_instalado[[#This Row],[Q.1]],\"\")","v":""},{"$f":"IF(t_instalado[[#This Row],[Q.2]]<>\"\",SUMIFS(t_fluxo_lumin[fluxo],t_fluxo_lumin[tipo],t_instalado[[#This Row],[T.2]])*t_instalado[[#This Row],[Q.2]]*t_instalado[[#This Row],[P.2(W)]],\"\")","v":""},{"$f":"IF(t_instalado[[#This Row],[Q.3]]<>\"\",SUMIFS(t_fluxo_lumin[fluxo],t_fluxo_lumin[tipo],t_instalado[[#This Row],[T.3]])*t_instalado[[#This Row],[Q.3]]*t_instalado[[#This Row],[P.3(W)]],\"\")","v":""},{"$f":"IF(t_instalado[[#This Row],[Trecho]]<>\"\",SUM(t_instalado[[#This Row],[f.1]:[f.3]]),\"\")","v":""},{"$f":"IF(t_instalado[[#This Row],[Trecho]]<>\"\",t_instalado[[#This Row],[Q.1]]+t_instalado[[#This Row],[Q.2]]+t_instalado[[#This Row],[Q.3]],\"\")","v":""},{"$f":"IF(t_instalado[[#This Row],[FLUXO]]<>\"\",ROUND(t_instalado[[#This Row],[FLUXO]]/t_instalado[[#This Row],[Luminárias]],0),\"\")","v":""},{"$f":"IF(t_instalado[[#This Row],[Luminárias]]<>\"\",ROUND(t_instalado[[#This Row],[lm_médio]]/t_instalado[[#This Row],[W_médio]],2),\"\")","v":""}]
[226,{"$f":"_xlfn.XLOOKUP(t_instalado[[#This Row],[cód.]],t_sitio[cód],t_sitio[Trecho],\"\")","v":""},null,null,null,null,null,null,null,null,null,null,{"$f":"t_instalado[[#This Row],[Q.1]]+t_instalado[[#This Row],[Q.2]]+t_instalado[[#This Row],[Q.3]]","v":0},{"$f":"t_instalado[[#This Row],[Q.1]]+t_instalado[[#This Row],[Q.2]]+t_instalado[[#This Row],[Q.3]]","v":0},{"$f":"IF(t_instalado[[#This Row],[Q.1]]<>\"\",SUMIFS(t_reator[p],t_reator[tipo],t_instalado[[#This Row],[T.1]],t_reator[w],t_instalado[[#This Row],[P.1(W)]]),\"\")","v":""},{"$f":"IF(t_instalado[[#This Row],[Q.2]]<>\"\",SUMIFS(t_reator[p],t_reator[tipo],t_instalado[[#This Row],[T.2]],t_reator[w],t_instalado[[#This Row],[P.2(W)]]),\"\")","v":""},{"$f":"IF(t_instalado[[#This Row],[Q.3]]<>\"\",SUMIFS(t_reator[p],t_reator[tipo],t_instalado[[#This Row],[T.3]],t_reator[w],t_instalado[[#This Row],[P.3(W)]]),\"\")","v":""},{"$f":"IF(t_instalado[[#This Row],[Q.1]]<>\"\",IFERROR(IFERROR(D460*(E460+O460)+G460*(H460+P460)+J460*(K460+Q460),D460*(E460+O460)+G460*(H460+P460)),D460*(E460+O460)),\"\")","v":""},{"$f":"IF(t_instalado[[#This Row],[Consumo_W]]<>\"\",ROUND(t_instalado[[#This Row],[Consumo_W]]/t_instalado[[#This Row],[Luminárias]],0),\"\")","v":""},{"$f":"IF(t_instalado[[#This Row],[Q.1]]<>\"\",SUMIFS(t_fluxo_lumin[fluxo],t_fluxo_lumin[tipo],t_instalado[[#This Row],[T.1]])*t_instalado[[#This Row],[P.1(W)]]*t_instalado[[#This Row],[Q.1]],\"\")","v":""},{"$f":"IF(t_instalado[[#This Row],[Q.2]]<>\"\",SUMIFS(t_fluxo_lumin[fluxo],t_fluxo_lumin[tipo],t_instalado[[#This Row],[T.2]])*t_instalado[[#This Row],[Q.2]]*t_instalado[[#This Row],[P.2(W)]],\"\")","v":""},{"$f":"IF(t_instalado[[#This Row],[Q.3]]<>\"\",SUMIFS(t_fluxo_lumin[fluxo],t_fluxo_lumin[tipo],t_instalado[[#This Row],[T.3]])*t_instalado[[#This Row],[Q.3]]*t_instalado[[#This Row],[P.3(W)]],\"\")","v":""},{"$f":"IF(t_instalado[[#This Row],[Trecho]]<>\"\",SUM(t_instalado[[#This Row],[f.1]:[f.3]]),\"\")","v":""},{"$f":"IF(t_instalado[[#This Row],[Trecho]]<>\"\",t_instalado[[#This Row],[Q.1]]+t_instalado[[#This Row],[Q.2]]+t_instalado[[#This Row],[Q.3]],\"\")","v":""},{"$f":"IF(t_instalado[[#This Row],[FLUXO]]<>\"\",ROUND(t_instalado[[#This Row],[FLUXO]]/t_instalado[[#This Row],[Luminárias]],0),\"\")","v":""},{"$f":"IF(t_instalado[[#This Row],[Luminárias]]<>\"\",ROUND(t_instalado[[#This Row],[lm_médio]]/t_instalado[[#This Row],[W_médio]],2),\"\")","v":""}]
[227,{"$f":"_xlfn.XLOOKUP(t_instalado[[#This Row],[cód.]],t_sitio[cód],t_sitio[Trecho],\"\")","v":""},null,null,null,null,null,null,null,null,null,null,{"$f":"t_instalado[[#This Row],[Q.1]]+t_instalado[[#This Row],[Q.2]]+t_instalado[[#This Row],[Q.3]]","v":0},{"$f":"t_instalado[[#This Row],[Q.1]]+t_instalado[[#This Row],[Q.2]]+t_instalado[[#This Row],[Q.3]]","v":0},{"$f":"IF(t_instalado[[#This Row],[Q.1]]<>\"\",SUMIFS(t_reator[p],t_reator[tipo],t_instalado[[#This Row],[T.1]],t_reator[w],t_instalado[[#This Row],[P.1(W)]]),\"\")","v":""},{"$f":"IF(t_instalado[[#This Row],[Q.2]]<>\"\",SUMIFS(t_reator[p],t_reator[tipo],t_instalado[[#This Row],[T.2]],t_reator[w],t_instalado[[#This Row],[P.2(W)]]),\"\")","v":""},{"$f":"IF(t_instalado[[#This Row],[Q.3]]<>\"\",SUMIFS(t_reator[p],t_reator[tipo],t_instalado[[#This Row],[T.3]],t_reator[w],t_instalado[[#This Row],[P.3(W)]]),\"\")","v":""},{"$f":"IF(t_instalado[[#This Row],[Q.1]]<>\"\",IFERROR(IFERROR(D461*(E461+O461)+G461*(H461+P461)+J461*(K461+Q461),D461*(E461+O461)+G461*(H461+P461)),D461*(E461+O461)),\"\")","v":""},{"$f":"IF(t_instalado[[#This Row],[Consumo_W]]<>\"\",ROUND(t_instalado[[#This Row],[Consumo_W]]/t_instalado[[#This Row],[Luminárias]],0),\"\")","v":""},{"$f":"IF(t_instalado[[#This Row],[Q.1]]<>\"\",SUMIFS(t_fluxo_lumin[fluxo],t_fluxo_lumin[tipo],t_instalado[[#This Row],[T.1]])*t_instalado[[#This Row],[P.1(W)]]*t_instalado[[#This Row],[Q.1]],\"\")","v":""},{"$f":"IF(t_instalado[[#This Row],[Q.2]]<>\"\",SUMIFS(t_fluxo_lumin[fluxo],t_fluxo_lumin[tipo],t_instalado[[#This Row],[T.2]])*t_instalado[[#This Row],[Q.2]]*t_instalado[[#This Row],[P.2(W)]],\"\")","v":""},{"$f":"IF(t_instalado[[#This Row],[Q.3]]<>\"\",SUMIFS(t_fluxo_lumin[fluxo],t_fluxo_lumin[tipo],t_instalado[[#This Row],[T.3]])*t_instalado[[#This Row],[Q.3]]*t_instalado[[#This Row],[P.3(W)]],\"\")","v":""},{"$f":"IF(t_instalado[[#This Row],[Trecho]]<>\"\",SUM(t_instalado[[#This Row],[f.1]:[f.3]]),\"\")","v":""},{"$f":"IF(t_instalado[[#This Row],[Trecho]]<>\"\",t_instalado[[#This Row],[Q.1]]+t_instalado[[#This Row],[Q.2]]+t_instalado[[#This Row],[Q.3]],\"\")","v":""},{"$f":"IF(t_instalado[[#This Row],[FLUXO]]<>\"\",ROUND(t_instalado[[#This Row],[FLUXO]]/t_instalado[[#This Row],[Luminárias]],0),\"\")","v":""},{"$f":"IF(t_instalado[[#This Row],[Luminárias]]<>\"\",ROUND(t_instalado[[#This Row],[lm_médio]]/t_instalado[[#This Row],[W_médio]],2),\"\")","v":""}]
[228,{"$f":"_xlfn.XLOOKUP(t_instalado[[#This Row],[cód.]],t_sitio[cód],t_sitio[Trecho],\"\")","v":""},null,null,null,null,null,null,null,null,null,null,{"$f":"t_instalado[[#This Row],[Q.1]]+t_instalado[[#This Row],[Q.2]]+t_instalado[[#This Row],[Q.3]]","v":0},{"$f":"t_instalado[[#This Row],[Q.1]]+t_instalado[[#This Row],[Q.2]]+t_instalado[[#This Row],[Q.3]]","v":0},{"$f":"IF(t_instalado[[#This Row],[Q.1]]<>\"\",SUMIFS(t_reator[p],t_reator[tipo],t_instalado[[#This Row],[T.1]],t_reator[w],t_instalado[[#This Row],[P.1(W)]]),\"\")","v":""},{"$f":"IF(t_instalado[[#This Row],[Q.2]]<>\"\",SUMIFS(t_reator[p],t_reator[tipo],t_instalado[[#This Row],[T.2]],t_reator[w],t_instalado[[#This Row],[P.2(W)]]),\"\")","v":""},{"$f":"IF(t_instalado[[#This Row],[Q.3]]<>\"\",SUMIFS(t_reator[p],t_reator[tipo],t_instalado[[#This Row],[T.3]],t_reator[w],t_instalado[[#This Row],[P.3(W)]]),\"\")","v":""},{"$f":"IF(t_instalado[[#This Row],[Q.1]]<>\"\",IFERROR(IFERROR(D462*(E462+O462)+G462*(H462+P462)+J462*(K462+Q462),D462*(E462+O462)+G462*(H462+P462)),D462*(E462+O462)),\"\")","v":""},{"$f":"IF(t_instalado[[#This Row],[Consumo_W]]<>\"\",ROUND(t_instalado[[#This Row],[Consumo_W]]/t_instalado[[#This Row],[Luminárias]],0),\"\")","v":""},{"$f":"IF(t_instalado[[#This Row],[Q.1]]<>\"\",SUMIFS(t_fluxo_lumin[fluxo],t_fluxo_lumin[tipo],t_instalado[[#This Row],[T.1]])*t_instalado[[#This Row],[P.1(W)]]*t_instalado[[#This Row],[Q.1]],\"\")","v":""},{"$f":"IF(t_instalado[[#This Row],[Q.2]]<>\"\",SUMIFS(t_fluxo_lumin[fluxo],t_fluxo_lumin[tipo],t_instalado[[#This Row],[T.2]])*t_instalado[[#This Row],[Q.2]]*t_instalado[[#This Row],[P.2(W)]],\"\")","v":""},{"$f":"IF(t_instalado[[#This Row],[Q.3]]<>\"\",SUMIFS(t_fluxo_lumin[fluxo],t_fluxo_lumin[tipo],t_instalado[[#This Row],[T.3]])*t_instalado[[#This Row],[Q.3]]*t_instalado[[#This Row],[P.3(W)]],\"\")","v":""},{"$f":"IF(t_instalado[[#This Row],[Trecho]]<>\"\",SUM(t_instalado[[#This Row],[f.1]:[f.3]]),\"\")","v":""},{"$f":"IF(t_instalado[[#This Row],[Trecho]]<>\"\",t_instalado[[#This Row],[Q.1]]+t_instalado[[#This Row],[Q.2]]+t_instalado[[#This Row],[Q.3]],\"\")","v":""},{"$f":"IF(t_instalado[[#This Row],[FLUXO]]<>\"\",ROUND(t_instalado[[#This Row],[FLUXO]]/t_instalado[[#This Row],[Luminárias]],0),\"\")","v":""},{"$f":"IF(t_instalado[[#This Row],[Luminárias]]<>\"\",ROUND(t_instalado[[#This Row],[lm_médio]]/t_instalado[[#This Row],[W_médio]],2),\"\")","v":""}]
[229,{"$f":"_xlfn.XLOOKUP(t_instalado[[#This Row],[cód.]],t_sitio[cód],t_sitio[Trecho],\"\")","v":""},null,null,null,null,null,null,null,null,null,null,{"$f":"t_instalado[[#This Row],[Q.1]]+t_instalado[[#This Row],[Q.2]]+t_instalado[[#This Row],[Q.3]]","v":0},{"$f":"t_instalado[[#This Row],[Q.1]]+t_instalado[[#This Row],[Q.2]]+t_instalado[[#This Row],[Q.3]]","v":0},{"$f":"IF(t_instalado[[#This Row],[Q.1]]<>\"\",SUMIFS(t_reator[p],t_reator[tipo],t_instalado[[#This Row],[T.1]],t_reator[w],t_instalado[[#This Row],[P.1(W)]]),\"\")","v":""},{"$f":"IF(t_instalado[[#This Row],[Q.2]]<>\"\",SUMIFS(t_reator[p],t_reator[tipo],t_instalado[[#This Row],[T.2]],t_reator[w],t_instalado[[#This Row],[P.2(W)]]),\"\")","v":""},{"$f":"IF(t_instalado[[#This Row],[Q.3]]<>\"\",SUMIFS(t_reator[p],t_reator[tipo],t_instalado[[#This Row],[T.3]],t_reator[w],t_instalado[[#This Row],[P.3(W)]]),\"\")","v":""},{"$f":"IF(t_instalado[[#This Row],[Q.1]]<>\"\",IFERROR(IFERROR(D463*(E463+O463)+G463*(H463+P463)+J463*(K463+Q463),D463*(E463+O463)+G463*(H463+P463)),D463*(E463+O463)),\"\")","v":""},{"$f":"IF(t_instalado[[#This Row],[Consumo_W]]<>\"\",ROUND(t_instalado[[#This Row],[Consumo_W]]/t_instalado[[#This Row],[Luminárias]],0),\"\")","v":""},{"$f":"IF(t_instalado[[#This Row],[Q.1]]<>\"\",SUMIFS(t_fluxo_lumin[fluxo],t_fluxo_lumin[tipo],t_instalado[[#This Row],[T.1]])*t_instalado[[#This Row],[P.1(W)]]*t_instalado[[#This Row],[Q.1]],\"\")","v":""},{"$f":"IF(t_instalado[[#This Row],[Q.2]]<>\"\",SUMIFS(t_fluxo_lumin[fluxo],t_fluxo_lumin[tipo],t_instalado[[#This Row],[T.2]])*t_instalado[[#This Row],[Q.2]]*t_instalado[[#This Row],[P.2(W)]],\"\")","v":""},{"$f":"IF(t_instalado[[#This Row],[Q.3]]<>\"\",SUMIFS(t_fluxo_lumin[fluxo],t_fluxo_lumin[tipo],t_instalado[[#This Row],[T.3]])*t_instalado[[#This Row],[Q.3]]*t_instalado[[#This Row],[P.3(W)]],\"\")","v":""},{"$f":"IF(t_instalado[[#This Row],[Trecho]]<>\"\",SUM(t_instalado[[#This Row],[f.1]:[f.3]]),\"\")","v":""},{"$f":"IF(t_instalado[[#This Row],[Trecho]]<>\"\",t_instalado[[#This Row],[Q.1]]+t_instalado[[#This Row],[Q.2]]+t_instalado[[#This Row],[Q.3]],\"\")","v":""},{"$f":"IF(t_instalado[[#This Row],[FLUXO]]<>\"\",ROUND(t_instalado[[#This Row],[FLUXO]]/t_instalado[[#This Row],[Luminárias]],0),\"\")","v":""},{"$f":"IF(t_instalado[[#This Row],[Luminárias]]<>\"\",ROUND(t_instalado[[#This Row],[lm_médio]]/t_instalado[[#This Row],[W_médio]],2),\"\")","v":""}]
[230,{"$f":"_xlfn.XLOOKUP(t_instalado[[#This Row],[cód.]],t_sitio[cód],t_sitio[Trecho],\"\")","v":""},null,null,null,null,null,null,null,null,null,null,{"$f":"t_instalado[[#This Row],[Q.1]]+t_instalado[[#This Row],[Q.2]]+t_instalado[[#This Row],[Q.3]]","v":0},{"$f":"t_instalado[[#This Row],[Q.1]]+t_instalado[[#This Row],[Q.2]]+t_instalado[[#This Row],[Q.3]]","v":0},{"$f":"IF(t_instalado[[#This Row],[Q.1]]<>\"\",SUMIFS(t_reator[p],t_reator[tipo],t_instalado[[#This Row],[T.1]],t_reator[w],t_instalado[[#This Row],[P.1(W)]]),\"\")","v":""},{"$f":"IF(t_instalado[[#This Row],[Q.2]]<>\"\",SUMIFS(t_reator[p],t_reator[tipo],t_instalado[[#This Row],[T.2]],t_reator[w],t_instalado[[#This Row],[P.2(W)]]),\"\")","v":""},{"$f":"IF(t_instalado[[#This Row],[Q.3]]<>\"\",SUMIFS(t_reator[p],t_reator[tipo],t_instalado[[#This Row],[T.3]],t_reator[w],t_instalado[[#This Row],[P.3(W)]]),\"\")","v":""},{"$f":"IF(t_instalado[[#This Row],[Q.1]]<>\"\",IFERROR(IFERROR(D464*(E464+O464)+G464*(H464+P464)+J464*(K464+Q464),D464*(E464+O464)+G464*(H464+P464)),D464*(E464+O464)),\"\")","v":""},{"$f":"IF(t_instalado[[#This Row],[Consumo_W]]<>\"\",ROUND(t_instalado[[#This Row],[Consumo_W]]/t_instalado[[#This Row],[Luminárias]],0),\"\")","v":""},{"$f":"IF(t_instalado[[#This Row],[Q.1]]<>\"\",SUMIFS(t_fluxo_lumin[fluxo],t_fluxo_lumin[tipo],t_instalado[[#This Row],[T.1]])*t_instalado[[#This Row],[P.1(W)]]*t_instalado[[#This Row],[Q.1]],\"\")","v":""},{"$f":"IF(t_instalado[[#This Row],[Q.2]]<>\"\",SUMIFS(t_fluxo_lumin[fluxo],t_fluxo_lumin[tipo],t_instalado[[#This Row],[T.2]])*t_instalado[[#This Row],[Q.2]]*t_instalado[[#This Row],[P.2(W)]],\"\")","v":""},{"$f":"IF(t_instalado[[#This Row],[Q.3]]<>\"\",SUMIFS(t_fluxo_lumin[fluxo],t_fluxo_lumin[tipo],t_instalado[[#This Row],[T.3]])*t_instalado[[#This Row],[Q.3]]*t_instalado[[#This Row],[P.3(W)]],\"\")","v":""},{"$f":"IF(t_instalado[[#This Row],[Trecho]]<>\"\",SUM(t_instalado[[#This Row],[f.1]:[f.3]]),\"\")","v":""},{"$f":"IF(t_instalado[[#This Row],[Trecho]]<>\"\",t_instalado[[#This Row],[Q.1]]+t_instalado[[#This Row],[Q.2]]+t_instalado[[#This Row],[Q.3]],\"\")","v":""},{"$f":"IF(t_instalado[[#This Row],[FLUXO]]<>\"\",ROUND(t_instalado[[#This Row],[FLUXO]]/t_instalado[[#This Row],[Luminárias]],0),\"\")","v":""},{"$f":"IF(t_instalado[[#This Row],[Luminárias]]<>\"\",ROUND(t_instalado[[#This Row],[lm_médio]]/t_instalado[[#This Row],[W_médio]],2),\"\")","v":""}]
[]
[]
["PROJETO DE INSTALAÇÃO"]
["cód.","Trecho","T.1","Q.1","P.1(W)","T.2","Q.2","P.2(W)","T.3","Q.3","P.3(W)","a","Relé","Desc. de Braços","R.1","R.2","R.3","Consumo_W","W_médio","f.1","f.2","f.3","FLUXO","Luminárias","lm_médio","efic_media"]
[1,{"$f":"_xlfn.XLOOKUP(t_projeto[[#This Row],[cód.]],t_sitio[cód],t_sitio[Trecho],\"\")","v":"Rua Pioneiro Francisco de Cardoso Abreu - - Trecho 01"},"Tipo 01",6,{"$f":"IF(t_projeto[[#This Row],[T.1]]<>\"\",_xlfn.XLOOKUP(t_projeto[[#This Row],[T.1]],$G$22:$G$26,$H$22:$H$26),\"\")","v":50},null,null,{"$f":"IF(t_projeto[[#This Row],[T.2]]<>\"\",_xlfn.XLOOKUP(t_projeto[[#This Row],[T.2]],$G$22:$G$26,$H$22:$H$26),\"\")","v":""},null,null,{"$f":"IF(t_projeto[[#This Row],[T.3]]<>\"\",_xlfn.XLOOKUP(t_projeto[[#This Row],[T.3]],$G$22:$G$26,$H$22:$H$26),\"\")","v":""},null,{"$f":"t_projeto[[#This Row],[Q.1]]+t_projeto[[#This Row],[Q.2]]+t_projeto[[#This Row],[Q.3]]","v":6},{"$f":"t_projeto[[#This Row],[Q.1]]+t_projeto[[#This Row],[Q.2]]+t_projeto[[#This Row],[Q.3]]","v":6},{"$f":"IF(t_projeto[[#This Row],[Q.1]]<>\"\",SUMIFS(t_reator[p],t_reator[tipo],t_projeto[[#This Row],[T.1]],t_reator[w],t_projeto[[#This Row],[P.1(W)]]),\"\")","v":0},{"$f":"IF(t_projeto[[#This Row],[Q.2]]<>\"\",SUMIFS(t_reator[p],t_reator[tipo],t_projeto[[#This Row],[T.2]],t_reator[w],t_projeto[[#This Row],[P.2(W)]]),\"\")","v":""},{"$f":"IF(t_projeto[[#This Row],[Q.3]]<>\"\",SUMIFS(t_reator[p],t_reator[tipo],t_projeto[[#This Row],[T.3]],t_reator[w],t_projeto[[#This Row],[P.3(W)]]),\"\")","v":""},{"$f":"IF(t_projeto[[#This Row],[Q.1]]<>\"\",IFERROR(IFERROR(D469*(E469+O469)+G469*(H469+P469)+J469*(K469+Q469),D469*(E469+O469)+G469*(H469+P469)),D469*(E469+O469)),\"\")","v":300},{"$f":"IF(t_projeto[[#This Row],[Consumo_W]]<>\"\",ROUND(t_projeto[[#This Row],[Consumo_W]]/t_projeto[[#This Row],[Luminárias]],0),\"\")","v":50},{"$f":"IF(t_projeto[[#This Row],[Q.1]]<>\"\",t_projeto[[#This Row],[Q.1]]*t_projeto[[#This Row],[P.1(W)]]*$C$24,\"\")","v":42000},{"$f":"IF(t_projeto[[#This Row],[Q.2]]<>\"\",t_projeto[[#This Row],[Q.2]]*t_projeto[[#This Row],[P.2(W)]]*$C$24,\"\")","v":""},{"$f":"IF(t_projeto[[#This Row],[Q.3]]<>\"\",t_projeto[[#This Row],[Q.3]]*t_projeto[[#This Row],[P.3(W)]]*$C$24,\"\")","v":""},{"$f":"IF(t_projeto[[#This Row],[Trecho]]<>\"\",SUM(t_projeto[[#This Row],[f.1]:[f.3]]),\"\")","v":42000},{"$f":"IF(t_projeto[[#This Row],[Trecho]]<>\"\",t_projeto[[#This Row],[Q.1]]+t_projeto[[#This Row],[Q.2]]+t_projeto[[#This Row],[Q.3]],\"\")","v":6},{"$f":"IF(AND(t_projeto[[#This Row],[FLUXO]]<>0,t_projeto[[#This Row],[FLUXO]]<>\"\"),ROUND(t_projeto[[#This Row],[FLUXO]]/t_projeto[[#This Row],[Luminárias]],0),\"\")","v":7000},{"$f":"IF(AND(t_projeto[[#This Row],[Luminárias]]<>0,t_projeto[[#This Row],[Luminárias]]<>\"\"),ROUND(t_projeto[[#This Row],[lm_médio]]/t_projeto[[#This Row],[W_médio]],2),\"\")","v":140}]
[2,{"$f":"_xlfn.XLOOKUP(t_projeto[[#This Row],[cód.]],t_sitio[cód],t_sitio[Trecho],\"\")","v":"Rua Pioneiro Luidi Nardi - Trecho 06"},"Tipo 01",9,{"$f":"IF(t_projeto[[#This Row],[T.1]]<>\"\",_xlfn.XLOOKUP(t_projeto[[#This Row],[T.1]],$G$22:$G$26,$H$22:$H$26),\"\")","v":50},null,null,{"$f":"IF(t_projeto[[#This Row],[T.2]]<>\"\",_xlfn.XLOOKUP(t_projeto[[#This Row],[T.2]],$G$22:$G$26,$H$22:$H$26),\"\")","v":""},null,null,{"$f":"IF(t_projeto[[#This Row],[T.3]]<>\"\",_xlfn.XLOOKUP(t_projeto[[#This Row],[T.3]],$G$22:$G$26,$H$22:$H$26),\"\")","v":""},null,{"$f":"t_projeto[[#This Row],[Q.1]]+t_projeto[[#This Row],[Q.2]]+t_projeto[[#This Row],[Q.3]]","v":9},{"$f":"t_projeto[[#This Row],[Q.1]]+t_projeto[[#This Row],[Q.2]]+t_projeto[[#This Row],[Q.3]]","v":9},{"$f":"IF(t_projeto[[#This Row],[Q.1]]<>\"\",SUMIFS(t_reator[p],t_reator[tipo],t_projeto[[#This Row],[T.1]],t_reator[w],t_projeto[[#This Row],[P.1(W)]]),\"\")","v":0},{"$f":"IF(t_projeto[[#This Row],[Q.2]]<>\"\",SUMIFS(t_reator[p],t_reator[tipo],t_projeto[[#This Row],[T.2]],t_reator[w],t_projeto[[#This Row],[P.2(W)]]),\"\")","v":""},{"$f":"IF(t_projeto[[#This Row],[Q.3]]<>\"\",SUMIFS(t_reator[p],t_reator[tipo],t_projeto[[#This Row],[T.3]],t_reator[w],t_projeto[[#This Row],[P.3(W)]]),\"\")","v":""},{"$f":"IF(t_projeto[[#This Row],[Q.1]]<>\"\",IFERROR(IFERROR(D470*(E470+O470)+G470*(H470+P470)+J470*(K470+Q470),D470*(E470+O470)+G470*(H470+P470)),D470*(E470+O470)),\"\")","v":450},{"$f":"IF(t_projeto[[#This Row],[Consumo_W]]<>\"\",ROUND(t_projeto[[#This Row],[Consumo_W]]/t_projeto[[#This Row],[Luminárias]],0),\"\")","v":50},{"$f":"IF(t_projeto[[#This Row],[Q.1]]<>\"\",t_projeto[[#This Row],[Q.1]]*t_projeto[[#This Row],[P.1(W)]]*$C$24,\"\")","v":63000},{"$f":"IF(t_projeto[[#This Row],[Q.2]]<>\"\",t_projeto[[#This Row],[Q.2]]*t_projeto[[#This Row],[P.2(W)]]*$C$24,\"\")","v":""},{"$f":"IF(t_projeto[[#This Row],[Q.3]]<>\"\",t_projeto[[#This Row],[Q.3]]*t_projeto[[#This Row],[P.3(W)]]*$C$24,\"\")","v":""},{"$f":"IF(t_projeto[[#This Row],[Trecho]]<>\"\",SUM(t_projeto[[#This Row],[f.1]:[f.3]]),\"\")","v":63000},{"$f":"IF(t_projeto[[#This Row],[Trecho]]<>\"\",t_projeto[[#This Row],[Q.1]]+t_projeto[[#This Row],[Q.2]]+t_projeto[[#This Row],[Q.3]],\"\")","v":9},{"$f":"IF(AND(t_projeto[[#This Row],[FLUXO]]<>0,t_projeto[[#This Row],[FLUXO]]<>\"\"),ROUND(t_projeto[[#This Row],[FLUXO]]/t_projeto[[#This Row],[Luminárias]],0),\"\")","v":7000},{"$f":"IF(AND(t_projeto[[#This Row],[Luminárias]]<>0,t_projeto[[#This Row],[Luminárias]]<>\"\"),ROUND(t_projeto[[#This Row],[lm_médio]]/t_projeto[[#This Row],[W_médio]],2),\"\")","v":140}]
[3,{"$f":"_xlfn.XLOOKUP(t_projeto[[#This Row],[cód.]],t_sitio[cód],t_sitio[Trecho],\"\")","v":"Rua Ver. Oswaldo Ferreira de Souza - Trecho 03"},"Tipo 01",9,{"$f":"IF(t_projeto[[#This Row],[T.1]]<>\"\",_xlfn.XLOOKUP(t_projeto[[#This Row],[T.1]],$G$22:$G$26,$H$22:$H$26),\"\")","v":50},null,null,{"$f":"IF(t_projeto[[#This Row],[T.2]]<>\"\",_xlfn.XLOOKUP(t_projeto[[#This Row],[T.2]],$G$22:$G$26,$H$22:$H$26),\"\")","v":""},null,null,{"$f":"IF(t_projeto[[#This Row],[T.3]]<>\"\",_xlfn.XLOOKUP(t_projeto[[#This Row],[T.3]],$G$22:$G$26,$H$22:$H$26),\"\")","v":""},null,{"$f":"t_projeto[[#This Row],[Q.1]]+t_projeto[[#This Row],[Q.2]]+t_projeto[[#This Row],[Q.3]]","v":9},{"$f":"t_projeto[[#This Row],[Q.1]]+t_projeto[[#This Row],[Q.2]]+t_projeto[[#This Row],[Q.3]]","v":9},{"$f":"IF(t_projeto[[#This Row],[Q.1]]<>\"\",SUMIFS(t_reator[p],t_reator[tipo],t_projeto[[#This Row],[T.1]],t_reator[w],t_projeto[[#This Row],[P.1(W)]]),\"\")","v":0},{"$f":"IF(t_projeto[[#This Row],[Q.2]]<>\"\",SUMIFS(t_reator[p],t_reator[tipo],t_projeto[[#This Row],[T.2]],t_reator[w],t_projeto[[#This Row],[P.2(W)]]),\"\")","v":""},{"$f":"IF(t_projeto[[#This Row],[Q.3]]<>\"\",SUMIFS(t_reator[p],t_reator[tipo],t_projeto[[#This Row],[T.3]],t_reator[w],t_projeto[[#This Row],[P.3(W)]]),\"\")","v":""},{"$f":"IF(t_projeto[[#This Row],[Q.1]]<>\"\",IFERROR(IFERROR(D471*(E471+O471)+G471*(H471+P471)+J471*(K471+Q471),D471*(E471+O471)+G471*(H471+P471)),D471*(E471+O471)),\"\")","v":450},{"$f":"IF(t_projeto[[#This Row],[Consumo_W]]<>\"\",ROUND(t_projeto[[#This Row],[Consumo_W]]/t_projeto[[#This Row],[Luminárias]],0),\"\")","v":50},{"$f":"IF(t_projeto[[#This Row],[Q.1]]<>\"\",t_projeto[[#This Row],[Q.1]]*t_projeto[[#This Row],[P.1(W)]]*$C$24,\"\")","v":63000},{"$f":"IF(t_projeto[[#This Row],[Q.2]]<>\"\",t_projeto[[#This Row],[Q.2]]*t_projeto[[#This Row],[P.2(W)]]*$C$24,\"\")","v":""},{"$f":"IF(t_projeto[[#This Row],[Q.3]]<>\"\",t_projeto[[#This Row],[Q.3]]*t_projeto[[#This Row],[P.3(W)]]*$C$24,\"\")","v":""},{"$f":"IF(t_projeto[[#This Row],[Trecho]]<>\"\",SUM(t_projeto[[#This Row],[f.1]:[f.3]]),\"\")","v":63000},{"$f":"IF(t_projeto[[#This Row],[Trecho]]<>\"\",t_projeto[[#This Row],[Q.1]]+t_projeto[[#This Row],[Q.2]]+t_projeto[[#This Row],[Q.3]],\"\")","v":9},{"$f":"IF(AND(t_projeto[[#This Row],[FLUXO]]<>0,t_projeto[[#This Row],[FLUXO]]<>\"\"),ROUND(t_projeto[[#This Row],[FLUXO]]/t_projeto[[#This Row],[Luminárias]],0),\"\")","v":7000},{"$f":"IF(AND(t_projeto[[#This Row],[Luminárias]]<>0,t_projeto[[#This Row],[Luminárias]]<>\"\"),ROUND(t_projeto[[#This Row],[lm_médio]]/t_projeto[[#This Row],[W_médio]],2),\"\")","v":140}]
[4,{"$f":"_xlfn.XLOOKUP(t_projeto[[#This Row],[cód.]],t_sitio[cód],t_sitio[Trecho],\"\")","v":"Rua Nestor Cendon Garrido - Trecho 15"},"Tipo 01",11,{"$f":"IF(t_projeto[[#This Row],[T.1]]<>\"\",_xlfn.XLOOKUP(t_projeto[[#This Row],[T.1]],$G$22:$G$26,$H$22:$H$26),\"\")","v":50},null,null,{"$f":"IF(t_projeto[[#This Row],[T.2]]<>\"\",_xlfn.XLOOKUP(t_projeto[[#This Row],[T.2]],$G$22:$G$26,$H$22:$H$26),\"\")","v":""},null,null,{"$f":"IF(t_projeto[[#This Row],[T.3]]<>\"\",_xlfn.XLOOKUP(t_projeto[[#This Row],[T.3]],$G$22:$G$26,$H$22:$H$26),\"\")","v":""},null,{"$f":"t_projeto[[#This Row],[Q.1]]+t_projeto[[#This Row],[Q.2]]+t_projeto[[#This Row],[Q.3]]","v":11},{"$f":"t_projeto[[#This Row],[Q.1]]+t_projeto[[#This Row],[Q.2]]+t_projeto[[#This Row],[Q.3]]","v":11},{"$f":"IF(t_projeto[[#This Row],[Q.1]]<>\"\",SUMIFS(t_reator[p],t_reator[tipo],t_projeto[[#This Row],[T.1]],t_reator[w],t_projeto[[#This Row],[P.1(W)]]),\"\")","v":0},{"$f":"IF(t_projeto[[#This Row],[Q.2]]<>\"\",SUMIFS(t_reator[p],t_reator[tipo],t_projeto[[#This Row],[T.2]],t_reator[w],t_projeto[[#This Row],[P.2(W)]]),\"\")","v":""},{"$f":"IF(t_projeto[[#This Row],[Q.3]]<>\"\",SUMIFS(t_reator[p],t_reator[tipo],t_projeto[[#This Row],[T.3]],t_reator[w],t_projeto[[#This Row],[P.3(W)]]),\"\")","v":""},{"$f":"IF(t_projeto[[#This Row],[Q.1]]<>\"\",IFERROR(IFERROR(D472*(E472+O472)+G472*(H472+P472)+J472*(K472+Q472),D472*(E472+O472)+G472*(H472+P472)),D472*(E472+O472)),\"\")","v":550},{"$f":"IF(t_projeto[[#This Row],[Consumo_W]]<>\"\",ROUND(t_projeto[[#This Row],[Consumo_W]]/t_projeto[[#This Row],[Luminárias]],0),\"\")","v":50},{"$f":"IF(t_projeto[[#This Row],[Q.1]]<>\"\",t_projeto[[#This Row],[Q.1]]*t_projeto[[#This Row],[P.1(W)]]*$C$24,\"\")","v":77000},{"$f":"IF(t_projeto[[#This Row],[Q.2]]<>\"\",t_projeto[[#This Row],[Q.2]]*t_projeto[[#This Row],[P.2(W)]]*$C$24,\"\")","v":""},{"$f":"IF(t_projeto[[#This Row],[Q.3]]<>\"\",t_projeto[[#This Row],[Q.3]]*t_projeto[[#This Row],[P.3(W)]]*$C$24,\"\")","v":""},{"$f":"IF(t_projeto[[#This Row],[Trecho]]<>\"\",SUM(t_projeto[[#This Row],[f.1]:[f.3]]),\"\")","v":77000},{"$f":"IF(t_projeto[[#This Row],[Trecho]]<>\"\",t_projeto[[#This Row],[Q.1]]+t_projeto[[#This Row],[Q.2]]+t_projeto[[#This Row],[Q.3]],\"\")","v":11},{"$f":"IF(AND(t_projeto[[#This Row],[FLUXO]]<>0,t_projeto[[#This Row],[FLUXO]]<>\"\"),ROUND(t_projeto[[#This Row],[FLUXO]]/t_projeto[[#This Row],[Luminárias]],0),\"\")","v":7000},{"$f":"IF(AND(t_projeto[[#This Row],[Luminárias]]<>0,t_projeto[[#This Row],[Luminárias]]<>\"\"),ROUND(t_projeto[[#This Row],[lm_médio]]/t_projeto[[#This Row],[W_médio]],2),\"\")","v":140}]
[5,{"$f":"_xlfn.XLOOKUP(t_projeto[[#This Row],[cód.]],t_sitio[cód],t_sitio[Trecho],\"\")","v":"Rua Ver. Anibal Pena - Trecho 05"},"Tipo 01",6,{"$f":"IF(t_projeto[[#This Row],[T.1]]<>\"\",_xlfn.XLOOKUP(t_projeto[[#This Row],[T.1]],$G$22:$G$26,$H$22:$H$26),\"\")","v":50},null,null,{"$f":"IF(t_projeto[[#This Row],[T.2]]<>\"\",_xlfn.XLOOKUP(t_projeto[[#This Row],[T.2]],$G$22:$G$26,$H$22:$H$26),\"\")","v":""},null,null,{"$f":"IF(t_projeto[[#This Row],[T.3]]<>\"\",_xlfn.XLOOKUP(t_projeto[[#This Row],[T.3]],$G$22:$G$26,$H$22:$H$26),\"\")","v":""},null,{"$f":"t_projeto[[#This Row],[Q.1]]+t_projeto[[#This Row],[Q.2]]+t_projeto[[#This Row],[Q.3]]","v":6},{"$f":"t_projeto[[#This Row],[Q.1]]+t_projeto[[#This Row],[Q.2]]+t_projeto[[#This Row],[Q.3]]","v":6},{"$f":"IF(t_projeto[[#This Row],[Q.1]]<>\"\",SUMIFS(t_reator[p],t_reator[tipo],t_projeto[[#This Row],[T.1]],t_reator[w],t_projeto[[#This Row],[P.1(W)]]),\"\")","v":0},{"$f":"IF(t_projeto[[#This Row],[Q.2]]<>\"\",SUMIFS(t_reator[p],t_reator[tipo],t_projeto[[#This Row],[T.2]],t_reator[w],t_projeto[[#This Row],[P.2(W)]]),\"\")","v":""},{"$f":"IF(t_projeto[[#This Row],[Q.3]]<>\"\",SUMIFS(t_reator[p],t_reator[tipo],t_projeto[[#This Row],[T.3]],t_reator[w],t_projeto[[#This Row],[P.3(W)]]),\"\")","v":""},{"$f":"IF(t_projeto[[#This Row],[Q.1]]<>\"\",IFERROR(IFERROR(D473*(E473+O473)+G473*(H473+P473)+J473*(K473+Q473),D473*(E473+O473)+G473*(H473+P473)),D473*(E473+O473)),\"\")","v":300},{"$f":"IF(t_projeto[[#This Row],[Consumo_W]]<>\"\",ROUND(t_projeto[[#This Row],[Consumo_W]]/t_projeto[[#This Row],[Luminárias]],0),\"\")","v":50},{"$f":"IF(t_projeto[[#This Row],[Q.1]]<>\"\",t_projeto[[#This Row],[Q.1]]*t_projeto[[#This Row],[P.1(W)]]*$C$24,\"\")","v":42000},{"$f":"IF(t_projeto[[#This Row],[Q.2]]<>\"\",t_projeto[[#This Row],[Q.2]]*t_projeto[[#This Row],[P.2(W)]]*$C$24,\"\")","v":""},{"$f":"IF(t_projeto[[#This Row],[Q.3]]<>\"\",t_projeto[[#This Row],[Q.3]]*t_projeto[[#This Row],[P.3(W)]]*$C$24,\"\")","v":""},{"$f":"IF(t_projeto[[#This Row],[Trecho]]<>\"\",SUM(t_projeto[[#This Row],[f.1]:[f.3]]),\"\")","v":42000},{"$f":"IF(t_projeto[[#This Row],[Trecho]]<>\"\",t_projeto[[#This Row],[Q.1]]+t_projeto[[#This Row],[Q.2]]+t_projeto[[#This Row],[Q.3]],\"\")","v":6},{"$f":"IF(AND(t_projeto[[#This Row],[FLUXO]]<>0,t_projeto[[#This Row],[FLUXO]]<>\"\"),ROUND(t_projeto[[#This Row],[FLUXO]]/t_projeto[[#This Row],[Luminárias]],0),\"\")","v":7000},{"$f":"IF(AND(t_projeto[[#This Row],[Luminárias]]<>0,t_projeto[[#This Row],[Luminárias]]<>\"\"),ROUND(t_projeto[[#This Row],[lm_médio]]/t_projeto[[#This Row],[W_médio]],2),\"\")","v":140}]
[6,{"$f":"_xlfn.XLOOKUP(t_projeto[[#This Row],[cód.]],t_sitio[cód],t_sitio[Trecho],\"\")","v":"Rua Guerino Busquim - Trecho 10"},"Tipo 01",11,{"$f":"IF(t_projeto[[#This Row],[T.1]]<>\"\",_xlfn.XLOOKUP(t_projeto[[#This Row],[T.1]],$G$22:$G$26,$H$22:$H$26),\"\")","v":50},null,null,{"$f":"IF(t_projeto[[#This Row],[T.2]]<>\"\",_xlfn.XLOOKUP(t_projeto[[#This Row],[T.2]],$G$22:$G$26,$H$22:$H$26),\"\")","v":""},null,null,{"$f":"IF(t_projeto[[#This Row],[T.3]]<>\"\",_xlfn.XLOOKUP(t_projeto[[#This Row],[T.3]],$G$22:$G$26,$H$22:$H$26),\"\")","v":""},null,{"$f":"t_projeto[[#This Row],[Q.1]]+t_projeto[[#This Row],[Q.2]]+t_projeto[[#This Row],[Q.3]]","v":11},{"$f":"t_projeto[[#This Row],[Q.1]]+t_projeto[[#This Row],[Q.2]]+t_projeto[[#This Row],[Q.3]]","v":11},{"$f":"IF(t_projeto[[#This Row],[Q.1]]<>\"\",SUMIFS(t_reator[p],t_reator[tipo],t_projeto[[#This Row],[T.1]],t_reator[w],t_projeto[[#This Row],[P.1(W)]]),\"\")","v":0},{"$f":"IF(t_projeto[[#This Row],[Q.2]]<>\"\",SUMIFS(t_reator[p],t_reator[tipo],t_projeto[[#This Row],[T.2]],t_reator[w],t_projeto[[#This Row],[P.2(W)]]),\"\")","v":""},{"$f":"IF(t_projeto[[#This Row],[Q.3]]<>\"\",SUMIFS(t_reator[p],t_reator[tipo],t_projeto[[#This Row],[T.3]],t_reator[w],t_projeto[[#This Row],[P.3(W)]]),\"\")","v":""},{"$f":"IF(t_projeto[[#This Row],[Q.1]]<>\"\",IFERROR(IFERROR(D474*(E474+O474)+G474*(H474+P474)+J474*(K474+Q474),D474*(E474+O474)+G474*(H474+P474)),D474*(E474+O474)),\"\")","v":550},{"$f":"IF(t_projeto[[#This Row],[Consumo_W]]<>\"\",ROUND(t_projeto[[#This Row],[Consumo_W]]/t_projeto[[#This Row],[Luminárias]],0),\"\")","v":50},{"$f":"IF(t_projeto[[#This Row],[Q.1]]<>\"\",t_projeto[[#This Row],[Q.1]]*t_projeto[[#This Row],[P.1(W)]]*$C$24,\"\")","v":77000},{"$f":"IF(t_projeto[[#This Row],[Q.2]]<>\"\",t_projeto[[#This Row],[Q.2]]*t_projeto[[#This Row],[P.2(W)]]*$C$24,\"\")","v":""},{"$f":"IF(t_projeto[[#This Row],[Q.3]]<>\"\",t_projeto[[#This Row],[Q.3]]*t_projeto[[#This Row],[P.3(W)]]*$C$24,\"\")","v":""},{"$f":"IF(t_projeto[[#This Row],[Trecho]]<>\"\",SUM(t_projeto[[#This Row],[f.1]:[f.3]]),\"\")","v":77000},{"$f":"IF(t_projeto[[#This Row],[Trecho]]<>\"\",t_projeto[[#This Row],[Q.1]]+t_projeto[[#This Row],[Q.2]]+t_projeto[[#This Row],[Q.3]],\"\")","v":11},{"$f":"IF(AND(t_projeto[[#This Row],[FLUXO]]<>0,t_projeto[[#This Row],[FLUXO]]<>\"\"),ROUND(t_projeto[[#This Row],[FLUXO]]/t_projeto[[#This Row],[Luminárias]],0),\"\")","v":7000},{"$f":"IF(AND(t_projeto[[#This Row],[Luminárias]]<>0,t_projeto[[#This Row],[Luminárias]]<>\"\"),ROUND(t_projeto[[#This Row],[lm_médio]]/t_projeto[[#This Row],[W_médio]],2),\"\")","v":140}]
[7,{"$f":"_xlfn.XLOOKUP(t_projeto[[#This Row],[cód.]],t_sitio[cód],t_sitio[Trecho],\"\")","v":"Rua Moisés Lupion - Trecho 07"},"Tipo 02",15,{"$f":"IF(t_projeto[[#This Row],[T.1]]<>\"\",_xlfn.XLOOKUP(t_projeto[[#This Row],[T.1]],$G$22:$G$26,$H$22:$H$26),\"\")","v":100},null,null,{"$f":"IF(t_projeto[[#This Row],[T.2]]<>\"\",_xlfn.XLOOKUP(t_projeto[[#This Row],[T.2]],$G$22:$G$26,$H$22:$H$26),\"\")","v":""},null,null,{"$f":"IF(t_projeto[[#This Row],[T.3]]<>\"\",_xlfn.XLOOKUP(t_projeto[[#This Row],[T.3]],$G$22:$G$26,$H$22:$H$26),\"\")","v":""},null,{"$f":"t_projeto[[#This Row],[Q.1]]+t_projeto[[#This Row],[Q.2]]+t_projeto[[#This Row],[Q.3]]","v":15},{"$f":"t_projeto[[#This Row],[Q.1]]+t_projeto[[#This Row],[Q.2]]+t_projeto[[#This Row],[Q.3]]","v":15},{"$f":"IF(t_projeto[[#This Row],[Q.1]]<>\"\",SUMIFS(t_reator[p],t_reator[tipo],t_projeto[[#This Row],[T.1]],t_reator[w],t_projeto[[#This Row],[P.1(W)]]),\"\")","v":0},{"$f":"IF(t_projeto[[#This Row],[Q.2]]<>\"\",SUMIFS(t_reator[p],t_reator[tipo],t_projeto[[#This Row],[T.2]],t_reator[w],t_projeto[[#This Row],[P.2(W)]]),\"\")","v":""},{"$f":"IF(t_projeto[[#This Row],[Q.3]]<>\"\",SUMIFS(t_reator[p],t_reator[tipo],t_projeto[[#This Row],[T.3]],t_reator[w],t_projeto[[#This Row],[P.3(W)]]),\"\")","v":""},{"$f":"IF(t_projeto[[#This Row],[Q.1]]<>\"\",IFERROR(IFERROR(D475*(E475+O475)+G475*(H475+P475)+J475*(K475+Q475),D475*(E475+O475)+G475*(H475+P475)),D475*(E475+O475)),\"\")","v":1500},{"$f":"IF(t_projeto[[#This Row],[Consumo_W]]<>\"\",ROUND(t_projeto[[#This Row],[Consumo_W]]/t_projeto[[#This Row],[Luminárias]],0),\"\")","v":100},{"$f":"IF(t_projeto[[#This Row],[Q.1]]<>\"\",t_projeto[[#This Row],[Q.1]]*t_projeto[[#This Row],[P.1(W)]]*$C$24,\"\")","v":210000},{"$f":"IF(t_projeto[[#This Row],[Q.2]]<>\"\",t_projeto[[#This Row],[Q.2]]*t_projeto[[#This Row],[P.2(W)]]*$C$24,\"\")","v":""},{"$f":"IF(t_projeto[[#This Row],[Q.3]]<>\"\",t_projeto[[#This Row],[Q.3]]*t_projeto[[#This Row],[P.3(W)]]*$C$24,\"\")","v":""},{"$f":"IF(t_projeto[[#This Row],[Trecho]]<>\"\",SUM(t_projeto[[#This Row],[f.1]:[f.3]]),\"\")","v":210000},{"$f":"IF(t_projeto[[#This Row],[Trecho]]<>\"\",t_projeto[[#This Row],[Q.1]]+t_projeto[[#This Row],[Q.2]]+t_projeto[[#This Row],[Q.3]],\"\")","v":15},{"$f":"IF(AND(t_projeto[[#This Row],[FLUXO]]<>0,t_projeto[[#This Row],[FLUXO]]<>\"\"),ROUND(t_projeto[[#This Row],[FLUXO]]/t_projeto[[#This Row],[Luminárias]],0),\"\")","v":14000},{"$f":"IF(AND(t_projeto[[#This Row],[Luminárias]]<>0,t_projeto[[#This Row],[Luminárias]]<>\"\"),ROUND(t_projeto[[#This Row],[lm_médio]]/t_projeto[[#This Row],[W_médio]],2),\"\")","v":140}]
[8,{"$f":"_xlfn.XLOOKUP(t_projeto[[#This Row],[cód.]],t_sitio[cód],t_sitio[Trecho],\"\")","v":"Rua Fernando Ribeiro - Trecho 13"},"Tipo 01",14,{"$f":"IF(t_projeto[[#This Row],[T.1]]<>\"\",_xlfn.XLOOKUP(t_projeto[[#This Row],[T.1]],$G$22:$G$26,$H$22:$H$26),\"\")","v":50},null,null,{"$f":"IF(t_projeto[[#This Row],[T.2]]<>\"\",_xlfn.XLOOKUP(t_projeto[[#This Row],[T.2]],$G$22:$G$26,$H$22:$H$26),\"\")","v":""},null,null,{"$f":"IF(t_projeto[[#This Row],[T.3]]<>\"\",_xlfn.XLOOKUP(t_projeto[[#This Row],[T.3]],$G$22:$G$26,$H$22:$H$26),\"\")","v":""},null,{"$f":"t_projeto[[#This Row],[Q.1]]+t_projeto[[#This Row],[Q.2]]+t_projeto[[#This Row],[Q.3]]","v":14},{"$f":"t_projeto[[#This Row],[Q.1]]+t_projeto[[#This Row],[Q.2]]+t_projeto[[#This Row],[Q.3]]","v":14},{"$f":"IF(t_projeto[[#This Row],[Q.1]]<>\"\",SUMIFS(t_reator[p],t_reator[tipo],t_projeto[[#This Row],[T.1]],t_reator[w],t_projeto[[#This Row],[P.1(W)]]),\"\")","v":0},{"$f":"IF(t_projeto[[#This Row],[Q.2]]<>\"\",SUMIFS(t_reator[p],t_reator[tipo],t_projeto[[#This Row],[T.2]],t_reator[w],t_projeto[[#This Row],[P.2(W)]]),\"\")","v":""},{"$f":"IF(t_projeto[[#This Row],[Q.3]]<>\"\",SUMIFS(t_reator[p],t_reator[tipo],t_projeto[[#This Row],[T.3]],t_reator[w],t_projeto[[#This Row],[P.3(W)]]),\"\")","v":""},{"$f":"IF(t_projeto[[#This Row],[Q.1]]<>\"\",IFERROR(IFERROR(D476*(E476+O476)+G476*(H476+P476)+J476*(K476+Q476),D476*(E476+O476)+G476*(H476+P476)),D476*(E476+O476)),\"\")","v":700},{"$f":"IF(t_projeto[[#This Row],[Consumo_W]]<>\"\",ROUND(t_projeto[[#This Row],[Consumo_W]]/t_projeto[[#This Row],[Luminárias]],0),\"\")","v":50},{"$f":"IF(t_projeto[[#This Row],[Q.1]]<>\"\",t_projeto[[#This Row],[Q.1]]*t_projeto[[#This Row],[P.1(W)]]*$C$24,\"\")","v":98000},{"$f":"IF(t_projeto[[#This Row],[Q.2]]<>\"\",t_projeto[[#This Row],[Q.2]]*t_projeto[[#This Row],[P.2(W)]]*$C$24,\"\")","v":""},{"$f":"IF(t_projeto[[#This Row],[Q.3]]<>\"\",t_projeto[[#This Row],[Q.3]]*t_projeto[[#This Row],[P.3(W)]]*$C$24,\"\")","v":""},{"$f":"IF(t_projeto[[#This Row],[Trecho]]<>\"\",SUM(t_projeto[[#This Row],[f.1]:[f.3]]),\"\")","v":98000},{"$f":"IF(t_projeto[[#This Row],[Trecho]]<>\"\",t_projeto[[#This Row],[Q.1]]+t_projeto[[#This Row],[Q.2]]+t_projeto[[#This Row],[Q.3]],\"\")","v":14},{"$f":"IF(AND(t_projeto[[#This Row],[FLUXO]]<>0,t_projeto[[#This Row],[FLUXO]]<>\"\"),ROUND(t_projeto[[#This Row],[FLUXO]]/t_projeto[[#This Row],[Luminárias]],0),\"\")","v":7000},{"$f":"IF(AND(t_projeto[[#This Row],[Luminárias]]<>0,t_projeto[[#This Row],[Luminárias]]<>\"\"),ROUND(t_projeto[[#This Row],[lm_médio]]/t_projeto[[#This Row],[W_médio]],2),\"\")","v":140}]
[9,{"$f":"_xlfn.XLOOKUP(t_projeto[[#This Row],[cód.]],t_sitio[cód],t_sitio[Trecho],\"\")","v":"Rua Ver. José Montoja Salgueiro - Trecho 17"},"Tipo 01",6,{"$f":"IF(t_projeto[[#This Row],[T.1]]<>\"\",_xlfn.XLOOKUP(t_projeto[[#This Row],[T.1]],$G$22:$G$26,$H$22:$H$26),\"\")","v":50},null,null,{"$f":"IF(t_projeto[[#This Row],[T.2]]<>\"\",_xlfn.XLOOKUP(t_projeto[[#This Row],[T.2]],$G$22:$G$26,$H$22:$H$26),\"\")","v":""},null,null,{"$f":"IF(t_projeto[[#This Row],[T.3]]<>\"\",_xlfn.XLOOKUP(t_projeto[[#This Row],[T.3]],$G$22:$G$26,$H$22:$H$26),\"\")","v":""},null,{"$f":"t_projeto[[#This Row],[Q.1]]+t_projeto[[#This Row],[Q.2]]+t_projeto[[#This Row],[Q.3]]","v":6},{"$f":"t_projeto[[#This Row],[Q.1]]+t_projeto[[#This Row],[Q.2]]+t_projeto[[#This Row],[Q.3]]","v":6},{"$f":"IF(t_projeto[[#This Row],[Q.1]]<>\"\",SUMIFS(t_reator[p],t_reator[tipo],t_projeto[[#This Row],[T.1]],t_reator[w],t_projeto[[#This Row],[P.1(W)]]),\"\")","v":0},{"$f":"IF(t_projeto[[#This Row],[Q.2]]<>\"\",SUMIFS(t_reator[p],t_reator[tipo],t_projeto[[#This Row],[T.2]],t_reator[w],t_projeto[[#This Row],[P.2(W)]]),\"\")","v":""},{"$f":"IF(t_projeto[[#This Row],[Q.3]]<>\"\",SUMIFS(t_reator[p],t_reator[tipo],t_projeto[[#This Row],[T.3]],t_reator[w],t_projeto[[#This Row],[P.3(W)]]),\"\")","v":""},{"$f":"IF(t_projeto[[#This Row],[Q.1]]<>\"\",IFERROR(IFERROR(D477*(E477+O477)+G477*(H477+P477)+J477*(K477+Q477),D477*(E477+O477)+G477*(H477+P477)),D477*(E477+O477)),\"\")","v":300},{"$f":"IF(t_projeto[[#This Row],[Consumo_W]]<>\"\",ROUND(t_projeto[[#This Row],[Consumo_W]]/t_projeto[[#This Row],[Luminárias]],0),\"\")","v":50},{"$f":"IF(t_projeto[[#This Row],[Q.1]]<>\"\",t_projeto[[#This Row],[Q.1]]*t_projeto[[#This Row],[P.1(W)]]*$C$24,\"\")","v":42000},{"$f":"IF(t_projeto[[#This Row],[Q.2]]<>\"\",t_projeto[[#This Row],[Q.2]]*t_projeto[[#This Row],[P.2(W)]]*$C$24,\"\")","v":""},{"$f":"IF(t_projeto[[#This Row],[Q.3]]<>\"\",t_projeto[[#This Row],[Q.3]]*t_projeto[[#This Row],[P.3(W)]]*$C$24,\"\")","v":""},{"$f":"IF(t_projeto[[#This Row],[Trecho]]<>\"\",SUM(t_projeto[[#This Row],[f.1]:[f.3]]),\"\")","v":42000},{"$f":"IF(t_projeto[[#This Row],[Trecho]]<>\"\",t_projeto[[#This Row],[Q.1]]+t_projeto[[#This Row],[Q.2]]+t_projeto[[#This Row],[Q.3]],\"\")","v":6},{"$f":"IF(AND(t_projeto[[#This Row],[FLUXO]]<>0,t_projeto[[#This Row],[FLUXO]]<>\"\"),ROUND(t_projeto[[#This Row],[FLUXO]]/t_projeto[[#This Row],[Luminárias]],0),\"\")","v":7000},{"$f":"IF(AND(t_projeto[[#This Row],[Luminárias]]<>0,t_projeto[[#This Row],[Luminárias]]<>\"\"),ROUND(t_projeto[[#This Row],[lm_médio]]/t_projeto[[#This Row],[W_médio]],2),\"\")","v":140}]
[10,{"$f":"_xlfn.XLOOKUP(t_projeto[[#This Row],[cód.]],t_sitio[cód],t_sitio[Trecho],\"\")","v":"Rua Prof. Alcena de Souza Facco - Trecho 09"},"Tipo 01",4,{"$f":"IF(t_projeto[[#This Row],[T.1]]<>\"\",_xlfn.XLOOKUP(t_projeto[[#This Row],[T.1]],$G$22:$G$26,$H$22:$H$26),\"\")","v":50},null,null,{"$f":"IF(t_projeto[[#This Row],[T.2]]<>\"\",_xlfn.XLOOKUP(t_projeto[[#This Row],[T.2]],$G$22:$G$26,$H$22:$H$26),\"\")","v":""},null,null,{"$f":"IF(t_projeto[[#This Row],[T.3]]<>\"\",_xlfn.XLOOKUP(t_projeto[[#This Row],[T.3]],$G$22:$G$26,$H$22:$H$26),\"\")","v":""},null,{"$f":"t_projeto[[#This Row],[Q.1]]+t_projeto[[#This Row],[Q.2]]+t_projeto[[#This Row],[Q.3]]","v":4},{"$f":"t_projeto[[#This Row],[Q.1]]+t_projeto[[#This Row],[Q.2]]+t_projeto[[#This Row],[Q.3]]","v":4},{"$f":"IF(t_projeto[[#This Row],[Q.1]]<>\"\",SUMIFS(t_reator[p],t_reator[tipo],t_projeto[[#This Row],[T.1]],t_reator[w],t_projeto[[#This Row],[P.1(W)]]),\"\")","v":0},{"$f":"IF(t_projeto[[#This Row],[Q.2]]<>\"\",SUMIFS(t_reator[p],t_reator[tipo],t_projeto[[#This Row],[T.2]],t_reator[w],t_projeto[[#This Row],[P.2(W)]]),\"\")","v":""},{"$f":"IF(t_projeto[[#This Row],[Q.3]]<>\"\",SUMIFS(t_reator[p],t_reator[tipo],t_projeto[[#This Row],[T.3]],t_reator[w],t_projeto[[#This Row],[P.3(W)]]),\"\")","v":""},{"$f":"IF(t_projeto[[#This Row],[Q.1]]<>\"\",IFERROR(IFERROR(D478*(E478+O478)+G478*(H478+P478)+J478*(K478+Q478),D478*(E478+O478)+G478*(H478+P478)),D478*(E478+O478)),\"\")","v":200},{"$f":"IF(t_projeto[[#This Row],[Consumo_W]]<>\"\",ROUND(t_projeto[[#This Row],[Consumo_W]]/t_projeto[[#This Row],[Luminárias]],0),\"\")","v":50},{"$f":"IF(t_projeto[[#This Row],[Q.1]]<>\"\",t_projeto[[#This Row],[Q.1]]*t_projeto[[#This Row],[P.1(W)]]*$C$24,\"\")","v":28000},{"$f":"IF(t_projeto[[#This Row],[Q.2]]<>\"\",t_projeto[[#This Row],[Q.2]]*t_projeto[[#This Row],[P.2(W)]]*$C$24,\"\")","v":""},{"$f":"IF(t_projeto[[#This Row],[Q.3]]<>\"\",t_projeto[[#This Row],[Q.3]]*t_projeto[[#This Row],[P.3(W)]]*$C$24,\"\")","v":""},{"$f":"IF(t_projeto[[#This Row],[Trecho]]<>\"\",SUM(t_projeto[[#This Row],[f.1]:[f.3]]),\"\")","v":28000},{"$f":"IF(t_projeto[[#This Row],[Trecho]]<>\"\",t_projeto[[#This Row],[Q.1]]+t_projeto[[#This Row],[Q.2]]+t_projeto[[#This Row],[Q.3]],\"\")","v":4},{"$f":"IF(AND(t_projeto[[#This Row],[FLUXO]]<>0,t_projeto[[#This Row],[FLUXO]]<>\"\"),ROUND(t_projeto[[#This Row],[FLUXO]]/t_projeto[[#This Row],[Luminárias]],0),\"\")","v":7000},{"$f":"IF(AND(t_projeto[[#This Row],[Luminárias]]<>0,t_projeto[[#This Row],[Luminárias]]<>\"\"),ROUND(t_projeto[[#This Row],[lm_médio]]/t_projeto[[#This Row],[W_médio]],2),\"\")","v":140}]
[17,{"$f":"_xlfn.XLOOKUP(t_projeto[[#This Row],[cód.]],t_sitio[cód],t_sitio[Trecho],\"\")","v":""},null,null,{"$f":"IF(t_projeto[[#This Row],[T.1]]<>\"\",_xlfn.XLOOKUP(t_projeto[[#This Row],[T.1]],$G$22:$G$26,$H$22:$H$26),\"\")","v":""},null,null,{"$f":"IF(t_projeto[[#This Row],[T.2]]<>\"\",_xlfn.XLOOKUP(t_projeto[[#This Row],[T.2]],$G$22:$G$26,$H$22:$H$26),\"\")","v":""},null,null,{"$f":"IF(t_projeto[[#This Row],[T.3]]<>\"\",_xlfn.XLOOKUP(t_projeto[[#This Row],[T.3]],$G$22:$G$26,$H$22:$H$26),\"\")","v":""},null,{"$f":"t_projeto[[#This Row],[Q.1]]+t_projeto[[#This Row],[Q.2]]+t_projeto[[#This Row],[Q.3]]","v":0},{"$f":"t_projeto[[#This Row],[Q.1]]+t_projeto[[#This Row],[Q.2]]+t_projeto[[#This Row],[Q.3]]","v":0},{"$f":"IF(t_projeto[[#This Row],[Q.1]]<>\"\",SUMIFS(t_reator[p],t_reator[tipo],t_projeto[[#This Row],[T.1]],t_reator[w],t_projeto[[#This Row],[P.1(W)]]),\"\")","v":""},{"$f":"IF(t_projeto[[#This Row],[Q.2]]<>\"\",SUMIFS(t_reator[p],t_reator[tipo],t_projeto[[#This Row],[T.2]],t_reator[w],t_projeto[[#This Row],[P.2(W)]]),\"\")","v":""},{"$f":"IF(t_projeto[[#This Row],[Q.3]]<>\"\",SUMIFS(t_reator[p],t_reator[tipo],t_projeto[[#This Row],[T.3]],t_reator[w],t_projeto[[#This Row],[P.3(W)]]),\"\")","v":""},{"$f":"IF(t_projeto[[#This Row],[Q.1]]<>\"\",IFERROR(IFERROR(D479*(E479+O479)+G479*(H479+P479)+J479*(K479+Q479),D479*(E479+O479)+G479*(H479+P479)),D479*(E479+O479)),\"\")","v":""},{"$f":"IF(t_projeto[[#This Row],[Consumo_W]]<>\"\",ROUND(t_projeto[[#This Row],[Consumo_W]]/t_projeto[[#This Row],[Luminárias]],0),\"\")","v":""},{"$f":"IF(t_projeto[[#This Row],[Q.1]]<>\"\",t_projeto[[#This Row],[Q.1]]*t_projeto[[#This Row],[P.1(W)]]*$C$24,\"\")","v":""},{"$f":"IF(t_projeto[[#This Row],[Q.2]]<>\"\",t_projeto[[#This Row],[Q.2]]*t_projeto[[#This Row],[P.2(W)]]*$C$24,\"\")","v":""},{"$f":"IF(t_projeto[[#This Row],[Q.3]]<>\"\",t_projeto[[#This Row],[Q.3]]*t_projeto[[#This Row],[P.3(W)]]*$C$24,\"\")","v":""},{"$f":"IF(t_projeto[[#This Row],[Trecho]]<>\"\",SUM(t_projeto[[#This Row],[f.1]:[f.3]]),\"\")","v":""},{"$f":"IF(t_projeto[[#This Row],[Trecho]]<>\"\",t_projeto[[#This Row],[Q.1]]+t_projeto[[#This Row],[Q.2]]+t_projeto[[#This Row],[Q.3]],\"\")","v":""},{"$f":"IF(AND(t_projeto[[#This Row],[FLUXO]]<>0,t_projeto[[#This Row],[FLUXO]]<>\"\"),ROUND(t_projeto[[#This Row],[FLUXO]]/t_projeto[[#This Row],[Luminárias]],0),\"\")","v":""},{"$f":"IF(AND(t_projeto[[#This Row],[Luminárias]]<>0,t_projeto[[#This Row],[Luminárias]]<>\"\"),ROUND(t_projeto[[#This Row],[lm_médio]]/t_projeto[[#This Row],[W_médio]],2),\"\")","v":""}]
[18,{"$f":"_xlfn.XLOOKUP(t_projeto[[#This Row],[cód.]],t_sitio[cód],t_sitio[Trecho],\"\")","v":""},null,null,{"$f":"IF(t_projeto[[#This Row],[T.1]]<>\"\",_xlfn.XLOOKUP(t_projeto[[#This Row],[T.1]],$G$22:$G$26,$H$22:$H$26),\"\")","v":""},null,null,{"$f":"IF(t_projeto[[#This Row],[T.2]]<>\"\",_xlfn.XLOOKUP(t_projeto[[#This Row],[T.2]],$G$22:$G$26,$H$22:$H$26),\"\")","v":""},null,null,{"$f":"IF(t_projeto[[#This Row],[T.3]]<>\"\",_xlfn.XLOOKUP(t_projeto[[#This Row],[T.3]],$G$22:$G$26,$H$22:$H$26),\"\")","v":""},null,{"$f":"t_projeto[[#This Row],[Q.1]]+t_projeto[[#This Row],[Q.2]]+t_projeto[[#This Row],[Q.3]]","v":0},{"$f":"t_projeto[[#This Row],[Q.1]]+t_projeto[[#This Row],[Q.2]]+t_projeto[[#This Row],[Q.3]]","v":0},{"$f":"IF(t_projeto[[#This Row],[Q.1]]<>\"\",SUMIFS(t_reator[p],t_reator[tipo],t_projeto[[#This Row],[T.1]],t_reator[w],t_projeto[[#This Row],[P.1(W)]]),\"\")","v":""},{"$f":"IF(t_projeto[[#This Row],[Q.2]]<>\"\",SUMIFS(t_reator[p],t_reator[tipo],t_projeto[[#This Row],[T.2]],t_reator[w],t_projeto[[#This Row],[P.2(W)]]),\"\")","v":""},{"$f":"IF(t_projeto[[#This Row],[Q.3]]<>\"\",SUMIFS(t_reator[p],t_reator[tipo],t_projeto[[#This Row],[T.3]],t_reator[w],t_projeto[[#This Row],[P.3(W)]]),\"\")","v":""},{"$f":"IF(t_projeto[[#This Row],[Q.1]]<>\"\",IFERROR(IFERROR(D480*(E480+O480)+G480*(H480+P480)+J480*(K480+Q480),D480*(E480+O480)+G480*(H480+P480)),D480*(E480+O480)),\"\")","v":""},{"$f":"IF(t_projeto[[#This Row],[Consumo_W]]<>\"\",ROUND(t_projeto[[#This Row],[Consumo_W]]/t_projeto[[#This Row],[Luminárias]],0),\"\")","v":""},{"$f":"IF(t_projeto[[#This Row],[Q.1]]<>\"\",t_projeto[[#This Row],[Q.1]]*t_projeto[[#This Row],[P.1(W)]]*$C$24,\"\")","v":""},{"$f":"IF(t_projeto[[#This Row],[Q.2]]<>\"\",t_projeto[[#This Row],[Q.2]]*t_projeto[[#This Row],[P.2(W)]]*$C$24,\"\")","v":""},{"$f":"IF(t_projeto[[#This Row],[Q.3]]<>\"\",t_projeto[[#This Row],[Q.3]]*t_projeto[[#This Row],[P.3(W)]]*$C$24,\"\")","v":""},{"$f":"IF(t_projeto[[#This Row],[Trecho]]<>\"\",SUM(t_projeto[[#This Row],[f.1]:[f.3]]),\"\")","v":""},{"$f":"IF(t_projeto[[#This Row],[Trecho]]<>\"\",t_projeto[[#This Row],[Q.1]]+t_projeto[[#This Row],[Q.2]]+t_projeto[[#This Row],[Q.3]],\"\")","v":""},{"$f":"IF(AND(t_projeto[[#This Row],[FLUXO]]<>0,t_projeto[[#This Row],[FLUXO]]<>\"\"),ROUND(t_projeto[[#This Row],[FLUXO]]/t_projeto[[#This Row],[Luminárias]],0),\"\")","v":""},{"$f":"IF(AND(t_projeto[[#This Row],[Luminárias]]<>0,t_projeto[[#This Row],[Luminárias]]<>\"\"),ROUND(t_projeto[[#This Row],[lm_médio]]/t_projeto[[#This Row],[W_médio]],2),\"\")","v":""}]
[19,{"$f":"_xlfn.XLOOKUP(t_projeto[[#This Row],[cód.]],t_sitio[cód],t_sitio[Trecho],\"\")","v":""},null,null,{"$f":"IF(t_projeto[[#This Row],[T.1]]<>\"\",_xlfn.XLOOKUP(t_projeto[[#This Row],[T.1]],$G$22:$G$26,$H$22:$H$26),\"\")","v":""},null,null,{"$f":"IF(t_projeto[[#This Row],[T.2]]<>\"\",_xlfn.XLOOKUP(t_projeto[[#This Row],[T.2]],$G$22:$G$26,$H$22:$H$26),\"\")","v":""},null,null,{"$f":"IF(t_projeto[[#This Row],[T.3]]<>\"\",_xlfn.XLOOKUP(t_projeto[[#This Row],[T.3]],$G$22:$G$26,$H$22:$H$26),\"\")","v":""},null,{"$f":"t_projeto[[#This Row],[Q.1]]+t_projeto[[#This Row],[Q.2]]+t_projeto[[#This Row],[Q.3]]","v":0},{"$f":"t_projeto[[#This Row],[Q.1]]+t_projeto[[#This Row],[Q.2]]+t_projeto[[#This Row],[Q.3]]","v":0},{"$f":"IF(t_projeto[[#This Row],[Q.1]]<>\"\",SUMIFS(t_reator[p],t_reator[tipo],t_projeto[[#This Row],[T.1]],t_reator[w],t_projeto[[#This Row],[P.1(W)]]),\"\")","v":""},{"$f":"IF(t_projeto[[#This Row],[Q.2]]<>\"\",SUMIFS(t_reator[p],t_reator[tipo],t_projeto[[#This Row],[T.2]],t_reator[w],t_projeto[[#This Row],[P.2(W)]]),\"\")","v":""},{"$f":"IF(t_projeto[[#This Row],[Q.3]]<>\"\",SUMIFS(t_reator[p],t_reator[tipo],t_projeto[[#This Row],[T.3]],t_reator[w],t_projeto[[#This Row],[P.3(W)]]),\"\")","v":""},{"$f":"IF(t_projeto[[#This Row],[Q.1]]<>\"\",IFERROR(IFERROR(D481*(E481+O481)+G481*(H481+P481)+J481*(K481+Q481),D481*(E481+O481)+G481*(H481+P481)),D481*(E481+O481)),\"\")","v":""},{"$f":"IF(t_projeto[[#This Row],[Consumo_W]]<>\"\",ROUND(t_projeto[[#This Row],[Consumo_W]]/t_projeto[[#This Row],[Luminárias]],0),\"\")","v":""},{"$f":"IF(t_projeto[[#This Row],[Q.1]]<>\"\",t_projeto[[#This Row],[Q.1]]*t_projeto[[#This Row],[P.1(W)]]*$C$24,\"\")","v":""},{"$f":"IF(t_projeto[[#This Row],[Q.2]]<>\"\",t_projeto[[#This Row],[Q.2]]*t_projeto[[#This Row],[P.2(W)]]*$C$24,\"\")","v":""},{"$f":"IF(t_projeto[[#This Row],[Q.3]]<>\"\",t_projeto[[#This Row],[Q.3]]*t_projeto[[#This Row],[P.3(W)]]*$C$24,\"\")","v":""},{"$f":"IF(t_projeto[[#This Row],[Trecho]]<>\"\",SUM(t_projeto[[#This Row],[f.1]:[f.3]]),\"\")","v":""},{"$f":"IF(t_projeto[[#This Row],[Trecho]]<>\"\",t_projeto[[#This Row],[Q.1]]+t_projeto[[#This Row],[Q.2]]+t_projeto[[#This Row],[Q.3]],\"\")","v":""},{"$f":"IF(AND(t_projeto[[#This Row],[FLUXO]]<>0,t_projeto[[#This Row],[FLUXO]]<>\"\"),ROUND(t_projeto[[#This Row],[FLUXO]]/t_projeto[[#This Row],[Luminárias]],0),\"\")","v":""},{"$f":"IF(AND(t_projeto[[#This Row],[Luminárias]]<>0,t_projeto[[#This Row],[Luminárias]]<>\"\"),ROUND(t_projeto[[#This Row],[lm_médio]]/t_projeto[[#This Row],[W_médio]],2),\"\")","v":""}]
[20,{"$f":"_xlfn.XLOOKUP(t_projeto[[#This Row],[cód.]],t_sitio[cód],t_sitio[Trecho],\"\")","v":""},null,null,{"$f":"IF(t_projeto[[#This Row],[T.1]]<>\"\",_xlfn.XLOOKUP(t_projeto[[#This Row],[T.1]],$G$22:$G$26,$H$22:$H$26),\"\")","v":""},null,null,{"$f":"IF(t_projeto[[#This Row],[T.2]]<>\"\",_xlfn.XLOOKUP(t_projeto[[#This Row],[T.2]],$G$22:$G$26,$H$22:$H$26),\"\")","v":""},null,null,{"$f":"IF(t_projeto[[#This Row],[T.3]]<>\"\",_xlfn.XLOOKUP(t_projeto[[#This Row],[T.3]],$G$22:$G$26,$H$22:$H$26),\"\")","v":""},null,{"$f":"t_projeto[[#This Row],[Q.1]]+t_projeto[[#This Row],[Q.2]]+t_projeto[[#This Row],[Q.3]]","v":0},{"$f":"t_projeto[[#This Row],[Q.1]]+t_projeto[[#This Row],[Q.2]]+t_projeto[[#This Row],[Q.3]]","v":0},{"$f":"IF(t_projeto[[#This Row],[Q.1]]<>\"\",SUMIFS(t_reator[p],t_reator[tipo],t_projeto[[#This Row],[T.1]],t_reator[w],t_projeto[[#This Row],[P.1(W)]]),\"\")","v":""},{"$f":"IF(t_projeto[[#This Row],[Q.2]]<>\"\",SUMIFS(t_reator[p],t_reator[tipo],t_projeto[[#This Row],[T.2]],t_reator[w],t_projeto[[#This Row],[P.2(W)]]),\"\")","v":""},{"$f":"IF(t_projeto[[#This Row],[Q.3]]<>\"\",SUMIFS(t_reator[p],t_reator[tipo],t_projeto[[#This Row],[T.3]],t_reator[w],t_projeto[[#This Row],[P.3(W)]]),\"\")","v":""},{"$f":"IF(t_projeto[[#This Row],[Q.1]]<>\"\",IFERROR(IFERROR(D482*(E482+O482)+G482*(H482+P482)+J482*(K482+Q482),D482*(E482+O482)+G482*(H482+P482)),D482*(E482+O482)),\"\")","v":""},{"$f":"IF(t_projeto[[#This Row],[Consumo_W]]<>\"\",ROUND(t_projeto[[#This Row],[Consumo_W]]/t_projeto[[#This Row],[Luminárias]],0),\"\")","v":""},{"$f":"IF(t_projeto[[#This Row],[Q.1]]<>\"\",t_projeto[[#This Row],[Q.1]]*t_projeto[[#This Row],[P.1(W)]]*$C$24,\"\")","v":""},{"$f":"IF(t_projeto[[#This Row],[Q.2]]<>\"\",t_projeto[[#This Row],[Q.2]]*t_projeto[[#This Row],[P.2(W)]]*$C$24,\"\")","v":""},{"$f":"IF(t_projeto[[#This Row],[Q.3]]<>\"\",t_projeto[[#This Row],[Q.3]]*t_projeto[[#This Row],[P.3(W)]]*$C$24,\"\")","v":""},{"$f":"IF(t_projeto[[#This Row],[Trecho]]<>\"\",SUM(t_projeto[[#This Row],[f.1]:[f.3]]),\"\")","v":""},{"$f":"IF(t_projeto[[#This Row],[Trecho]]<>\"\",t_projeto[[#This Row],[Q.1]]+t_projeto[[#This Row],[Q.2]]+t_projeto[[#This Row],[Q.3]],\"\")","v":""},{"$f":"IF(AND(t_projeto[[#This Row],[FLUXO]]<>0,t_projeto[[#This Row],[FLUXO]]<>\"\"),ROUND(t_projeto[[#This Row],[FLUXO]]/t_projeto[[#This Row],[Luminárias]],0),\"\")","v":""},{"$f":"IF(AND(t_projeto[[#This Row],[Luminárias]]<>0,t_projeto[[#This Row],[Luminárias]]<>\"\"),ROUND(t_projeto[[#This Row],[lm_médio]]/t_projeto[[#This Row],[W_médio]],2),\"\")","v":""}]
[21,{"$f":"_xlfn.XLOOKUP(t_projeto[[#This Row],[cód.]],t_sitio[cód],t_sitio[Trecho],\"\")","v":""},null,null,{"$f":"IF(t_projeto[[#This Row],[T.1]]<>\"\",_xlfn.XLOOKUP(t_projeto[[#This Row],[T.1]],$G$22:$G$26,$H$22:$H$26),\"\")","v":""},null,null,{"$f":"IF(t_projeto[[#This Row],[T.2]]<>\"\",_xlfn.XLOOKUP(t_projeto[[#This Row],[T.2]],$G$22:$G$26,$H$22:$H$26),\"\")","v":""},null,null,{"$f":"IF(t_projeto[[#This Row],[T.3]]<>\"\",_xlfn.XLOOKUP(t_projeto[[#This Row],[T.3]],$G$22:$G$26,$H$22:$H$26),\"\")","v":""},null,{"$f":"t_projeto[[#This Row],[Q.1]]+t_projeto[[#This Row],[Q.2]]+t_projeto[[#This Row],[Q.3]]","v":0},{"$f":"t_projeto[[#This Row],[Q.1]]+t_projeto[[#This Row],[Q.2]]+t_projeto[[#This Row],[Q.3]]","v":0},{"$f":"IF(t_projeto[[#This Row],[Q.1]]<>\"\",SUMIFS(t_reator[p],t_reator[tipo],t_projeto[[#This Row],[T.1]],t_reator[w],t_projeto[[#This Row],[P.1(W)]]),\"\")","v":""},{"$f":"IF(t_projeto[[#This Row],[Q.2]]<>\"\",SUMIFS(t_reator[p],t_reator[tipo],t_projeto[[#This Row],[T.2]],t_reator[w],t_projeto[[#This Row],[P.2(W)]]),\"\")","v":""},{"$f":"IF(t_projeto[[#This Row],[Q.3]]<>\"\",SUMIFS(t_reator[p],t_reator[tipo],t_projeto[[#This Row],[T.3]],t_reator[w],t_projeto[[#This Row],[P.3(W)]]),\"\")","v":""},{"$f":"IF(t_projeto[[#This Row],[Q.1]]<>\"\",IFERROR(IFERROR(D483*(E483+O483)+G483*(H483+P483)+J483*(K483+Q483),D483*(E483+O483)+G483*(H483+P483)),D483*(E483+O483)),\"\")","v":""},{"$f":"IF(t_projeto[[#This Row],[Consumo_W]]<>\"\",ROUND(t_projeto[[#This Row],[Consumo_W]]/t_projeto[[#This Row],[Luminárias]],0),\"\")","v":""},{"$f":"IF(t_projeto[[#This Row],[Q.1]]<>\"\",t_projeto[[#This Row],[Q.1]]*t_projeto[[#This Row],[P.1(W)]]*$C$24,\"\")","v":""},{"$f":"IF(t_projeto[[#This Row],[Q.2]]<>\"\",t_projeto[[#This Row],[Q.2]]*t_projeto[[#This Row],[P.2(W)]]*$C$24,\"\")","v":""},{"$f":"IF(t_projeto[[#This Row],[Q.3]]<>\"\",t_projeto[[#This Row],[Q.3]]*t_projeto[[#This Row],[P.3(W)]]*$C$24,\"\")","v":""},{"$f":"IF(t_projeto[[#This Row],[Trecho]]<>\"\",SUM(t_projeto[[#This Row],[f.1]:[f.3]]),\"\")","v":""},{"$f":"IF(t_projeto[[#This Row],[Trecho]]<>\"\",t_projeto[[#This Row],[Q.1]]+t_projeto[[#This Row],[Q.2]]+t_projeto[[#This Row],[Q.3]],\"\")","v":""},{"$f":"IF(AND(t_projeto[[#This Row],[FLUXO]]<>0,t_projeto[[#This Row],[FLUXO]]<>\"\"),ROUND(t_projeto[[#This Row],[FLUXO]]/t_projeto[[#This Row],[Luminárias]],0),\"\")","v":""},{"$f":"IF(AND(t_projeto[[#This Row],[Luminárias]]<>0,t_projeto[[#This Row],[Luminárias]]<>\"\"),ROUND(t_projeto[[#This Row],[lm_médio]]/t_projeto[[#This Row],[W_médio]],2),\"\")","v":""}]
[22,{"$f":"_xlfn.XLOOKUP(t_projeto[[#This Row],[cód.]],t_sitio[cód],t_sitio[Trecho],\"\")","v":""},null,null,{"$f":"IF(t_projeto[[#This Row],[T.1]]<>\"\",_xlfn.XLOOKUP(t_projeto[[#This Row],[T.1]],$G$22:$G$26,$H$22:$H$26),\"\")","v":""},null,null,{"$f":"IF(t_projeto[[#This Row],[T.2]]<>\"\",_xlfn.XLOOKUP(t_projeto[[#This Row],[T.2]],$G$22:$G$26,$H$22:$H$26),\"\")","v":""},null,null,{"$f":"IF(t_projeto[[#This Row],[T.3]]<>\"\",_xlfn.XLOOKUP(t_projeto[[#This Row],[T.3]],$G$22:$G$26,$H$22:$H$26),\"\")","v":""},null,{"$f":"t_projeto[[#This Row],[Q.1]]+t_projeto[[#This Row],[Q.2]]+t_projeto[[#This Row],[Q.3]]","v":0},{"$f":"t_projeto[[#This Row],[Q.1]]+t_projeto[[#This Row],[Q.2]]+t_projeto[[#This Row],[Q.3]]","v":0},{"$f":"IF(t_projeto[[#This Row],[Q.1]]<>\"\",SUMIFS(t_reator[p],t_reator[tipo],t_projeto[[#This Row],[T.1]],t_reator[w],t_projeto[[#This Row],[P.1(W)]]),\"\")","v":""},{"$f":"IF(t_projeto[[#This Row],[Q.2]]<>\"\",SUMIFS(t_reator[p],t_reator[tipo],t_projeto[[#This Row],[T.2]],t_reator[w],t_projeto[[#This Row],[P.2(W)]]),\"\")","v":""},{"$f":"IF(t_projeto[[#This Row],[Q.3]]<>\"\",SUMIFS(t_reator[p],t_reator[tipo],t_projeto[[#This Row],[T.3]],t_reator[w],t_projeto[[#This Row],[P.3(W)]]),\"\")","v":""},{"$f":"IF(t_projeto[[#This Row],[Q.1]]<>\"\",IFERROR(IFERROR(D484*(E484+O484)+G484*(H484+P484)+J484*(K484+Q484),D484*(E484+O484)+G484*(H484+P484)),D484*(E484+O484)),\"\")","v":""},{"$f":"IF(t_projeto[[#This Row],[Consumo_W]]<>\"\",ROUND(t_projeto[[#This Row],[Consumo_W]]/t_projeto[[#This Row],[Luminárias]],0),\"\")","v":""},{"$f":"IF(t_projeto[[#This Row],[Q.1]]<>\"\",t_projeto[[#This Row],[Q.1]]*t_projeto[[#This Row],[P.1(W)]]*$C$24,\"\")","v":""},{"$f":"IF(t_projeto[[#This Row],[Q.2]]<>\"\",t_projeto[[#This Row],[Q.2]]*t_projeto[[#This Row],[P.2(W)]]*$C$24,\"\")","v":""},{"$f":"IF(t_projeto[[#This Row],[Q.3]]<>\"\",t_projeto[[#This Row],[Q.3]]*t_projeto[[#This Row],[P.3(W)]]*$C$24,\"\")","v":""},{"$f":"IF(t_projeto[[#This Row],[Trecho]]<>\"\",SUM(t_projeto[[#This Row],[f.1]:[f.3]]),\"\")","v":""},{"$f":"IF(t_projeto[[#This Row],[Trecho]]<>\"\",t_projeto[[#This Row],[Q.1]]+t_projeto[[#This Row],[Q.2]]+t_projeto[[#This Row],[Q.3]],\"\")","v":""},{"$f":"IF(AND(t_projeto[[#This Row],[FLUXO]]<>0,t_projeto[[#This Row],[FLUXO]]<>\"\"),ROUND(t_projeto[[#This Row],[FLUXO]]/t_projeto[[#This Row],[Luminárias]],0),\"\")","v":""},{"$f":"IF(AND(t_projeto[[#This Row],[Luminárias]]<>0,t_projeto[[#This Row],[Luminárias]]<>\"\"),ROUND(t_projeto[[#This Row],[lm_médio]]/t_projeto[[#This Row],[W_médio]],2),\"\")","v":""}]
[23,{"$f":"_xlfn.XLOOKUP(t_projeto[[#This Row],[cód.]],t_sitio[cód],t_sitio[Trecho],\"\")","v":""},null,null,{"$f":"IF(t_projeto[[#This Row],[T.1]]<>\"\",_xlfn.XLOOKUP(t_projeto[[#This Row],[T.1]],$G$22:$G$26,$H$22:$H$26),\"\")","v":""},null,null,{"$f":"IF(t_projeto[[#This Row],[T.2]]<>\"\",_xlfn.XLOOKUP(t_projeto[[#This Row],[T.2]],$G$22:$G$26,$H$22:$H$26),\"\")","v":""},null,null,{"$f":"IF(t_projeto[[#This Row],[T.3]]<>\"\",_xlfn.XLOOKUP(t_projeto[[#This Row],[T.3]],$G$22:$G$26,$H$22:$H$26),\"\")","v":""},null,{"$f":"t_projeto[[#This Row],[Q.1]]+t_projeto[[#This Row],[Q.2]]+t_projeto[[#This Row],[Q.3]]","v":0},{"$f":"t_projeto[[#This Row],[Q.1]]+t_projeto[[#This Row],[Q.2]]+t_projeto[[#This Row],[Q.3]]","v":0},{"$f":"IF(t_projeto[[#This Row],[Q.1]]<>\"\",SUMIFS(t_reator[p],t_reator[tipo],t_projeto[[#This Row],[T.1]],t_reator[w],t_projeto[[#This Row],[P.1(W)]]),\"\")","v":""},{"$f":"IF(t_projeto[[#This Row],[Q.2]]<>\"\",SUMIFS(t_reator[p],t_reator[tipo],t_projeto[[#This Row],[T.2]],t_reator[w],t_projeto[[#This Row],[P.2(W)]]),\"\")","v":""},{"$f":"IF(t_projeto[[#This Row],[Q.3]]<>\"\",SUMIFS(t_reator[p],t_reator[tipo],t_projeto[[#This Row],[T.3]],t_reator[w],t_projeto[[#This Row],[P.3(W)]]),\"\")","v":""},{"$f":"IF(t_projeto[[#This Row],[Q.1]]<>\"\",IFERROR(IFERROR(D485*(E485+O485)+G485*(H485+P485)+J485*(K485+Q485),D485*(E485+O485)+G485*(H485+P485)),D485*(E485+O485)),\"\")","v":""},{"$f":"IF(t_projeto[[#This Row],[Consumo_W]]<>\"\",ROUND(t_projeto[[#This Row],[Consumo_W]]/t_projeto[[#This Row],[Luminárias]],0),\"\")","v":""},{"$f":"IF(t_projeto[[#This Row],[Q.1]]<>\"\",t_projeto[[#This Row],[Q.1]]*t_projeto[[#This Row],[P.1(W)]]*$C$24,\"\")","v":""},{"$f":"IF(t_projeto[[#This Row],[Q.2]]<>\"\",t_projeto[[#This Row],[Q.2]]*t_projeto[[#This Row],[P.2(W)]]*$C$24,\"\")","v":""},{"$f":"IF(t_projeto[[#This Row],[Q.3]]<>\"\",t_projeto[[#This Row],[Q.3]]*t_projeto[[#This Row],[P.3(W)]]*$C$24,\"\")","v":""},{"$f":"IF(t_projeto[[#This Row],[Trecho]]<>\"\",SUM(t_projeto[[#This Row],[f.1]:[f.3]]),\"\")","v":""},{"$f":"IF(t_projeto[[#This Row],[Trecho]]<>\"\",t_projeto[[#This Row],[Q.1]]+t_projeto[[#This Row],[Q.2]]+t_projeto[[#This Row],[Q.3]],\"\")","v":""},{"$f":"IF(AND(t_projeto[[#This Row],[FLUXO]]<>0,t_projeto[[#This Row],[FLUXO]]<>\"\"),ROUND(t_projeto[[#This Row],[FLUXO]]/t_projeto[[#This Row],[Luminárias]],0),\"\")","v":""},{"$f":"IF(AND(t_projeto[[#This Row],[Luminárias]]<>0,t_projeto[[#This Row],[Luminárias]]<>\"\"),ROUND(t_projeto[[#This Row],[lm_médio]]/t_projeto[[#This Row],[W_médio]],2),\"\")","v":""}]
[24,{"$f":"_xlfn.XLOOKUP(t_projeto[[#This Row],[cód.]],t_sitio[cód],t_sitio[Trecho],\"\")","v":""},null,null,{"$f":"IF(t_projeto[[#This Row],[T.1]]<>\"\",_xlfn.XLOOKUP(t_projeto[[#This Row],[T.1]],$G$22:$G$26,$H$22:$H$26),\"\")","v":""},null,null,{"$f":"IF(t_projeto[[#This Row],[T.2]]<>\"\",_xlfn.XLOOKUP(t_projeto[[#This Row],[T.2]],$G$22:$G$26,$H$22:$H$26),\"\")","v":""},null,null,{"$f":"IF(t_projeto[[#This Row],[T.3]]<>\"\",_xlfn.XLOOKUP(t_projeto[[#This Row],[T.3]],$G$22:$G$26,$H$22:$H$26),\"\")","v":""},null,{"$f":"t_projeto[[#This Row],[Q.1]]+t_projeto[[#This Row],[Q.2]]+t_projeto[[#This Row],[Q.3]]","v":0},{"$f":"t_projeto[[#This Row],[Q.1]]+t_projeto[[#This Row],[Q.2]]+t_projeto[[#This Row],[Q.3]]","v":0},{"$f":"IF(t_projeto[[#This Row],[Q.1]]<>\"\",SUMIFS(t_reator[p],t_reator[tipo],t_projeto[[#This Row],[T.1]],t_reator[w],t_projeto[[#This Row],[P.1(W)]]),\"\")","v":""},{"$f":"IF(t_projeto[[#This Row],[Q.2]]<>\"\",SUMIFS(t_reator[p],t_reator[tipo],t_projeto[[#This Row],[T.2]],t_reator[w],t_projeto[[#This Row],[P.2(W)]]),\"\")","v":""},{"$f":"IF(t_projeto[[#This Row],[Q.3]]<>\"\",SUMIFS(t_reator[p],t_reator[tipo],t_projeto[[#This Row],[T.3]],t_reator[w],t_projeto[[#This Row],[P.3(W)]]),\"\")","v":""},{"$f":"IF(t_projeto[[#This Row],[Q.1]]<>\"\",IFERROR(IFERROR(D486*(E486+O486)+G486*(H486+P486)+J486*(K486+Q486),D486*(E486+O486)+G486*(H486+P486)),D486*(E486+O486)),\"\")","v":""},{"$f":"IF(t_projeto[[#This Row],[Consumo_W]]<>\"\",ROUND(t_projeto[[#This Row],[Consumo_W]]/t_projeto[[#This Row],[Luminárias]],0),\"\")","v":""},{"$f":"IF(t_projeto[[#This Row],[Q.1]]<>\"\",t_projeto[[#This Row],[Q.1]]*t_projeto[[#This Row],[P.1(W)]]*$C$24,\"\")","v":""},{"$f":"IF(t_projeto[[#This Row],[Q.2]]<>\"\",t_projeto[[#This Row],[Q.2]]*t_projeto[[#This Row],[P.2(W)]]*$C$24,\"\")","v":""},{"$f":"IF(t_projeto[[#This Row],[Q.3]]<>\"\",t_projeto[[#This Row],[Q.3]]*t_projeto[[#This Row],[P.3(W)]]*$C$24,\"\")","v":""},{"$f":"IF(t_projeto[[#This Row],[Trecho]]<>\"\",SUM(t_projeto[[#This Row],[f.1]:[f.3]]),\"\")","v":""},{"$f":"IF(t_projeto[[#This Row],[Trecho]]<>\"\",t_projeto[[#This Row],[Q.1]]+t_projeto[[#This Row],[Q.2]]+t_projeto[[#This Row],[Q.3]],\"\")","v":""},{"$f":"IF(AND(t_projeto[[#This Row],[FLUXO]]<>0,t_projeto[[#This Row],[FLUXO]]<>\"\"),ROUND(t_projeto[[#This Row],[FLUXO]]/t_projeto[[#This Row],[Luminárias]],0),\"\")","v":""},{"$f":"IF(AND(t_projeto[[#This Row],[Luminárias]]<>0,t_projeto[[#This Row],[Luminárias]]<>\"\"),ROUND(t_projeto[[#This Row],[lm_médio]]/t_projeto[[#This Row],[W_médio]],2),\"\")","v":""}]
[25,{"$f":"_xlfn.XLOOKUP(t_projeto[[#This Row],[cód.]],t_sitio[cód],t_sitio[Trecho],\"\")","v":""},null,null,{"$f":"IF(t_projeto[[#This Row],[T.1]]<>\"\",_xlfn.XLOOKUP(t_projeto[[#This Row],[T.1]],$G$22:$G$26,$H$22:$H$26),\"\")","v":""},null,null,{"$f":"IF(t_projeto[[#This Row],[T.2]]<>\"\",_xlfn.XLOOKUP(t_projeto[[#This Row],[T.2]],$G$22:$G$26,$H$22:$H$26),\"\")","v":""},null,null,{"$f":"IF(t_projeto[[#This Row],[T.3]]<>\"\",_xlfn.XLOOKUP(t_projeto[[#This Row],[T.3]],$G$22:$G$26,$H$22:$H$26),\"\")","v":""},null,{"$f":"t_projeto[[#This Row],[Q.1]]+t_projeto[[#This Row],[Q.2]]+t_projeto[[#This Row],[Q.3]]","v":0},{"$f":"t_projeto[[#This Row],[Q.1]]+t_projeto[[#This Row],[Q.2]]+t_projeto[[#This Row],[Q.3]]","v":0},{"$f":"IF(t_projeto[[#This Row],[Q.1]]<>\"\",SUMIFS(t_reator[p],t_reator[tipo],t_projeto[[#This Row],[T.1]],t_reator[w],t_projeto[[#This Row],[P.1(W)]]),\"\")","v":""},{"$f":"IF(t_projeto[[#This Row],[Q.2]]<>\"\",SUMIFS(t_reator[p],t_reator[tipo],t_projeto[[#This Row],[T.2]],t_reator[w],t_projeto[[#This Row],[P.2(W)]]),\"\")","v":""},{"$f":"IF(t_projeto[[#This Row],[Q.3]]<>\"\",SUMIFS(t_reator[p],t_reator[tipo],t_projeto[[#This Row],[T.3]],t_reator[w],t_projeto[[#This Row],[P.3(W)]]),\"\")","v":""},{"$f":"IF(t_projeto[[#This Row],[Q.1]]<>\"\",IFERROR(IFERROR(D487*(E487+O487)+G487*(H487+P487)+J487*(K487+Q487),D487*(E487+O487)+G487*(H487+P487)),D487*(E487+O487)),\"\")","v":""},{"$f":"IF(t_projeto[[#This Row],[Consumo_W]]<>\"\",ROUND(t_projeto[[#This Row],[Consumo_W]]/t_projeto[[#This Row],[Luminárias]],0),\"\")","v":""},{"$f":"IF(t_projeto[[#This Row],[Q.1]]<>\"\",t_projeto[[#This Row],[Q.1]]*t_projeto[[#This Row],[P.1(W)]]*$C$24,\"\")","v":""},{"$f":"IF(t_projeto[[#This Row],[Q.2]]<>\"\",t_projeto[[#This Row],[Q.2]]*t_projeto[[#This Row],[P.2(W)]]*$C$24,\"\")","v":""},{"$f":"IF(t_projeto[[#This Row],[Q.3]]<>\"\",t_projeto[[#This Row],[Q.3]]*t_projeto[[#This Row],[P.3(W)]]*$C$24,\"\")","v":""},{"$f":"IF(t_projeto[[#This Row],[Trecho]]<>\"\",SUM(t_projeto[[#This Row],[f.1]:[f.3]]),\"\")","v":""},{"$f":"IF(t_projeto[[#This Row],[Trecho]]<>\"\",t_projeto[[#This Row],[Q.1]]+t_projeto[[#This Row],[Q.2]]+t_projeto[[#This Row],[Q.3]],\"\")","v":""},{"$f":"IF(AND(t_projeto[[#This Row],[FLUXO]]<>0,t_projeto[[#This Row],[FLUXO]]<>\"\"),ROUND(t_projeto[[#This Row],[FLUXO]]/t_projeto[[#This Row],[Luminárias]],0),\"\")","v":""},{"$f":"IF(AND(t_projeto[[#This Row],[Luminárias]]<>0,t_projeto[[#This Row],[Luminárias]]<>\"\"),ROUND(t_projeto[[#This Row],[lm_médio]]/t_projeto[[#This Row],[W_médio]],2),\"\")","v":""}]
[26,{"$f":"_xlfn.XLOOKUP(t_projeto[[#This Row],[cód.]],t_sitio[cód],t_sitio[Trecho],\"\")","v":""},null,null,{"$f":"IF(t_projeto[[#This Row],[T.1]]<>\"\",_xlfn.XLOOKUP(t_projeto[[#This Row],[T.1]],$G$22:$G$26,$H$22:$H$26),\"\")","v":""},null,null,{"$f":"IF(t_projeto[[#This Row],[T.2]]<>\"\",_xlfn.XLOOKUP(t_projeto[[#This Row],[T.2]],$G$22:$G$26,$H$22:$H$26),\"\")","v":""},null,null,{"$f":"IF(t_projeto[[#This Row],[T.3]]<>\"\",_xlfn.XLOOKUP(t_projeto[[#This Row],[T.3]],$G$22:$G$26,$H$22:$H$26),\"\")","v":""},null,{"$f":"t_projeto[[#This Row],[Q.1]]+t_projeto[[#This Row],[Q.2]]+t_projeto[[#This Row],[Q.3]]","v":0},{"$f":"t_projeto[[#This Row],[Q.1]]+t_projeto[[#This Row],[Q.2]]+t_projeto[[#This Row],[Q.3]]","v":0},{"$f":"IF(t_projeto[[#This Row],[Q.1]]<>\"\",SUMIFS(t_reator[p],t_reator[tipo],t_projeto[[#This Row],[T.1]],t_reator[w],t_projeto[[#This Row],[P.1(W)]]),\"\")","v":""},{"$f":"IF(t_projeto[[#This Row],[Q.2]]<>\"\",SUMIFS(t_reator[p],t_reator[tipo],t_projeto[[#This Row],[T.2]],t_reator[w],t_projeto[[#This Row],[P.2(W)]]),\"\")","v":""},{"$f":"IF(t_projeto[[#This Row],[Q.3]]<>\"\",SUMIFS(t_reator[p],t_reator[tipo],t_projeto[[#This Row],[T.3]],t_reator[w],t_projeto[[#This Row],[P.3(W)]]),\"\")","v":""},{"$f":"IF(t_projeto[[#This Row],[Q.1]]<>\"\",IFERROR(IFERROR(D488*(E488+O488)+G488*(H488+P488)+J488*(K488+Q488),D488*(E488+O488)+G488*(H488+P488)),D488*(E488+O488)),\"\")","v":""},{"$f":"IF(t_projeto[[#This Row],[Consumo_W]]<>\"\",ROUND(t_projeto[[#This Row],[Consumo_W]]/t_projeto[[#This Row],[Luminárias]],0),\"\")","v":""},{"$f":"IF(t_projeto[[#This Row],[Q.1]]<>\"\",t_projeto[[#This Row],[Q.1]]*t_projeto[[#This Row],[P.1(W)]]*$C$24,\"\")","v":""},{"$f":"IF(t_projeto[[#This Row],[Q.2]]<>\"\",t_projeto[[#This Row],[Q.2]]*t_projeto[[#This Row],[P.2(W)]]*$C$24,\"\")","v":""},{"$f":"IF(t_projeto[[#This Row],[Q.3]]<>\"\",t_projeto[[#This Row],[Q.3]]*t_projeto[[#This Row],[P.3(W)]]*$C$24,\"\")","v":""},{"$f":"IF(t_projeto[[#This Row],[Trecho]]<>\"\",SUM(t_projeto[[#This Row],[f.1]:[f.3]]),\"\")","v":""},{"$f":"IF(t_projeto[[#This Row],[Trecho]]<>\"\",t_projeto[[#This Row],[Q.1]]+t_projeto[[#This Row],[Q.2]]+t_projeto[[#This Row],[Q.3]],\"\")","v":""},{"$f":"IF(AND(t_projeto[[#This Row],[FLUXO]]<>0,t_projeto[[#This Row],[FLUXO]]<>\"\"),ROUND(t_projeto[[#This Row],[FLUXO]]/t_projeto[[#This Row],[Luminárias]],0),\"\")","v":""},{"$f":"IF(AND(t_projeto[[#This Row],[Luminárias]]<>0,t_projeto[[#This Row],[Luminárias]]<>\"\"),ROUND(t_projeto[[#This Row],[lm_médio]]/t_projeto[[#This Row],[W_médio]],2),\"\")","v":""}]
[27,{"$f":"_xlfn.XLOOKUP(t_projeto[[#This Row],[cód.]],t_sitio[cód],t_sitio[Trecho],\"\")","v":""},null,null,{"$f":"IF(t_projeto[[#This Row],[T.1]]<>\"\",_xlfn.XLOOKUP(t_projeto[[#This Row],[T.1]],$G$22:$G$26,$H$22:$H$26),\"\")","v":""},null,null,{"$f":"IF(t_projeto[[#This Row],[T.2]]<>\"\",_xlfn.XLOOKUP(t_projeto[[#This Row],[T.2]],$G$22:$G$26,$H$22:$H$26),\"\")","v":""},null,null,{"$f":"IF(t_projeto[[#This Row],[T.3]]<>\"\",_xlfn.XLOOKUP(t_projeto[[#This Row],[T.3]],$G$22:$G$26,$H$22:$H$26),\"\")","v":""},null,{"$f":"t_projeto[[#This Row],[Q.1]]+t_projeto[[#This Row],[Q.2]]+t_projeto[[#This Row],[Q.3]]","v":0},{"$f":"t_projeto[[#This Row],[Q.1]]+t_projeto[[#This Row],[Q.2]]+t_projeto[[#This Row],[Q.3]]","v":0},{"$f":"IF(t_projeto[[#This Row],[Q.1]]<>\"\",SUMIFS(t_reator[p],t_reator[tipo],t_projeto[[#This Row],[T.1]],t_reator[w],t_projeto[[#This Row],[P.1(W)]]),\"\")","v":""},{"$f":"IF(t_projeto[[#This Row],[Q.2]]<>\"\",SUMIFS(t_reator[p],t_reator[tipo],t_projeto[[#This Row],[T.2]],t_reator[w],t_projeto[[#This Row],[P.2(W)]]),\"\")","v":""},{"$f":"IF(t_projeto[[#This Row],[Q.3]]<>\"\",SUMIFS(t_reator[p],t_reator[tipo],t_projeto[[#This Row],[T.3]],t_reator[w],t_projeto[[#This Row],[P.3(W)]]),\"\")","v":""},{"$f":"IF(t_projeto[[#This Row],[Q.1]]<>\"\",IFERROR(IFERROR(D489*(E489+O489)+G489*(H489+P489)+J489*(K489+Q489),D489*(E489+O489)+G489*(H489+P489)),D489*(E489+O489)),\"\")","v":""},{"$f":"IF(t_projeto[[#This Row],[Consumo_W]]<>\"\",ROUND(t_projeto[[#This Row],[Consumo_W]]/t_projeto[[#This Row],[Luminárias]],0),\"\")","v":""},{"$f":"IF(t_projeto[[#This Row],[Q.1]]<>\"\",t_projeto[[#This Row],[Q.1]]*t_projeto[[#This Row],[P.1(W)]]*$C$24,\"\")","v":""},{"$f":"IF(t_projeto[[#This Row],[Q.2]]<>\"\",t_projeto[[#This Row],[Q.2]]*t_projeto[[#This Row],[P.2(W)]]*$C$24,\"\")","v":""},{"$f":"IF(t_projeto[[#This Row],[Q.3]]<>\"\",t_projeto[[#This Row],[Q.3]]*t_projeto[[#This Row],[P.3(W)]]*$C$24,\"\")","v":""},{"$f":"IF(t_projeto[[#This Row],[Trecho]]<>\"\",SUM(t_projeto[[#This Row],[f.1]:[f.3]]),\"\")","v":""},{"$f":"IF(t_projeto[[#This Row],[Trecho]]<>\"\",t_projeto[[#This Row],[Q.1]]+t_projeto[[#This Row],[Q.2]]+t_projeto[[#This Row],[Q.3]],\"\")","v":""},{"$f":"IF(AND(t_projeto[[#This Row],[FLUXO]]<>0,t_projeto[[#This Row],[FLUXO]]<>\"\"),ROUND(t_projeto[[#This Row],[FLUXO]]/t_projeto[[#This Row],[Luminárias]],0),\"\")","v":""},{"$f":"IF(AND(t_projeto[[#This Row],[Luminárias]]<>0,t_projeto[[#This Row],[Luminárias]]<>\"\"),ROUND(t_projeto[[#This Row],[lm_médio]]/t_projeto[[#This Row],[W_médio]],2),\"\")","v":""}]
[28,{"$f":"_xlfn.XLOOKUP(t_projeto[[#This Row],[cód.]],t_sitio[cód],t_sitio[Trecho],\"\")","v":""},null,null,{"$f":"IF(t_projeto[[#This Row],[T.1]]<>\"\",_xlfn.XLOOKUP(t_projeto[[#This Row],[T.1]],$G$22:$G$26,$H$22:$H$26),\"\")","v":""},null,null,{"$f":"IF(t_projeto[[#This Row],[T.2]]<>\"\",_xlfn.XLOOKUP(t_projeto[[#This Row],[T.2]],$G$22:$G$26,$H$22:$H$26),\"\")","v":""},null,null,{"$f":"IF(t_projeto[[#This Row],[T.3]]<>\"\",_xlfn.XLOOKUP(t_projeto[[#This Row],[T.3]],$G$22:$G$26,$H$22:$H$26),\"\")","v":""},null,{"$f":"t_projeto[[#This Row],[Q.1]]+t_projeto[[#This Row],[Q.2]]+t_projeto[[#This Row],[Q.3]]","v":0},{"$f":"t_projeto[[#This Row],[Q.1]]+t_projeto[[#This Row],[Q.2]]+t_projeto[[#This Row],[Q.3]]","v":0},{"$f":"IF(t_projeto[[#This Row],[Q.1]]<>\"\",SUMIFS(t_reator[p],t_reator[tipo],t_projeto[[#This Row],[T.1]],t_reator[w],t_projeto[[#This Row],[P.1(W)]]),\"\")","v":""},{"$f":"IF(t_projeto[[#This Row],[Q.2]]<>\"\",SUMIFS(t_reator[p],t_reator[tipo],t_projeto[[#This Row],[T.2]],t_reator[w],t_projeto[[#This Row],[P.2(W)]]),\"\")","v":""},{"$f":"IF(t_projeto[[#This Row],[Q.3]]<>\"\",SUMIFS(t_reator[p],t_reator[tipo],t_projeto[[#This Row],[T.3]],t_reator[w],t_projeto[[#This Row],[P.3(W)]]),\"\")","v":""},{"$f":"IF(t_projeto[[#This Row],[Q.1]]<>\"\",IFERROR(IFERROR(D490*(E490+O490)+G490*(H490+P490)+J490*(K490+Q490),D490*(E490+O490)+G490*(H490+P490)),D490*(E490+O490)),\"\")","v":""},{"$f":"IF(t_projeto[[#This Row],[Consumo_W]]<>\"\",ROUND(t_projeto[[#This Row],[Consumo_W]]/t_projeto[[#This Row],[Luminárias]],0),\"\")","v":""},{"$f":"IF(t_projeto[[#This Row],[Q.1]]<>\"\",t_projeto[[#This Row],[Q.1]]*t_projeto[[#This Row],[P.1(W)]]*$C$24,\"\")","v":""},{"$f":"IF(t_projeto[[#This Row],[Q.2]]<>\"\",t_projeto[[#This Row],[Q.2]]*t_projeto[[#This Row],[P.2(W)]]*$C$24,\"\")","v":""},{"$f":"IF(t_projeto[[#This Row],[Q.3]]<>\"\",t_projeto[[#This Row],[Q.3]]*t_projeto[[#This Row],[P.3(W)]]*$C$24,\"\")","v":""},{"$f":"IF(t_projeto[[#This Row],[Trecho]]<>\"\",SUM(t_projeto[[#This Row],[f.1]:[f.3]]),\"\")","v":""},{"$f":"IF(t_projeto[[#This Row],[Trecho]]<>\"\",t_projeto[[#This Row],[Q.1]]+t_projeto[[#This Row],[Q.2]]+t_projeto[[#This Row],[Q.3]],\"\")","v":""},{"$f":"IF(AND(t_projeto[[#This Row],[FLUXO]]<>0,t_projeto[[#This Row],[FLUXO]]<>\"\"),ROUND(t_projeto[[#This Row],[FLUXO]]/t_projeto[[#This Row],[Luminárias]],0),\"\")","v":""},{"$f":"IF(AND(t_projeto[[#This Row],[Luminárias]]<>0,t_projeto[[#This Row],[Luminárias]]<>\"\"),ROUND(t_projeto[[#This Row],[lm_médio]]/t_projeto[[#This Row],[W_médio]],2),\"\")","v":""}]
[29,{"$f":"_xlfn.XLOOKUP(t_projeto[[#This Row],[cód.]],t_sitio[cód],t_sitio[Trecho],\"\")","v":""},null,null,{"$f":"IF(t_projeto[[#This Row],[T.1]]<>\"\",_xlfn.XLOOKUP(t_projeto[[#This Row],[T.1]],$G$22:$G$26,$H$22:$H$26),\"\")","v":""},null,null,{"$f":"IF(t_projeto[[#This Row],[T.2]]<>\"\",_xlfn.XLOOKUP(t_projeto[[#This Row],[T.2]],$G$22:$G$26,$H$22:$H$26),\"\")","v":""},null,null,{"$f":"IF(t_projeto[[#This Row],[T.3]]<>\"\",_xlfn.XLOOKUP(t_projeto[[#This Row],[T.3]],$G$22:$G$26,$H$22:$H$26),\"\")","v":""},null,{"$f":"t_projeto[[#This Row],[Q.1]]+t_projeto[[#This Row],[Q.2]]+t_projeto[[#This Row],[Q.3]]","v":0},{"$f":"t_projeto[[#This Row],[Q.1]]+t_projeto[[#This Row],[Q.2]]+t_projeto[[#This Row],[Q.3]]","v":0},{"$f":"IF(t_projeto[[#This Row],[Q.1]]<>\"\",SUMIFS(t_reator[p],t_reator[tipo],t_projeto[[#This Row],[T.1]],t_reator[w],t_projeto[[#This Row],[P.1(W)]]),\"\")","v":""},{"$f":"IF(t_projeto[[#This Row],[Q.2]]<>\"\",SUMIFS(t_reator[p],t_reator[tipo],t_projeto[[#This Row],[T.2]],t_reator[w],t_projeto[[#This Row],[P.2(W)]]),\"\")","v":""},{"$f":"IF(t_projeto[[#This Row],[Q.3]]<>\"\",SUMIFS(t_reator[p],t_reator[tipo],t_projeto[[#This Row],[T.3]],t_reator[w],t_projeto[[#This Row],[P.3(W)]]),\"\")","v":""},{"$f":"IF(t_projeto[[#This Row],[Q.1]]<>\"\",IFERROR(IFERROR(D491*(E491+O491)+G491*(H491+P491)+J491*(K491+Q491),D491*(E491+O491)+G491*(H491+P491)),D491*(E491+O491)),\"\")","v":""},{"$f":"IF(t_projeto[[#This Row],[Consumo_W]]<>\"\",ROUND(t_projeto[[#This Row],[Consumo_W]]/t_projeto[[#This Row],[Luminárias]],0),\"\")","v":""},{"$f":"IF(t_projeto[[#This Row],[Q.1]]<>\"\",t_projeto[[#This Row],[Q.1]]*t_projeto[[#This Row],[P.1(W)]]*$C$24,\"\")","v":""},{"$f":"IF(t_projeto[[#This Row],[Q.2]]<>\"\",t_projeto[[#This Row],[Q.2]]*t_projeto[[#This Row],[P.2(W)]]*$C$24,\"\")","v":""},{"$f":"IF(t_projeto[[#This Row],[Q.3]]<>\"\",t_projeto[[#This Row],[Q.3]]*t_projeto[[#This Row],[P.3(W)]]*$C$24,\"\")","v":""},{"$f":"IF(t_projeto[[#This Row],[Trecho]]<>\"\",SUM(t_projeto[[#This Row],[f.1]:[f.3]]),\"\")","v":""},{"$f":"IF(t_projeto[[#This Row],[Trecho]]<>\"\",t_projeto[[#This Row],[Q.1]]+t_projeto[[#This Row],[Q.2]]+t_projeto[[#This Row],[Q.3]],\"\")","v":""},{"$f":"IF(AND(t_projeto[[#This Row],[FLUXO]]<>0,t_projeto[[#This Row],[FLUXO]]<>\"\"),ROUND(t_projeto[[#This Row],[FLUXO]]/t_projeto[[#This Row],[Luminárias]],0),\"\")","v":""},{"$f":"IF(AND(t_projeto[[#This Row],[Luminárias]]<>0,t_projeto[[#This Row],[Luminárias]]<>\"\"),ROUND(t_projeto[[#This Row],[lm_médio]]/t_projeto[[#This Row],[W_médio]],2),\"\")","v":""}]
[30,{"$f":"_xlfn.XLOOKUP(t_projeto[[#This Row],[cód.]],t_sitio[cód],t_sitio[Trecho],\"\")","v":""},null,null,{"$f":"IF(t_projeto[[#This Row],[T.1]]<>\"\",_xlfn.XLOOKUP(t_projeto[[#This Row],[T.1]],$G$22:$G$26,$H$22:$H$26),\"\")","v":""},null,null,{"$f":"IF(t_projeto[[#This Row],[T.2]]<>\"\",_xlfn.XLOOKUP(t_projeto[[#This Row],[T.2]],$G$22:$G$26,$H$22:$H$26),\"\")","v":""},null,null,{"$f":"IF(t_projeto[[#This Row],[T.3]]<>\"\",_xlfn.XLOOKUP(t_projeto[[#This Row],[T.3]],$G$22:$G$26,$H$22:$H$26),\"\")","v":""},null,{"$f":"t_projeto[[#This Row],[Q.1]]+t_projeto[[#This Row],[Q.2]]+t_projeto[[#This Row],[Q.3]]","v":0},{"$f":"t_projeto[[#This Row],[Q.1]]+t_projeto[[#This Row],[Q.2]]+t_projeto[[#This Row],[Q.3]]","v":0},{"$f":"IF(t_projeto[[#This Row],[Q.1]]<>\"\",SUMIFS(t_reator[p],t_reator[tipo],t_projeto[[#This Row],[T.1]],t_reator[w],t_projeto[[#This Row],[P.1(W)]]),\"\")","v":""},{"$f":"IF(t_projeto[[#This Row],[Q.2]]<>\"\",SUMIFS(t_reator[p],t_reator[tipo],t_projeto[[#This Row],[T.2]],t_reator[w],t_projeto[[#This Row],[P.2(W)]]),\"\")","v":""},{"$f":"IF(t_projeto[[#This Row],[Q.3]]<>\"\",SUMIFS(t_reator[p],t_reator[tipo],t_projeto[[#This Row],[T.3]],t_reator[w],t_projeto[[#This Row],[P.3(W)]]),\"\")","v":""},{"$f":"IF(t_projeto[[#This Row],[Q.1]]<>\"\",IFERROR(IFERROR(D492*(E492+O492)+G492*(H492+P492)+J492*(K492+Q492),D492*(E492+O492)+G492*(H492+P492)),D492*(E492+O492)),\"\")","v":""},{"$f":"IF(t_projeto[[#This Row],[Consumo_W]]<>\"\",ROUND(t_projeto[[#This Row],[Consumo_W]]/t_projeto[[#This Row],[Luminárias]],0),\"\")","v":""},{"$f":"IF(t_projeto[[#This Row],[Q.1]]<>\"\",t_projeto[[#This Row],[Q.1]]*t_projeto[[#This Row],[P.1(W)]]*$C$24,\"\")","v":""},{"$f":"IF(t_projeto[[#This Row],[Q.2]]<>\"\",t_projeto[[#This Row],[Q.2]]*t_projeto[[#This Row],[P.2(W)]]*$C$24,\"\")","v":""},{"$f":"IF(t_projeto[[#This Row],[Q.3]]<>\"\",t_projeto[[#This Row],[Q.3]]*t_projeto[[#This Row],[P.3(W)]]*$C$24,\"\")","v":""},{"$f":"IF(t_projeto[[#This Row],[Trecho]]<>\"\",SUM(t_projeto[[#This Row],[f.1]:[f.3]]),\"\")","v":""},{"$f":"IF(t_projeto[[#This Row],[Trecho]]<>\"\",t_projeto[[#This Row],[Q.1]]+t_projeto[[#This Row],[Q.2]]+t_projeto[[#This Row],[Q.3]],\"\")","v":""},{"$f":"IF(AND(t_projeto[[#This Row],[FLUXO]]<>0,t_projeto[[#This Row],[FLUXO]]<>\"\"),ROUND(t_projeto[[#This Row],[FLUXO]]/t_projeto[[#This Row],[Luminárias]],0),\"\")","v":""},{"$f":"IF(AND(t_projeto[[#This Row],[Luminárias]]<>0,t_projeto[[#This Row],[Luminárias]]<>\"\"),ROUND(t_projeto[[#This Row],[lm_médio]]/t_projeto[[#This Row],[W_médio]],2),\"\")","v":""}]
[31,{"$f":"_xlfn.XLOOKUP(t_projeto[[#This Row],[cód.]],t_sitio[cód],t_sitio[Trecho],\"\")","v":""},null,null,{"$f":"IF(t_projeto[[#This Row],[T.1]]<>\"\",_xlfn.XLOOKUP(t_projeto[[#This Row],[T.1]],$G$22:$G$26,$H$22:$H$26),\"\")","v":""},null,null,{"$f":"IF(t_projeto[[#This Row],[T.2]]<>\"\",_xlfn.XLOOKUP(t_projeto[[#This Row],[T.2]],$G$22:$G$26,$H$22:$H$26),\"\")","v":""},null,null,{"$f":"IF(t_projeto[[#This Row],[T.3]]<>\"\",_xlfn.XLOOKUP(t_projeto[[#This Row],[T.3]],$G$22:$G$26,$H$22:$H$26),\"\")","v":""},null,{"$f":"t_projeto[[#This Row],[Q.1]]+t_projeto[[#This Row],[Q.2]]+t_projeto[[#This Row],[Q.3]]","v":0},{"$f":"t_projeto[[#This Row],[Q.1]]+t_projeto[[#This Row],[Q.2]]+t_projeto[[#This Row],[Q.3]]","v":0},{"$f":"IF(t_projeto[[#This Row],[Q.1]]<>\"\",SUMIFS(t_reator[p],t_reator[tipo],t_projeto[[#This Row],[T.1]],t_reator[w],t_projeto[[#This Row],[P.1(W)]]),\"\")","v":""},{"$f":"IF(t_projeto[[#This Row],[Q.2]]<>\"\",SUMIFS(t_reator[p],t_reator[tipo],t_projeto[[#This Row],[T.2]],t_reator[w],t_projeto[[#This Row],[P.2(W)]]),\"\")","v":""},{"$f":"IF(t_projeto[[#This Row],[Q.3]]<>\"\",SUMIFS(t_reator[p],t_reator[tipo],t_projeto[[#This Row],[T.3]],t_reator[w],t_projeto[[#This Row],[P.3(W)]]),\"\")","v":""},{"$f":"IF(t_projeto[[#This Row],[Q.1]]<>\"\",IFERROR(IFERROR(D493*(E493+O493)+G493*(H493+P493)+J493*(K493+Q493),D493*(E493+O493)+G493*(H493+P493)),D493*(E493+O493)),\"\")","v":""},{"$f":"IF(t_projeto[[#This Row],[Consumo_W]]<>\"\",ROUND(t_projeto[[#This Row],[Consumo_W]]/t_projeto[[#This Row],[Luminárias]],0),\"\")","v":""},{"$f":"IF(t_projeto[[#This Row],[Q.1]]<>\"\",t_projeto[[#This Row],[Q.1]]*t_projeto[[#This Row],[P.1(W)]]*$C$24,\"\")","v":""},{"$f":"IF(t_projeto[[#This Row],[Q.2]]<>\"\",t_projeto[[#This Row],[Q.2]]*t_projeto[[#This Row],[P.2(W)]]*$C$24,\"\")","v":""},{"$f":"IF(t_projeto[[#This Row],[Q.3]]<>\"\",t_projeto[[#This Row],[Q.3]]*t_projeto[[#This Row],[P.3(W)]]*$C$24,\"\")","v":""},{"$f":"IF(t_projeto[[#This Row],[Trecho]]<>\"\",SUM(t_projeto[[#This Row],[f.1]:[f.3]]),\"\")","v":""},{"$f":"IF(t_projeto[[#This Row],[Trecho]]<>\"\",t_projeto[[#This Row],[Q.1]]+t_projeto[[#This Row],[Q.2]]+t_projeto[[#This Row],[Q.3]],\"\")","v":""},{"$f":"IF(AND(t_projeto[[#This Row],[FLUXO]]<>0,t_projeto[[#This Row],[FLUXO]]<>\"\"),ROUND(t_projeto[[#This Row],[FLUXO]]/t_projeto[[#This Row],[Luminárias]],0),\"\")","v":""},{"$f":"IF(AND(t_projeto[[#This Row],[Luminárias]]<>0,t_projeto[[#This Row],[Luminárias]]<>\"\"),ROUND(t_projeto[[#This Row],[lm_médio]]/t_projeto[[#This Row],[W_médio]],2),\"\")","v":""}]
[32,{"$f":"_xlfn.XLOOKUP(t_projeto[[#This Row],[cód.]],t_sitio[cód],t_sitio[Trecho],\"\")","v":""},null,null,{"$f":"IF(t_projeto[[#This Row],[T.1]]<>\"\",_xlfn.XLOOKUP(t_projeto[[#This Row],[T.1]],$G$22:$G$26,$H$22:$H$26),\"\")","v":""},null,null,{"$f":"IF(t_projeto[[#This Row],[T.2]]<>\"\",_xlfn.XLOOKUP(t_projeto[[#This Row],[T.2]],$G$22:$G$26,$H$22:$H$26),\"\")","v":""},null,null,{"$f":"IF(t_projeto[[#This Row],[T.3]]<>\"\",_xlfn.XLOOKUP(t_projeto[[#This Row],[T.3]],$G$22:$G$26,$H$22:$H$26),\"\")","v":""},null,{"$f":"t_projeto[[#This Row],[Q.1]]+t_projeto[[#This Row],[Q.2]]+t_projeto[[#This Row],[Q.3]]","v":0},{"$f":"t_projeto[[#This Row],[Q.1]]+t_projeto[[#This Row],[Q.2]]+t_projeto[[#This Row],[Q.3]]","v":0},{"$f":"IF(t_projeto[[#This Row],[Q.1]]<>\"\",SUMIFS(t_reator[p],t_reator[tipo],t_projeto[[#This Row],[T.1]],t_reator[w],t_projeto[[#This Row],[P.1(W)]]),\"\")","v":""},{"$f":"IF(t_projeto[[#This Row],[Q.2]]<>\"\",SUMIFS(t_reator[p],t_reator[tipo],t_projeto[[#This Row],[T.2]],t_reator[w],t_projeto[[#This Row],[P.2(W)]]),\"\")","v":""},{"$f":"IF(t_projeto[[#This Row],[Q.3]]<>\"\",SUMIFS(t_reator[p],t_reator[tipo],t_projeto[[#This Row],[T.3]],t_reator[w],t_projeto[[#This Row],[P.3(W)]]),\"\")","v":""},{"$f":"IF(t_projeto[[#This Row],[Q.1]]<>\"\",IFERROR(IFERROR(D494*(E494+O494)+G494*(H494+P494)+J494*(K494+Q494),D494*(E494+O494)+G494*(H494+P494)),D494*(E494+O494)),\"\")","v":""},{"$f":"IF(t_projeto[[#This Row],[Consumo_W]]<>\"\",ROUND(t_projeto[[#This Row],[Consumo_W]]/t_projeto[[#This Row],[Luminárias]],0),\"\")","v":""},{"$f":"IF(t_projeto[[#This Row],[Q.1]]<>\"\",t_projeto[[#This Row],[Q.1]]*t_projeto[[#This Row],[P.1(W)]]*$C$24,\"\")","v":""},{"$f":"IF(t_projeto[[#This Row],[Q.2]]<>\"\",t_projeto[[#This Row],[Q.2]]*t_projeto[[#This Row],[P.2(W)]]*$C$24,\"\")","v":""},{"$f":"IF(t_projeto[[#This Row],[Q.3]]<>\"\",t_projeto[[#This Row],[Q.3]]*t_projeto[[#This Row],[P.3(W)]]*$C$24,\"\")","v":""},{"$f":"IF(t_projeto[[#This Row],[Trecho]]<>\"\",SUM(t_projeto[[#This Row],[f.1]:[f.3]]),\"\")","v":""},{"$f":"IF(t_projeto[[#This Row],[Trecho]]<>\"\",t_projeto[[#This Row],[Q.1]]+t_projeto[[#This Row],[Q.2]]+t_projeto[[#This Row],[Q.3]],\"\")","v":""},{"$f":"IF(AND(t_projeto[[#This Row],[FLUXO]]<>0,t_projeto[[#This Row],[FLUXO]]<>\"\"),ROUND(t_projeto[[#This Row],[FLUXO]]/t_projeto[[#This Row],[Luminárias]],0),\"\")","v":""},{"$f":"IF(AND(t_projeto[[#This Row],[Luminárias]]<>0,t_projeto[[#This Row],[Luminárias]]<>\"\"),ROUND(t_projeto[[#This Row],[lm_médio]]/t_projeto[[#This Row],[W_médio]],2),\"\")","v":""}]
[33,{"$f":"_xlfn.XLOOKUP(t_projeto[[#This Row],[cód.]],t_sitio[cód],t_sitio[Trecho],\"\")","v":""},null,null,{"$f":"IF(t_projeto[[#This Row],[T.1]]<>\"\",_xlfn.XLOOKUP(t_projeto[[#This Row],[T.1]],$G$22:$G$26,$H$22:$H$26),\"\")","v":""},null,null,{"$f":"IF(t_projeto[[#This Row],[T.2]]<>\"\",_xlfn.XLOOKUP(t_projeto[[#This Row],[T.2]],$G$22:$G$26,$H$22:$H$26),\"\")","v":""},null,null,{"$f":"IF(t_projeto[[#This Row],[T.3]]<>\"\",_xlfn.XLOOKUP(t_projeto[[#This Row],[T.3]],$G$22:$G$26,$H$22:$H$26),\"\")","v":""},null,{"$f":"t_projeto[[#This Row],[Q.1]]+t_projeto[[#This Row],[Q.2]]+t_projeto[[#This Row],[Q.3]]","v":0},{"$f":"t_projeto[[#This Row],[Q.1]]+t_projeto[[#This Row],[Q.2]]+t_projeto[[#This Row],[Q.3]]","v":0},{"$f":"IF(t_projeto[[#This Row],[Q.1]]<>\"\",SUMIFS(t_reator[p],t_reator[tipo],t_projeto[[#This Row],[T.1]],t_reator[w],t_projeto[[#This Row],[P.1(W)]]),\"\")","v":""},{"$f":"IF(t_projeto[[#This Row],[Q.2]]<>\"\",SUMIFS(t_reator[p],t_reator[tipo],t_projeto[[#This Row],[T.2]],t_reator[w],t_projeto[[#This Row],[P.2(W)]]),\"\")","v":""},{"$f":"IF(t_projeto[[#This Row],[Q.3]]<>\"\",SUMIFS(t_reator[p],t_reator[tipo],t_projeto[[#This Row],[T.3]],t_reator[w],t_projeto[[#This Row],[P.3(W)]]),\"\")","v":""},{"$f":"IF(t_projeto[[#This Row],[Q.1]]<>\"\",IFERROR(IFERROR(D495*(E495+O495)+G495*(H495+P495)+J495*(K495+Q495),D495*(E495+O495)+G495*(H495+P495)),D495*(E495+O495)),\"\")","v":""},{"$f":"IF(t_projeto[[#This Row],[Consumo_W]]<>\"\",ROUND(t_projeto[[#This Row],[Consumo_W]]/t_projeto[[#This Row],[Luminárias]],0),\"\")","v":""},{"$f":"IF(t_projeto[[#This Row],[Q.1]]<>\"\",t_projeto[[#This Row],[Q.1]]*t_projeto[[#This Row],[P.1(W)]]*$C$24,\"\")","v":""},{"$f":"IF(t_projeto[[#This Row],[Q.2]]<>\"\",t_projeto[[#This Row],[Q.2]]*t_projeto[[#This Row],[P.2(W)]]*$C$24,\"\")","v":""},{"$f":"IF(t_projeto[[#This Row],[Q.3]]<>\"\",t_projeto[[#This Row],[Q.3]]*t_projeto[[#This Row],[P.3(W)]]*$C$24,\"\")","v":""},{"$f":"IF(t_projeto[[#This Row],[Trecho]]<>\"\",SUM(t_projeto[[#This Row],[f.1]:[f.3]]),\"\")","v":""},{"$f":"IF(t_projeto[[#This Row],[Trecho]]<>\"\",t_projeto[[#This Row],[Q.1]]+t_projeto[[#This Row],[Q.2]]+t_projeto[[#This Row],[Q.3]],\"\")","v":""},{"$f":"IF(AND(t_projeto[[#This Row],[FLUXO]]<>0,t_projeto[[#This Row],[FLUXO]]<>\"\"),ROUND(t_projeto[[#This Row],[FLUXO]]/t_projeto[[#This Row],[Luminárias]],0),\"\")","v":""},{"$f":"IF(AND(t_projeto[[#This Row],[Luminárias]]<>0,t_projeto[[#This Row],[Luminárias]]<>\"\"),ROUND(t_projeto[[#This Row],[lm_médio]]/t_projeto[[#This Row],[W_médio]],2),\"\")","v":""}]
[34,{"$f":"_xlfn.XLOOKUP(t_projeto[[#This Row],[cód.]],t_sitio[cód],t_sitio[Trecho],\"\")","v":""},null,null,{"$f":"IF(t_projeto[[#This Row],[T.1]]<>\"\",_xlfn.XLOOKUP(t_projeto[[#This Row],[T.1]],$G$22:$G$26,$H$22:$H$26),\"\")","v":""},null,null,{"$f":"IF(t_projeto[[#This Row],[T.2]]<>\"\",_xlfn.XLOOKUP(t_projeto[[#This Row],[T.2]],$G$22:$G$26,$H$22:$H$26),\"\")","v":""},null,null,{"$f":"IF(t_projeto[[#This Row],[T.3]]<>\"\",_xlfn.XLOOKUP(t_projeto[[#This Row],[T.3]],$G$22:$G$26,$H$22:$H$26),\"\")","v":""},null,{"$f":"t_projeto[[#This Row],[Q.1]]+t_projeto[[#This Row],[Q.2]]+t_projeto[[#This Row],[Q.3]]","v":0},{"$f":"t_projeto[[#This Row],[Q.1]]+t_projeto[[#This Row],[Q.2]]+t_projeto[[#This Row],[Q.3]]","v":0},{"$f":"IF(t_projeto[[#This Row],[Q.1]]<>\"\",SUMIFS(t_reator[p],t_reator[tipo],t_projeto[[#This Row],[T.1]],t_reator[w],t_projeto[[#This Row],[P.1(W)]]),\"\")","v":""},{"$f":"IF(t_projeto[[#This Row],[Q.2]]<>\"\",SUMIFS(t_reator[p],t_reator[tipo],t_projeto[[#This Row],[T.2]],t_reator[w],t_projeto[[#This Row],[P.2(W)]]),\"\")","v":""},{"$f":"IF(t_projeto[[#This Row],[Q.3]]<>\"\",SUMIFS(t_reator[p],t_reator[tipo],t_projeto[[#This Row],[T.3]],t_reator[w],t_projeto[[#This Row],[P.3(W)]]),\"\")","v":""},{"$f":"IF(t_projeto[[#This Row],[Q.1]]<>\"\",IFERROR(IFERROR(D496*(E496+O496)+G496*(H496+P496)+J496*(K496+Q496),D496*(E496+O496)+G496*(H496+P496)),D496*(E496+O496)),\"\")","v":""},{"$f":"IF(t_projeto[[#This Row],[Consumo_W]]<>\"\",ROUND(t_projeto[[#This Row],[Consumo_W]]/t_projeto[[#This Row],[Luminárias]],0),\"\")","v":""},{"$f":"IF(t_projeto[[#This Row],[Q.1]]<>\"\",t_projeto[[#This Row],[Q.1]]*t_projeto[[#This Row],[P.1(W)]]*$C$24,\"\")","v":""},{"$f":"IF(t_projeto[[#This Row],[Q.2]]<>\"\",t_projeto[[#This Row],[Q.2]]*t_projeto[[#This Row],[P.2(W)]]*$C$24,\"\")","v":""},{"$f":"IF(t_projeto[[#This Row],[Q.3]]<>\"\",t_projeto[[#This Row],[Q.3]]*t_projeto[[#This Row],[P.3(W)]]*$C$24,\"\")","v":""},{"$f":"IF(t_projeto[[#This Row],[Trecho]]<>\"\",SUM(t_projeto[[#This Row],[f.1]:[f.3]]),\"\")","v":""},{"$f":"IF(t_projeto[[#This Row],[Trecho]]<>\"\",t_projeto[[#This Row],[Q.1]]+t_projeto[[#This Row],[Q.2]]+t_projeto[[#This Row],[Q.3]],\"\")","v":""},{"$f":"IF(AND(t_projeto[[#This Row],[FLUXO]]<>0,t_projeto[[#This Row],[FLUXO]]<>\"\"),ROUND(t_projeto[[#This Row],[FLUXO]]/t_projeto[[#This Row],[Luminárias]],0),\"\")","v":""},{"$f":"IF(AND(t_projeto[[#This Row],[Luminárias]]<>0,t_projeto[[#This Row],[Luminárias]]<>\"\"),ROUND(t_projeto[[#This Row],[lm_médio]]/t_projeto[[#This Row],[W_médio]],2),\"\")","v":""}]
[35,{"$f":"_xlfn.XLOOKUP(t_projeto[[#This Row],[cód.]],t_sitio[cód],t_sitio[Trecho],\"\")","v":""},null,null,{"$f":"IF(t_projeto[[#This Row],[T.1]]<>\"\",_xlfn.XLOOKUP(t_projeto[[#This Row],[T.1]],$G$22:$G$26,$H$22:$H$26),\"\")","v":""},null,null,{"$f":"IF(t_projeto[[#This Row],[T.2]]<>\"\",_xlfn.XLOOKUP(t_projeto[[#This Row],[T.2]],$G$22:$G$26,$H$22:$H$26),\"\")","v":""},null,null,{"$f":"IF(t_projeto[[#This Row],[T.3]]<>\"\",_xlfn.XLOOKUP(t_projeto[[#This Row],[T.3]],$G$22:$G$26,$H$22:$H$26),\"\")","v":""},null,{"$f":"t_projeto[[#This Row],[Q.1]]+t_projeto[[#This Row],[Q.2]]+t_projeto[[#This Row],[Q.3]]","v":0},{"$f":"t_projeto[[#This Row],[Q.1]]+t_projeto[[#This Row],[Q.2]]+t_projeto[[#This Row],[Q.3]]","v":0},{"$f":"IF(t_projeto[[#This Row],[Q.1]]<>\"\",SUMIFS(t_reator[p],t_reator[tipo],t_projeto[[#This Row],[T.1]],t_reator[w],t_projeto[[#This Row],[P.1(W)]]),\"\")","v":""},{"$f":"IF(t_projeto[[#This Row],[Q.2]]<>\"\",SUMIFS(t_reator[p],t_reator[tipo],t_projeto[[#This Row],[T.2]],t_reator[w],t_projeto[[#This Row],[P.2(W)]]),\"\")","v":""},{"$f":"IF(t_projeto[[#This Row],[Q.3]]<>\"\",SUMIFS(t_reator[p],t_reator[tipo],t_projeto[[#This Row],[T.3]],t_reator[w],t_projeto[[#This Row],[P.3(W)]]),\"\")","v":""},{"$f":"IF(t_projeto[[#This Row],[Q.1]]<>\"\",IFERROR(IFERROR(D497*(E497+O497)+G497*(H497+P497)+J497*(K497+Q497),D497*(E497+O497)+G497*(H497+P497)),D497*(E497+O497)),\"\")","v":""},{"$f":"IF(t_projeto[[#This Row],[Consumo_W]]<>\"\",ROUND(t_projeto[[#This Row],[Consumo_W]]/t_projeto[[#This Row],[Luminárias]],0),\"\")","v":""},{"$f":"IF(t_projeto[[#This Row],[Q.1]]<>\"\",t_projeto[[#This Row],[Q.1]]*t_projeto[[#This Row],[P.1(W)]]*$C$24,\"\")","v":""},{"$f":"IF(t_projeto[[#This Row],[Q.2]]<>\"\",t_projeto[[#This Row],[Q.2]]*t_projeto[[#This Row],[P.2(W)]]*$C$24,\"\")","v":""},{"$f":"IF(t_projeto[[#This Row],[Q.3]]<>\"\",t_projeto[[#This Row],[Q.3]]*t_projeto[[#This Row],[P.3(W)]]*$C$24,\"\")","v":""},{"$f":"IF(t_projeto[[#This Row],[Trecho]]<>\"\",SUM(t_projeto[[#This Row],[f.1]:[f.3]]),\"\")","v":""},{"$f":"IF(t_projeto[[#This Row],[Trecho]]<>\"\",t_projeto[[#This Row],[Q.1]]+t_projeto[[#This Row],[Q.2]]+t_projeto[[#This Row],[Q.3]],\"\")","v":""},{"$f":"IF(AND(t_projeto[[#This Row],[FLUXO]]<>0,t_projeto[[#This Row],[FLUXO]]<>\"\"),ROUND(t_projeto[[#This Row],[FLUXO]]/t_projeto[[#This Row],[Luminárias]],0),\"\")","v":""},{"$f":"IF(AND(t_projeto[[#This Row],[Luminárias]]<>0,t_projeto[[#This Row],[Luminárias]]<>\"\"),ROUND(t_projeto[[#This Row],[lm_médio]]/t_projeto[[#This Row],[W_médio]],2),\"\")","v":""}]
[36,{"$f":"_xlfn.XLOOKUP(t_projeto[[#This Row],[cód.]],t_sitio[cód],t_sitio[Trecho],\"\")","v":""},null,null,{"$f":"IF(t_projeto[[#This Row],[T.1]]<>\"\",_xlfn.XLOOKUP(t_projeto[[#This Row],[T.1]],$G$22:$G$26,$H$22:$H$26),\"\")","v":""},null,null,{"$f":"IF(t_projeto[[#This Row],[T.2]]<>\"\",_xlfn.XLOOKUP(t_projeto[[#This Row],[T.2]],$G$22:$G$26,$H$22:$H$26),\"\")","v":""},null,null,{"$f":"IF(t_projeto[[#This Row],[T.3]]<>\"\",_xlfn.XLOOKUP(t_projeto[[#This Row],[T.3]],$G$22:$G$26,$H$22:$H$26),\"\")","v":""},null,{"$f":"t_projeto[[#This Row],[Q.1]]+t_projeto[[#This Row],[Q.2]]+t_projeto[[#This Row],[Q.3]]","v":0},{"$f":"t_projeto[[#This Row],[Q.1]]+t_projeto[[#This Row],[Q.2]]+t_projeto[[#This Row],[Q.3]]","v":0},{"$f":"IF(t_projeto[[#This Row],[Q.1]]<>\"\",SUMIFS(t_reator[p],t_reator[tipo],t_projeto[[#This Row],[T.1]],t_reator[w],t_projeto[[#This Row],[P.1(W)]]),\"\")","v":""},{"$f":"IF(t_projeto[[#This Row],[Q.2]]<>\"\",SUMIFS(t_reator[p],t_reator[tipo],t_projeto[[#This Row],[T.2]],t_reator[w],t_projeto[[#This Row],[P.2(W)]]),\"\")","v":""},{"$f":"IF(t_projeto[[#This Row],[Q.3]]<>\"\",SUMIFS(t_reator[p],t_reator[tipo],t_projeto[[#This Row],[T.3]],t_reator[w],t_projeto[[#This Row],[P.3(W)]]),\"\")","v":""},{"$f":"IF(t_projeto[[#This Row],[Q.1]]<>\"\",IFERROR(IFERROR(D498*(E498+O498)+G498*(H498+P498)+J498*(K498+Q498),D498*(E498+O498)+G498*(H498+P498)),D498*(E498+O498)),\"\")","v":""},{"$f":"IF(t_projeto[[#This Row],[Consumo_W]]<>\"\",ROUND(t_projeto[[#This Row],[Consumo_W]]/t_projeto[[#This Row],[Luminárias]],0),\"\")","v":""},{"$f":"IF(t_projeto[[#This Row],[Q.1]]<>\"\",t_projeto[[#This Row],[Q.1]]*t_projeto[[#This Row],[P.1(W)]]*$C$24,\"\")","v":""},{"$f":"IF(t_projeto[[#This Row],[Q.2]]<>\"\",t_projeto[[#This Row],[Q.2]]*t_projeto[[#This Row],[P.2(W)]]*$C$24,\"\")","v":""},{"$f":"IF(t_projeto[[#This Row],[Q.3]]<>\"\",t_projeto[[#This Row],[Q.3]]*t_projeto[[#This Row],[P.3(W)]]*$C$24,\"\")","v":""},{"$f":"IF(t_projeto[[#This Row],[Trecho]]<>\"\",SUM(t_projeto[[#This Row],[f.1]:[f.3]]),\"\")","v":""},{"$f":"IF(t_projeto[[#This Row],[Trecho]]<>\"\",t_projeto[[#This Row],[Q.1]]+t_projeto[[#This Row],[Q.2]]+t_projeto[[#This Row],[Q.3]],\"\")","v":""},{"$f":"IF(AND(t_projeto[[#This Row],[FLUXO]]<>0,t_projeto[[#This Row],[FLUXO]]<>\"\"),ROUND(t_projeto[[#This Row],[FLUXO]]/t_projeto[[#This Row],[Luminárias]],0),\"\")","v":""},{"$f":"IF(AND(t_projeto[[#This Row],[Luminárias]]<>0,t_projeto[[#This Row],[Luminárias]]<>\"\"),ROUND(t_projeto[[#This Row],[lm_médio]]/t_projeto[[#This Row],[W_médio]],2),\"\")","v":""}]
[37,{"$f":"_xlfn.XLOOKUP(t_projeto[[#This Row],[cód.]],t_sitio[cód],t_sitio[Trecho],\"\")","v":""},null,null,{"$f":"IF(t_projeto[[#This Row],[T.1]]<>\"\",_xlfn.XLOOKUP(t_projeto[[#This Row],[T.1]],$G$22:$G$26,$H$22:$H$26),\"\")","v":""},null,null,{"$f":"IF(t_projeto[[#This Row],[T.2]]<>\"\",_xlfn.XLOOKUP(t_projeto[[#This Row],[T.2]],$G$22:$G$26,$H$22:$H$26),\"\")","v":""},null,null,{"$f":"IF(t_projeto[[#This Row],[T.3]]<>\"\",_xlfn.XLOOKUP(t_projeto[[#This Row],[T.3]],$G$22:$G$26,$H$22:$H$26),\"\")","v":""},null,{"$f":"t_projeto[[#This Row],[Q.1]]+t_projeto[[#This Row],[Q.2]]+t_projeto[[#This Row],[Q.3]]","v":0},{"$f":"t_projeto[[#This Row],[Q.1]]+t_projeto[[#This Row],[Q.2]]+t_projeto[[#This Row],[Q.3]]","v":0},{"$f":"IF(t_projeto[[#This Row],[Q.1]]<>\"\",SUMIFS(t_reator[p],t_reator[tipo],t_projeto[[#This Row],[T.1]],t_reator[w],t_projeto[[#This Row],[P.1(W)]]),\"\")","v":""},{"$f":"IF(t_projeto[[#This Row],[Q.2]]<>\"\",SUMIFS(t_reator[p],t_reator[tipo],t_projeto[[#This Row],[T.2]],t_reator[w],t_projeto[[#This Row],[P.2(W)]]),\"\")","v":""},{"$f":"IF(t_projeto[[#This Row],[Q.3]]<>\"\",SUMIFS(t_reator[p],t_reator[tipo],t_projeto[[#This Row],[T.3]],t_reator[w],t_projeto[[#This Row],[P.3(W)]]),\"\")","v":""},{"$f":"IF(t_projeto[[#This Row],[Q.1]]<>\"\",IFERROR(IFERROR(D499*(E499+O499)+G499*(H499+P499)+J499*(K499+Q499),D499*(E499+O499)+G499*(H499+P499)),D499*(E499+O499)),\"\")","v":""},{"$f":"IF(t_projeto[[#This Row],[Consumo_W]]<>\"\",ROUND(t_projeto[[#This Row],[Consumo_W]]/t_projeto[[#This Row],[Luminárias]],0),\"\")","v":""},{"$f":"IF(t_projeto[[#This Row],[Q.1]]<>\"\",t_projeto[[#This Row],[Q.1]]*t_projeto[[#This Row],[P.1(W)]]*$C$24,\"\")","v":""},{"$f":"IF(t_projeto[[#This Row],[Q.2]]<>\"\",t_projeto[[#This Row],[Q.2]]*t_projeto[[#This Row],[P.2(W)]]*$C$24,\"\")","v":""},{"$f":"IF(t_projeto[[#This Row],[Q.3]]<>\"\",t_projeto[[#This Row],[Q.3]]*t_projeto[[#This Row],[P.3(W)]]*$C$24,\"\")","v":""},{"$f":"IF(t_projeto[[#This Row],[Trecho]]<>\"\",SUM(t_projeto[[#This Row],[f.1]:[f.3]]),\"\")","v":""},{"$f":"IF(t_projeto[[#This Row],[Trecho]]<>\"\",t_projeto[[#This Row],[Q.1]]+t_projeto[[#This Row],[Q.2]]+t_projeto[[#This Row],[Q.3]],\"\")","v":""},{"$f":"IF(AND(t_projeto[[#This Row],[FLUXO]]<>0,t_projeto[[#This Row],[FLUXO]]<>\"\"),ROUND(t_projeto[[#This Row],[FLUXO]]/t_projeto[[#This Row],[Luminárias]],0),\"\")","v":""},{"$f":"IF(AND(t_projeto[[#This Row],[Luminárias]]<>0,t_projeto[[#This Row],[Luminárias]]<>\"\"),ROUND(t_projeto[[#This Row],[lm_médio]]/t_projeto[[#This Row],[W_médio]],2),\"\")","v":""}]
[38,{"$f":"_xlfn.XLOOKUP(t_projeto[[#This Row],[cód.]],t_sitio[cód],t_sitio[Trecho],\"\")","v":""},null,null,{"$f":"IF(t_projeto[[#This Row],[T.1]]<>\"\",_xlfn.XLOOKUP(t_projeto[[#This Row],[T.1]],$G$22:$G$26,$H$22:$H$26),\"\")","v":""},null,null,{"$f":"IF(t_projeto[[#This Row],[T.2]]<>\"\",_xlfn.XLOOKUP(t_projeto[[#This Row],[T.2]],$G$22:$G$26,$H$22:$H$26),\"\")","v":""},null,null,{"$f":"IF(t_projeto[[#This Row],[T.3]]<>\"\",_xlfn.XLOOKUP(t_projeto[[#This Row],[T.3]],$G$22:$G$26,$H$22:$H$26),\"\")","v":""},null,{"$f":"t_projeto[[#This Row],[Q.1]]+t_projeto[[#This Row],[Q.2]]+t_projeto[[#This Row],[Q.3]]","v":0},{"$f":"t_projeto[[#This Row],[Q.1]]+t_projeto[[#This Row],[Q.2]]+t_projeto[[#This Row],[Q.3]]","v":0},{"$f":"IF(t_projeto[[#This Row],[Q.1]]<>\"\",SUMIFS(t_reator[p],t_reator[tipo],t_projeto[[#This Row],[T.1]],t_reator[w],t_projeto[[#This Row],[P.1(W)]]),\"\")","v":""},{"$f":"IF(t_projeto[[#This Row],[Q.2]]<>\"\",SUMIFS(t_reator[p],t_reator[tipo],t_projeto[[#This Row],[T.2]],t_reator[w],t_projeto[[#This Row],[P.2(W)]]),\"\")","v":""},{"$f":"IF(t_projeto[[#This Row],[Q.3]]<>\"\",SUMIFS(t_reator[p],t_reator[tipo],t_projeto[[#This Row],[T.3]],t_reator[w],t_projeto[[#This Row],[P.3(W)]]),\"\")","v":""},{"$f":"IF(t_projeto[[#This Row],[Q.1]]<>\"\",IFERROR(IFERROR(D500*(E500+O500)+G500*(H500+P500)+J500*(K500+Q500),D500*(E500+O500)+G500*(H500+P500)),D500*(E500+O500)),\"\")","v":""},{"$f":"IF(t_projeto[[#This Row],[Consumo_W]]<>\"\",ROUND(t_projeto[[#This Row],[Consumo_W]]/t_projeto[[#This Row],[Luminárias]],0),\"\")","v":""},{"$f":"IF(t_projeto[[#This Row],[Q.1]]<>\"\",t_projeto[[#This Row],[Q.1]]*t_projeto[[#This Row],[P.1(W)]]*$C$24,\"\")","v":""},{"$f":"IF(t_projeto[[#This Row],[Q.2]]<>\"\",t_projeto[[#This Row],[Q.2]]*t_projeto[[#This Row],[P.2(W)]]*$C$24,\"\")","v":""},{"$f":"IF(t_projeto[[#This Row],[Q.3]]<>\"\",t_projeto[[#This Row],[Q.3]]*t_projeto[[#This Row],[P.3(W)]]*$C$24,\"\")","v":""},{"$f":"IF(t_projeto[[#This Row],[Trecho]]<>\"\",SUM(t_projeto[[#This Row],[f.1]:[f.3]]),\"\")","v":""},{"$f":"IF(t_projeto[[#This Row],[Trecho]]<>\"\",t_projeto[[#This Row],[Q.1]]+t_projeto[[#This Row],[Q.2]]+t_projeto[[#This Row],[Q.3]],\"\")","v":""},{"$f":"IF(AND(t_projeto[[#This Row],[FLUXO]]<>0,t_projeto[[#This Row],[FLUXO]]<>\"\"),ROUND(t_projeto[[#This Row],[FLUXO]]/t_projeto[[#This Row],[Luminárias]],0),\"\")","v":""},{"$f":"IF(AND(t_projeto[[#This Row],[Luminárias]]<>0,t_projeto[[#This Row],[Luminárias]]<>\"\"),ROUND(t_projeto[[#This Row],[lm_médio]]/t_projeto[[#This Row],[W_médio]],2),\"\")","v":""}]
[39,{"$f":"_xlfn.XLOOKUP(t_projeto[[#This Row],[cód.]],t_sitio[cód],t_sitio[Trecho],\"\")","v":""},null,null,{"$f":"IF(t_projeto[[#This Row],[T.1]]<>\"\",_xlfn.XLOOKUP(t_projeto[[#This Row],[T.1]],$G$22:$G$26,$H$22:$H$26),\"\")","v":""},null,null,{"$f":"IF(t_projeto[[#This Row],[T.2]]<>\"\",_xlfn.XLOOKUP(t_projeto[[#This Row],[T.2]],$G$22:$G$26,$H$22:$H$26),\"\")","v":""},null,null,{"$f":"IF(t_projeto[[#This Row],[T.3]]<>\"\",_xlfn.XLOOKUP(t_projeto[[#This Row],[T.3]],$G$22:$G$26,$H$22:$H$26),\"\")","v":""},null,{"$f":"t_projeto[[#This Row],[Q.1]]+t_projeto[[#This Row],[Q.2]]+t_projeto[[#This Row],[Q.3]]","v":0},{"$f":"t_projeto[[#This Row],[Q.1]]+t_projeto[[#This Row],[Q.2]]+t_projeto[[#This Row],[Q.3]]","v":0},{"$f":"IF(t_projeto[[#This Row],[Q.1]]<>\"\",SUMIFS(t_reator[p],t_reator[tipo],t_projeto[[#This Row],[T.1]],t_reator[w],t_projeto[[#This Row],[P.1(W)]]),\"\")","v":""},{"$f":"IF(t_projeto[[#This Row],[Q.2]]<>\"\",SUMIFS(t_reator[p],t_reator[tipo],t_projeto[[#This Row],[T.2]],t_reator[w],t_projeto[[#This Row],[P.2(W)]]),\"\")","v":""},{"$f":"IF(t_projeto[[#This Row],[Q.3]]<>\"\",SUMIFS(t_reator[p],t_reator[tipo],t_projeto[[#This Row],[T.3]],t_reator[w],t_projeto[[#This Row],[P.3(W)]]),\"\")","v":""},{"$f":"IF(t_projeto[[#This Row],[Q.1]]<>\"\",IFERROR(IFERROR(D501*(E501+O501)+G501*(H501+P501)+J501*(K501+Q501),D501*(E501+O501)+G501*(H501+P501)),D501*(E501+O501)),\"\")","v":""},{"$f":"IF(t_projeto[[#This Row],[Consumo_W]]<>\"\",ROUND(t_projeto[[#This Row],[Consumo_W]]/t_projeto[[#This Row],[Luminárias]],0),\"\")","v":""},{"$f":"IF(t_projeto[[#This Row],[Q.1]]<>\"\",t_projeto[[#This Row],[Q.1]]*t_projeto[[#This Row],[P.1(W)]]*$C$24,\"\")","v":""},{"$f":"IF(t_projeto[[#This Row],[Q.2]]<>\"\",t_projeto[[#This Row],[Q.2]]*t_projeto[[#This Row],[P.2(W)]]*$C$24,\"\")","v":""},{"$f":"IF(t_projeto[[#This Row],[Q.3]]<>\"\",t_projeto[[#This Row],[Q.3]]*t_projeto[[#This Row],[P.3(W)]]*$C$24,\"\")","v":""},{"$f":"IF(t_projeto[[#This Row],[Trecho]]<>\"\",SUM(t_projeto[[#This Row],[f.1]:[f.3]]),\"\")","v":""},{"$f":"IF(t_projeto[[#This Row],[Trecho]]<>\"\",t_projeto[[#This Row],[Q.1]]+t_projeto[[#This Row],[Q.2]]+t_projeto[[#This Row],[Q.3]],\"\")","v":""},{"$f":"IF(AND(t_projeto[[#This Row],[FLUXO]]<>0,t_projeto[[#This Row],[FLUXO]]<>\"\"),ROUND(t_projeto[[#This Row],[FLUXO]]/t_projeto[[#This Row],[Luminárias]],0),\"\")","v":""},{"$f":"IF(AND(t_projeto[[#This Row],[Luminárias]]<>0,t_projeto[[#This Row],[Luminárias]]<>\"\"),ROUND(t_projeto[[#This Row],[lm_médio]]/t_projeto[[#This Row],[W_médio]],2),\"\")","v":""}]
[40,{"$f":"_xlfn.XLOOKUP(t_projeto[[#This Row],[cód.]],t_sitio[cód],t_sitio[Trecho],\"\")","v":""},null,null,{"$f":"IF(t_projeto[[#This Row],[T.1]]<>\"\",_xlfn.XLOOKUP(t_projeto[[#This Row],[T.1]],$G$22:$G$26,$H$22:$H$26),\"\")","v":""},null,null,{"$f":"IF(t_projeto[[#This Row],[T.2]]<>\"\",_xlfn.XLOOKUP(t_projeto[[#This Row],[T.2]],$G$22:$G$26,$H$22:$H$26),\"\")","v":""},null,null,{"$f":"IF(t_projeto[[#This Row],[T.3]]<>\"\",_xlfn.XLOOKUP(t_projeto[[#This Row],[T.3]],$G$22:$G$26,$H$22:$H$26),\"\")","v":""},null,{"$f":"t_projeto[[#This Row],[Q.1]]+t_projeto[[#This Row],[Q.2]]+t_projeto[[#This Row],[Q.3]]","v":0},{"$f":"t_projeto[[#This Row],[Q.1]]+t_projeto[[#This Row],[Q.2]]+t_projeto[[#This Row],[Q.3]]","v":0},{"$f":"IF(t_projeto[[#This Row],[Q.1]]<>\"\",SUMIFS(t_reator[p],t_reator[tipo],t_projeto[[#This Row],[T.1]],t_reator[w],t_projeto[[#This Row],[P.1(W)]]),\"\")","v":""},{"$f":"IF(t_projeto[[#This Row],[Q.2]]<>\"\",SUMIFS(t_reator[p],t_reator[tipo],t_projeto[[#This Row],[T.2]],t_reator[w],t_projeto[[#This Row],[P.2(W)]]),\"\")","v":""},{"$f":"IF(t_projeto[[#This Row],[Q.3]]<>\"\",SUMIFS(t_reator[p],t_reator[tipo],t_projeto[[#This Row],[T.3]],t_reator[w],t_projeto[[#This Row],[P.3(W)]]),\"\")","v":""},{"$f":"IF(t_projeto[[#This Row],[Q.1]]<>\"\",IFERROR(IFERROR(D502*(E502+O502)+G502*(H502+P502)+J502*(K502+Q502),D502*(E502+O502)+G502*(H502+P502)),D502*(E502+O502)),\"\")","v":""},{"$f":"IF(t_projeto[[#This Row],[Consumo_W]]<>\"\",ROUND(t_projeto[[#This Row],[Consumo_W]]/t_projeto[[#This Row],[Luminárias]],0),\"\")","v":""},{"$f":"IF(t_projeto[[#This Row],[Q.1]]<>\"\",t_projeto[[#This Row],[Q.1]]*t_projeto[[#This Row],[P.1(W)]]*$C$24,\"\")","v":""},{"$f":"IF(t_projeto[[#This Row],[Q.2]]<>\"\",t_projeto[[#This Row],[Q.2]]*t_projeto[[#This Row],[P.2(W)]]*$C$24,\"\")","v":""},{"$f":"IF(t_projeto[[#This Row],[Q.3]]<>\"\",t_projeto[[#This Row],[Q.3]]*t_projeto[[#This Row],[P.3(W)]]*$C$24,\"\")","v":""},{"$f":"IF(t_projeto[[#This Row],[Trecho]]<>\"\",SUM(t_projeto[[#This Row],[f.1]:[f.3]]),\"\")","v":""},{"$f":"IF(t_projeto[[#This Row],[Trecho]]<>\"\",t_projeto[[#This Row],[Q.1]]+t_projeto[[#This Row],[Q.2]]+t_projeto[[#This Row],[Q.3]],\"\")","v":""},{"$f":"IF(AND(t_projeto[[#This Row],[FLUXO]]<>0,t_projeto[[#This Row],[FLUXO]]<>\"\"),ROUND(t_projeto[[#This Row],[FLUXO]]/t_projeto[[#This Row],[Luminárias]],0),\"\")","v":""},{"$f":"IF(AND(t_projeto[[#This Row],[Luminárias]]<>0,t_projeto[[#This Row],[Luminárias]]<>\"\"),ROUND(t_projeto[[#This Row],[lm_médio]]/t_projeto[[#This Row],[W_médio]],2),\"\")","v":""}]
[41,{"$f":"_xlfn.XLOOKUP(t_projeto[[#This Row],[cód.]],t_sitio[cód],t_sitio[Trecho],\"\")","v":""},null,null,{"$f":"IF(t_projeto[[#This Row],[T.1]]<>\"\",_xlfn.XLOOKUP(t_projeto[[#This Row],[T.1]],$G$22:$G$26,$H$22:$H$26),\"\")","v":""},null,null,{"$f":"IF(t_projeto[[#This Row],[T.2]]<>\"\",_xlfn.XLOOKUP(t_projeto[[#This Row],[T.2]],$G$22:$G$26,$H$22:$H$26),\"\")","v":""},null,null,{"$f":"IF(t_projeto[[#This Row],[T.3]]<>\"\",_xlfn.XLOOKUP(t_projeto[[#This Row],[T.3]],$G$22:$G$26,$H$22:$H$26),\"\")","v":""},null,{"$f":"t_projeto[[#This Row],[Q.1]]+t_projeto[[#This Row],[Q.2]]+t_projeto[[#This Row],[Q.3]]","v":0},{"$f":"t_projeto[[#This Row],[Q.1]]+t_projeto[[#This Row],[Q.2]]+t_projeto[[#This Row],[Q.3]]","v":0},{"$f":"IF(t_projeto[[#This Row],[Q.1]]<>\"\",SUMIFS(t_reator[p],t_reator[tipo],t_projeto[[#This Row],[T.1]],t_reator[w],t_projeto[[#This Row],[P.1(W)]]),\"\")","v":""},{"$f":"IF(t_projeto[[#This Row],[Q.2]]<>\"\",SUMIFS(t_reator[p],t_reator[tipo],t_projeto[[#This Row],[T.2]],t_reator[w],t_projeto[[#This Row],[P.2(W)]]),\"\")","v":""},{"$f":"IF(t_projeto[[#This Row],[Q.3]]<>\"\",SUMIFS(t_reator[p],t_reator[tipo],t_projeto[[#This Row],[T.3]],t_reator[w],t_projeto[[#This Row],[P.3(W)]]),\"\")","v":""},{"$f":"IF(t_projeto[[#This Row],[Q.1]]<>\"\",IFERROR(IFERROR(D503*(E503+O503)+G503*(H503+P503)+J503*(K503+Q503),D503*(E503+O503)+G503*(H503+P503)),D503*(E503+O503)),\"\")","v":""},{"$f":"IF(t_projeto[[#This Row],[Consumo_W]]<>\"\",ROUND(t_projeto[[#This Row],[Consumo_W]]/t_projeto[[#This Row],[Luminárias]],0),\"\")","v":""},{"$f":"IF(t_projeto[[#This Row],[Q.1]]<>\"\",t_projeto[[#This Row],[Q.1]]*t_projeto[[#This Row],[P.1(W)]]*$C$24,\"\")","v":""},{"$f":"IF(t_projeto[[#This Row],[Q.2]]<>\"\",t_projeto[[#This Row],[Q.2]]*t_projeto[[#This Row],[P.2(W)]]*$C$24,\"\")","v":""},{"$f":"IF(t_projeto[[#This Row],[Q.3]]<>\"\",t_projeto[[#This Row],[Q.3]]*t_projeto[[#This Row],[P.3(W)]]*$C$24,\"\")","v":""},{"$f":"IF(t_projeto[[#This Row],[Trecho]]<>\"\",SUM(t_projeto[[#This Row],[f.1]:[f.3]]),\"\")","v":""},{"$f":"IF(t_projeto[[#This Row],[Trecho]]<>\"\",t_projeto[[#This Row],[Q.1]]+t_projeto[[#This Row],[Q.2]]+t_projeto[[#This Row],[Q.3]],\"\")","v":""},{"$f":"IF(AND(t_projeto[[#This Row],[FLUXO]]<>0,t_projeto[[#This Row],[FLUXO]]<>\"\"),ROUND(t_projeto[[#This Row],[FLUXO]]/t_projeto[[#This Row],[Luminárias]],0),\"\")","v":""},{"$f":"IF(AND(t_projeto[[#This Row],[Luminárias]]<>0,t_projeto[[#This Row],[Luminárias]]<>\"\"),ROUND(t_projeto[[#This Row],[lm_médio]]/t_projeto[[#This Row],[W_médio]],2),\"\")","v":""}]
[42,{"$f":"_xlfn.XLOOKUP(t_projeto[[#This Row],[cód.]],t_sitio[cód],t_sitio[Trecho],\"\")","v":""},null,null,{"$f":"IF(t_projeto[[#This Row],[T.1]]<>\"\",_xlfn.XLOOKUP(t_projeto[[#This Row],[T.1]],$G$22:$G$26,$H$22:$H$26),\"\")","v":""},null,null,{"$f":"IF(t_projeto[[#This Row],[T.2]]<>\"\",_xlfn.XLOOKUP(t_projeto[[#This Row],[T.2]],$G$22:$G$26,$H$22:$H$26),\"\")","v":""},null,null,{"$f":"IF(t_projeto[[#This Row],[T.3]]<>\"\",_xlfn.XLOOKUP(t_projeto[[#This Row],[T.3]],$G$22:$G$26,$H$22:$H$26),\"\")","v":""},null,{"$f":"t_projeto[[#This Row],[Q.1]]+t_projeto[[#This Row],[Q.2]]+t_projeto[[#This Row],[Q.3]]","v":0},{"$f":"t_projeto[[#This Row],[Q.1]]+t_projeto[[#This Row],[Q.2]]+t_projeto[[#This Row],[Q.3]]","v":0},{"$f":"IF(t_projeto[[#This Row],[Q.1]]<>\"\",SUMIFS(t_reator[p],t_reator[tipo],t_projeto[[#This Row],[T.1]],t_reator[w],t_projeto[[#This Row],[P.1(W)]]),\"\")","v":""},{"$f":"IF(t_projeto[[#This Row],[Q.2]]<>\"\",SUMIFS(t_reator[p],t_reator[tipo],t_projeto[[#This Row],[T.2]],t_reator[w],t_projeto[[#This Row],[P.2(W)]]),\"\")","v":""},{"$f":"IF(t_projeto[[#This Row],[Q.3]]<>\"\",SUMIFS(t_reator[p],t_reator[tipo],t_projeto[[#This Row],[T.3]],t_reator[w],t_projeto[[#This Row],[P.3(W)]]),\"\")","v":""},{"$f":"IF(t_projeto[[#This Row],[Q.1]]<>\"\",IFERROR(IFERROR(D504*(E504+O504)+G504*(H504+P504)+J504*(K504+Q504),D504*(E504+O504)+G504*(H504+P504)),D504*(E504+O504)),\"\")","v":""},{"$f":"IF(t_projeto[[#This Row],[Consumo_W]]<>\"\",ROUND(t_projeto[[#This Row],[Consumo_W]]/t_projeto[[#This Row],[Luminárias]],0),\"\")","v":""},{"$f":"IF(t_projeto[[#This Row],[Q.1]]<>\"\",t_projeto[[#This Row],[Q.1]]*t_projeto[[#This Row],[P.1(W)]]*$C$24,\"\")","v":""},{"$f":"IF(t_projeto[[#This Row],[Q.2]]<>\"\",t_projeto[[#This Row],[Q.2]]*t_projeto[[#This Row],[P.2(W)]]*$C$24,\"\")","v":""},{"$f":"IF(t_projeto[[#This Row],[Q.3]]<>\"\",t_projeto[[#This Row],[Q.3]]*t_projeto[[#This Row],[P.3(W)]]*$C$24,\"\")","v":""},{"$f":"IF(t_projeto[[#This Row],[Trecho]]<>\"\",SUM(t_projeto[[#This Row],[f.1]:[f.3]]),\"\")","v":""},{"$f":"IF(t_projeto[[#This Row],[Trecho]]<>\"\",t_projeto[[#This Row],[Q.1]]+t_projeto[[#This Row],[Q.2]]+t_projeto[[#This Row],[Q.3]],\"\")","v":""},{"$f":"IF(AND(t_projeto[[#This Row],[FLUXO]]<>0,t_projeto[[#This Row],[FLUXO]]<>\"\"),ROUND(t_projeto[[#This Row],[FLUXO]]/t_projeto[[#This Row],[Luminárias]],0),\"\")","v":""},{"$f":"IF(AND(t_projeto[[#This Row],[Luminárias]]<>0,t_projeto[[#This Row],[Luminárias]]<>\"\"),ROUND(t_projeto[[#This Row],[lm_médio]]/t_projeto[[#This Row],[W_médio]],2),\"\")","v":""}]
[43,{"$f":"_xlfn.XLOOKUP(t_projeto[[#This Row],[cód.]],t_sitio[cód],t_sitio[Trecho],\"\")","v":""},null,null,{"$f":"IF(t_projeto[[#This Row],[T.1]]<>\"\",_xlfn.XLOOKUP(t_projeto[[#This Row],[T.1]],$G$22:$G$26,$H$22:$H$26),\"\")","v":""},null,null,{"$f":"IF(t_projeto[[#This Row],[T.2]]<>\"\",_xlfn.XLOOKUP(t_projeto[[#This Row],[T.2]],$G$22:$G$26,$H$22:$H$26),\"\")","v":""},null,null,{"$f":"IF(t_projeto[[#This Row],[T.3]]<>\"\",_xlfn.XLOOKUP(t_projeto[[#This Row],[T.3]],$G$22:$G$26,$H$22:$H$26),\"\")","v":""},null,{"$f":"t_projeto[[#This Row],[Q.1]]+t_projeto[[#This Row],[Q.2]]+t_projeto[[#This Row],[Q.3]]","v":0},{"$f":"t_projeto[[#This Row],[Q.1]]+t_projeto[[#This Row],[Q.2]]+t_projeto[[#This Row],[Q.3]]","v":0},{"$f":"IF(t_projeto[[#This Row],[Q.1]]<>\"\",SUMIFS(t_reator[p],t_reator[tipo],t_projeto[[#This Row],[T.1]],t_reator[w],t_projeto[[#This Row],[P.1(W)]]),\"\")","v":""},{"$f":"IF(t_projeto[[#This Row],[Q.2]]<>\"\",SUMIFS(t_reator[p],t_reator[tipo],t_projeto[[#This Row],[T.2]],t_reator[w],t_projeto[[#This Row],[P.2(W)]]),\"\")","v":""},{"$f":"IF(t_projeto[[#This Row],[Q.3]]<>\"\",SUMIFS(t_reator[p],t_reator[tipo],t_projeto[[#This Row],[T.3]],t_reator[w],t_projeto[[#This Row],[P.3(W)]]),\"\")","v":""},{"$f":"IF(t_projeto[[#This Row],[Q.1]]<>\"\",IFERROR(IFERROR(D505*(E505+O505)+G505*(H505+P505)+J505*(K505+Q505),D505*(E505+O505)+G505*(H505+P505)),D505*(E505+O505)),\"\")","v":""},{"$f":"IF(t_projeto[[#This Row],[Consumo_W]]<>\"\",ROUND(t_projeto[[#This Row],[Consumo_W]]/t_projeto[[#This Row],[Luminárias]],0),\"\")","v":""},{"$f":"IF(t_projeto[[#This Row],[Q.1]]<>\"\",t_projeto[[#This Row],[Q.1]]*t_projeto[[#This Row],[P.1(W)]]*$C$24,\"\")","v":""},{"$f":"IF(t_projeto[[#This Row],[Q.2]]<>\"\",t_projeto[[#This Row],[Q.2]]*t_projeto[[#This Row],[P.2(W)]]*$C$24,\"\")","v":""},{"$f":"IF(t_projeto[[#This Row],[Q.3]]<>\"\",t_projeto[[#This Row],[Q.3]]*t_projeto[[#This Row],[P.3(W)]]*$C$24,\"\")","v":""},{"$f":"IF(t_projeto[[#This Row],[Trecho]]<>\"\",SUM(t_projeto[[#This Row],[f.1]:[f.3]]),\"\")","v":""},{"$f":"IF(t_projeto[[#This Row],[Trecho]]<>\"\",t_projeto[[#This Row],[Q.1]]+t_projeto[[#This Row],[Q.2]]+t_projeto[[#This Row],[Q.3]],\"\")","v":""},{"$f":"IF(AND(t_projeto[[#This Row],[FLUXO]]<>0,t_projeto[[#This Row],[FLUXO]]<>\"\"),ROUND(t_projeto[[#This Row],[FLUXO]]/t_projeto[[#This Row],[Luminárias]],0),\"\")","v":""},{"$f":"IF(AND(t_projeto[[#This Row],[Luminárias]]<>0,t_projeto[[#This Row],[Luminárias]]<>\"\"),ROUND(t_projeto[[#This Row],[lm_médio]]/t_projeto[[#This Row],[W_médio]],2),\"\")","v":""}]
[44,{"$f":"_xlfn.XLOOKUP(t_projeto[[#This Row],[cód.]],t_sitio[cód],t_sitio[Trecho],\"\")","v":""},null,null,{"$f":"IF(t_projeto[[#This Row],[T.1]]<>\"\",_xlfn.XLOOKUP(t_projeto[[#This Row],[T.1]],$G$22:$G$26,$H$22:$H$26),\"\")","v":""},null,null,{"$f":"IF(t_projeto[[#This Row],[T.2]]<>\"\",_xlfn.XLOOKUP(t_projeto[[#This Row],[T.2]],$G$22:$G$26,$H$22:$H$26),\"\")","v":""},null,null,{"$f":"IF(t_projeto[[#This Row],[T.3]]<>\"\",_xlfn.XLOOKUP(t_projeto[[#This Row],[T.3]],$G$22:$G$26,$H$22:$H$26),\"\")","v":""},null,{"$f":"t_projeto[[#This Row],[Q.1]]+t_projeto[[#This Row],[Q.2]]+t_projeto[[#This Row],[Q.3]]","v":0},{"$f":"t_projeto[[#This Row],[Q.1]]+t_projeto[[#This Row],[Q.2]]+t_projeto[[#This Row],[Q.3]]","v":0},{"$f":"IF(t_projeto[[#This Row],[Q.1]]<>\"\",SUMIFS(t_reator[p],t_reator[tipo],t_projeto[[#This Row],[T.1]],t_reator[w],t_projeto[[#This Row],[P.1(W)]]),\"\")","v":""},{"$f":"IF(t_projeto[[#This Row],[Q.2]]<>\"\",SUMIFS(t_reator[p],t_reator[tipo],t_projeto[[#This Row],[T.2]],t_reator[w],t_projeto[[#This Row],[P.2(W)]]),\"\")","v":""},{"$f":"IF(t_projeto[[#This Row],[Q.3]]<>\"\",SUMIFS(t_reator[p],t_reator[tipo],t_projeto[[#This Row],[T.3]],t_reator[w],t_projeto[[#This Row],[P.3(W)]]),\"\")","v":""},{"$f":"IF(t_projeto[[#This Row],[Q.1]]<>\"\",IFERROR(IFERROR(D506*(E506+O506)+G506*(H506+P506)+J506*(K506+Q506),D506*(E506+O506)+G506*(H506+P506)),D506*(E506+O506)),\"\")","v":""},{"$f":"IF(t_projeto[[#This Row],[Consumo_W]]<>\"\",ROUND(t_projeto[[#This Row],[Consumo_W]]/t_projeto[[#This Row],[Luminárias]],0),\"\")","v":""},{"$f":"IF(t_projeto[[#This Row],[Q.1]]<>\"\",t_projeto[[#This Row],[Q.1]]*t_projeto[[#This Row],[P.1(W)]]*$C$24,\"\")","v":""},{"$f":"IF(t_projeto[[#This Row],[Q.2]]<>\"\",t_projeto[[#This Row],[Q.2]]*t_projeto[[#This Row],[P.2(W)]]*$C$24,\"\")","v":""},{"$f":"IF(t_projeto[[#This Row],[Q.3]]<>\"\",t_projeto[[#This Row],[Q.3]]*t_projeto[[#This Row],[P.3(W)]]*$C$24,\"\")","v":""},{"$f":"IF(t_projeto[[#This Row],[Trecho]]<>\"\",SUM(t_projeto[[#This Row],[f.1]:[f.3]]),\"\")","v":""},{"$f":"IF(t_projeto[[#This Row],[Trecho]]<>\"\",t_projeto[[#This Row],[Q.1]]+t_projeto[[#This Row],[Q.2]]+t_projeto[[#This Row],[Q.3]],\"\")","v":""},{"$f":"IF(AND(t_projeto[[#This Row],[FLUXO]]<>0,t_projeto[[#This Row],[FLUXO]]<>\"\"),ROUND(t_projeto[[#This Row],[FLUXO]]/t_projeto[[#This Row],[Luminárias]],0),\"\")","v":""},{"$f":"IF(AND(t_projeto[[#This Row],[Luminárias]]<>0,t_projeto[[#This Row],[Luminárias]]<>\"\"),ROUND(t_projeto[[#This Row],[lm_médio]]/t_projeto[[#This Row],[W_médio]],2),\"\")","v":""}]
[45,{"$f":"_xlfn.XLOOKUP(t_projeto[[#This Row],[cód.]],t_sitio[cód],t_sitio[Trecho],\"\")","v":""},null,null,{"$f":"IF(t_projeto[[#This Row],[T.1]]<>\"\",_xlfn.XLOOKUP(t_projeto[[#This Row],[T.1]],$G$22:$G$26,$H$22:$H$26),\"\")","v":""},null,null,{"$f":"IF(t_projeto[[#This Row],[T.2]]<>\"\",_xlfn.XLOOKUP(t_projeto[[#This Row],[T.2]],$G$22:$G$26,$H$22:$H$26),\"\")","v":""},null,null,{"$f":"IF(t_projeto[[#This Row],[T.3]]<>\"\",_xlfn.XLOOKUP(t_projeto[[#This Row],[T.3]],$G$22:$G$26,$H$22:$H$26),\"\")","v":""},null,{"$f":"t_projeto[[#This Row],[Q.1]]+t_projeto[[#This Row],[Q.2]]+t_projeto[[#This Row],[Q.3]]","v":0},{"$f":"t_projeto[[#This Row],[Q.1]]+t_projeto[[#This Row],[Q.2]]+t_projeto[[#This Row],[Q.3]]","v":0},{"$f":"IF(t_projeto[[#This Row],[Q.1]]<>\"\",SUMIFS(t_reator[p],t_reator[tipo],t_projeto[[#This Row],[T.1]],t_reator[w],t_projeto[[#This Row],[P.1(W)]]),\"\")","v":""},{"$f":"IF(t_projeto[[#This Row],[Q.2]]<>\"\",SUMIFS(t_reator[p],t_reator[tipo],t_projeto[[#This Row],[T.2]],t_reator[w],t_projeto[[#This Row],[P.2(W)]]),\"\")","v":""},{"$f":"IF(t_projeto[[#This Row],[Q.3]]<>\"\",SUMIFS(t_reator[p],t_reator[tipo],t_projeto[[#This Row],[T.3]],t_reator[w],t_projeto[[#This Row],[P.3(W)]]),\"\")","v":""},{"$f":"IF(t_projeto[[#This Row],[Q.1]]<>\"\",IFERROR(IFERROR(D507*(E507+O507)+G507*(H507+P507)+J507*(K507+Q507),D507*(E507+O507)+G507*(H507+P507)),D507*(E507+O507)),\"\")","v":""},{"$f":"IF(t_projeto[[#This Row],[Consumo_W]]<>\"\",ROUND(t_projeto[[#This Row],[Consumo_W]]/t_projeto[[#This Row],[Luminárias]],0),\"\")","v":""},{"$f":"IF(t_projeto[[#This Row],[Q.1]]<>\"\",t_projeto[[#This Row],[Q.1]]*t_projeto[[#This Row],[P.1(W)]]*$C$24,\"\")","v":""},{"$f":"IF(t_projeto[[#This Row],[Q.2]]<>\"\",t_projeto[[#This Row],[Q.2]]*t_projeto[[#This Row],[P.2(W)]]*$C$24,\"\")","v":""},{"$f":"IF(t_projeto[[#This Row],[Q.3]]<>\"\",t_projeto[[#This Row],[Q.3]]*t_projeto[[#This Row],[P.3(W)]]*$C$24,\"\")","v":""},{"$f":"IF(t_projeto[[#This Row],[Trecho]]<>\"\",SUM(t_projeto[[#This Row],[f.1]:[f.3]]),\"\")","v":""},{"$f":"IF(t_projeto[[#This Row],[Trecho]]<>\"\",t_projeto[[#This Row],[Q.1]]+t_projeto[[#This Row],[Q.2]]+t_projeto[[#This Row],[Q.3]],\"\")","v":""},{"$f":"IF(AND(t_projeto[[#This Row],[FLUXO]]<>0,t_projeto[[#This Row],[FLUXO]]<>\"\"),ROUND(t_projeto[[#This Row],[FLUXO]]/t_projeto[[#This Row],[Luminárias]],0),\"\")","v":""},{"$f":"IF(AND(t_projeto[[#This Row],[Luminárias]]<>0,t_projeto[[#This Row],[Luminárias]]<>\"\"),ROUND(t_projeto[[#This Row],[lm_médio]]/t_projeto[[#This Row],[W_médio]],2),\"\")","v":""}]
[46,{"$f":"_xlfn.XLOOKUP(t_projeto[[#This Row],[cód.]],t_sitio[cód],t_sitio[Trecho],\"\")","v":""},null,null,{"$f":"IF(t_projeto[[#This Row],[T.1]]<>\"\",_xlfn.XLOOKUP(t_projeto[[#This Row],[T.1]],$G$22:$G$26,$H$22:$H$26),\"\")","v":""},null,null,{"$f":"IF(t_projeto[[#This Row],[T.2]]<>\"\",_xlfn.XLOOKUP(t_projeto[[#This Row],[T.2]],$G$22:$G$26,$H$22:$H$26),\"\")","v":""},null,null,{"$f":"IF(t_projeto[[#This Row],[T.3]]<>\"\",_xlfn.XLOOKUP(t_projeto[[#This Row],[T.3]],$G$22:$G$26,$H$22:$H$26),\"\")","v":""},null,{"$f":"t_projeto[[#This Row],[Q.1]]+t_projeto[[#This Row],[Q.2]]+t_projeto[[#This Row],[Q.3]]","v":0},{"$f":"t_projeto[[#This Row],[Q.1]]+t_projeto[[#This Row],[Q.2]]+t_projeto[[#This Row],[Q.3]]","v":0},{"$f":"IF(t_projeto[[#This Row],[Q.1]]<>\"\",SUMIFS(t_reator[p],t_reator[tipo],t_projeto[[#This Row],[T.1]],t_reator[w],t_projeto[[#This Row],[P.1(W)]]),\"\")","v":""},{"$f":"IF(t_projeto[[#This Row],[Q.2]]<>\"\",SUMIFS(t_reator[p],t_reator[tipo],t_projeto[[#This Row],[T.2]],t_reator[w],t_projeto[[#This Row],[P.2(W)]]),\"\")","v":""},{"$f":"IF(t_projeto[[#This Row],[Q.3]]<>\"\",SUMIFS(t_reator[p],t_reator[tipo],t_projeto[[#This Row],[T.3]],t_reator[w],t_projeto[[#This Row],[P.3(W)]]),\"\")","v":""},{"$f":"IF(t_projeto[[#This Row],[Q.1]]<>\"\",IFERROR(IFERROR(D508*(E508+O508)+G508*(H508+P508)+J508*(K508+Q508),D508*(E508+O508)+G508*(H508+P508)),D508*(E508+O508)),\"\")","v":""},{"$f":"IF(t_projeto[[#This Row],[Consumo_W]]<>\"\",ROUND(t_projeto[[#This Row],[Consumo_W]]/t_projeto[[#This Row],[Luminárias]],0),\"\")","v":""},{"$f":"IF(t_projeto[[#This Row],[Q.1]]<>\"\",t_projeto[[#This Row],[Q.1]]*t_projeto[[#This Row],[P.1(W)]]*$C$24,\"\")","v":""},{"$f":"IF(t_projeto[[#This Row],[Q.2]]<>\"\",t_projeto[[#This Row],[Q.2]]*t_projeto[[#This Row],[P.2(W)]]*$C$24,\"\")","v":""},{"$f":"IF(t_projeto[[#This Row],[Q.3]]<>\"\",t_projeto[[#This Row],[Q.3]]*t_projeto[[#This Row],[P.3(W)]]*$C$24,\"\")","v":""},{"$f":"IF(t_projeto[[#This Row],[Trecho]]<>\"\",SUM(t_projeto[[#This Row],[f.1]:[f.3]]),\"\")","v":""},{"$f":"IF(t_projeto[[#This Row],[Trecho]]<>\"\",t_projeto[[#This Row],[Q.1]]+t_projeto[[#This Row],[Q.2]]+t_projeto[[#This Row],[Q.3]],\"\")","v":""},{"$f":"IF(AND(t_projeto[[#This Row],[FLUXO]]<>0,t_projeto[[#This Row],[FLUXO]]<>\"\"),ROUND(t_projeto[[#This Row],[FLUXO]]/t_projeto[[#This Row],[Luminárias]],0),\"\")","v":""},{"$f":"IF(AND(t_projeto[[#This Row],[Luminárias]]<>0,t_projeto[[#This Row],[Luminárias]]<>\"\"),ROUND(t_projeto[[#This Row],[lm_médio]]/t_projeto[[#This Row],[W_médio]],2),\"\")","v":""}]
[47,{"$f":"_xlfn.XLOOKUP(t_projeto[[#This Row],[cód.]],t_sitio[cód],t_sitio[Trecho],\"\")","v":""},null,null,{"$f":"IF(t_projeto[[#This Row],[T.1]]<>\"\",_xlfn.XLOOKUP(t_projeto[[#This Row],[T.1]],$G$22:$G$26,$H$22:$H$26),\"\")","v":""},null,null,{"$f":"IF(t_projeto[[#This Row],[T.2]]<>\"\",_xlfn.XLOOKUP(t_projeto[[#This Row],[T.2]],$G$22:$G$26,$H$22:$H$26),\"\")","v":""},null,null,{"$f":"IF(t_projeto[[#This Row],[T.3]]<>\"\",_xlfn.XLOOKUP(t_projeto[[#This Row],[T.3]],$G$22:$G$26,$H$22:$H$26),\"\")","v":""},null,{"$f":"t_projeto[[#This Row],[Q.1]]+t_projeto[[#This Row],[Q.2]]+t_projeto[[#This Row],[Q.3]]","v":0},{"$f":"t_projeto[[#This Row],[Q.1]]+t_projeto[[#This Row],[Q.2]]+t_projeto[[#This Row],[Q.3]]","v":0},{"$f":"IF(t_projeto[[#This Row],[Q.1]]<>\"\",SUMIFS(t_reator[p],t_reator[tipo],t_projeto[[#This Row],[T.1]],t_reator[w],t_projeto[[#This Row],[P.1(W)]]),\"\")","v":""},{"$f":"IF(t_projeto[[#This Row],[Q.2]]<>\"\",SUMIFS(t_reator[p],t_reator[tipo],t_projeto[[#This Row],[T.2]],t_reator[w],t_projeto[[#This Row],[P.2(W)]]),\"\")","v":""},{"$f":"IF(t_projeto[[#This Row],[Q.3]]<>\"\",SUMIFS(t_reator[p],t_reator[tipo],t_projeto[[#This Row],[T.3]],t_reator[w],t_projeto[[#This Row],[P.3(W)]]),\"\")","v":""},{"$f":"IF(t_projeto[[#This Row],[Q.1]]<>\"\",IFERROR(IFERROR(D509*(E509+O509)+G509*(H509+P509)+J509*(K509+Q509),D509*(E509+O509)+G509*(H509+P509)),D509*(E509+O509)),\"\")","v":""},{"$f":"IF(t_projeto[[#This Row],[Consumo_W]]<>\"\",ROUND(t_projeto[[#This Row],[Consumo_W]]/t_projeto[[#This Row],[Luminárias]],0),\"\")","v":""},{"$f":"IF(t_projeto[[#This Row],[Q.1]]<>\"\",t_projeto[[#This Row],[Q.1]]*t_projeto[[#This Row],[P.1(W)]]*$C$24,\"\")","v":""},{"$f":"IF(t_projeto[[#This Row],[Q.2]]<>\"\",t_projeto[[#This Row],[Q.2]]*t_projeto[[#This Row],[P.2(W)]]*$C$24,\"\")","v":""},{"$f":"IF(t_projeto[[#This Row],[Q.3]]<>\"\",t_projeto[[#This Row],[Q.3]]*t_projeto[[#This Row],[P.3(W)]]*$C$24,\"\")","v":""},{"$f":"IF(t_projeto[[#This Row],[Trecho]]<>\"\",SUM(t_projeto[[#This Row],[f.1]:[f.3]]),\"\")","v":""},{"$f":"IF(t_projeto[[#This Row],[Trecho]]<>\"\",t_projeto[[#This Row],[Q.1]]+t_projeto[[#This Row],[Q.2]]+t_projeto[[#This Row],[Q.3]],\"\")","v":""},{"$f":"IF(AND(t_projeto[[#This Row],[FLUXO]]<>0,t_projeto[[#This Row],[FLUXO]]<>\"\"),ROUND(t_projeto[[#This Row],[FLUXO]]/t_projeto[[#This Row],[Luminárias]],0),\"\")","v":""},{"$f":"IF(AND(t_projeto[[#This Row],[Luminárias]]<>0,t_projeto[[#This Row],[Luminárias]]<>\"\"),ROUND(t_projeto[[#This Row],[lm_médio]]/t_projeto[[#This Row],[W_médio]],2),\"\")","v":""}]
[48,{"$f":"_xlfn.XLOOKUP(t_projeto[[#This Row],[cód.]],t_sitio[cód],t_sitio[Trecho],\"\")","v":""},null,null,{"$f":"IF(t_projeto[[#This Row],[T.1]]<>\"\",_xlfn.XLOOKUP(t_projeto[[#This Row],[T.1]],$G$22:$G$26,$H$22:$H$26),\"\")","v":""},null,null,{"$f":"IF(t_projeto[[#This Row],[T.2]]<>\"\",_xlfn.XLOOKUP(t_projeto[[#This Row],[T.2]],$G$22:$G$26,$H$22:$H$26),\"\")","v":""},null,null,{"$f":"IF(t_projeto[[#This Row],[T.3]]<>\"\",_xlfn.XLOOKUP(t_projeto[[#This Row],[T.3]],$G$22:$G$26,$H$22:$H$26),\"\")","v":""},null,{"$f":"t_projeto[[#This Row],[Q.1]]+t_projeto[[#This Row],[Q.2]]+t_projeto[[#This Row],[Q.3]]","v":0},{"$f":"t_projeto[[#This Row],[Q.1]]+t_projeto[[#This Row],[Q.2]]+t_projeto[[#This Row],[Q.3]]","v":0},{"$f":"IF(t_projeto[[#This Row],[Q.1]]<>\"\",SUMIFS(t_reator[p],t_reator[tipo],t_projeto[[#This Row],[T.1]],t_reator[w],t_projeto[[#This Row],[P.1(W)]]),\"\")","v":""},{"$f":"IF(t_projeto[[#This Row],[Q.2]]<>\"\",SUMIFS(t_reator[p],t_reator[tipo],t_projeto[[#This Row],[T.2]],t_reator[w],t_projeto[[#This Row],[P.2(W)]]),\"\")","v":""},{"$f":"IF(t_projeto[[#This Row],[Q.3]]<>\"\",SUMIFS(t_reator[p],t_reator[tipo],t_projeto[[#This Row],[T.3]],t_reator[w],t_projeto[[#This Row],[P.3(W)]]),\"\")","v":""},{"$f":"IF(t_projeto[[#This Row],[Q.1]]<>\"\",IFERROR(IFERROR(D510*(E510+O510)+G510*(H510+P510)+J510*(K510+Q510),D510*(E510+O510)+G510*(H510+P510)),D510*(E510+O510)),\"\")","v":""},{"$f":"IF(t_projeto[[#This Row],[Consumo_W]]<>\"\",ROUND(t_projeto[[#This Row],[Consumo_W]]/t_projeto[[#This Row],[Luminárias]],0),\"\")","v":""},{"$f":"IF(t_projeto[[#This Row],[Q.1]]<>\"\",t_projeto[[#This Row],[Q.1]]*t_projeto[[#This Row],[P.1(W)]]*$C$24,\"\")","v":""},{"$f":"IF(t_projeto[[#This Row],[Q.2]]<>\"\",t_projeto[[#This Row],[Q.2]]*t_projeto[[#This Row],[P.2(W)]]*$C$24,\"\")","v":""},{"$f":"IF(t_projeto[[#This Row],[Q.3]]<>\"\",t_projeto[[#This Row],[Q.3]]*t_projeto[[#This Row],[P.3(W)]]*$C$24,\"\")","v":""},{"$f":"IF(t_projeto[[#This Row],[Trecho]]<>\"\",SUM(t_projeto[[#This Row],[f.1]:[f.3]]),\"\")","v":""},{"$f":"IF(t_projeto[[#This Row],[Trecho]]<>\"\",t_projeto[[#This Row],[Q.1]]+t_projeto[[#This Row],[Q.2]]+t_projeto[[#This Row],[Q.3]],\"\")","v":""},{"$f":"IF(AND(t_projeto[[#This Row],[FLUXO]]<>0,t_projeto[[#This Row],[FLUXO]]<>\"\"),ROUND(t_projeto[[#This Row],[FLUXO]]/t_projeto[[#This Row],[Luminárias]],0),\"\")","v":""},{"$f":"IF(AND(t_projeto[[#This Row],[Luminárias]]<>0,t_projeto[[#This Row],[Luminárias]]<>\"\"),ROUND(t_projeto[[#This Row],[lm_médio]]/t_projeto[[#This Row],[W_médio]],2),\"\")","v":""}]
[49,{"$f":"_xlfn.XLOOKUP(t_projeto[[#This Row],[cód.]],t_sitio[cód],t_sitio[Trecho],\"\")","v":""},null,null,{"$f":"IF(t_projeto[[#This Row],[T.1]]<>\"\",_xlfn.XLOOKUP(t_projeto[[#This Row],[T.1]],$G$22:$G$26,$H$22:$H$26),\"\")","v":""},null,null,{"$f":"IF(t_projeto[[#This Row],[T.2]]<>\"\",_xlfn.XLOOKUP(t_projeto[[#This Row],[T.2]],$G$22:$G$26,$H$22:$H$26),\"\")","v":""},null,null,{"$f":"IF(t_projeto[[#This Row],[T.3]]<>\"\",_xlfn.XLOOKUP(t_projeto[[#This Row],[T.3]],$G$22:$G$26,$H$22:$H$26),\"\")","v":""},null,{"$f":"t_projeto[[#This Row],[Q.1]]+t_projeto[[#This Row],[Q.2]]+t_projeto[[#This Row],[Q.3]]","v":0},{"$f":"t_projeto[[#This Row],[Q.1]]+t_projeto[[#This Row],[Q.2]]+t_projeto[[#This Row],[Q.3]]","v":0},{"$f":"IF(t_projeto[[#This Row],[Q.1]]<>\"\",SUMIFS(t_reator[p],t_reator[tipo],t_projeto[[#This Row],[T.1]],t_reator[w],t_projeto[[#This Row],[P.1(W)]]),\"\")","v":""},{"$f":"IF(t_projeto[[#This Row],[Q.2]]<>\"\",SUMIFS(t_reator[p],t_reator[tipo],t_projeto[[#This Row],[T.2]],t_reator[w],t_projeto[[#This Row],[P.2(W)]]),\"\")","v":""},{"$f":"IF(t_projeto[[#This Row],[Q.3]]<>\"\",SUMIFS(t_reator[p],t_reator[tipo],t_projeto[[#This Row],[T.3]],t_reator[w],t_projeto[[#This Row],[P.3(W)]]),\"\")","v":""},{"$f":"IF(t_projeto[[#This Row],[Q.1]]<>\"\",IFERROR(IFERROR(D511*(E511+O511)+G511*(H511+P511)+J511*(K511+Q511),D511*(E511+O511)+G511*(H511+P511)),D511*(E511+O511)),\"\")","v":""},{"$f":"IF(t_projeto[[#This Row],[Consumo_W]]<>\"\",ROUND(t_projeto[[#This Row],[Consumo_W]]/t_projeto[[#This Row],[Luminárias]],0),\"\")","v":""},{"$f":"IF(t_projeto[[#This Row],[Q.1]]<>\"\",t_projeto[[#This Row],[Q.1]]*t_projeto[[#This Row],[P.1(W)]]*$C$24,\"\")","v":""},{"$f":"IF(t_projeto[[#This Row],[Q.2]]<>\"\",t_projeto[[#This Row],[Q.2]]*t_projeto[[#This Row],[P.2(W)]]*$C$24,\"\")","v":""},{"$f":"IF(t_projeto[[#This Row],[Q.3]]<>\"\",t_projeto[[#This Row],[Q.3]]*t_projeto[[#This Row],[P.3(W)]]*$C$24,\"\")","v":""},{"$f":"IF(t_projeto[[#This Row],[Trecho]]<>\"\",SUM(t_projeto[[#This Row],[f.1]:[f.3]]),\"\")","v":""},{"$f":"IF(t_projeto[[#This Row],[Trecho]]<>\"\",t_projeto[[#This Row],[Q.1]]+t_projeto[[#This Row],[Q.2]]+t_projeto[[#This Row],[Q.3]],\"\")","v":""},{"$f":"IF(AND(t_projeto[[#This Row],[FLUXO]]<>0,t_projeto[[#This Row],[FLUXO]]<>\"\"),ROUND(t_projeto[[#This Row],[FLUXO]]/t_projeto[[#This Row],[Luminárias]],0),\"\")","v":""},{"$f":"IF(AND(t_projeto[[#This Row],[Luminárias]]<>0,t_projeto[[#This Row],[Luminárias]]<>\"\"),ROUND(t_projeto[[#This Row],[lm_médio]]/t_projeto[[#This Row],[W_médio]],2),\"\")","v":""}]
[50,{"$f":"_xlfn.XLOOKUP(t_projeto[[#This Row],[cód.]],t_sitio[cód],t_sitio[Trecho],\"\")","v":""},null,null,{"$f":"IF(t_projeto[[#This Row],[T.1]]<>\"\",_xlfn.XLOOKUP(t_projeto[[#This Row],[T.1]],$G$22:$G$26,$H$22:$H$26),\"\")","v":""},null,null,{"$f":"IF(t_projeto[[#This Row],[T.2]]<>\"\",_xlfn.XLOOKUP(t_projeto[[#This Row],[T.2]],$G$22:$G$26,$H$22:$H$26),\"\")","v":""},null,null,{"$f":"IF(t_projeto[[#This Row],[T.3]]<>\"\",_xlfn.XLOOKUP(t_projeto[[#This Row],[T.3]],$G$22:$G$26,$H$22:$H$26),\"\")","v":""},null,{"$f":"t_projeto[[#This Row],[Q.1]]+t_projeto[[#This Row],[Q.2]]+t_projeto[[#This Row],[Q.3]]","v":0},{"$f":"t_projeto[[#This Row],[Q.1]]+t_projeto[[#This Row],[Q.2]]+t_projeto[[#This Row],[Q.3]]","v":0},{"$f":"IF(t_projeto[[#This Row],[Q.1]]<>\"\",SUMIFS(t_reator[p],t_reator[tipo],t_projeto[[#This Row],[T.1]],t_reator[w],t_projeto[[#This Row],[P.1(W)]]),\"\")","v":""},{"$f":"IF(t_projeto[[#This Row],[Q.2]]<>\"\",SUMIFS(t_reator[p],t_reator[tipo],t_projeto[[#This Row],[T.2]],t_reator[w],t_projeto[[#This Row],[P.2(W)]]),\"\")","v":""},{"$f":"IF(t_projeto[[#This Row],[Q.3]]<>\"\",SUMIFS(t_reator[p],t_reator[tipo],t_projeto[[#This Row],[T.3]],t_reator[w],t_projeto[[#This Row],[P.3(W)]]),\"\")","v":""},{"$f":"IF(t_projeto[[#This Row],[Q.1]]<>\"\",IFERROR(IFERROR(D512*(E512+O512)+G512*(H512+P512)+J512*(K512+Q512),D512*(E512+O512)+G512*(H512+P512)),D512*(E512+O512)),\"\")","v":""},{"$f":"IF(t_projeto[[#This Row],[Consumo_W]]<>\"\",ROUND(t_projeto[[#This Row],[Consumo_W]]/t_projeto[[#This Row],[Luminárias]],0),\"\")","v":""},{"$f":"IF(t_projeto[[#This Row],[Q.1]]<>\"\",t_projeto[[#This Row],[Q.1]]*t_projeto[[#This Row],[P.1(W)]]*$C$24,\"\")","v":""},{"$f":"IF(t_projeto[[#This Row],[Q.2]]<>\"\",t_projeto[[#This Row],[Q.2]]*t_projeto[[#This Row],[P.2(W)]]*$C$24,\"\")","v":""},{"$f":"IF(t_projeto[[#This Row],[Q.3]]<>\"\",t_projeto[[#This Row],[Q.3]]*t_projeto[[#This Row],[P.3(W)]]*$C$24,\"\")","v":""},{"$f":"IF(t_projeto[[#This Row],[Trecho]]<>\"\",SUM(t_projeto[[#This Row],[f.1]:[f.3]]),\"\")","v":""},{"$f":"IF(t_projeto[[#This Row],[Trecho]]<>\"\",t_projeto[[#This Row],[Q.1]]+t_projeto[[#This Row],[Q.2]]+t_projeto[[#This Row],[Q.3]],\"\")","v":""},{"$f":"IF(AND(t_projeto[[#This Row],[FLUXO]]<>0,t_projeto[[#This Row],[FLUXO]]<>\"\"),ROUND(t_projeto[[#This Row],[FLUXO]]/t_projeto[[#This Row],[Luminárias]],0),\"\")","v":""},{"$f":"IF(AND(t_projeto[[#This Row],[Luminárias]]<>0,t_projeto[[#This Row],[Luminárias]]<>\"\"),ROUND(t_projeto[[#This Row],[lm_médio]]/t_projeto[[#This Row],[W_médio]],2),\"\")","v":""}]
[51,{"$f":"_xlfn.XLOOKUP(t_projeto[[#This Row],[cód.]],t_sitio[cód],t_sitio[Trecho],\"\")","v":""},null,null,{"$f":"IF(t_projeto[[#This Row],[T.1]]<>\"\",_xlfn.XLOOKUP(t_projeto[[#This Row],[T.1]],$G$22:$G$26,$H$22:$H$26),\"\")","v":""},null,null,{"$f":"IF(t_projeto[[#This Row],[T.2]]<>\"\",_xlfn.XLOOKUP(t_projeto[[#This Row],[T.2]],$G$22:$G$26,$H$22:$H$26),\"\")","v":""},null,null,{"$f":"IF(t_projeto[[#This Row],[T.3]]<>\"\",_xlfn.XLOOKUP(t_projeto[[#This Row],[T.3]],$G$22:$G$26,$H$22:$H$26),\"\")","v":""},null,{"$f":"t_projeto[[#This Row],[Q.1]]+t_projeto[[#This Row],[Q.2]]+t_projeto[[#This Row],[Q.3]]","v":0},{"$f":"t_projeto[[#This Row],[Q.1]]+t_projeto[[#This Row],[Q.2]]+t_projeto[[#This Row],[Q.3]]","v":0},{"$f":"IF(t_projeto[[#This Row],[Q.1]]<>\"\",SUMIFS(t_reator[p],t_reator[tipo],t_projeto[[#This Row],[T.1]],t_reator[w],t_projeto[[#This Row],[P.1(W)]]),\"\")","v":""},{"$f":"IF(t_projeto[[#This Row],[Q.2]]<>\"\",SUMIFS(t_reator[p],t_reator[tipo],t_projeto[[#This Row],[T.2]],t_reator[w],t_projeto[[#This Row],[P.2(W)]]),\"\")","v":""},{"$f":"IF(t_projeto[[#This Row],[Q.3]]<>\"\",SUMIFS(t_reator[p],t_reator[tipo],t_projeto[[#This Row],[T.3]],t_reator[w],t_projeto[[#This Row],[P.3(W)]]),\"\")","v":""},{"$f":"IF(t_projeto[[#This Row],[Q.1]]<>\"\",IFERROR(IFERROR(D513*(E513+O513)+G513*(H513+P513)+J513*(K513+Q513),D513*(E513+O513)+G513*(H513+P513)),D513*(E513+O513)),\"\")","v":""},{"$f":"IF(t_projeto[[#This Row],[Consumo_W]]<>\"\",ROUND(t_projeto[[#This Row],[Consumo_W]]/t_projeto[[#This Row],[Luminárias]],0),\"\")","v":""},{"$f":"IF(t_projeto[[#This Row],[Q.1]]<>\"\",t_projeto[[#This Row],[Q.1]]*t_projeto[[#This Row],[P.1(W)]]*$C$24,\"\")","v":""},{"$f":"IF(t_projeto[[#This Row],[Q.2]]<>\"\",t_projeto[[#This Row],[Q.2]]*t_projeto[[#This Row],[P.2(W)]]*$C$24,\"\")","v":""},{"$f":"IF(t_projeto[[#This Row],[Q.3]]<>\"\",t_projeto[[#This Row],[Q.3]]*t_projeto[[#This Row],[P.3(W)]]*$C$24,\"\")","v":""},{"$f":"IF(t_projeto[[#This Row],[Trecho]]<>\"\",SUM(t_projeto[[#This Row],[f.1]:[f.3]]),\"\")","v":""},{"$f":"IF(t_projeto[[#This Row],[Trecho]]<>\"\",t_projeto[[#This Row],[Q.1]]+t_projeto[[#This Row],[Q.2]]+t_projeto[[#This Row],[Q.3]],\"\")","v":""},{"$f":"IF(AND(t_projeto[[#This Row],[FLUXO]]<>0,t_projeto[[#This Row],[FLUXO]]<>\"\"),ROUND(t_projeto[[#This Row],[FLUXO]]/t_projeto[[#This Row],[Luminárias]],0),\"\")","v":""},{"$f":"IF(AND(t_projeto[[#This Row],[Luminárias]]<>0,t_projeto[[#This Row],[Luminárias]]<>\"\"),ROUND(t_projeto[[#This Row],[lm_médio]]/t_projeto[[#This Row],[W_médio]],2),\"\")","v":""}]
[52,{"$f":"_xlfn.XLOOKUP(t_projeto[[#This Row],[cód.]],t_sitio[cód],t_sitio[Trecho],\"\")","v":""},null,null,{"$f":"IF(t_projeto[[#This Row],[T.1]]<>\"\",_xlfn.XLOOKUP(t_projeto[[#This Row],[T.1]],$G$22:$G$26,$H$22:$H$26),\"\")","v":""},null,null,{"$f":"IF(t_projeto[[#This Row],[T.2]]<>\"\",_xlfn.XLOOKUP(t_projeto[[#This Row],[T.2]],$G$22:$G$26,$H$22:$H$26),\"\")","v":""},null,null,{"$f":"IF(t_projeto[[#This Row],[T.3]]<>\"\",_xlfn.XLOOKUP(t_projeto[[#This Row],[T.3]],$G$22:$G$26,$H$22:$H$26),\"\")","v":""},null,{"$f":"t_projeto[[#This Row],[Q.1]]+t_projeto[[#This Row],[Q.2]]+t_projeto[[#This Row],[Q.3]]","v":0},{"$f":"t_projeto[[#This Row],[Q.1]]+t_projeto[[#This Row],[Q.2]]+t_projeto[[#This Row],[Q.3]]","v":0},{"$f":"IF(t_projeto[[#This Row],[Q.1]]<>\"\",SUMIFS(t_reator[p],t_reator[tipo],t_projeto[[#This Row],[T.1]],t_reator[w],t_projeto[[#This Row],[P.1(W)]]),\"\")","v":""},{"$f":"IF(t_projeto[[#This Row],[Q.2]]<>\"\",SUMIFS(t_reator[p],t_reator[tipo],t_projeto[[#This Row],[T.2]],t_reator[w],t_projeto[[#This Row],[P.2(W)]]),\"\")","v":""},{"$f":"IF(t_projeto[[#This Row],[Q.3]]<>\"\",SUMIFS(t_reator[p],t_reator[tipo],t_projeto[[#This Row],[T.3]],t_reator[w],t_projeto[[#This Row],[P.3(W)]]),\"\")","v":""},{"$f":"IF(t_projeto[[#This Row],[Q.1]]<>\"\",IFERROR(IFERROR(D514*(E514+O514)+G514*(H514+P514)+J514*(K514+Q514),D514*(E514+O514)+G514*(H514+P514)),D514*(E514+O514)),\"\")","v":""},{"$f":"IF(t_projeto[[#This Row],[Consumo_W]]<>\"\",ROUND(t_projeto[[#This Row],[Consumo_W]]/t_projeto[[#This Row],[Luminárias]],0),\"\")","v":""},{"$f":"IF(t_projeto[[#This Row],[Q.1]]<>\"\",t_projeto[[#This Row],[Q.1]]*t_projeto[[#This Row],[P.1(W)]]*$C$24,\"\")","v":""},{"$f":"IF(t_projeto[[#This Row],[Q.2]]<>\"\",t_projeto[[#This Row],[Q.2]]*t_projeto[[#This Row],[P.2(W)]]*$C$24,\"\")","v":""},{"$f":"IF(t_projeto[[#This Row],[Q.3]]<>\"\",t_projeto[[#This Row],[Q.3]]*t_projeto[[#This Row],[P.3(W)]]*$C$24,\"\")","v":""},{"$f":"IF(t_projeto[[#This Row],[Trecho]]<>\"\",SUM(t_projeto[[#This Row],[f.1]:[f.3]]),\"\")","v":""},{"$f":"IF(t_projeto[[#This Row],[Trecho]]<>\"\",t_projeto[[#This Row],[Q.1]]+t_projeto[[#This Row],[Q.2]]+t_projeto[[#This Row],[Q.3]],\"\")","v":""},{"$f":"IF(AND(t_projeto[[#This Row],[FLUXO]]<>0,t_projeto[[#This Row],[FLUXO]]<>\"\"),ROUND(t_projeto[[#This Row],[FLUXO]]/t_projeto[[#This Row],[Luminárias]],0),\"\")","v":""},{"$f":"IF(AND(t_projeto[[#This Row],[Luminárias]]<>0,t_projeto[[#This Row],[Luminárias]]<>\"\"),ROUND(t_projeto[[#This Row],[lm_médio]]/t_projeto[[#This Row],[W_médio]],2),\"\")","v":""}]
[53,{"$f":"_xlfn.XLOOKUP(t_projeto[[#This Row],[cód.]],t_sitio[cód],t_sitio[Trecho],\"\")","v":""},null,null,{"$f":"IF(t_projeto[[#This Row],[T.1]]<>\"\",_xlfn.XLOOKUP(t_projeto[[#This Row],[T.1]],$G$22:$G$26,$H$22:$H$26),\"\")","v":""},null,null,{"$f":"IF(t_projeto[[#This Row],[T.2]]<>\"\",_xlfn.XLOOKUP(t_projeto[[#This Row],[T.2]],$G$22:$G$26,$H$22:$H$26),\"\")","v":""},null,null,{"$f":"IF(t_projeto[[#This Row],[T.3]]<>\"\",_xlfn.XLOOKUP(t_projeto[[#This Row],[T.3]],$G$22:$G$26,$H$22:$H$26),\"\")","v":""},null,{"$f":"t_projeto[[#This Row],[Q.1]]+t_projeto[[#This Row],[Q.2]]+t_projeto[[#This Row],[Q.3]]","v":0},{"$f":"t_projeto[[#This Row],[Q.1]]+t_projeto[[#This Row],[Q.2]]+t_projeto[[#This Row],[Q.3]]","v":0},{"$f":"IF(t_projeto[[#This Row],[Q.1]]<>\"\",SUMIFS(t_reator[p],t_reator[tipo],t_projeto[[#This Row],[T.1]],t_reator[w],t_projeto[[#This Row],[P.1(W)]]),\"\")","v":""},{"$f":"IF(t_projeto[[#This Row],[Q.2]]<>\"\",SUMIFS(t_reator[p],t_reator[tipo],t_projeto[[#This Row],[T.2]],t_reator[w],t_projeto[[#This Row],[P.2(W)]]),\"\")","v":""},{"$f":"IF(t_projeto[[#This Row],[Q.3]]<>\"\",SUMIFS(t_reator[p],t_reator[tipo],t_projeto[[#This Row],[T.3]],t_reator[w],t_projeto[[#This Row],[P.3(W)]]),\"\")","v":""},{"$f":"IF(t_projeto[[#This Row],[Q.1]]<>\"\",IFERROR(IFERROR(D515*(E515+O515)+G515*(H515+P515)+J515*(K515+Q515),D515*(E515+O515)+G515*(H515+P515)),D515*(E515+O515)),\"\")","v":""},{"$f":"IF(t_projeto[[#This Row],[Consumo_W]]<>\"\",ROUND(t_projeto[[#This Row],[Consumo_W]]/t_projeto[[#This Row],[Luminárias]],0),\"\")","v":""},{"$f":"IF(t_projeto[[#This Row],[Q.1]]<>\"\",t_projeto[[#This Row],[Q.1]]*t_projeto[[#This Row],[P.1(W)]]*$C$24,\"\")","v":""},{"$f":"IF(t_projeto[[#This Row],[Q.2]]<>\"\",t_projeto[[#This Row],[Q.2]]*t_projeto[[#This Row],[P.2(W)]]*$C$24,\"\")","v":""},{"$f":"IF(t_projeto[[#This Row],[Q.3]]<>\"\",t_projeto[[#This Row],[Q.3]]*t_projeto[[#This Row],[P.3(W)]]*$C$24,\"\")","v":""},{"$f":"IF(t_projeto[[#This Row],[Trecho]]<>\"\",SUM(t_projeto[[#This Row],[f.1]:[f.3]]),\"\")","v":""},{"$f":"IF(t_projeto[[#This Row],[Trecho]]<>\"\",t_projeto[[#This Row],[Q.1]]+t_projeto[[#This Row],[Q.2]]+t_projeto[[#This Row],[Q.3]],\"\")","v":""},{"$f":"IF(AND(t_projeto[[#This Row],[FLUXO]]<>0,t_projeto[[#This Row],[FLUXO]]<>\"\"),ROUND(t_projeto[[#This Row],[FLUXO]]/t_projeto[[#This Row],[Luminárias]],0),\"\")","v":""},{"$f":"IF(AND(t_projeto[[#This Row],[Luminárias]]<>0,t_projeto[[#This Row],[Luminárias]]<>\"\"),ROUND(t_projeto[[#This Row],[lm_médio]]/t_projeto[[#This Row],[W_médio]],2),\"\")","v":""}]
[54,{"$f":"_xlfn.XLOOKUP(t_projeto[[#This Row],[cód.]],t_sitio[cód],t_sitio[Trecho],\"\")","v":""},null,null,{"$f":"IF(t_projeto[[#This Row],[T.1]]<>\"\",_xlfn.XLOOKUP(t_projeto[[#This Row],[T.1]],$G$22:$G$26,$H$22:$H$26),\"\")","v":""},null,null,{"$f":"IF(t_projeto[[#This Row],[T.2]]<>\"\",_xlfn.XLOOKUP(t_projeto[[#This Row],[T.2]],$G$22:$G$26,$H$22:$H$26),\"\")","v":""},null,null,{"$f":"IF(t_projeto[[#This Row],[T.3]]<>\"\",_xlfn.XLOOKUP(t_projeto[[#This Row],[T.3]],$G$22:$G$26,$H$22:$H$26),\"\")","v":""},null,{"$f":"t_projeto[[#This Row],[Q.1]]+t_projeto[[#This Row],[Q.2]]+t_projeto[[#This Row],[Q.3]]","v":0},{"$f":"t_projeto[[#This Row],[Q.1]]+t_projeto[[#This Row],[Q.2]]+t_projeto[[#This Row],[Q.3]]","v":0},{"$f":"IF(t_projeto[[#This Row],[Q.1]]<>\"\",SUMIFS(t_reator[p],t_reator[tipo],t_projeto[[#This Row],[T.1]],t_reator[w],t_projeto[[#This Row],[P.1(W)]]),\"\")","v":""},{"$f":"IF(t_projeto[[#This Row],[Q.2]]<>\"\",SUMIFS(t_reator[p],t_reator[tipo],t_projeto[[#This Row],[T.2]],t_reator[w],t_projeto[[#This Row],[P.2(W)]]),\"\")","v":""},{"$f":"IF(t_projeto[[#This Row],[Q.3]]<>\"\",SUMIFS(t_reator[p],t_reator[tipo],t_projeto[[#This Row],[T.3]],t_reator[w],t_projeto[[#This Row],[P.3(W)]]),\"\")","v":""},{"$f":"IF(t_projeto[[#This Row],[Q.1]]<>\"\",IFERROR(IFERROR(D516*(E516+O516)+G516*(H516+P516)+J516*(K516+Q516),D516*(E516+O516)+G516*(H516+P516)),D516*(E516+O516)),\"\")","v":""},{"$f":"IF(t_projeto[[#This Row],[Consumo_W]]<>\"\",ROUND(t_projeto[[#This Row],[Consumo_W]]/t_projeto[[#This Row],[Luminárias]],0),\"\")","v":""},{"$f":"IF(t_projeto[[#This Row],[Q.1]]<>\"\",t_projeto[[#This Row],[Q.1]]*t_projeto[[#This Row],[P.1(W)]]*$C$24,\"\")","v":""},{"$f":"IF(t_projeto[[#This Row],[Q.2]]<>\"\",t_projeto[[#This Row],[Q.2]]*t_projeto[[#This Row],[P.2(W)]]*$C$24,\"\")","v":""},{"$f":"IF(t_projeto[[#This Row],[Q.3]]<>\"\",t_projeto[[#This Row],[Q.3]]*t_projeto[[#This Row],[P.3(W)]]*$C$24,\"\")","v":""},{"$f":"IF(t_projeto[[#This Row],[Trecho]]<>\"\",SUM(t_projeto[[#This Row],[f.1]:[f.3]]),\"\")","v":""},{"$f":"IF(t_projeto[[#This Row],[Trecho]]<>\"\",t_projeto[[#This Row],[Q.1]]+t_projeto[[#This Row],[Q.2]]+t_projeto[[#This Row],[Q.3]],\"\")","v":""},{"$f":"IF(AND(t_projeto[[#This Row],[FLUXO]]<>0,t_projeto[[#This Row],[FLUXO]]<>\"\"),ROUND(t_projeto[[#This Row],[FLUXO]]/t_projeto[[#This Row],[Luminárias]],0),\"\")","v":""},{"$f":"IF(AND(t_projeto[[#This Row],[Luminárias]]<>0,t_projeto[[#This Row],[Luminárias]]<>\"\"),ROUND(t_projeto[[#This Row],[lm_médio]]/t_projeto[[#This Row],[W_médio]],2),\"\")","v":""}]
[55,{"$f":"_xlfn.XLOOKUP(t_projeto[[#This Row],[cód.]],t_sitio[cód],t_sitio[Trecho],\"\")","v":""},null,null,{"$f":"IF(t_projeto[[#This Row],[T.1]]<>\"\",_xlfn.XLOOKUP(t_projeto[[#This Row],[T.1]],$G$22:$G$26,$H$22:$H$26),\"\")","v":""},null,null,{"$f":"IF(t_projeto[[#This Row],[T.2]]<>\"\",_xlfn.XLOOKUP(t_projeto[[#This Row],[T.2]],$G$22:$G$26,$H$22:$H$26),\"\")","v":""},null,null,{"$f":"IF(t_projeto[[#This Row],[T.3]]<>\"\",_xlfn.XLOOKUP(t_projeto[[#This Row],[T.3]],$G$22:$G$26,$H$22:$H$26),\"\")","v":""},null,{"$f":"t_projeto[[#This Row],[Q.1]]+t_projeto[[#This Row],[Q.2]]+t_projeto[[#This Row],[Q.3]]","v":0},{"$f":"t_projeto[[#This Row],[Q.1]]+t_projeto[[#This Row],[Q.2]]+t_projeto[[#This Row],[Q.3]]","v":0},{"$f":"IF(t_projeto[[#This Row],[Q.1]]<>\"\",SUMIFS(t_reator[p],t_reator[tipo],t_projeto[[#This Row],[T.1]],t_reator[w],t_projeto[[#This Row],[P.1(W)]]),\"\")","v":""},{"$f":"IF(t_projeto[[#This Row],[Q.2]]<>\"\",SUMIFS(t_reator[p],t_reator[tipo],t_projeto[[#This Row],[T.2]],t_reator[w],t_projeto[[#This Row],[P.2(W)]]),\"\")","v":""},{"$f":"IF(t_projeto[[#This Row],[Q.3]]<>\"\",SUMIFS(t_reator[p],t_reator[tipo],t_projeto[[#This Row],[T.3]],t_reator[w],t_projeto[[#This Row],[P.3(W)]]),\"\")","v":""},{"$f":"IF(t_projeto[[#This Row],[Q.1]]<>\"\",IFERROR(IFERROR(D517*(E517+O517)+G517*(H517+P517)+J517*(K517+Q517),D517*(E517+O517)+G517*(H517+P517)),D517*(E517+O517)),\"\")","v":""},{"$f":"IF(t_projeto[[#This Row],[Consumo_W]]<>\"\",ROUND(t_projeto[[#This Row],[Consumo_W]]/t_projeto[[#This Row],[Luminárias]],0),\"\")","v":""},{"$f":"IF(t_projeto[[#This Row],[Q.1]]<>\"\",t_projeto[[#This Row],[Q.1]]*t_projeto[[#This Row],[P.1(W)]]*$C$24,\"\")","v":""},{"$f":"IF(t_projeto[[#This Row],[Q.2]]<>\"\",t_projeto[[#This Row],[Q.2]]*t_projeto[[#This Row],[P.2(W)]]*$C$24,\"\")","v":""},{"$f":"IF(t_projeto[[#This Row],[Q.3]]<>\"\",t_projeto[[#This Row],[Q.3]]*t_projeto[[#This Row],[P.3(W)]]*$C$24,\"\")","v":""},{"$f":"IF(t_projeto[[#This Row],[Trecho]]<>\"\",SUM(t_projeto[[#This Row],[f.1]:[f.3]]),\"\")","v":""},{"$f":"IF(t_projeto[[#This Row],[Trecho]]<>\"\",t_projeto[[#This Row],[Q.1]]+t_projeto[[#This Row],[Q.2]]+t_projeto[[#This Row],[Q.3]],\"\")","v":""},{"$f":"IF(AND(t_projeto[[#This Row],[FLUXO]]<>0,t_projeto[[#This Row],[FLUXO]]<>\"\"),ROUND(t_projeto[[#This Row],[FLUXO]]/t_projeto[[#This Row],[Luminárias]],0),\"\")","v":""},{"$f":"IF(AND(t_projeto[[#This Row],[Luminárias]]<>0,t_projeto[[#This Row],[Luminárias]]<>\"\"),ROUND(t_projeto[[#This Row],[lm_médio]]/t_projeto[[#This Row],[W_médio]],2),\"\")","v":""}]
[56,{"$f":"_xlfn.XLOOKUP(t_projeto[[#This Row],[cód.]],t_sitio[cód],t_sitio[Trecho],\"\")","v":""},null,null,{"$f":"IF(t_projeto[[#This Row],[T.1]]<>\"\",_xlfn.XLOOKUP(t_projeto[[#This Row],[T.1]],$G$22:$G$26,$H$22:$H$26),\"\")","v":""},null,null,{"$f":"IF(t_projeto[[#This Row],[T.2]]<>\"\",_xlfn.XLOOKUP(t_projeto[[#This Row],[T.2]],$G$22:$G$26,$H$22:$H$26),\"\")","v":""},null,null,{"$f":"IF(t_projeto[[#This Row],[T.3]]<>\"\",_xlfn.XLOOKUP(t_projeto[[#This Row],[T.3]],$G$22:$G$26,$H$22:$H$26),\"\")","v":""},null,{"$f":"t_projeto[[#This Row],[Q.1]]+t_projeto[[#This Row],[Q.2]]+t_projeto[[#This Row],[Q.3]]","v":0},{"$f":"t_projeto[[#This Row],[Q.1]]+t_projeto[[#This Row],[Q.2]]+t_projeto[[#This Row],[Q.3]]","v":0},{"$f":"IF(t_projeto[[#This Row],[Q.1]]<>\"\",SUMIFS(t_reator[p],t_reator[tipo],t_projeto[[#This Row],[T.1]],t_reator[w],t_projeto[[#This Row],[P.1(W)]]),\"\")","v":""},{"$f":"IF(t_projeto[[#This Row],[Q.2]]<>\"\",SUMIFS(t_reator[p],t_reator[tipo],t_projeto[[#This Row],[T.2]],t_reator[w],t_projeto[[#This Row],[P.2(W)]]),\"\")","v":""},{"$f":"IF(t_projeto[[#This Row],[Q.3]]<>\"\",SUMIFS(t_reator[p],t_reator[tipo],t_projeto[[#This Row],[T.3]],t_reator[w],t_projeto[[#This Row],[P.3(W)]]),\"\")","v":""},{"$f":"IF(t_projeto[[#This Row],[Q.1]]<>\"\",IFERROR(IFERROR(D518*(E518+O518)+G518*(H518+P518)+J518*(K518+Q518),D518*(E518+O518)+G518*(H518+P518)),D518*(E518+O518)),\"\")","v":""},{"$f":"IF(t_projeto[[#This Row],[Consumo_W]]<>\"\",ROUND(t_projeto[[#This Row],[Consumo_W]]/t_projeto[[#This Row],[Luminárias]],0),\"\")","v":""},{"$f":"IF(t_projeto[[#This Row],[Q.1]]<>\"\",t_projeto[[#This Row],[Q.1]]*t_projeto[[#This Row],[P.1(W)]]*$C$24,\"\")","v":""},{"$f":"IF(t_projeto[[#This Row],[Q.2]]<>\"\",t_projeto[[#This Row],[Q.2]]*t_projeto[[#This Row],[P.2(W)]]*$C$24,\"\")","v":""},{"$f":"IF(t_projeto[[#This Row],[Q.3]]<>\"\",t_projeto[[#This Row],[Q.3]]*t_projeto[[#This Row],[P.3(W)]]*$C$24,\"\")","v":""},{"$f":"IF(t_projeto[[#This Row],[Trecho]]<>\"\",SUM(t_projeto[[#This Row],[f.1]:[f.3]]),\"\")","v":""},{"$f":"IF(t_projeto[[#This Row],[Trecho]]<>\"\",t_projeto[[#This Row],[Q.1]]+t_projeto[[#This Row],[Q.2]]+t_projeto[[#This Row],[Q.3]],\"\")","v":""},{"$f":"IF(AND(t_projeto[[#This Row],[FLUXO]]<>0,t_projeto[[#This Row],[FLUXO]]<>\"\"),ROUND(t_projeto[[#This Row],[FLUXO]]/t_projeto[[#This Row],[Luminárias]],0),\"\")","v":""},{"$f":"IF(AND(t_projeto[[#This Row],[Luminárias]]<>0,t_projeto[[#This Row],[Luminárias]]<>\"\"),ROUND(t_projeto[[#This Row],[lm_médio]]/t_projeto[[#This Row],[W_médio]],2),\"\")","v":""}]
[57,{"$f":"_xlfn.XLOOKUP(t_projeto[[#This Row],[cód.]],t_sitio[cód],t_sitio[Trecho],\"\")","v":""},null,null,{"$f":"IF(t_projeto[[#This Row],[T.1]]<>\"\",_xlfn.XLOOKUP(t_projeto[[#This Row],[T.1]],$G$22:$G$26,$H$22:$H$26),\"\")","v":""},null,null,{"$f":"IF(t_projeto[[#This Row],[T.2]]<>\"\",_xlfn.XLOOKUP(t_projeto[[#This Row],[T.2]],$G$22:$G$26,$H$22:$H$26),\"\")","v":""},null,null,{"$f":"IF(t_projeto[[#This Row],[T.3]]<>\"\",_xlfn.XLOOKUP(t_projeto[[#This Row],[T.3]],$G$22:$G$26,$H$22:$H$26),\"\")","v":""},null,{"$f":"t_projeto[[#This Row],[Q.1]]+t_projeto[[#This Row],[Q.2]]+t_projeto[[#This Row],[Q.3]]","v":0},{"$f":"t_projeto[[#This Row],[Q.1]]+t_projeto[[#This Row],[Q.2]]+t_projeto[[#This Row],[Q.3]]","v":0},{"$f":"IF(t_projeto[[#This Row],[Q.1]]<>\"\",SUMIFS(t_reator[p],t_reator[tipo],t_projeto[[#This Row],[T.1]],t_reator[w],t_projeto[[#This Row],[P.1(W)]]),\"\")","v":""},{"$f":"IF(t_projeto[[#This Row],[Q.2]]<>\"\",SUMIFS(t_reator[p],t_reator[tipo],t_projeto[[#This Row],[T.2]],t_reator[w],t_projeto[[#This Row],[P.2(W)]]),\"\")","v":""},{"$f":"IF(t_projeto[[#This Row],[Q.3]]<>\"\",SUMIFS(t_reator[p],t_reator[tipo],t_projeto[[#This Row],[T.3]],t_reator[w],t_projeto[[#This Row],[P.3(W)]]),\"\")","v":""},{"$f":"IF(t_projeto[[#This Row],[Q.1]]<>\"\",IFERROR(IFERROR(D519*(E519+O519)+G519*(H519+P519)+J519*(K519+Q519),D519*(E519+O519)+G519*(H519+P519)),D519*(E519+O519)),\"\")","v":""},{"$f":"IF(t_projeto[[#This Row],[Consumo_W]]<>\"\",ROUND(t_projeto[[#This Row],[Consumo_W]]/t_projeto[[#This Row],[Luminárias]],0),\"\")","v":""},{"$f":"IF(t_projeto[[#This Row],[Q.1]]<>\"\",t_projeto[[#This Row],[Q.1]]*t_projeto[[#This Row],[P.1(W)]]*$C$24,\"\")","v":""},{"$f":"IF(t_projeto[[#This Row],[Q.2]]<>\"\",t_projeto[[#This Row],[Q.2]]*t_projeto[[#This Row],[P.2(W)]]*$C$24,\"\")","v":""},{"$f":"IF(t_projeto[[#This Row],[Q.3]]<>\"\",t_projeto[[#This Row],[Q.3]]*t_projeto[[#This Row],[P.3(W)]]*$C$24,\"\")","v":""},{"$f":"IF(t_projeto[[#This Row],[Trecho]]<>\"\",SUM(t_projeto[[#This Row],[f.1]:[f.3]]),\"\")","v":""},{"$f":"IF(t_projeto[[#This Row],[Trecho]]<>\"\",t_projeto[[#This Row],[Q.1]]+t_projeto[[#This Row],[Q.2]]+t_projeto[[#This Row],[Q.3]],\"\")","v":""},{"$f":"IF(AND(t_projeto[[#This Row],[FLUXO]]<>0,t_projeto[[#This Row],[FLUXO]]<>\"\"),ROUND(t_projeto[[#This Row],[FLUXO]]/t_projeto[[#This Row],[Luminárias]],0),\"\")","v":""},{"$f":"IF(AND(t_projeto[[#This Row],[Luminárias]]<>0,t_projeto[[#This Row],[Luminárias]]<>\"\"),ROUND(t_projeto[[#This Row],[lm_médio]]/t_projeto[[#This Row],[W_médio]],2),\"\")","v":""}]
[58,{"$f":"_xlfn.XLOOKUP(t_projeto[[#This Row],[cód.]],t_sitio[cód],t_sitio[Trecho],\"\")","v":""},null,null,{"$f":"IF(t_projeto[[#This Row],[T.1]]<>\"\",_xlfn.XLOOKUP(t_projeto[[#This Row],[T.1]],$G$22:$G$26,$H$22:$H$26),\"\")","v":""},null,null,{"$f":"IF(t_projeto[[#This Row],[T.2]]<>\"\",_xlfn.XLOOKUP(t_projeto[[#This Row],[T.2]],$G$22:$G$26,$H$22:$H$26),\"\")","v":""},null,null,{"$f":"IF(t_projeto[[#This Row],[T.3]]<>\"\",_xlfn.XLOOKUP(t_projeto[[#This Row],[T.3]],$G$22:$G$26,$H$22:$H$26),\"\")","v":""},null,{"$f":"t_projeto[[#This Row],[Q.1]]+t_projeto[[#This Row],[Q.2]]+t_projeto[[#This Row],[Q.3]]","v":0},{"$f":"t_projeto[[#This Row],[Q.1]]+t_projeto[[#This Row],[Q.2]]+t_projeto[[#This Row],[Q.3]]","v":0},{"$f":"IF(t_projeto[[#This Row],[Q.1]]<>\"\",SUMIFS(t_reator[p],t_reator[tipo],t_projeto[[#This Row],[T.1]],t_reator[w],t_projeto[[#This Row],[P.1(W)]]),\"\")","v":""},{"$f":"IF(t_projeto[[#This Row],[Q.2]]<>\"\",SUMIFS(t_reator[p],t_reator[tipo],t_projeto[[#This Row],[T.2]],t_reator[w],t_projeto[[#This Row],[P.2(W)]]),\"\")","v":""},{"$f":"IF(t_projeto[[#This Row],[Q.3]]<>\"\",SUMIFS(t_reator[p],t_reator[tipo],t_projeto[[#This Row],[T.3]],t_reator[w],t_projeto[[#This Row],[P.3(W)]]),\"\")","v":""},{"$f":"IF(t_projeto[[#This Row],[Q.1]]<>\"\",IFERROR(IFERROR(D520*(E520+O520)+G520*(H520+P520)+J520*(K520+Q520),D520*(E520+O520)+G520*(H520+P520)),D520*(E520+O520)),\"\")","v":""},{"$f":"IF(t_projeto[[#This Row],[Consumo_W]]<>\"\",ROUND(t_projeto[[#This Row],[Consumo_W]]/t_projeto[[#This Row],[Luminárias]],0),\"\")","v":""},{"$f":"IF(t_projeto[[#This Row],[Q.1]]<>\"\",t_projeto[[#This Row],[Q.1]]*t_projeto[[#This Row],[P.1(W)]]*$C$24,\"\")","v":""},{"$f":"IF(t_projeto[[#This Row],[Q.2]]<>\"\",t_projeto[[#This Row],[Q.2]]*t_projeto[[#This Row],[P.2(W)]]*$C$24,\"\")","v":""},{"$f":"IF(t_projeto[[#This Row],[Q.3]]<>\"\",t_projeto[[#This Row],[Q.3]]*t_projeto[[#This Row],[P.3(W)]]*$C$24,\"\")","v":""},{"$f":"IF(t_projeto[[#This Row],[Trecho]]<>\"\",SUM(t_projeto[[#This Row],[f.1]:[f.3]]),\"\")","v":""},{"$f":"IF(t_projeto[[#This Row],[Trecho]]<>\"\",t_projeto[[#This Row],[Q.1]]+t_projeto[[#This Row],[Q.2]]+t_projeto[[#This Row],[Q.3]],\"\")","v":""},{"$f":"IF(AND(t_projeto[[#This Row],[FLUXO]]<>0,t_projeto[[#This Row],[FLUXO]]<>\"\"),ROUND(t_projeto[[#This Row],[FLUXO]]/t_projeto[[#This Row],[Luminárias]],0),\"\")","v":""},{"$f":"IF(AND(t_projeto[[#This Row],[Luminárias]]<>0,t_projeto[[#This Row],[Luminárias]]<>\"\"),ROUND(t_projeto[[#This Row],[lm_médio]]/t_projeto[[#This Row],[W_médio]],2),\"\")","v":""}]
[59,{"$f":"_xlfn.XLOOKUP(t_projeto[[#This Row],[cód.]],t_sitio[cód],t_sitio[Trecho],\"\")","v":""},null,null,{"$f":"IF(t_projeto[[#This Row],[T.1]]<>\"\",_xlfn.XLOOKUP(t_projeto[[#This Row],[T.1]],$G$22:$G$26,$H$22:$H$26),\"\")","v":""},null,null,{"$f":"IF(t_projeto[[#This Row],[T.2]]<>\"\",_xlfn.XLOOKUP(t_projeto[[#This Row],[T.2]],$G$22:$G$26,$H$22:$H$26),\"\")","v":""},null,null,{"$f":"IF(t_projeto[[#This Row],[T.3]]<>\"\",_xlfn.XLOOKUP(t_projeto[[#This Row],[T.3]],$G$22:$G$26,$H$22:$H$26),\"\")","v":""},null,{"$f":"t_projeto[[#This Row],[Q.1]]+t_projeto[[#This Row],[Q.2]]+t_projeto[[#This Row],[Q.3]]","v":0},{"$f":"t_projeto[[#This Row],[Q.1]]+t_projeto[[#This Row],[Q.2]]+t_projeto[[#This Row],[Q.3]]","v":0},{"$f":"IF(t_projeto[[#This Row],[Q.1]]<>\"\",SUMIFS(t_reator[p],t_reator[tipo],t_projeto[[#This Row],[T.1]],t_reator[w],t_projeto[[#This Row],[P.1(W)]]),\"\")","v":""},{"$f":"IF(t_projeto[[#This Row],[Q.2]]<>\"\",SUMIFS(t_reator[p],t_reator[tipo],t_projeto[[#This Row],[T.2]],t_reator[w],t_projeto[[#This Row],[P.2(W)]]),\"\")","v":""},{"$f":"IF(t_projeto[[#This Row],[Q.3]]<>\"\",SUMIFS(t_reator[p],t_reator[tipo],t_projeto[[#This Row],[T.3]],t_reator[w],t_projeto[[#This Row],[P.3(W)]]),\"\")","v":""},{"$f":"IF(t_projeto[[#This Row],[Q.1]]<>\"\",IFERROR(IFERROR(D521*(E521+O521)+G521*(H521+P521)+J521*(K521+Q521),D521*(E521+O521)+G521*(H521+P521)),D521*(E521+O521)),\"\")","v":""},{"$f":"IF(t_projeto[[#This Row],[Consumo_W]]<>\"\",ROUND(t_projeto[[#This Row],[Consumo_W]]/t_projeto[[#This Row],[Luminárias]],0),\"\")","v":""},{"$f":"IF(t_projeto[[#This Row],[Q.1]]<>\"\",t_projeto[[#This Row],[Q.1]]*t_projeto[[#This Row],[P.1(W)]]*$C$24,\"\")","v":""},{"$f":"IF(t_projeto[[#This Row],[Q.2]]<>\"\",t_projeto[[#This Row],[Q.2]]*t_projeto[[#This Row],[P.2(W)]]*$C$24,\"\")","v":""},{"$f":"IF(t_projeto[[#This Row],[Q.3]]<>\"\",t_projeto[[#This Row],[Q.3]]*t_projeto[[#This Row],[P.3(W)]]*$C$24,\"\")","v":""},{"$f":"IF(t_projeto[[#This Row],[Trecho]]<>\"\",SUM(t_projeto[[#This Row],[f.1]:[f.3]]),\"\")","v":""},{"$f":"IF(t_projeto[[#This Row],[Trecho]]<>\"\",t_projeto[[#This Row],[Q.1]]+t_projeto[[#This Row],[Q.2]]+t_projeto[[#This Row],[Q.3]],\"\")","v":""},{"$f":"IF(AND(t_projeto[[#This Row],[FLUXO]]<>0,t_projeto[[#This Row],[FLUXO]]<>\"\"),ROUND(t_projeto[[#This Row],[FLUXO]]/t_projeto[[#This Row],[Luminárias]],0),\"\")","v":""},{"$f":"IF(AND(t_projeto[[#This Row],[Luminárias]]<>0,t_projeto[[#This Row],[Luminárias]]<>\"\"),ROUND(t_projeto[[#This Row],[lm_médio]]/t_projeto[[#This Row],[W_médio]],2),\"\")","v":""}]
[60,{"$f":"_xlfn.XLOOKUP(t_projeto[[#This Row],[cód.]],t_sitio[cód],t_sitio[Trecho],\"\")","v":""},null,null,{"$f":"IF(t_projeto[[#This Row],[T.1]]<>\"\",_xlfn.XLOOKUP(t_projeto[[#This Row],[T.1]],$G$22:$G$26,$H$22:$H$26),\"\")","v":""},null,null,{"$f":"IF(t_projeto[[#This Row],[T.2]]<>\"\",_xlfn.XLOOKUP(t_projeto[[#This Row],[T.2]],$G$22:$G$26,$H$22:$H$26),\"\")","v":""},null,null,{"$f":"IF(t_projeto[[#This Row],[T.3]]<>\"\",_xlfn.XLOOKUP(t_projeto[[#This Row],[T.3]],$G$22:$G$26,$H$22:$H$26),\"\")","v":""},null,{"$f":"t_projeto[[#This Row],[Q.1]]+t_projeto[[#This Row],[Q.2]]+t_projeto[[#This Row],[Q.3]]","v":0},{"$f":"t_projeto[[#This Row],[Q.1]]+t_projeto[[#This Row],[Q.2]]+t_projeto[[#This Row],[Q.3]]","v":0},{"$f":"IF(t_projeto[[#This Row],[Q.1]]<>\"\",SUMIFS(t_reator[p],t_reator[tipo],t_projeto[[#This Row],[T.1]],t_reator[w],t_projeto[[#This Row],[P.1(W)]]),\"\")","v":""},{"$f":"IF(t_projeto[[#This Row],[Q.2]]<>\"\",SUMIFS(t_reator[p],t_reator[tipo],t_projeto[[#This Row],[T.2]],t_reator[w],t_projeto[[#This Row],[P.2(W)]]),\"\")","v":""},{"$f":"IF(t_projeto[[#This Row],[Q.3]]<>\"\",SUMIFS(t_reator[p],t_reator[tipo],t_projeto[[#This Row],[T.3]],t_reator[w],t_projeto[[#This Row],[P.3(W)]]),\"\")","v":""},{"$f":"IF(t_projeto[[#This Row],[Q.1]]<>\"\",IFERROR(IFERROR(D522*(E522+O522)+G522*(H522+P522)+J522*(K522+Q522),D522*(E522+O522)+G522*(H522+P522)),D522*(E522+O522)),\"\")","v":""},{"$f":"IF(t_projeto[[#This Row],[Consumo_W]]<>\"\",ROUND(t_projeto[[#This Row],[Consumo_W]]/t_projeto[[#This Row],[Luminárias]],0),\"\")","v":""},{"$f":"IF(t_projeto[[#This Row],[Q.1]]<>\"\",t_projeto[[#This Row],[Q.1]]*t_projeto[[#This Row],[P.1(W)]]*$C$24,\"\")","v":""},{"$f":"IF(t_projeto[[#This Row],[Q.2]]<>\"\",t_projeto[[#This Row],[Q.2]]*t_projeto[[#This Row],[P.2(W)]]*$C$24,\"\")","v":""},{"$f":"IF(t_projeto[[#This Row],[Q.3]]<>\"\",t_projeto[[#This Row],[Q.3]]*t_projeto[[#This Row],[P.3(W)]]*$C$24,\"\")","v":""},{"$f":"IF(t_projeto[[#This Row],[Trecho]]<>\"\",SUM(t_projeto[[#This Row],[f.1]:[f.3]]),\"\")","v":""},{"$f":"IF(t_projeto[[#This Row],[Trecho]]<>\"\",t_projeto[[#This Row],[Q.1]]+t_projeto[[#This Row],[Q.2]]+t_projeto[[#This Row],[Q.3]],\"\")","v":""},{"$f":"IF(AND(t_projeto[[#This Row],[FLUXO]]<>0,t_projeto[[#This Row],[FLUXO]]<>\"\"),ROUND(t_projeto[[#This Row],[FLUXO]]/t_projeto[[#This Row],[Luminárias]],0),\"\")","v":""},{"$f":"IF(AND(t_projeto[[#This Row],[Luminárias]]<>0,t_projeto[[#This Row],[Luminárias]]<>\"\"),ROUND(t_projeto[[#This Row],[lm_médio]]/t_projeto[[#This Row],[W_médio]],2),\"\")","v":""}]
[61,{"$f":"_xlfn.XLOOKUP(t_projeto[[#This Row],[cód.]],t_sitio[cód],t_sitio[Trecho],\"\")","v":""},null,null,{"$f":"IF(t_projeto[[#This Row],[T.1]]<>\"\",_xlfn.XLOOKUP(t_projeto[[#This Row],[T.1]],$G$22:$G$26,$H$22:$H$26),\"\")","v":""},null,null,{"$f":"IF(t_projeto[[#This Row],[T.2]]<>\"\",_xlfn.XLOOKUP(t_projeto[[#This Row],[T.2]],$G$22:$G$26,$H$22:$H$26),\"\")","v":""},null,null,{"$f":"IF(t_projeto[[#This Row],[T.3]]<>\"\",_xlfn.XLOOKUP(t_projeto[[#This Row],[T.3]],$G$22:$G$26,$H$22:$H$26),\"\")","v":""},null,{"$f":"t_projeto[[#This Row],[Q.1]]+t_projeto[[#This Row],[Q.2]]+t_projeto[[#This Row],[Q.3]]","v":0},{"$f":"t_projeto[[#This Row],[Q.1]]+t_projeto[[#This Row],[Q.2]]+t_projeto[[#This Row],[Q.3]]","v":0},{"$f":"IF(t_projeto[[#This Row],[Q.1]]<>\"\",SUMIFS(t_reator[p],t_reator[tipo],t_projeto[[#This Row],[T.1]],t_reator[w],t_projeto[[#This Row],[P.1(W)]]),\"\")","v":""},{"$f":"IF(t_projeto[[#This Row],[Q.2]]<>\"\",SUMIFS(t_reator[p],t_reator[tipo],t_projeto[[#This Row],[T.2]],t_reator[w],t_projeto[[#This Row],[P.2(W)]]),\"\")","v":""},{"$f":"IF(t_projeto[[#This Row],[Q.3]]<>\"\",SUMIFS(t_reator[p],t_reator[tipo],t_projeto[[#This Row],[T.3]],t_reator[w],t_projeto[[#This Row],[P.3(W)]]),\"\")","v":""},{"$f":"IF(t_projeto[[#This Row],[Q.1]]<>\"\",IFERROR(IFERROR(D523*(E523+O523)+G523*(H523+P523)+J523*(K523+Q523),D523*(E523+O523)+G523*(H523+P523)),D523*(E523+O523)),\"\")","v":""},{"$f":"IF(t_projeto[[#This Row],[Consumo_W]]<>\"\",ROUND(t_projeto[[#This Row],[Consumo_W]]/t_projeto[[#This Row],[Luminárias]],0),\"\")","v":""},{"$f":"IF(t_projeto[[#This Row],[Q.1]]<>\"\",t_projeto[[#This Row],[Q.1]]*t_projeto[[#This Row],[P.1(W)]]*$C$24,\"\")","v":""},{"$f":"IF(t_projeto[[#This Row],[Q.2]]<>\"\",t_projeto[[#This Row],[Q.2]]*t_projeto[[#This Row],[P.2(W)]]*$C$24,\"\")","v":""},{"$f":"IF(t_projeto[[#This Row],[Q.3]]<>\"\",t_projeto[[#This Row],[Q.3]]*t_projeto[[#This Row],[P.3(W)]]*$C$24,\"\")","v":""},{"$f":"IF(t_projeto[[#This Row],[Trecho]]<>\"\",SUM(t_projeto[[#This Row],[f.1]:[f.3]]),\"\")","v":""},{"$f":"IF(t_projeto[[#This Row],[Trecho]]<>\"\",t_projeto[[#This Row],[Q.1]]+t_projeto[[#This Row],[Q.2]]+t_projeto[[#This Row],[Q.3]],\"\")","v":""},{"$f":"IF(AND(t_projeto[[#This Row],[FLUXO]]<>0,t_projeto[[#This Row],[FLUXO]]<>\"\"),ROUND(t_projeto[[#This Row],[FLUXO]]/t_projeto[[#This Row],[Luminárias]],0),\"\")","v":""},{"$f":"IF(AND(t_projeto[[#This Row],[Luminárias]]<>0,t_projeto[[#This Row],[Luminárias]]<>\"\"),ROUND(t_projeto[[#This Row],[lm_médio]]/t_projeto[[#This Row],[W_médio]],2),\"\")","v":""}]
[62,{"$f":"_xlfn.XLOOKUP(t_projeto[[#This Row],[cód.]],t_sitio[cód],t_sitio[Trecho],\"\")","v":""},null,null,{"$f":"IF(t_projeto[[#This Row],[T.1]]<>\"\",_xlfn.XLOOKUP(t_projeto[[#This Row],[T.1]],$G$22:$G$26,$H$22:$H$26),\"\")","v":""},null,null,{"$f":"IF(t_projeto[[#This Row],[T.2]]<>\"\",_xlfn.XLOOKUP(t_projeto[[#This Row],[T.2]],$G$22:$G$26,$H$22:$H$26),\"\")","v":""},null,null,{"$f":"IF(t_projeto[[#This Row],[T.3]]<>\"\",_xlfn.XLOOKUP(t_projeto[[#This Row],[T.3]],$G$22:$G$26,$H$22:$H$26),\"\")","v":""},null,{"$f":"t_projeto[[#This Row],[Q.1]]+t_projeto[[#This Row],[Q.2]]+t_projeto[[#This Row],[Q.3]]","v":0},{"$f":"t_projeto[[#This Row],[Q.1]]+t_projeto[[#This Row],[Q.2]]+t_projeto[[#This Row],[Q.3]]","v":0},{"$f":"IF(t_projeto[[#This Row],[Q.1]]<>\"\",SUMIFS(t_reator[p],t_reator[tipo],t_projeto[[#This Row],[T.1]],t_reator[w],t_projeto[[#This Row],[P.1(W)]]),\"\")","v":""},{"$f":"IF(t_projeto[[#This Row],[Q.2]]<>\"\",SUMIFS(t_reator[p],t_reator[tipo],t_projeto[[#This Row],[T.2]],t_reator[w],t_projeto[[#This Row],[P.2(W)]]),\"\")","v":""},{"$f":"IF(t_projeto[[#This Row],[Q.3]]<>\"\",SUMIFS(t_reator[p],t_reator[tipo],t_projeto[[#This Row],[T.3]],t_reator[w],t_projeto[[#This Row],[P.3(W)]]),\"\")","v":""},{"$f":"IF(t_projeto[[#This Row],[Q.1]]<>\"\",IFERROR(IFERROR(D524*(E524+O524)+G524*(H524+P524)+J524*(K524+Q524),D524*(E524+O524)+G524*(H524+P524)),D524*(E524+O524)),\"\")","v":""},{"$f":"IF(t_projeto[[#This Row],[Consumo_W]]<>\"\",ROUND(t_projeto[[#This Row],[Consumo_W]]/t_projeto[[#This Row],[Luminárias]],0),\"\")","v":""},{"$f":"IF(t_projeto[[#This Row],[Q.1]]<>\"\",t_projeto[[#This Row],[Q.1]]*t_projeto[[#This Row],[P.1(W)]]*$C$24,\"\")","v":""},{"$f":"IF(t_projeto[[#This Row],[Q.2]]<>\"\",t_projeto[[#This Row],[Q.2]]*t_projeto[[#This Row],[P.2(W)]]*$C$24,\"\")","v":""},{"$f":"IF(t_projeto[[#This Row],[Q.3]]<>\"\",t_projeto[[#This Row],[Q.3]]*t_projeto[[#This Row],[P.3(W)]]*$C$24,\"\")","v":""},{"$f":"IF(t_projeto[[#This Row],[Trecho]]<>\"\",SUM(t_projeto[[#This Row],[f.1]:[f.3]]),\"\")","v":""},{"$f":"IF(t_projeto[[#This Row],[Trecho]]<>\"\",t_projeto[[#This Row],[Q.1]]+t_projeto[[#This Row],[Q.2]]+t_projeto[[#This Row],[Q.3]],\"\")","v":""},{"$f":"IF(AND(t_projeto[[#This Row],[FLUXO]]<>0,t_projeto[[#This Row],[FLUXO]]<>\"\"),ROUND(t_projeto[[#This Row],[FLUXO]]/t_projeto[[#This Row],[Luminárias]],0),\"\")","v":""},{"$f":"IF(AND(t_projeto[[#This Row],[Luminárias]]<>0,t_projeto[[#This Row],[Luminárias]]<>\"\"),ROUND(t_projeto[[#This Row],[lm_médio]]/t_projeto[[#This Row],[W_médio]],2),\"\")","v":""}]
[63,{"$f":"_xlfn.XLOOKUP(t_projeto[[#This Row],[cód.]],t_sitio[cód],t_sitio[Trecho],\"\")","v":""},null,null,{"$f":"IF(t_projeto[[#This Row],[T.1]]<>\"\",_xlfn.XLOOKUP(t_projeto[[#This Row],[T.1]],$G$22:$G$26,$H$22:$H$26),\"\")","v":""},null,null,{"$f":"IF(t_projeto[[#This Row],[T.2]]<>\"\",_xlfn.XLOOKUP(t_projeto[[#This Row],[T.2]],$G$22:$G$26,$H$22:$H$26),\"\")","v":""},null,null,{"$f":"IF(t_projeto[[#This Row],[T.3]]<>\"\",_xlfn.XLOOKUP(t_projeto[[#This Row],[T.3]],$G$22:$G$26,$H$22:$H$26),\"\")","v":""},null,{"$f":"t_projeto[[#This Row],[Q.1]]+t_projeto[[#This Row],[Q.2]]+t_projeto[[#This Row],[Q.3]]","v":0},{"$f":"t_projeto[[#This Row],[Q.1]]+t_projeto[[#This Row],[Q.2]]+t_projeto[[#This Row],[Q.3]]","v":0},{"$f":"IF(t_projeto[[#This Row],[Q.1]]<>\"\",SUMIFS(t_reator[p],t_reator[tipo],t_projeto[[#This Row],[T.1]],t_reator[w],t_projeto[[#This Row],[P.1(W)]]),\"\")","v":""},{"$f":"IF(t_projeto[[#This Row],[Q.2]]<>\"\",SUMIFS(t_reator[p],t_reator[tipo],t_projeto[[#This Row],[T.2]],t_reator[w],t_projeto[[#This Row],[P.2(W)]]),\"\")","v":""},{"$f":"IF(t_projeto[[#This Row],[Q.3]]<>\"\",SUMIFS(t_reator[p],t_reator[tipo],t_projeto[[#This Row],[T.3]],t_reator[w],t_projeto[[#This Row],[P.3(W)]]),\"\")","v":""},{"$f":"IF(t_projeto[[#This Row],[Q.1]]<>\"\",IFERROR(IFERROR(D525*(E525+O525)+G525*(H525+P525)+J525*(K525+Q525),D525*(E525+O525)+G525*(H525+P525)),D525*(E525+O525)),\"\")","v":""},{"$f":"IF(t_projeto[[#This Row],[Consumo_W]]<>\"\",ROUND(t_projeto[[#This Row],[Consumo_W]]/t_projeto[[#This Row],[Luminárias]],0),\"\")","v":""},{"$f":"IF(t_projeto[[#This Row],[Q.1]]<>\"\",t_projeto[[#This Row],[Q.1]]*t_projeto[[#This Row],[P.1(W)]]*$C$24,\"\")","v":""},{"$f":"IF(t_projeto[[#This Row],[Q.2]]<>\"\",t_projeto[[#This Row],[Q.2]]*t_projeto[[#This Row],[P.2(W)]]*$C$24,\"\")","v":""},{"$f":"IF(t_projeto[[#This Row],[Q.3]]<>\"\",t_projeto[[#This Row],[Q.3]]*t_projeto[[#This Row],[P.3(W)]]*$C$24,\"\")","v":""},{"$f":"IF(t_projeto[[#This Row],[Trecho]]<>\"\",SUM(t_projeto[[#This Row],[f.1]:[f.3]]),\"\")","v":""},{"$f":"IF(t_projeto[[#This Row],[Trecho]]<>\"\",t_projeto[[#This Row],[Q.1]]+t_projeto[[#This Row],[Q.2]]+t_projeto[[#This Row],[Q.3]],\"\")","v":""},{"$f":"IF(AND(t_projeto[[#This Row],[FLUXO]]<>0,t_projeto[[#This Row],[FLUXO]]<>\"\"),ROUND(t_projeto[[#This Row],[FLUXO]]/t_projeto[[#This Row],[Luminárias]],0),\"\")","v":""},{"$f":"IF(AND(t_projeto[[#This Row],[Luminárias]]<>0,t_projeto[[#This Row],[Luminárias]]<>\"\"),ROUND(t_projeto[[#This Row],[lm_médio]]/t_projeto[[#This Row],[W_médio]],2),\"\")","v":""}]
[64,{"$f":"_xlfn.XLOOKUP(t_projeto[[#This Row],[cód.]],t_sitio[cód],t_sitio[Trecho],\"\")","v":""},null,null,{"$f":"IF(t_projeto[[#This Row],[T.1]]<>\"\",_xlfn.XLOOKUP(t_projeto[[#This Row],[T.1]],$G$22:$G$26,$H$22:$H$26),\"\")","v":""},null,null,{"$f":"IF(t_projeto[[#This Row],[T.2]]<>\"\",_xlfn.XLOOKUP(t_projeto[[#This Row],[T.2]],$G$22:$G$26,$H$22:$H$26),\"\")","v":""},null,null,{"$f":"IF(t_projeto[[#This Row],[T.3]]<>\"\",_xlfn.XLOOKUP(t_projeto[[#This Row],[T.3]],$G$22:$G$26,$H$22:$H$26),\"\")","v":""},null,{"$f":"t_projeto[[#This Row],[Q.1]]+t_projeto[[#This Row],[Q.2]]+t_projeto[[#This Row],[Q.3]]","v":0},{"$f":"t_projeto[[#This Row],[Q.1]]+t_projeto[[#This Row],[Q.2]]+t_projeto[[#This Row],[Q.3]]","v":0},{"$f":"IF(t_projeto[[#This Row],[Q.1]]<>\"\",SUMIFS(t_reator[p],t_reator[tipo],t_projeto[[#This Row],[T.1]],t_reator[w],t_projeto[[#This Row],[P.1(W)]]),\"\")","v":""},{"$f":"IF(t_projeto[[#This Row],[Q.2]]<>\"\",SUMIFS(t_reator[p],t_reator[tipo],t_projeto[[#This Row],[T.2]],t_reator[w],t_projeto[[#This Row],[P.2(W)]]),\"\")","v":""},{"$f":"IF(t_projeto[[#This Row],[Q.3]]<>\"\",SUMIFS(t_reator[p],t_reator[tipo],t_projeto[[#This Row],[T.3]],t_reator[w],t_projeto[[#This Row],[P.3(W)]]),\"\")","v":""},{"$f":"IF(t_projeto[[#This Row],[Q.1]]<>\"\",IFERROR(IFERROR(D526*(E526+O526)+G526*(H526+P526)+J526*(K526+Q526),D526*(E526+O526)+G526*(H526+P526)),D526*(E526+O526)),\"\")","v":""},{"$f":"IF(t_projeto[[#This Row],[Consumo_W]]<>\"\",ROUND(t_projeto[[#This Row],[Consumo_W]]/t_projeto[[#This Row],[Luminárias]],0),\"\")","v":""},{"$f":"IF(t_projeto[[#This Row],[Q.1]]<>\"\",t_projeto[[#This Row],[Q.1]]*t_projeto[[#This Row],[P.1(W)]]*$C$24,\"\")","v":""},{"$f":"IF(t_projeto[[#This Row],[Q.2]]<>\"\",t_projeto[[#This Row],[Q.2]]*t_projeto[[#This Row],[P.2(W)]]*$C$24,\"\")","v":""},{"$f":"IF(t_projeto[[#This Row],[Q.3]]<>\"\",t_projeto[[#This Row],[Q.3]]*t_projeto[[#This Row],[P.3(W)]]*$C$24,\"\")","v":""},{"$f":"IF(t_projeto[[#This Row],[Trecho]]<>\"\",SUM(t_projeto[[#This Row],[f.1]:[f.3]]),\"\")","v":""},{"$f":"IF(t_projeto[[#This Row],[Trecho]]<>\"\",t_projeto[[#This Row],[Q.1]]+t_projeto[[#This Row],[Q.2]]+t_projeto[[#This Row],[Q.3]],\"\")","v":""},{"$f":"IF(AND(t_projeto[[#This Row],[FLUXO]]<>0,t_projeto[[#This Row],[FLUXO]]<>\"\"),ROUND(t_projeto[[#This Row],[FLUXO]]/t_projeto[[#This Row],[Luminárias]],0),\"\")","v":""},{"$f":"IF(AND(t_projeto[[#This Row],[Luminárias]]<>0,t_projeto[[#This Row],[Luminárias]]<>\"\"),ROUND(t_projeto[[#This Row],[lm_médio]]/t_projeto[[#This Row],[W_médio]],2),\"\")","v":""}]
[65,{"$f":"_xlfn.XLOOKUP(t_projeto[[#This Row],[cód.]],t_sitio[cód],t_sitio[Trecho],\"\")","v":""},null,null,{"$f":"IF(t_projeto[[#This Row],[T.1]]<>\"\",_xlfn.XLOOKUP(t_projeto[[#This Row],[T.1]],$G$22:$G$26,$H$22:$H$26),\"\")","v":""},null,null,{"$f":"IF(t_projeto[[#This Row],[T.2]]<>\"\",_xlfn.XLOOKUP(t_projeto[[#This Row],[T.2]],$G$22:$G$26,$H$22:$H$26),\"\")","v":""},null,null,{"$f":"IF(t_projeto[[#This Row],[T.3]]<>\"\",_xlfn.XLOOKUP(t_projeto[[#This Row],[T.3]],$G$22:$G$26,$H$22:$H$26),\"\")","v":""},null,{"$f":"t_projeto[[#This Row],[Q.1]]+t_projeto[[#This Row],[Q.2]]+t_projeto[[#This Row],[Q.3]]","v":0},{"$f":"t_projeto[[#This Row],[Q.1]]+t_projeto[[#This Row],[Q.2]]+t_projeto[[#This Row],[Q.3]]","v":0},{"$f":"IF(t_projeto[[#This Row],[Q.1]]<>\"\",SUMIFS(t_reator[p],t_reator[tipo],t_projeto[[#This Row],[T.1]],t_reator[w],t_projeto[[#This Row],[P.1(W)]]),\"\")","v":""},{"$f":"IF(t_projeto[[#This Row],[Q.2]]<>\"\",SUMIFS(t_reator[p],t_reator[tipo],t_projeto[[#This Row],[T.2]],t_reator[w],t_projeto[[#This Row],[P.2(W)]]),\"\")","v":""},{"$f":"IF(t_projeto[[#This Row],[Q.3]]<>\"\",SUMIFS(t_reator[p],t_reator[tipo],t_projeto[[#This Row],[T.3]],t_reator[w],t_projeto[[#This Row],[P.3(W)]]),\"\")","v":""},{"$f":"IF(t_projeto[[#This Row],[Q.1]]<>\"\",IFERROR(IFERROR(D527*(E527+O527)+G527*(H527+P527)+J527*(K527+Q527),D527*(E527+O527)+G527*(H527+P527)),D527*(E527+O527)),\"\")","v":""},{"$f":"IF(t_projeto[[#This Row],[Consumo_W]]<>\"\",ROUND(t_projeto[[#This Row],[Consumo_W]]/t_projeto[[#This Row],[Luminárias]],0),\"\")","v":""},{"$f":"IF(t_projeto[[#This Row],[Q.1]]<>\"\",t_projeto[[#This Row],[Q.1]]*t_projeto[[#This Row],[P.1(W)]]*$C$24,\"\")","v":""},{"$f":"IF(t_projeto[[#This Row],[Q.2]]<>\"\",t_projeto[[#This Row],[Q.2]]*t_projeto[[#This Row],[P.2(W)]]*$C$24,\"\")","v":""},{"$f":"IF(t_projeto[[#This Row],[Q.3]]<>\"\",t_projeto[[#This Row],[Q.3]]*t_projeto[[#This Row],[P.3(W)]]*$C$24,\"\")","v":""},{"$f":"IF(t_projeto[[#This Row],[Trecho]]<>\"\",SUM(t_projeto[[#This Row],[f.1]:[f.3]]),\"\")","v":""},{"$f":"IF(t_projeto[[#This Row],[Trecho]]<>\"\",t_projeto[[#This Row],[Q.1]]+t_projeto[[#This Row],[Q.2]]+t_projeto[[#This Row],[Q.3]],\"\")","v":""},{"$f":"IF(AND(t_projeto[[#This Row],[FLUXO]]<>0,t_projeto[[#This Row],[FLUXO]]<>\"\"),ROUND(t_projeto[[#This Row],[FLUXO]]/t_projeto[[#This Row],[Luminárias]],0),\"\")","v":""},{"$f":"IF(AND(t_projeto[[#This Row],[Luminárias]]<>0,t_projeto[[#This Row],[Luminárias]]<>\"\"),ROUND(t_projeto[[#This Row],[lm_médio]]/t_projeto[[#This Row],[W_médio]],2),\"\")","v":""}]
[66,{"$f":"_xlfn.XLOOKUP(t_projeto[[#This Row],[cód.]],t_sitio[cód],t_sitio[Trecho],\"\")","v":""},null,null,{"$f":"IF(t_projeto[[#This Row],[T.1]]<>\"\",_xlfn.XLOOKUP(t_projeto[[#This Row],[T.1]],$G$22:$G$26,$H$22:$H$26),\"\")","v":""},null,null,{"$f":"IF(t_projeto[[#This Row],[T.2]]<>\"\",_xlfn.XLOOKUP(t_projeto[[#This Row],[T.2]],$G$22:$G$26,$H$22:$H$26),\"\")","v":""},null,null,{"$f":"IF(t_projeto[[#This Row],[T.3]]<>\"\",_xlfn.XLOOKUP(t_projeto[[#This Row],[T.3]],$G$22:$G$26,$H$22:$H$26),\"\")","v":""},null,{"$f":"t_projeto[[#This Row],[Q.1]]+t_projeto[[#This Row],[Q.2]]+t_projeto[[#This Row],[Q.3]]","v":0},{"$f":"t_projeto[[#This Row],[Q.1]]+t_projeto[[#This Row],[Q.2]]+t_projeto[[#This Row],[Q.3]]","v":0},{"$f":"IF(t_projeto[[#This Row],[Q.1]]<>\"\",SUMIFS(t_reator[p],t_reator[tipo],t_projeto[[#This Row],[T.1]],t_reator[w],t_projeto[[#This Row],[P.1(W)]]),\"\")","v":""},{"$f":"IF(t_projeto[[#This Row],[Q.2]]<>\"\",SUMIFS(t_reator[p],t_reator[tipo],t_projeto[[#This Row],[T.2]],t_reator[w],t_projeto[[#This Row],[P.2(W)]]),\"\")","v":""},{"$f":"IF(t_projeto[[#This Row],[Q.3]]<>\"\",SUMIFS(t_reator[p],t_reator[tipo],t_projeto[[#This Row],[T.3]],t_reator[w],t_projeto[[#This Row],[P.3(W)]]),\"\")","v":""},{"$f":"IF(t_projeto[[#This Row],[Q.1]]<>\"\",IFERROR(IFERROR(D528*(E528+O528)+G528*(H528+P528)+J528*(K528+Q528),D528*(E528+O528)+G528*(H528+P528)),D528*(E528+O528)),\"\")","v":""},{"$f":"IF(t_projeto[[#This Row],[Consumo_W]]<>\"\",ROUND(t_projeto[[#This Row],[Consumo_W]]/t_projeto[[#This Row],[Luminárias]],0),\"\")","v":""},{"$f":"IF(t_projeto[[#This Row],[Q.1]]<>\"\",t_projeto[[#This Row],[Q.1]]*t_projeto[[#This Row],[P.1(W)]]*$C$24,\"\")","v":""},{"$f":"IF(t_projeto[[#This Row],[Q.2]]<>\"\",t_projeto[[#This Row],[Q.2]]*t_projeto[[#This Row],[P.2(W)]]*$C$24,\"\")","v":""},{"$f":"IF(t_projeto[[#This Row],[Q.3]]<>\"\",t_projeto[[#This Row],[Q.3]]*t_projeto[[#This Row],[P.3(W)]]*$C$24,\"\")","v":""},{"$f":"IF(t_projeto[[#This Row],[Trecho]]<>\"\",SUM(t_projeto[[#This Row],[f.1]:[f.3]]),\"\")","v":""},{"$f":"IF(t_projeto[[#This Row],[Trecho]]<>\"\",t_projeto[[#This Row],[Q.1]]+t_projeto[[#This Row],[Q.2]]+t_projeto[[#This Row],[Q.3]],\"\")","v":""},{"$f":"IF(AND(t_projeto[[#This Row],[FLUXO]]<>0,t_projeto[[#This Row],[FLUXO]]<>\"\"),ROUND(t_projeto[[#This Row],[FLUXO]]/t_projeto[[#This Row],[Luminárias]],0),\"\")","v":""},{"$f":"IF(AND(t_projeto[[#This Row],[Luminárias]]<>0,t_projeto[[#This Row],[Luminárias]]<>\"\"),ROUND(t_projeto[[#This Row],[lm_médio]]/t_projeto[[#This Row],[W_médio]],2),\"\")","v":""}]
[67,{"$f":"_xlfn.XLOOKUP(t_projeto[[#This Row],[cód.]],t_sitio[cód],t_sitio[Trecho],\"\")","v":""},null,null,{"$f":"IF(t_projeto[[#This Row],[T.1]]<>\"\",_xlfn.XLOOKUP(t_projeto[[#This Row],[T.1]],$G$22:$G$26,$H$22:$H$26),\"\")","v":""},null,null,{"$f":"IF(t_projeto[[#This Row],[T.2]]<>\"\",_xlfn.XLOOKUP(t_projeto[[#This Row],[T.2]],$G$22:$G$26,$H$22:$H$26),\"\")","v":""},null,null,{"$f":"IF(t_projeto[[#This Row],[T.3]]<>\"\",_xlfn.XLOOKUP(t_projeto[[#This Row],[T.3]],$G$22:$G$26,$H$22:$H$26),\"\")","v":""},null,{"$f":"t_projeto[[#This Row],[Q.1]]+t_projeto[[#This Row],[Q.2]]+t_projeto[[#This Row],[Q.3]]","v":0},{"$f":"t_projeto[[#This Row],[Q.1]]+t_projeto[[#This Row],[Q.2]]+t_projeto[[#This Row],[Q.3]]","v":0},{"$f":"IF(t_projeto[[#This Row],[Q.1]]<>\"\",SUMIFS(t_reator[p],t_reator[tipo],t_projeto[[#This Row],[T.1]],t_reator[w],t_projeto[[#This Row],[P.1(W)]]),\"\")","v":""},{"$f":"IF(t_projeto[[#This Row],[Q.2]]<>\"\",SUMIFS(t_reator[p],t_reator[tipo],t_projeto[[#This Row],[T.2]],t_reator[w],t_projeto[[#This Row],[P.2(W)]]),\"\")","v":""},{"$f":"IF(t_projeto[[#This Row],[Q.3]]<>\"\",SUMIFS(t_reator[p],t_reator[tipo],t_projeto[[#This Row],[T.3]],t_reator[w],t_projeto[[#This Row],[P.3(W)]]),\"\")","v":""},{"$f":"IF(t_projeto[[#This Row],[Q.1]]<>\"\",IFERROR(IFERROR(D529*(E529+O529)+G529*(H529+P529)+J529*(K529+Q529),D529*(E529+O529)+G529*(H529+P529)),D529*(E529+O529)),\"\")","v":""},{"$f":"IF(t_projeto[[#This Row],[Consumo_W]]<>\"\",ROUND(t_projeto[[#This Row],[Consumo_W]]/t_projeto[[#This Row],[Luminárias]],0),\"\")","v":""},{"$f":"IF(t_projeto[[#This Row],[Q.1]]<>\"\",t_projeto[[#This Row],[Q.1]]*t_projeto[[#This Row],[P.1(W)]]*$C$24,\"\")","v":""},{"$f":"IF(t_projeto[[#This Row],[Q.2]]<>\"\",t_projeto[[#This Row],[Q.2]]*t_projeto[[#This Row],[P.2(W)]]*$C$24,\"\")","v":""},{"$f":"IF(t_projeto[[#This Row],[Q.3]]<>\"\",t_projeto[[#This Row],[Q.3]]*t_projeto[[#This Row],[P.3(W)]]*$C$24,\"\")","v":""},{"$f":"IF(t_projeto[[#This Row],[Trecho]]<>\"\",SUM(t_projeto[[#This Row],[f.1]:[f.3]]),\"\")","v":""},{"$f":"IF(t_projeto[[#This Row],[Trecho]]<>\"\",t_projeto[[#This Row],[Q.1]]+t_projeto[[#This Row],[Q.2]]+t_projeto[[#This Row],[Q.3]],\"\")","v":""},{"$f":"IF(AND(t_projeto[[#This Row],[FLUXO]]<>0,t_projeto[[#This Row],[FLUXO]]<>\"\"),ROUND(t_projeto[[#This Row],[FLUXO]]/t_projeto[[#This Row],[Luminárias]],0),\"\")","v":""},{"$f":"IF(AND(t_projeto[[#This Row],[Luminárias]]<>0,t_projeto[[#This Row],[Luminárias]]<>\"\"),ROUND(t_projeto[[#This Row],[lm_médio]]/t_projeto[[#This Row],[W_médio]],2),\"\")","v":""}]
[68,{"$f":"_xlfn.XLOOKUP(t_projeto[[#This Row],[cód.]],t_sitio[cód],t_sitio[Trecho],\"\")","v":""},null,null,{"$f":"IF(t_projeto[[#This Row],[T.1]]<>\"\",_xlfn.XLOOKUP(t_projeto[[#This Row],[T.1]],$G$22:$G$26,$H$22:$H$26),\"\")","v":""},null,null,{"$f":"IF(t_projeto[[#This Row],[T.2]]<>\"\",_xlfn.XLOOKUP(t_projeto[[#This Row],[T.2]],$G$22:$G$26,$H$22:$H$26),\"\")","v":""},null,null,{"$f":"IF(t_projeto[[#This Row],[T.3]]<>\"\",_xlfn.XLOOKUP(t_projeto[[#This Row],[T.3]],$G$22:$G$26,$H$22:$H$26),\"\")","v":""},null,{"$f":"t_projeto[[#This Row],[Q.1]]+t_projeto[[#This Row],[Q.2]]+t_projeto[[#This Row],[Q.3]]","v":0},{"$f":"t_projeto[[#This Row],[Q.1]]+t_projeto[[#This Row],[Q.2]]+t_projeto[[#This Row],[Q.3]]","v":0},{"$f":"IF(t_projeto[[#This Row],[Q.1]]<>\"\",SUMIFS(t_reator[p],t_reator[tipo],t_projeto[[#This Row],[T.1]],t_reator[w],t_projeto[[#This Row],[P.1(W)]]),\"\")","v":""},{"$f":"IF(t_projeto[[#This Row],[Q.2]]<>\"\",SUMIFS(t_reator[p],t_reator[tipo],t_projeto[[#This Row],[T.2]],t_reator[w],t_projeto[[#This Row],[P.2(W)]]),\"\")","v":""},{"$f":"IF(t_projeto[[#This Row],[Q.3]]<>\"\",SUMIFS(t_reator[p],t_reator[tipo],t_projeto[[#This Row],[T.3]],t_reator[w],t_projeto[[#This Row],[P.3(W)]]),\"\")","v":""},{"$f":"IF(t_projeto[[#This Row],[Q.1]]<>\"\",IFERROR(IFERROR(D530*(E530+O530)+G530*(H530+P530)+J530*(K530+Q530),D530*(E530+O530)+G530*(H530+P530)),D530*(E530+O530)),\"\")","v":""},{"$f":"IF(t_projeto[[#This Row],[Consumo_W]]<>\"\",ROUND(t_projeto[[#This Row],[Consumo_W]]/t_projeto[[#This Row],[Luminárias]],0),\"\")","v":""},{"$f":"IF(t_projeto[[#This Row],[Q.1]]<>\"\",t_projeto[[#This Row],[Q.1]]*t_projeto[[#This Row],[P.1(W)]]*$C$24,\"\")","v":""},{"$f":"IF(t_projeto[[#This Row],[Q.2]]<>\"\",t_projeto[[#This Row],[Q.2]]*t_projeto[[#This Row],[P.2(W)]]*$C$24,\"\")","v":""},{"$f":"IF(t_projeto[[#This Row],[Q.3]]<>\"\",t_projeto[[#This Row],[Q.3]]*t_projeto[[#This Row],[P.3(W)]]*$C$24,\"\")","v":""},{"$f":"IF(t_projeto[[#This Row],[Trecho]]<>\"\",SUM(t_projeto[[#This Row],[f.1]:[f.3]]),\"\")","v":""},{"$f":"IF(t_projeto[[#This Row],[Trecho]]<>\"\",t_projeto[[#This Row],[Q.1]]+t_projeto[[#This Row],[Q.2]]+t_projeto[[#This Row],[Q.3]],\"\")","v":""},{"$f":"IF(AND(t_projeto[[#This Row],[FLUXO]]<>0,t_projeto[[#This Row],[FLUXO]]<>\"\"),ROUND(t_projeto[[#This Row],[FLUXO]]/t_projeto[[#This Row],[Luminárias]],0),\"\")","v":""},{"$f":"IF(AND(t_projeto[[#This Row],[Luminárias]]<>0,t_projeto[[#This Row],[Luminárias]]<>\"\"),ROUND(t_projeto[[#This Row],[lm_médio]]/t_projeto[[#This Row],[W_médio]],2),\"\")","v":""}]
[69,{"$f":"_xlfn.XLOOKUP(t_projeto[[#This Row],[cód.]],t_sitio[cód],t_sitio[Trecho],\"\")","v":""},null,null,{"$f":"IF(t_projeto[[#This Row],[T.1]]<>\"\",_xlfn.XLOOKUP(t_projeto[[#This Row],[T.1]],$G$22:$G$26,$H$22:$H$26),\"\")","v":""},null,null,{"$f":"IF(t_projeto[[#This Row],[T.2]]<>\"\",_xlfn.XLOOKUP(t_projeto[[#This Row],[T.2]],$G$22:$G$26,$H$22:$H$26),\"\")","v":""},null,null,{"$f":"IF(t_projeto[[#This Row],[T.3]]<>\"\",_xlfn.XLOOKUP(t_projeto[[#This Row],[T.3]],$G$22:$G$26,$H$22:$H$26),\"\")","v":""},null,{"$f":"t_projeto[[#This Row],[Q.1]]+t_projeto[[#This Row],[Q.2]]+t_projeto[[#This Row],[Q.3]]","v":0},{"$f":"t_projeto[[#This Row],[Q.1]]+t_projeto[[#This Row],[Q.2]]+t_projeto[[#This Row],[Q.3]]","v":0},{"$f":"IF(t_projeto[[#This Row],[Q.1]]<>\"\",SUMIFS(t_reator[p],t_reator[tipo],t_projeto[[#This Row],[T.1]],t_reator[w],t_projeto[[#This Row],[P.1(W)]]),\"\")","v":""},{"$f":"IF(t_projeto[[#This Row],[Q.2]]<>\"\",SUMIFS(t_reator[p],t_reator[tipo],t_projeto[[#This Row],[T.2]],t_reator[w],t_projeto[[#This Row],[P.2(W)]]),\"\")","v":""},{"$f":"IF(t_projeto[[#This Row],[Q.3]]<>\"\",SUMIFS(t_reator[p],t_reator[tipo],t_projeto[[#This Row],[T.3]],t_reator[w],t_projeto[[#This Row],[P.3(W)]]),\"\")","v":""},{"$f":"IF(t_projeto[[#This Row],[Q.1]]<>\"\",IFERROR(IFERROR(D531*(E531+O531)+G531*(H531+P531)+J531*(K531+Q531),D531*(E531+O531)+G531*(H531+P531)),D531*(E531+O531)),\"\")","v":""},{"$f":"IF(t_projeto[[#This Row],[Consumo_W]]<>\"\",ROUND(t_projeto[[#This Row],[Consumo_W]]/t_projeto[[#This Row],[Luminárias]],0),\"\")","v":""},{"$f":"IF(t_projeto[[#This Row],[Q.1]]<>\"\",t_projeto[[#This Row],[Q.1]]*t_projeto[[#This Row],[P.1(W)]]*$C$24,\"\")","v":""},{"$f":"IF(t_projeto[[#This Row],[Q.2]]<>\"\",t_projeto[[#This Row],[Q.2]]*t_projeto[[#This Row],[P.2(W)]]*$C$24,\"\")","v":""},{"$f":"IF(t_projeto[[#This Row],[Q.3]]<>\"\",t_projeto[[#This Row],[Q.3]]*t_projeto[[#This Row],[P.3(W)]]*$C$24,\"\")","v":""},{"$f":"IF(t_projeto[[#This Row],[Trecho]]<>\"\",SUM(t_projeto[[#This Row],[f.1]:[f.3]]),\"\")","v":""},{"$f":"IF(t_projeto[[#This Row],[Trecho]]<>\"\",t_projeto[[#This Row],[Q.1]]+t_projeto[[#This Row],[Q.2]]+t_projeto[[#This Row],[Q.3]],\"\")","v":""},{"$f":"IF(AND(t_projeto[[#This Row],[FLUXO]]<>0,t_projeto[[#This Row],[FLUXO]]<>\"\"),ROUND(t_projeto[[#This Row],[FLUXO]]/t_projeto[[#This Row],[Luminárias]],0),\"\")","v":""},{"$f":"IF(AND(t_projeto[[#This Row],[Luminárias]]<>0,t_projeto[[#This Row],[Luminárias]]<>\"\"),ROUND(t_projeto[[#This Row],[lm_médio]]/t_projeto[[#This Row],[W_médio]],2),\"\")","v":""}]
[70,{"$f":"_xlfn.XLOOKUP(t_projeto[[#This Row],[cód.]],t_sitio[cód],t_sitio[Trecho],\"\")","v":""},null,null,{"$f":"IF(t_projeto[[#This Row],[T.1]]<>\"\",_xlfn.XLOOKUP(t_projeto[[#This Row],[T.1]],$G$22:$G$26,$H$22:$H$26),\"\")","v":""},null,null,{"$f":"IF(t_projeto[[#This Row],[T.2]]<>\"\",_xlfn.XLOOKUP(t_projeto[[#This Row],[T.2]],$G$22:$G$26,$H$22:$H$26),\"\")","v":""},null,null,{"$f":"IF(t_projeto[[#This Row],[T.3]]<>\"\",_xlfn.XLOOKUP(t_projeto[[#This Row],[T.3]],$G$22:$G$26,$H$22:$H$26),\"\")","v":""},null,{"$f":"t_projeto[[#This Row],[Q.1]]+t_projeto[[#This Row],[Q.2]]+t_projeto[[#This Row],[Q.3]]","v":0},{"$f":"t_projeto[[#This Row],[Q.1]]+t_projeto[[#This Row],[Q.2]]+t_projeto[[#This Row],[Q.3]]","v":0},{"$f":"IF(t_projeto[[#This Row],[Q.1]]<>\"\",SUMIFS(t_reator[p],t_reator[tipo],t_projeto[[#This Row],[T.1]],t_reator[w],t_projeto[[#This Row],[P.1(W)]]),\"\")","v":""},{"$f":"IF(t_projeto[[#This Row],[Q.2]]<>\"\",SUMIFS(t_reator[p],t_reator[tipo],t_projeto[[#This Row],[T.2]],t_reator[w],t_projeto[[#This Row],[P.2(W)]]),\"\")","v":""},{"$f":"IF(t_projeto[[#This Row],[Q.3]]<>\"\",SUMIFS(t_reator[p],t_reator[tipo],t_projeto[[#This Row],[T.3]],t_reator[w],t_projeto[[#This Row],[P.3(W)]]),\"\")","v":""},{"$f":"IF(t_projeto[[#This Row],[Q.1]]<>\"\",IFERROR(IFERROR(D532*(E532+O532)+G532*(H532+P532)+J532*(K532+Q532),D532*(E532+O532)+G532*(H532+P532)),D532*(E532+O532)),\"\")","v":""},{"$f":"IF(t_projeto[[#This Row],[Consumo_W]]<>\"\",ROUND(t_projeto[[#This Row],[Consumo_W]]/t_projeto[[#This Row],[Luminárias]],0),\"\")","v":""},{"$f":"IF(t_projeto[[#This Row],[Q.1]]<>\"\",t_projeto[[#This Row],[Q.1]]*t_projeto[[#This Row],[P.1(W)]]*$C$24,\"\")","v":""},{"$f":"IF(t_projeto[[#This Row],[Q.2]]<>\"\",t_projeto[[#This Row],[Q.2]]*t_projeto[[#This Row],[P.2(W)]]*$C$24,\"\")","v":""},{"$f":"IF(t_projeto[[#This Row],[Q.3]]<>\"\",t_projeto[[#This Row],[Q.3]]*t_projeto[[#This Row],[P.3(W)]]*$C$24,\"\")","v":""},{"$f":"IF(t_projeto[[#This Row],[Trecho]]<>\"\",SUM(t_projeto[[#This Row],[f.1]:[f.3]]),\"\")","v":""},{"$f":"IF(t_projeto[[#This Row],[Trecho]]<>\"\",t_projeto[[#This Row],[Q.1]]+t_projeto[[#This Row],[Q.2]]+t_projeto[[#This Row],[Q.3]],\"\")","v":""},{"$f":"IF(AND(t_projeto[[#This Row],[FLUXO]]<>0,t_projeto[[#This Row],[FLUXO]]<>\"\"),ROUND(t_projeto[[#This Row],[FLUXO]]/t_projeto[[#This Row],[Luminárias]],0),\"\")","v":""},{"$f":"IF(AND(t_projeto[[#This Row],[Luminárias]]<>0,t_projeto[[#This Row],[Luminárias]]<>\"\"),ROUND(t_projeto[[#This Row],[lm_médio]]/t_projeto[[#This Row],[W_médio]],2),\"\")","v":""}]
[71,{"$f":"_xlfn.XLOOKUP(t_projeto[[#This Row],[cód.]],t_sitio[cód],t_sitio[Trecho],\"\")","v":""},null,null,{"$f":"IF(t_projeto[[#This Row],[T.1]]<>\"\",_xlfn.XLOOKUP(t_projeto[[#This Row],[T.1]],$G$22:$G$26,$H$22:$H$26),\"\")","v":""},null,null,{"$f":"IF(t_projeto[[#This Row],[T.2]]<>\"\",_xlfn.XLOOKUP(t_projeto[[#This Row],[T.2]],$G$22:$G$26,$H$22:$H$26),\"\")","v":""},null,null,{"$f":"IF(t_projeto[[#This Row],[T.3]]<>\"\",_xlfn.XLOOKUP(t_projeto[[#This Row],[T.3]],$G$22:$G$26,$H$22:$H$26),\"\")","v":""},null,{"$f":"t_projeto[[#This Row],[Q.1]]+t_projeto[[#This Row],[Q.2]]+t_projeto[[#This Row],[Q.3]]","v":0},{"$f":"t_projeto[[#This Row],[Q.1]]+t_projeto[[#This Row],[Q.2]]+t_projeto[[#This Row],[Q.3]]","v":0},{"$f":"IF(t_projeto[[#This Row],[Q.1]]<>\"\",SUMIFS(t_reator[p],t_reator[tipo],t_projeto[[#This Row],[T.1]],t_reator[w],t_projeto[[#This Row],[P.1(W)]]),\"\")","v":""},{"$f":"IF(t_projeto[[#This Row],[Q.2]]<>\"\",SUMIFS(t_reator[p],t_reator[tipo],t_projeto[[#This Row],[T.2]],t_reator[w],t_projeto[[#This Row],[P.2(W)]]),\"\")","v":""},{"$f":"IF(t_projeto[[#This Row],[Q.3]]<>\"\",SUMIFS(t_reator[p],t_reator[tipo],t_projeto[[#This Row],[T.3]],t_reator[w],t_projeto[[#This Row],[P.3(W)]]),\"\")","v":""},{"$f":"IF(t_projeto[[#This Row],[Q.1]]<>\"\",IFERROR(IFERROR(D533*(E533+O533)+G533*(H533+P533)+J533*(K533+Q533),D533*(E533+O533)+G533*(H533+P533)),D533*(E533+O533)),\"\")","v":""},{"$f":"IF(t_projeto[[#This Row],[Consumo_W]]<>\"\",ROUND(t_projeto[[#This Row],[Consumo_W]]/t_projeto[[#This Row],[Luminárias]],0),\"\")","v":""},{"$f":"IF(t_projeto[[#This Row],[Q.1]]<>\"\",t_projeto[[#This Row],[Q.1]]*t_projeto[[#This Row],[P.1(W)]]*$C$24,\"\")","v":""},{"$f":"IF(t_projeto[[#This Row],[Q.2]]<>\"\",t_projeto[[#This Row],[Q.2]]*t_projeto[[#This Row],[P.2(W)]]*$C$24,\"\")","v":""},{"$f":"IF(t_projeto[[#This Row],[Q.3]]<>\"\",t_projeto[[#This Row],[Q.3]]*t_projeto[[#This Row],[P.3(W)]]*$C$24,\"\")","v":""},{"$f":"IF(t_projeto[[#This Row],[Trecho]]<>\"\",SUM(t_projeto[[#This Row],[f.1]:[f.3]]),\"\")","v":""},{"$f":"IF(t_projeto[[#This Row],[Trecho]]<>\"\",t_projeto[[#This Row],[Q.1]]+t_projeto[[#This Row],[Q.2]]+t_projeto[[#This Row],[Q.3]],\"\")","v":""},{"$f":"IF(AND(t_projeto[[#This Row],[FLUXO]]<>0,t_projeto[[#This Row],[FLUXO]]<>\"\"),ROUND(t_projeto[[#This Row],[FLUXO]]/t_projeto[[#This Row],[Luminárias]],0),\"\")","v":""},{"$f":"IF(AND(t_projeto[[#This Row],[Luminárias]]<>0,t_projeto[[#This Row],[Luminárias]]<>\"\"),ROUND(t_projeto[[#This Row],[lm_médio]]/t_projeto[[#This Row],[W_médio]],2),\"\")","v":""}]
[72,{"$f":"_xlfn.XLOOKUP(t_projeto[[#This Row],[cód.]],t_sitio[cód],t_sitio[Trecho],\"\")","v":""},null,null,{"$f":"IF(t_projeto[[#This Row],[T.1]]<>\"\",_xlfn.XLOOKUP(t_projeto[[#This Row],[T.1]],$G$22:$G$26,$H$22:$H$26),\"\")","v":""},null,null,{"$f":"IF(t_projeto[[#This Row],[T.2]]<>\"\",_xlfn.XLOOKUP(t_projeto[[#This Row],[T.2]],$G$22:$G$26,$H$22:$H$26),\"\")","v":""},null,null,{"$f":"IF(t_projeto[[#This Row],[T.3]]<>\"\",_xlfn.XLOOKUP(t_projeto[[#This Row],[T.3]],$G$22:$G$26,$H$22:$H$26),\"\")","v":""},null,{"$f":"t_projeto[[#This Row],[Q.1]]+t_projeto[[#This Row],[Q.2]]+t_projeto[[#This Row],[Q.3]]","v":0},{"$f":"t_projeto[[#This Row],[Q.1]]+t_projeto[[#This Row],[Q.2]]+t_projeto[[#This Row],[Q.3]]","v":0},{"$f":"IF(t_projeto[[#This Row],[Q.1]]<>\"\",SUMIFS(t_reator[p],t_reator[tipo],t_projeto[[#This Row],[T.1]],t_reator[w],t_projeto[[#This Row],[P.1(W)]]),\"\")","v":""},{"$f":"IF(t_projeto[[#This Row],[Q.2]]<>\"\",SUMIFS(t_reator[p],t_reator[tipo],t_projeto[[#This Row],[T.2]],t_reator[w],t_projeto[[#This Row],[P.2(W)]]),\"\")","v":""},{"$f":"IF(t_projeto[[#This Row],[Q.3]]<>\"\",SUMIFS(t_reator[p],t_reator[tipo],t_projeto[[#This Row],[T.3]],t_reator[w],t_projeto[[#This Row],[P.3(W)]]),\"\")","v":""},{"$f":"IF(t_projeto[[#This Row],[Q.1]]<>\"\",IFERROR(IFERROR(D534*(E534+O534)+G534*(H534+P534)+J534*(K534+Q534),D534*(E534+O534)+G534*(H534+P534)),D534*(E534+O534)),\"\")","v":""},{"$f":"IF(t_projeto[[#This Row],[Consumo_W]]<>\"\",ROUND(t_projeto[[#This Row],[Consumo_W]]/t_projeto[[#This Row],[Luminárias]],0),\"\")","v":""},{"$f":"IF(t_projeto[[#This Row],[Q.1]]<>\"\",t_projeto[[#This Row],[Q.1]]*t_projeto[[#This Row],[P.1(W)]]*$C$24,\"\")","v":""},{"$f":"IF(t_projeto[[#This Row],[Q.2]]<>\"\",t_projeto[[#This Row],[Q.2]]*t_projeto[[#This Row],[P.2(W)]]*$C$24,\"\")","v":""},{"$f":"IF(t_projeto[[#This Row],[Q.3]]<>\"\",t_projeto[[#This Row],[Q.3]]*t_projeto[[#This Row],[P.3(W)]]*$C$24,\"\")","v":""},{"$f":"IF(t_projeto[[#This Row],[Trecho]]<>\"\",SUM(t_projeto[[#This Row],[f.1]:[f.3]]),\"\")","v":""},{"$f":"IF(t_projeto[[#This Row],[Trecho]]<>\"\",t_projeto[[#This Row],[Q.1]]+t_projeto[[#This Row],[Q.2]]+t_projeto[[#This Row],[Q.3]],\"\")","v":""},{"$f":"IF(AND(t_projeto[[#This Row],[FLUXO]]<>0,t_projeto[[#This Row],[FLUXO]]<>\"\"),ROUND(t_projeto[[#This Row],[FLUXO]]/t_projeto[[#This Row],[Luminárias]],0),\"\")","v":""},{"$f":"IF(AND(t_projeto[[#This Row],[Luminárias]]<>0,t_projeto[[#This Row],[Luminárias]]<>\"\"),ROUND(t_projeto[[#This Row],[lm_médio]]/t_projeto[[#This Row],[W_médio]],2),\"\")","v":""}]
[73,{"$f":"_xlfn.XLOOKUP(t_projeto[[#This Row],[cód.]],t_sitio[cód],t_sitio[Trecho],\"\")","v":""},null,null,{"$f":"IF(t_projeto[[#This Row],[T.1]]<>\"\",_xlfn.XLOOKUP(t_projeto[[#This Row],[T.1]],$G$22:$G$26,$H$22:$H$26),\"\")","v":""},null,null,{"$f":"IF(t_projeto[[#This Row],[T.2]]<>\"\",_xlfn.XLOOKUP(t_projeto[[#This Row],[T.2]],$G$22:$G$26,$H$22:$H$26),\"\")","v":""},null,null,{"$f":"IF(t_projeto[[#This Row],[T.3]]<>\"\",_xlfn.XLOOKUP(t_projeto[[#This Row],[T.3]],$G$22:$G$26,$H$22:$H$26),\"\")","v":""},null,{"$f":"t_projeto[[#This Row],[Q.1]]+t_projeto[[#This Row],[Q.2]]+t_projeto[[#This Row],[Q.3]]","v":0},{"$f":"t_projeto[[#This Row],[Q.1]]+t_projeto[[#This Row],[Q.2]]+t_projeto[[#This Row],[Q.3]]","v":0},{"$f":"IF(t_projeto[[#This Row],[Q.1]]<>\"\",SUMIFS(t_reator[p],t_reator[tipo],t_projeto[[#This Row],[T.1]],t_reator[w],t_projeto[[#This Row],[P.1(W)]]),\"\")","v":""},{"$f":"IF(t_projeto[[#This Row],[Q.2]]<>\"\",SUMIFS(t_reator[p],t_reator[tipo],t_projeto[[#This Row],[T.2]],t_reator[w],t_projeto[[#This Row],[P.2(W)]]),\"\")","v":""},{"$f":"IF(t_projeto[[#This Row],[Q.3]]<>\"\",SUMIFS(t_reator[p],t_reator[tipo],t_projeto[[#This Row],[T.3]],t_reator[w],t_projeto[[#This Row],[P.3(W)]]),\"\")","v":""},{"$f":"IF(t_projeto[[#This Row],[Q.1]]<>\"\",IFERROR(IFERROR(D535*(E535+O535)+G535*(H535+P535)+J535*(K535+Q535),D535*(E535+O535)+G535*(H535+P535)),D535*(E535+O535)),\"\")","v":""},{"$f":"IF(t_projeto[[#This Row],[Consumo_W]]<>\"\",ROUND(t_projeto[[#This Row],[Consumo_W]]/t_projeto[[#This Row],[Luminárias]],0),\"\")","v":""},{"$f":"IF(t_projeto[[#This Row],[Q.1]]<>\"\",t_projeto[[#This Row],[Q.1]]*t_projeto[[#This Row],[P.1(W)]]*$C$24,\"\")","v":""},{"$f":"IF(t_projeto[[#This Row],[Q.2]]<>\"\",t_projeto[[#This Row],[Q.2]]*t_projeto[[#This Row],[P.2(W)]]*$C$24,\"\")","v":""},{"$f":"IF(t_projeto[[#This Row],[Q.3]]<>\"\",t_projeto[[#This Row],[Q.3]]*t_projeto[[#This Row],[P.3(W)]]*$C$24,\"\")","v":""},{"$f":"IF(t_projeto[[#This Row],[Trecho]]<>\"\",SUM(t_projeto[[#This Row],[f.1]:[f.3]]),\"\")","v":""},{"$f":"IF(t_projeto[[#This Row],[Trecho]]<>\"\",t_projeto[[#This Row],[Q.1]]+t_projeto[[#This Row],[Q.2]]+t_projeto[[#This Row],[Q.3]],\"\")","v":""},{"$f":"IF(AND(t_projeto[[#This Row],[FLUXO]]<>0,t_projeto[[#This Row],[FLUXO]]<>\"\"),ROUND(t_projeto[[#This Row],[FLUXO]]/t_projeto[[#This Row],[Luminárias]],0),\"\")","v":""},{"$f":"IF(AND(t_projeto[[#This Row],[Luminárias]]<>0,t_projeto[[#This Row],[Luminárias]]<>\"\"),ROUND(t_projeto[[#This Row],[lm_médio]]/t_projeto[[#This Row],[W_médio]],2),\"\")","v":""}]
[74,{"$f":"_xlfn.XLOOKUP(t_projeto[[#This Row],[cód.]],t_sitio[cód],t_sitio[Trecho],\"\")","v":""},null,null,{"$f":"IF(t_projeto[[#This Row],[T.1]]<>\"\",_xlfn.XLOOKUP(t_projeto[[#This Row],[T.1]],$G$22:$G$26,$H$22:$H$26),\"\")","v":""},null,null,{"$f":"IF(t_projeto[[#This Row],[T.2]]<>\"\",_xlfn.XLOOKUP(t_projeto[[#This Row],[T.2]],$G$22:$G$26,$H$22:$H$26),\"\")","v":""},null,null,{"$f":"IF(t_projeto[[#This Row],[T.3]]<>\"\",_xlfn.XLOOKUP(t_projeto[[#This Row],[T.3]],$G$22:$G$26,$H$22:$H$26),\"\")","v":""},null,{"$f":"t_projeto[[#This Row],[Q.1]]+t_projeto[[#This Row],[Q.2]]+t_projeto[[#This Row],[Q.3]]","v":0},{"$f":"t_projeto[[#This Row],[Q.1]]+t_projeto[[#This Row],[Q.2]]+t_projeto[[#This Row],[Q.3]]","v":0},{"$f":"IF(t_projeto[[#This Row],[Q.1]]<>\"\",SUMIFS(t_reator[p],t_reator[tipo],t_projeto[[#This Row],[T.1]],t_reator[w],t_projeto[[#This Row],[P.1(W)]]),\"\")","v":""},{"$f":"IF(t_projeto[[#This Row],[Q.2]]<>\"\",SUMIFS(t_reator[p],t_reator[tipo],t_projeto[[#This Row],[T.2]],t_reator[w],t_projeto[[#This Row],[P.2(W)]]),\"\")","v":""},{"$f":"IF(t_projeto[[#This Row],[Q.3]]<>\"\",SUMIFS(t_reator[p],t_reator[tipo],t_projeto[[#This Row],[T.3]],t_reator[w],t_projeto[[#This Row],[P.3(W)]]),\"\")","v":""},{"$f":"IF(t_projeto[[#This Row],[Q.1]]<>\"\",IFERROR(IFERROR(D536*(E536+O536)+G536*(H536+P536)+J536*(K536+Q536),D536*(E536+O536)+G536*(H536+P536)),D536*(E536+O536)),\"\")","v":""},{"$f":"IF(t_projeto[[#This Row],[Consumo_W]]<>\"\",ROUND(t_projeto[[#This Row],[Consumo_W]]/t_projeto[[#This Row],[Luminárias]],0),\"\")","v":""},{"$f":"IF(t_projeto[[#This Row],[Q.1]]<>\"\",t_projeto[[#This Row],[Q.1]]*t_projeto[[#This Row],[P.1(W)]]*$C$24,\"\")","v":""},{"$f":"IF(t_projeto[[#This Row],[Q.2]]<>\"\",t_projeto[[#This Row],[Q.2]]*t_projeto[[#This Row],[P.2(W)]]*$C$24,\"\")","v":""},{"$f":"IF(t_projeto[[#This Row],[Q.3]]<>\"\",t_projeto[[#This Row],[Q.3]]*t_projeto[[#This Row],[P.3(W)]]*$C$24,\"\")","v":""},{"$f":"IF(t_projeto[[#This Row],[Trecho]]<>\"\",SUM(t_projeto[[#This Row],[f.1]:[f.3]]),\"\")","v":""},{"$f":"IF(t_projeto[[#This Row],[Trecho]]<>\"\",t_projeto[[#This Row],[Q.1]]+t_projeto[[#This Row],[Q.2]]+t_projeto[[#This Row],[Q.3]],\"\")","v":""},{"$f":"IF(AND(t_projeto[[#This Row],[FLUXO]]<>0,t_projeto[[#This Row],[FLUXO]]<>\"\"),ROUND(t_projeto[[#This Row],[FLUXO]]/t_projeto[[#This Row],[Luminárias]],0),\"\")","v":""},{"$f":"IF(AND(t_projeto[[#This Row],[Luminárias]]<>0,t_projeto[[#This Row],[Luminárias]]<>\"\"),ROUND(t_projeto[[#This Row],[lm_médio]]/t_projeto[[#This Row],[W_médio]],2),\"\")","v":""}]
[75,{"$f":"_xlfn.XLOOKUP(t_projeto[[#This Row],[cód.]],t_sitio[cód],t_sitio[Trecho],\"\")","v":""},null,null,{"$f":"IF(t_projeto[[#This Row],[T.1]]<>\"\",_xlfn.XLOOKUP(t_projeto[[#This Row],[T.1]],$G$22:$G$26,$H$22:$H$26),\"\")","v":""},null,null,{"$f":"IF(t_projeto[[#This Row],[T.2]]<>\"\",_xlfn.XLOOKUP(t_projeto[[#This Row],[T.2]],$G$22:$G$26,$H$22:$H$26),\"\")","v":""},null,null,{"$f":"IF(t_projeto[[#This Row],[T.3]]<>\"\",_xlfn.XLOOKUP(t_projeto[[#This Row],[T.3]],$G$22:$G$26,$H$22:$H$26),\"\")","v":""},null,{"$f":"t_projeto[[#This Row],[Q.1]]+t_projeto[[#This Row],[Q.2]]+t_projeto[[#This Row],[Q.3]]","v":0},{"$f":"t_projeto[[#This Row],[Q.1]]+t_projeto[[#This Row],[Q.2]]+t_projeto[[#This Row],[Q.3]]","v":0},{"$f":"IF(t_projeto[[#This Row],[Q.1]]<>\"\",SUMIFS(t_reator[p],t_reator[tipo],t_projeto[[#This Row],[T.1]],t_reator[w],t_projeto[[#This Row],[P.1(W)]]),\"\")","v":""},{"$f":"IF(t_projeto[[#This Row],[Q.2]]<>\"\",SUMIFS(t_reator[p],t_reator[tipo],t_projeto[[#This Row],[T.2]],t_reator[w],t_projeto[[#This Row],[P.2(W)]]),\"\")","v":""},{"$f":"IF(t_projeto[[#This Row],[Q.3]]<>\"\",SUMIFS(t_reator[p],t_reator[tipo],t_projeto[[#This Row],[T.3]],t_reator[w],t_projeto[[#This Row],[P.3(W)]]),\"\")","v":""},{"$f":"IF(t_projeto[[#This Row],[Q.1]]<>\"\",IFERROR(IFERROR(D537*(E537+O537)+G537*(H537+P537)+J537*(K537+Q537),D537*(E537+O537)+G537*(H537+P537)),D537*(E537+O537)),\"\")","v":""},{"$f":"IF(t_projeto[[#This Row],[Consumo_W]]<>\"\",ROUND(t_projeto[[#This Row],[Consumo_W]]/t_projeto[[#This Row],[Luminárias]],0),\"\")","v":""},{"$f":"IF(t_projeto[[#This Row],[Q.1]]<>\"\",t_projeto[[#This Row],[Q.1]]*t_projeto[[#This Row],[P.1(W)]]*$C$24,\"\")","v":""},{"$f":"IF(t_projeto[[#This Row],[Q.2]]<>\"\",t_projeto[[#This Row],[Q.2]]*t_projeto[[#This Row],[P.2(W)]]*$C$24,\"\")","v":""},{"$f":"IF(t_projeto[[#This Row],[Q.3]]<>\"\",t_projeto[[#This Row],[Q.3]]*t_projeto[[#This Row],[P.3(W)]]*$C$24,\"\")","v":""},{"$f":"IF(t_projeto[[#This Row],[Trecho]]<>\"\",SUM(t_projeto[[#This Row],[f.1]:[f.3]]),\"\")","v":""},{"$f":"IF(t_projeto[[#This Row],[Trecho]]<>\"\",t_projeto[[#This Row],[Q.1]]+t_projeto[[#This Row],[Q.2]]+t_projeto[[#This Row],[Q.3]],\"\")","v":""},{"$f":"IF(AND(t_projeto[[#This Row],[FLUXO]]<>0,t_projeto[[#This Row],[FLUXO]]<>\"\"),ROUND(t_projeto[[#This Row],[FLUXO]]/t_projeto[[#This Row],[Luminárias]],0),\"\")","v":""},{"$f":"IF(AND(t_projeto[[#This Row],[Luminárias]]<>0,t_projeto[[#This Row],[Luminárias]]<>\"\"),ROUND(t_projeto[[#This Row],[lm_médio]]/t_projeto[[#This Row],[W_médio]],2),\"\")","v":""}]
[76,{"$f":"_xlfn.XLOOKUP(t_projeto[[#This Row],[cód.]],t_sitio[cód],t_sitio[Trecho],\"\")","v":""},null,null,{"$f":"IF(t_projeto[[#This Row],[T.1]]<>\"\",_xlfn.XLOOKUP(t_projeto[[#This Row],[T.1]],$G$22:$G$26,$H$22:$H$26),\"\")","v":""},null,null,{"$f":"IF(t_projeto[[#This Row],[T.2]]<>\"\",_xlfn.XLOOKUP(t_projeto[[#This Row],[T.2]],$G$22:$G$26,$H$22:$H$26),\"\")","v":""},null,null,{"$f":"IF(t_projeto[[#This Row],[T.3]]<>\"\",_xlfn.XLOOKUP(t_projeto[[#This Row],[T.3]],$G$22:$G$26,$H$22:$H$26),\"\")","v":""},null,{"$f":"t_projeto[[#This Row],[Q.1]]+t_projeto[[#This Row],[Q.2]]+t_projeto[[#This Row],[Q.3]]","v":0},{"$f":"t_projeto[[#This Row],[Q.1]]+t_projeto[[#This Row],[Q.2]]+t_projeto[[#This Row],[Q.3]]","v":0},{"$f":"IF(t_projeto[[#This Row],[Q.1]]<>\"\",SUMIFS(t_reator[p],t_reator[tipo],t_projeto[[#This Row],[T.1]],t_reator[w],t_projeto[[#This Row],[P.1(W)]]),\"\")","v":""},{"$f":"IF(t_projeto[[#This Row],[Q.2]]<>\"\",SUMIFS(t_reator[p],t_reator[tipo],t_projeto[[#This Row],[T.2]],t_reator[w],t_projeto[[#This Row],[P.2(W)]]),\"\")","v":""},{"$f":"IF(t_projeto[[#This Row],[Q.3]]<>\"\",SUMIFS(t_reator[p],t_reator[tipo],t_projeto[[#This Row],[T.3]],t_reator[w],t_projeto[[#This Row],[P.3(W)]]),\"\")","v":""},{"$f":"IF(t_projeto[[#This Row],[Q.1]]<>\"\",IFERROR(IFERROR(D538*(E538+O538)+G538*(H538+P538)+J538*(K538+Q538),D538*(E538+O538)+G538*(H538+P538)),D538*(E538+O538)),\"\")","v":""},{"$f":"IF(t_projeto[[#This Row],[Consumo_W]]<>\"\",ROUND(t_projeto[[#This Row],[Consumo_W]]/t_projeto[[#This Row],[Luminárias]],0),\"\")","v":""},{"$f":"IF(t_projeto[[#This Row],[Q.1]]<>\"\",t_projeto[[#This Row],[Q.1]]*t_projeto[[#This Row],[P.1(W)]]*$C$24,\"\")","v":""},{"$f":"IF(t_projeto[[#This Row],[Q.2]]<>\"\",t_projeto[[#This Row],[Q.2]]*t_projeto[[#This Row],[P.2(W)]]*$C$24,\"\")","v":""},{"$f":"IF(t_projeto[[#This Row],[Q.3]]<>\"\",t_projeto[[#This Row],[Q.3]]*t_projeto[[#This Row],[P.3(W)]]*$C$24,\"\")","v":""},{"$f":"IF(t_projeto[[#This Row],[Trecho]]<>\"\",SUM(t_projeto[[#This Row],[f.1]:[f.3]]),\"\")","v":""},{"$f":"IF(t_projeto[[#This Row],[Trecho]]<>\"\",t_projeto[[#This Row],[Q.1]]+t_projeto[[#This Row],[Q.2]]+t_projeto[[#This Row],[Q.3]],\"\")","v":""},{"$f":"IF(AND(t_projeto[[#This Row],[FLUXO]]<>0,t_projeto[[#This Row],[FLUXO]]<>\"\"),ROUND(t_projeto[[#This Row],[FLUXO]]/t_projeto[[#This Row],[Luminárias]],0),\"\")","v":""},{"$f":"IF(AND(t_projeto[[#This Row],[Luminárias]]<>0,t_projeto[[#This Row],[Luminárias]]<>\"\"),ROUND(t_projeto[[#This Row],[lm_médio]]/t_projeto[[#This Row],[W_médio]],2),\"\")","v":""}]
[77,{"$f":"_xlfn.XLOOKUP(t_projeto[[#This Row],[cód.]],t_sitio[cód],t_sitio[Trecho],\"\")","v":""},null,null,{"$f":"IF(t_projeto[[#This Row],[T.1]]<>\"\",_xlfn.XLOOKUP(t_projeto[[#This Row],[T.1]],$G$22:$G$26,$H$22:$H$26),\"\")","v":""},null,null,{"$f":"IF(t_projeto[[#This Row],[T.2]]<>\"\",_xlfn.XLOOKUP(t_projeto[[#This Row],[T.2]],$G$22:$G$26,$H$22:$H$26),\"\")","v":""},null,null,{"$f":"IF(t_projeto[[#This Row],[T.3]]<>\"\",_xlfn.XLOOKUP(t_projeto[[#This Row],[T.3]],$G$22:$G$26,$H$22:$H$26),\"\")","v":""},null,{"$f":"t_projeto[[#This Row],[Q.1]]+t_projeto[[#This Row],[Q.2]]+t_projeto[[#This Row],[Q.3]]","v":0},{"$f":"t_projeto[[#This Row],[Q.1]]+t_projeto[[#This Row],[Q.2]]+t_projeto[[#This Row],[Q.3]]","v":0},{"$f":"IF(t_projeto[[#This Row],[Q.1]]<>\"\",SUMIFS(t_reator[p],t_reator[tipo],t_projeto[[#This Row],[T.1]],t_reator[w],t_projeto[[#This Row],[P.1(W)]]),\"\")","v":""},{"$f":"IF(t_projeto[[#This Row],[Q.2]]<>\"\",SUMIFS(t_reator[p],t_reator[tipo],t_projeto[[#This Row],[T.2]],t_reator[w],t_projeto[[#This Row],[P.2(W)]]),\"\")","v":""},{"$f":"IF(t_projeto[[#This Row],[Q.3]]<>\"\",SUMIFS(t_reator[p],t_reator[tipo],t_projeto[[#This Row],[T.3]],t_reator[w],t_projeto[[#This Row],[P.3(W)]]),\"\")","v":""},{"$f":"IF(t_projeto[[#This Row],[Q.1]]<>\"\",IFERROR(IFERROR(D539*(E539+O539)+G539*(H539+P539)+J539*(K539+Q539),D539*(E539+O539)+G539*(H539+P539)),D539*(E539+O539)),\"\")","v":""},{"$f":"IF(t_projeto[[#This Row],[Consumo_W]]<>\"\",ROUND(t_projeto[[#This Row],[Consumo_W]]/t_projeto[[#This Row],[Luminárias]],0),\"\")","v":""},{"$f":"IF(t_projeto[[#This Row],[Q.1]]<>\"\",t_projeto[[#This Row],[Q.1]]*t_projeto[[#This Row],[P.1(W)]]*$C$24,\"\")","v":""},{"$f":"IF(t_projeto[[#This Row],[Q.2]]<>\"\",t_projeto[[#This Row],[Q.2]]*t_projeto[[#This Row],[P.2(W)]]*$C$24,\"\")","v":""},{"$f":"IF(t_projeto[[#This Row],[Q.3]]<>\"\",t_projeto[[#This Row],[Q.3]]*t_projeto[[#This Row],[P.3(W)]]*$C$24,\"\")","v":""},{"$f":"IF(t_projeto[[#This Row],[Trecho]]<>\"\",SUM(t_projeto[[#This Row],[f.1]:[f.3]]),\"\")","v":""},{"$f":"IF(t_projeto[[#This Row],[Trecho]]<>\"\",t_projeto[[#This Row],[Q.1]]+t_projeto[[#This Row],[Q.2]]+t_projeto[[#This Row],[Q.3]],\"\")","v":""},{"$f":"IF(AND(t_projeto[[#This Row],[FLUXO]]<>0,t_projeto[[#This Row],[FLUXO]]<>\"\"),ROUND(t_projeto[[#This Row],[FLUXO]]/t_projeto[[#This Row],[Luminárias]],0),\"\")","v":""},{"$f":"IF(AND(t_projeto[[#This Row],[Luminárias]]<>0,t_projeto[[#This Row],[Luminárias]]<>\"\"),ROUND(t_projeto[[#This Row],[lm_médio]]/t_projeto[[#This Row],[W_médio]],2),\"\")","v":""}]
[78,{"$f":"_xlfn.XLOOKUP(t_projeto[[#This Row],[cód.]],t_sitio[cód],t_sitio[Trecho],\"\")","v":""},null,null,{"$f":"IF(t_projeto[[#This Row],[T.1]]<>\"\",_xlfn.XLOOKUP(t_projeto[[#This Row],[T.1]],$G$22:$G$26,$H$22:$H$26),\"\")","v":""},null,null,{"$f":"IF(t_projeto[[#This Row],[T.2]]<>\"\",_xlfn.XLOOKUP(t_projeto[[#This Row],[T.2]],$G$22:$G$26,$H$22:$H$26),\"\")","v":""},null,null,{"$f":"IF(t_projeto[[#This Row],[T.3]]<>\"\",_xlfn.XLOOKUP(t_projeto[[#This Row],[T.3]],$G$22:$G$26,$H$22:$H$26),\"\")","v":""},null,{"$f":"t_projeto[[#This Row],[Q.1]]+t_projeto[[#This Row],[Q.2]]+t_projeto[[#This Row],[Q.3]]","v":0},{"$f":"t_projeto[[#This Row],[Q.1]]+t_projeto[[#This Row],[Q.2]]+t_projeto[[#This Row],[Q.3]]","v":0},{"$f":"IF(t_projeto[[#This Row],[Q.1]]<>\"\",SUMIFS(t_reator[p],t_reator[tipo],t_projeto[[#This Row],[T.1]],t_reator[w],t_projeto[[#This Row],[P.1(W)]]),\"\")","v":""},{"$f":"IF(t_projeto[[#This Row],[Q.2]]<>\"\",SUMIFS(t_reator[p],t_reator[tipo],t_projeto[[#This Row],[T.2]],t_reator[w],t_projeto[[#This Row],[P.2(W)]]),\"\")","v":""},{"$f":"IF(t_projeto[[#This Row],[Q.3]]<>\"\",SUMIFS(t_reator[p],t_reator[tipo],t_projeto[[#This Row],[T.3]],t_reator[w],t_projeto[[#This Row],[P.3(W)]]),\"\")","v":""},{"$f":"IF(t_projeto[[#This Row],[Q.1]]<>\"\",IFERROR(IFERROR(D540*(E540+O540)+G540*(H540+P540)+J540*(K540+Q540),D540*(E540+O540)+G540*(H540+P540)),D540*(E540+O540)),\"\")","v":""},{"$f":"IF(t_projeto[[#This Row],[Consumo_W]]<>\"\",ROUND(t_projeto[[#This Row],[Consumo_W]]/t_projeto[[#This Row],[Luminárias]],0),\"\")","v":""},{"$f":"IF(t_projeto[[#This Row],[Q.1]]<>\"\",t_projeto[[#This Row],[Q.1]]*t_projeto[[#This Row],[P.1(W)]]*$C$24,\"\")","v":""},{"$f":"IF(t_projeto[[#This Row],[Q.2]]<>\"\",t_projeto[[#This Row],[Q.2]]*t_projeto[[#This Row],[P.2(W)]]*$C$24,\"\")","v":""},{"$f":"IF(t_projeto[[#This Row],[Q.3]]<>\"\",t_projeto[[#This Row],[Q.3]]*t_projeto[[#This Row],[P.3(W)]]*$C$24,\"\")","v":""},{"$f":"IF(t_projeto[[#This Row],[Trecho]]<>\"\",SUM(t_projeto[[#This Row],[f.1]:[f.3]]),\"\")","v":""},{"$f":"IF(t_projeto[[#This Row],[Trecho]]<>\"\",t_projeto[[#This Row],[Q.1]]+t_projeto[[#This Row],[Q.2]]+t_projeto[[#This Row],[Q.3]],\"\")","v":""},{"$f":"IF(AND(t_projeto[[#This Row],[FLUXO]]<>0,t_projeto[[#This Row],[FLUXO]]<>\"\"),ROUND(t_projeto[[#This Row],[FLUXO]]/t_projeto[[#This Row],[Luminárias]],0),\"\")","v":""},{"$f":"IF(AND(t_projeto[[#This Row],[Luminárias]]<>0,t_projeto[[#This Row],[Luminárias]]<>\"\"),ROUND(t_projeto[[#This Row],[lm_médio]]/t_projeto[[#This Row],[W_médio]],2),\"\")","v":""}]
[79,{"$f":"_xlfn.XLOOKUP(t_projeto[[#This Row],[cód.]],t_sitio[cód],t_sitio[Trecho],\"\")","v":""},null,null,{"$f":"IF(t_projeto[[#This Row],[T.1]]<>\"\",_xlfn.XLOOKUP(t_projeto[[#This Row],[T.1]],$G$22:$G$26,$H$22:$H$26),\"\")","v":""},null,null,{"$f":"IF(t_projeto[[#This Row],[T.2]]<>\"\",_xlfn.XLOOKUP(t_projeto[[#This Row],[T.2]],$G$22:$G$26,$H$22:$H$26),\"\")","v":""},null,null,{"$f":"IF(t_projeto[[#This Row],[T.3]]<>\"\",_xlfn.XLOOKUP(t_projeto[[#This Row],[T.3]],$G$22:$G$26,$H$22:$H$26),\"\")","v":""},null,{"$f":"t_projeto[[#This Row],[Q.1]]+t_projeto[[#This Row],[Q.2]]+t_projeto[[#This Row],[Q.3]]","v":0},{"$f":"t_projeto[[#This Row],[Q.1]]+t_projeto[[#This Row],[Q.2]]+t_projeto[[#This Row],[Q.3]]","v":0},{"$f":"IF(t_projeto[[#This Row],[Q.1]]<>\"\",SUMIFS(t_reator[p],t_reator[tipo],t_projeto[[#This Row],[T.1]],t_reator[w],t_projeto[[#This Row],[P.1(W)]]),\"\")","v":""},{"$f":"IF(t_projeto[[#This Row],[Q.2]]<>\"\",SUMIFS(t_reator[p],t_reator[tipo],t_projeto[[#This Row],[T.2]],t_reator[w],t_projeto[[#This Row],[P.2(W)]]),\"\")","v":""},{"$f":"IF(t_projeto[[#This Row],[Q.3]]<>\"\",SUMIFS(t_reator[p],t_reator[tipo],t_projeto[[#This Row],[T.3]],t_reator[w],t_projeto[[#This Row],[P.3(W)]]),\"\")","v":""},{"$f":"IF(t_projeto[[#This Row],[Q.1]]<>\"\",IFERROR(IFERROR(D541*(E541+O541)+G541*(H541+P541)+J541*(K541+Q541),D541*(E541+O541)+G541*(H541+P541)),D541*(E541+O541)),\"\")","v":""},{"$f":"IF(t_projeto[[#This Row],[Consumo_W]]<>\"\",ROUND(t_projeto[[#This Row],[Consumo_W]]/t_projeto[[#This Row],[Luminárias]],0),\"\")","v":""},{"$f":"IF(t_projeto[[#This Row],[Q.1]]<>\"\",t_projeto[[#This Row],[Q.1]]*t_projeto[[#This Row],[P.1(W)]]*$C$24,\"\")","v":""},{"$f":"IF(t_projeto[[#This Row],[Q.2]]<>\"\",t_projeto[[#This Row],[Q.2]]*t_projeto[[#This Row],[P.2(W)]]*$C$24,\"\")","v":""},{"$f":"IF(t_projeto[[#This Row],[Q.3]]<>\"\",t_projeto[[#This Row],[Q.3]]*t_projeto[[#This Row],[P.3(W)]]*$C$24,\"\")","v":""},{"$f":"IF(t_projeto[[#This Row],[Trecho]]<>\"\",SUM(t_projeto[[#This Row],[f.1]:[f.3]]),\"\")","v":""},{"$f":"IF(t_projeto[[#This Row],[Trecho]]<>\"\",t_projeto[[#This Row],[Q.1]]+t_projeto[[#This Row],[Q.2]]+t_projeto[[#This Row],[Q.3]],\"\")","v":""},{"$f":"IF(AND(t_projeto[[#This Row],[FLUXO]]<>0,t_projeto[[#This Row],[FLUXO]]<>\"\"),ROUND(t_projeto[[#This Row],[FLUXO]]/t_projeto[[#This Row],[Luminárias]],0),\"\")","v":""},{"$f":"IF(AND(t_projeto[[#This Row],[Luminárias]]<>0,t_projeto[[#This Row],[Luminárias]]<>\"\"),ROUND(t_projeto[[#This Row],[lm_médio]]/t_projeto[[#This Row],[W_médio]],2),\"\")","v":""}]
[80,{"$f":"_xlfn.XLOOKUP(t_projeto[[#This Row],[cód.]],t_sitio[cód],t_sitio[Trecho],\"\")","v":""},null,null,{"$f":"IF(t_projeto[[#This Row],[T.1]]<>\"\",_xlfn.XLOOKUP(t_projeto[[#This Row],[T.1]],$G$22:$G$26,$H$22:$H$26),\"\")","v":""},null,null,{"$f":"IF(t_projeto[[#This Row],[T.2]]<>\"\",_xlfn.XLOOKUP(t_projeto[[#This Row],[T.2]],$G$22:$G$26,$H$22:$H$26),\"\")","v":""},null,null,{"$f":"IF(t_projeto[[#This Row],[T.3]]<>\"\",_xlfn.XLOOKUP(t_projeto[[#This Row],[T.3]],$G$22:$G$26,$H$22:$H$26),\"\")","v":""},null,{"$f":"t_projeto[[#This Row],[Q.1]]+t_projeto[[#This Row],[Q.2]]+t_projeto[[#This Row],[Q.3]]","v":0},{"$f":"t_projeto[[#This Row],[Q.1]]+t_projeto[[#This Row],[Q.2]]+t_projeto[[#This Row],[Q.3]]","v":0},{"$f":"IF(t_projeto[[#This Row],[Q.1]]<>\"\",SUMIFS(t_reator[p],t_reator[tipo],t_projeto[[#This Row],[T.1]],t_reator[w],t_projeto[[#This Row],[P.1(W)]]),\"\")","v":""},{"$f":"IF(t_projeto[[#This Row],[Q.2]]<>\"\",SUMIFS(t_reator[p],t_reator[tipo],t_projeto[[#This Row],[T.2]],t_reator[w],t_projeto[[#This Row],[P.2(W)]]),\"\")","v":""},{"$f":"IF(t_projeto[[#This Row],[Q.3]]<>\"\",SUMIFS(t_reator[p],t_reator[tipo],t_projeto[[#This Row],[T.3]],t_reator[w],t_projeto[[#This Row],[P.3(W)]]),\"\")","v":""},{"$f":"IF(t_projeto[[#This Row],[Q.1]]<>\"\",IFERROR(IFERROR(D542*(E542+O542)+G542*(H542+P542)+J542*(K542+Q542),D542*(E542+O542)+G542*(H542+P542)),D542*(E542+O542)),\"\")","v":""},{"$f":"IF(t_projeto[[#This Row],[Consumo_W]]<>\"\",ROUND(t_projeto[[#This Row],[Consumo_W]]/t_projeto[[#This Row],[Luminárias]],0),\"\")","v":""},{"$f":"IF(t_projeto[[#This Row],[Q.1]]<>\"\",t_projeto[[#This Row],[Q.1]]*t_projeto[[#This Row],[P.1(W)]]*$C$24,\"\")","v":""},{"$f":"IF(t_projeto[[#This Row],[Q.2]]<>\"\",t_projeto[[#This Row],[Q.2]]*t_projeto[[#This Row],[P.2(W)]]*$C$24,\"\")","v":""},{"$f":"IF(t_projeto[[#This Row],[Q.3]]<>\"\",t_projeto[[#This Row],[Q.3]]*t_projeto[[#This Row],[P.3(W)]]*$C$24,\"\")","v":""},{"$f":"IF(t_projeto[[#This Row],[Trecho]]<>\"\",SUM(t_projeto[[#This Row],[f.1]:[f.3]]),\"\")","v":""},{"$f":"IF(t_projeto[[#This Row],[Trecho]]<>\"\",t_projeto[[#This Row],[Q.1]]+t_projeto[[#This Row],[Q.2]]+t_projeto[[#This Row],[Q.3]],\"\")","v":""},{"$f":"IF(AND(t_projeto[[#This Row],[FLUXO]]<>0,t_projeto[[#This Row],[FLUXO]]<>\"\"),ROUND(t_projeto[[#This Row],[FLUXO]]/t_projeto[[#This Row],[Luminárias]],0),\"\")","v":""},{"$f":"IF(AND(t_projeto[[#This Row],[Luminárias]]<>0,t_projeto[[#This Row],[Luminárias]]<>\"\"),ROUND(t_projeto[[#This Row],[lm_médio]]/t_projeto[[#This Row],[W_médio]],2),\"\")","v":""}]
[81,{"$f":"_xlfn.XLOOKUP(t_projeto[[#This Row],[cód.]],t_sitio[cód],t_sitio[Trecho],\"\")","v":""},null,null,{"$f":"IF(t_projeto[[#This Row],[T.1]]<>\"\",_xlfn.XLOOKUP(t_projeto[[#This Row],[T.1]],$G$22:$G$26,$H$22:$H$26),\"\")","v":""},null,null,{"$f":"IF(t_projeto[[#This Row],[T.2]]<>\"\",_xlfn.XLOOKUP(t_projeto[[#This Row],[T.2]],$G$22:$G$26,$H$22:$H$26),\"\")","v":""},null,null,{"$f":"IF(t_projeto[[#This Row],[T.3]]<>\"\",_xlfn.XLOOKUP(t_projeto[[#This Row],[T.3]],$G$22:$G$26,$H$22:$H$26),\"\")","v":""},null,{"$f":"t_projeto[[#This Row],[Q.1]]+t_projeto[[#This Row],[Q.2]]+t_projeto[[#This Row],[Q.3]]","v":0},{"$f":"t_projeto[[#This Row],[Q.1]]+t_projeto[[#This Row],[Q.2]]+t_projeto[[#This Row],[Q.3]]","v":0},{"$f":"IF(t_projeto[[#This Row],[Q.1]]<>\"\",SUMIFS(t_reator[p],t_reator[tipo],t_projeto[[#This Row],[T.1]],t_reator[w],t_projeto[[#This Row],[P.1(W)]]),\"\")","v":""},{"$f":"IF(t_projeto[[#This Row],[Q.2]]<>\"\",SUMIFS(t_reator[p],t_reator[tipo],t_projeto[[#This Row],[T.2]],t_reator[w],t_projeto[[#This Row],[P.2(W)]]),\"\")","v":""},{"$f":"IF(t_projeto[[#This Row],[Q.3]]<>\"\",SUMIFS(t_reator[p],t_reator[tipo],t_projeto[[#This Row],[T.3]],t_reator[w],t_projeto[[#This Row],[P.3(W)]]),\"\")","v":""},{"$f":"IF(t_projeto[[#This Row],[Q.1]]<>\"\",IFERROR(IFERROR(D543*(E543+O543)+G543*(H543+P543)+J543*(K543+Q543),D543*(E543+O543)+G543*(H543+P543)),D543*(E543+O543)),\"\")","v":""},{"$f":"IF(t_projeto[[#This Row],[Consumo_W]]<>\"\",ROUND(t_projeto[[#This Row],[Consumo_W]]/t_projeto[[#This Row],[Luminárias]],0),\"\")","v":""},{"$f":"IF(t_projeto[[#This Row],[Q.1]]<>\"\",t_projeto[[#This Row],[Q.1]]*t_projeto[[#This Row],[P.1(W)]]*$C$24,\"\")","v":""},{"$f":"IF(t_projeto[[#This Row],[Q.2]]<>\"\",t_projeto[[#This Row],[Q.2]]*t_projeto[[#This Row],[P.2(W)]]*$C$24,\"\")","v":""},{"$f":"IF(t_projeto[[#This Row],[Q.3]]<>\"\",t_projeto[[#This Row],[Q.3]]*t_projeto[[#This Row],[P.3(W)]]*$C$24,\"\")","v":""},{"$f":"IF(t_projeto[[#This Row],[Trecho]]<>\"\",SUM(t_projeto[[#This Row],[f.1]:[f.3]]),\"\")","v":""},{"$f":"IF(t_projeto[[#This Row],[Trecho]]<>\"\",t_projeto[[#This Row],[Q.1]]+t_projeto[[#This Row],[Q.2]]+t_projeto[[#This Row],[Q.3]],\"\")","v":""},{"$f":"IF(AND(t_projeto[[#This Row],[FLUXO]]<>0,t_projeto[[#This Row],[FLUXO]]<>\"\"),ROUND(t_projeto[[#This Row],[FLUXO]]/t_projeto[[#This Row],[Luminárias]],0),\"\")","v":""},{"$f":"IF(AND(t_projeto[[#This Row],[Luminárias]]<>0,t_projeto[[#This Row],[Luminárias]]<>\"\"),ROUND(t_projeto[[#This Row],[lm_médio]]/t_projeto[[#This Row],[W_médio]],2),\"\")","v":""}]
[82,{"$f":"_xlfn.XLOOKUP(t_projeto[[#This Row],[cód.]],t_sitio[cód],t_sitio[Trecho],\"\")","v":""},null,null,{"$f":"IF(t_projeto[[#This Row],[T.1]]<>\"\",_xlfn.XLOOKUP(t_projeto[[#This Row],[T.1]],$G$22:$G$26,$H$22:$H$26),\"\")","v":""},null,null,{"$f":"IF(t_projeto[[#This Row],[T.2]]<>\"\",_xlfn.XLOOKUP(t_projeto[[#This Row],[T.2]],$G$22:$G$26,$H$22:$H$26),\"\")","v":""},null,null,{"$f":"IF(t_projeto[[#This Row],[T.3]]<>\"\",_xlfn.XLOOKUP(t_projeto[[#This Row],[T.3]],$G$22:$G$26,$H$22:$H$26),\"\")","v":""},null,{"$f":"t_projeto[[#This Row],[Q.1]]+t_projeto[[#This Row],[Q.2]]+t_projeto[[#This Row],[Q.3]]","v":0},{"$f":"t_projeto[[#This Row],[Q.1]]+t_projeto[[#This Row],[Q.2]]+t_projeto[[#This Row],[Q.3]]","v":0},{"$f":"IF(t_projeto[[#This Row],[Q.1]]<>\"\",SUMIFS(t_reator[p],t_reator[tipo],t_projeto[[#This Row],[T.1]],t_reator[w],t_projeto[[#This Row],[P.1(W)]]),\"\")","v":""},{"$f":"IF(t_projeto[[#This Row],[Q.2]]<>\"\",SUMIFS(t_reator[p],t_reator[tipo],t_projeto[[#This Row],[T.2]],t_reator[w],t_projeto[[#This Row],[P.2(W)]]),\"\")","v":""},{"$f":"IF(t_projeto[[#This Row],[Q.3]]<>\"\",SUMIFS(t_reator[p],t_reator[tipo],t_projeto[[#This Row],[T.3]],t_reator[w],t_projeto[[#This Row],[P.3(W)]]),\"\")","v":""},{"$f":"IF(t_projeto[[#This Row],[Q.1]]<>\"\",IFERROR(IFERROR(D544*(E544+O544)+G544*(H544+P544)+J544*(K544+Q544),D544*(E544+O544)+G544*(H544+P544)),D544*(E544+O544)),\"\")","v":""},{"$f":"IF(t_projeto[[#This Row],[Consumo_W]]<>\"\",ROUND(t_projeto[[#This Row],[Consumo_W]]/t_projeto[[#This Row],[Luminárias]],0),\"\")","v":""},{"$f":"IF(t_projeto[[#This Row],[Q.1]]<>\"\",t_projeto[[#This Row],[Q.1]]*t_projeto[[#This Row],[P.1(W)]]*$C$24,\"\")","v":""},{"$f":"IF(t_projeto[[#This Row],[Q.2]]<>\"\",t_projeto[[#This Row],[Q.2]]*t_projeto[[#This Row],[P.2(W)]]*$C$24,\"\")","v":""},{"$f":"IF(t_projeto[[#This Row],[Q.3]]<>\"\",t_projeto[[#This Row],[Q.3]]*t_projeto[[#This Row],[P.3(W)]]*$C$24,\"\")","v":""},{"$f":"IF(t_projeto[[#This Row],[Trecho]]<>\"\",SUM(t_projeto[[#This Row],[f.1]:[f.3]]),\"\")","v":""},{"$f":"IF(t_projeto[[#This Row],[Trecho]]<>\"\",t_projeto[[#This Row],[Q.1]]+t_projeto[[#This Row],[Q.2]]+t_projeto[[#This Row],[Q.3]],\"\")","v":""},{"$f":"IF(AND(t_projeto[[#This Row],[FLUXO]]<>0,t_projeto[[#This Row],[FLUXO]]<>\"\"),ROUND(t_projeto[[#This Row],[FLUXO]]/t_projeto[[#This Row],[Luminárias]],0),\"\")","v":""},{"$f":"IF(AND(t_projeto[[#This Row],[Luminárias]]<>0,t_projeto[[#This Row],[Luminárias]]<>\"\"),ROUND(t_projeto[[#This Row],[lm_médio]]/t_projeto[[#This Row],[W_médio]],2),\"\")","v":""}]
[83,{"$f":"_xlfn.XLOOKUP(t_projeto[[#This Row],[cód.]],t_sitio[cód],t_sitio[Trecho],\"\")","v":""},null,null,{"$f":"IF(t_projeto[[#This Row],[T.1]]<>\"\",_xlfn.XLOOKUP(t_projeto[[#This Row],[T.1]],$G$22:$G$26,$H$22:$H$26),\"\")","v":""},null,null,{"$f":"IF(t_projeto[[#This Row],[T.2]]<>\"\",_xlfn.XLOOKUP(t_projeto[[#This Row],[T.2]],$G$22:$G$26,$H$22:$H$26),\"\")","v":""},null,null,{"$f":"IF(t_projeto[[#This Row],[T.3]]<>\"\",_xlfn.XLOOKUP(t_projeto[[#This Row],[T.3]],$G$22:$G$26,$H$22:$H$26),\"\")","v":""},null,{"$f":"t_projeto[[#This Row],[Q.1]]+t_projeto[[#This Row],[Q.2]]+t_projeto[[#This Row],[Q.3]]","v":0},{"$f":"t_projeto[[#This Row],[Q.1]]+t_projeto[[#This Row],[Q.2]]+t_projeto[[#This Row],[Q.3]]","v":0},{"$f":"IF(t_projeto[[#This Row],[Q.1]]<>\"\",SUMIFS(t_reator[p],t_reator[tipo],t_projeto[[#This Row],[T.1]],t_reator[w],t_projeto[[#This Row],[P.1(W)]]),\"\")","v":""},{"$f":"IF(t_projeto[[#This Row],[Q.2]]<>\"\",SUMIFS(t_reator[p],t_reator[tipo],t_projeto[[#This Row],[T.2]],t_reator[w],t_projeto[[#This Row],[P.2(W)]]),\"\")","v":""},{"$f":"IF(t_projeto[[#This Row],[Q.3]]<>\"\",SUMIFS(t_reator[p],t_reator[tipo],t_projeto[[#This Row],[T.3]],t_reator[w],t_projeto[[#This Row],[P.3(W)]]),\"\")","v":""},{"$f":"IF(t_projeto[[#This Row],[Q.1]]<>\"\",IFERROR(IFERROR(D545*(E545+O545)+G545*(H545+P545)+J545*(K545+Q545),D545*(E545+O545)+G545*(H545+P545)),D545*(E545+O545)),\"\")","v":""},{"$f":"IF(t_projeto[[#This Row],[Consumo_W]]<>\"\",ROUND(t_projeto[[#This Row],[Consumo_W]]/t_projeto[[#This Row],[Luminárias]],0),\"\")","v":""},{"$f":"IF(t_projeto[[#This Row],[Q.1]]<>\"\",t_projeto[[#This Row],[Q.1]]*t_projeto[[#This Row],[P.1(W)]]*$C$24,\"\")","v":""},{"$f":"IF(t_projeto[[#This Row],[Q.2]]<>\"\",t_projeto[[#This Row],[Q.2]]*t_projeto[[#This Row],[P.2(W)]]*$C$24,\"\")","v":""},{"$f":"IF(t_projeto[[#This Row],[Q.3]]<>\"\",t_projeto[[#This Row],[Q.3]]*t_projeto[[#This Row],[P.3(W)]]*$C$24,\"\")","v":""},{"$f":"IF(t_projeto[[#This Row],[Trecho]]<>\"\",SUM(t_projeto[[#This Row],[f.1]:[f.3]]),\"\")","v":""},{"$f":"IF(t_projeto[[#This Row],[Trecho]]<>\"\",t_projeto[[#This Row],[Q.1]]+t_projeto[[#This Row],[Q.2]]+t_projeto[[#This Row],[Q.3]],\"\")","v":""},{"$f":"IF(AND(t_projeto[[#This Row],[FLUXO]]<>0,t_projeto[[#This Row],[FLUXO]]<>\"\"),ROUND(t_projeto[[#This Row],[FLUXO]]/t_projeto[[#This Row],[Luminárias]],0),\"\")","v":""},{"$f":"IF(AND(t_projeto[[#This Row],[Luminárias]]<>0,t_projeto[[#This Row],[Luminárias]]<>\"\"),ROUND(t_projeto[[#This Row],[lm_médio]]/t_projeto[[#This Row],[W_médio]],2),\"\")","v":""}]
[84,{"$f":"_xlfn.XLOOKUP(t_projeto[[#This Row],[cód.]],t_sitio[cód],t_sitio[Trecho],\"\")","v":""},null,null,{"$f":"IF(t_projeto[[#This Row],[T.1]]<>\"\",_xlfn.XLOOKUP(t_projeto[[#This Row],[T.1]],$G$22:$G$26,$H$22:$H$26),\"\")","v":""},null,null,{"$f":"IF(t_projeto[[#This Row],[T.2]]<>\"\",_xlfn.XLOOKUP(t_projeto[[#This Row],[T.2]],$G$22:$G$26,$H$22:$H$26),\"\")","v":""},null,null,{"$f":"IF(t_projeto[[#This Row],[T.3]]<>\"\",_xlfn.XLOOKUP(t_projeto[[#This Row],[T.3]],$G$22:$G$26,$H$22:$H$26),\"\")","v":""},null,{"$f":"t_projeto[[#This Row],[Q.1]]+t_projeto[[#This Row],[Q.2]]+t_projeto[[#This Row],[Q.3]]","v":0},{"$f":"t_projeto[[#This Row],[Q.1]]+t_projeto[[#This Row],[Q.2]]+t_projeto[[#This Row],[Q.3]]","v":0},{"$f":"IF(t_projeto[[#This Row],[Q.1]]<>\"\",SUMIFS(t_reator[p],t_reator[tipo],t_projeto[[#This Row],[T.1]],t_reator[w],t_projeto[[#This Row],[P.1(W)]]),\"\")","v":""},{"$f":"IF(t_projeto[[#This Row],[Q.2]]<>\"\",SUMIFS(t_reator[p],t_reator[tipo],t_projeto[[#This Row],[T.2]],t_reator[w],t_projeto[[#This Row],[P.2(W)]]),\"\")","v":""},{"$f":"IF(t_projeto[[#This Row],[Q.3]]<>\"\",SUMIFS(t_reator[p],t_reator[tipo],t_projeto[[#This Row],[T.3]],t_reator[w],t_projeto[[#This Row],[P.3(W)]]),\"\")","v":""},{"$f":"IF(t_projeto[[#This Row],[Q.1]]<>\"\",IFERROR(IFERROR(D546*(E546+O546)+G546*(H546+P546)+J546*(K546+Q546),D546*(E546+O546)+G546*(H546+P546)),D546*(E546+O546)),\"\")","v":""},{"$f":"IF(t_projeto[[#This Row],[Consumo_W]]<>\"\",ROUND(t_projeto[[#This Row],[Consumo_W]]/t_projeto[[#This Row],[Luminárias]],0),\"\")","v":""},{"$f":"IF(t_projeto[[#This Row],[Q.1]]<>\"\",t_projeto[[#This Row],[Q.1]]*t_projeto[[#This Row],[P.1(W)]]*$C$24,\"\")","v":""},{"$f":"IF(t_projeto[[#This Row],[Q.2]]<>\"\",t_projeto[[#This Row],[Q.2]]*t_projeto[[#This Row],[P.2(W)]]*$C$24,\"\")","v":""},{"$f":"IF(t_projeto[[#This Row],[Q.3]]<>\"\",t_projeto[[#This Row],[Q.3]]*t_projeto[[#This Row],[P.3(W)]]*$C$24,\"\")","v":""},{"$f":"IF(t_projeto[[#This Row],[Trecho]]<>\"\",SUM(t_projeto[[#This Row],[f.1]:[f.3]]),\"\")","v":""},{"$f":"IF(t_projeto[[#This Row],[Trecho]]<>\"\",t_projeto[[#This Row],[Q.1]]+t_projeto[[#This Row],[Q.2]]+t_projeto[[#This Row],[Q.3]],\"\")","v":""},{"$f":"IF(AND(t_projeto[[#This Row],[FLUXO]]<>0,t_projeto[[#This Row],[FLUXO]]<>\"\"),ROUND(t_projeto[[#This Row],[FLUXO]]/t_projeto[[#This Row],[Luminárias]],0),\"\")","v":""},{"$f":"IF(AND(t_projeto[[#This Row],[Luminárias]]<>0,t_projeto[[#This Row],[Luminárias]]<>\"\"),ROUND(t_projeto[[#This Row],[lm_médio]]/t_projeto[[#This Row],[W_médio]],2),\"\")","v":""}]
[85,{"$f":"_xlfn.XLOOKUP(t_projeto[[#This Row],[cód.]],t_sitio[cód],t_sitio[Trecho],\"\")","v":""},null,null,{"$f":"IF(t_projeto[[#This Row],[T.1]]<>\"\",_xlfn.XLOOKUP(t_projeto[[#This Row],[T.1]],$G$22:$G$26,$H$22:$H$26),\"\")","v":""},null,null,{"$f":"IF(t_projeto[[#This Row],[T.2]]<>\"\",_xlfn.XLOOKUP(t_projeto[[#This Row],[T.2]],$G$22:$G$26,$H$22:$H$26),\"\")","v":""},null,null,{"$f":"IF(t_projeto[[#This Row],[T.3]]<>\"\",_xlfn.XLOOKUP(t_projeto[[#This Row],[T.3]],$G$22:$G$26,$H$22:$H$26),\"\")","v":""},null,{"$f":"t_projeto[[#This Row],[Q.1]]+t_projeto[[#This Row],[Q.2]]+t_projeto[[#This Row],[Q.3]]","v":0},{"$f":"t_projeto[[#This Row],[Q.1]]+t_projeto[[#This Row],[Q.2]]+t_projeto[[#This Row],[Q.3]]","v":0},{"$f":"IF(t_projeto[[#This Row],[Q.1]]<>\"\",SUMIFS(t_reator[p],t_reator[tipo],t_projeto[[#This Row],[T.1]],t_reator[w],t_projeto[[#This Row],[P.1(W)]]),\"\")","v":""},{"$f":"IF(t_projeto[[#This Row],[Q.2]]<>\"\",SUMIFS(t_reator[p],t_reator[tipo],t_projeto[[#This Row],[T.2]],t_reator[w],t_projeto[[#This Row],[P.2(W)]]),\"\")","v":""},{"$f":"IF(t_projeto[[#This Row],[Q.3]]<>\"\",SUMIFS(t_reator[p],t_reator[tipo],t_projeto[[#This Row],[T.3]],t_reator[w],t_projeto[[#This Row],[P.3(W)]]),\"\")","v":""},{"$f":"IF(t_projeto[[#This Row],[Q.1]]<>\"\",IFERROR(IFERROR(D547*(E547+O547)+G547*(H547+P547)+J547*(K547+Q547),D547*(E547+O547)+G547*(H547+P547)),D547*(E547+O547)),\"\")","v":""},{"$f":"IF(t_projeto[[#This Row],[Consumo_W]]<>\"\",ROUND(t_projeto[[#This Row],[Consumo_W]]/t_projeto[[#This Row],[Luminárias]],0),\"\")","v":""},{"$f":"IF(t_projeto[[#This Row],[Q.1]]<>\"\",t_projeto[[#This Row],[Q.1]]*t_projeto[[#This Row],[P.1(W)]]*$C$24,\"\")","v":""},{"$f":"IF(t_projeto[[#This Row],[Q.2]]<>\"\",t_projeto[[#This Row],[Q.2]]*t_projeto[[#This Row],[P.2(W)]]*$C$24,\"\")","v":""},{"$f":"IF(t_projeto[[#This Row],[Q.3]]<>\"\",t_projeto[[#This Row],[Q.3]]*t_projeto[[#This Row],[P.3(W)]]*$C$24,\"\")","v":""},{"$f":"IF(t_projeto[[#This Row],[Trecho]]<>\"\",SUM(t_projeto[[#This Row],[f.1]:[f.3]]),\"\")","v":""},{"$f":"IF(t_projeto[[#This Row],[Trecho]]<>\"\",t_projeto[[#This Row],[Q.1]]+t_projeto[[#This Row],[Q.2]]+t_projeto[[#This Row],[Q.3]],\"\")","v":""},{"$f":"IF(AND(t_projeto[[#This Row],[FLUXO]]<>0,t_projeto[[#This Row],[FLUXO]]<>\"\"),ROUND(t_projeto[[#This Row],[FLUXO]]/t_projeto[[#This Row],[Luminárias]],0),\"\")","v":""},{"$f":"IF(AND(t_projeto[[#This Row],[Luminárias]]<>0,t_projeto[[#This Row],[Luminárias]]<>\"\"),ROUND(t_projeto[[#This Row],[lm_médio]]/t_projeto[[#This Row],[W_médio]],2),\"\")","v":""}]
[86,{"$f":"_xlfn.XLOOKUP(t_projeto[[#This Row],[cód.]],t_sitio[cód],t_sitio[Trecho],\"\")","v":""},null,null,{"$f":"IF(t_projeto[[#This Row],[T.1]]<>\"\",_xlfn.XLOOKUP(t_projeto[[#This Row],[T.1]],$G$22:$G$26,$H$22:$H$26),\"\")","v":""},null,null,{"$f":"IF(t_projeto[[#This Row],[T.2]]<>\"\",_xlfn.XLOOKUP(t_projeto[[#This Row],[T.2]],$G$22:$G$26,$H$22:$H$26),\"\")","v":""},null,null,{"$f":"IF(t_projeto[[#This Row],[T.3]]<>\"\",_xlfn.XLOOKUP(t_projeto[[#This Row],[T.3]],$G$22:$G$26,$H$22:$H$26),\"\")","v":""},null,{"$f":"t_projeto[[#This Row],[Q.1]]+t_projeto[[#This Row],[Q.2]]+t_projeto[[#This Row],[Q.3]]","v":0},{"$f":"t_projeto[[#This Row],[Q.1]]+t_projeto[[#This Row],[Q.2]]+t_projeto[[#This Row],[Q.3]]","v":0},{"$f":"IF(t_projeto[[#This Row],[Q.1]]<>\"\",SUMIFS(t_reator[p],t_reator[tipo],t_projeto[[#This Row],[T.1]],t_reator[w],t_projeto[[#This Row],[P.1(W)]]),\"\")","v":""},{"$f":"IF(t_projeto[[#This Row],[Q.2]]<>\"\",SUMIFS(t_reator[p],t_reator[tipo],t_projeto[[#This Row],[T.2]],t_reator[w],t_projeto[[#This Row],[P.2(W)]]),\"\")","v":""},{"$f":"IF(t_projeto[[#This Row],[Q.3]]<>\"\",SUMIFS(t_reator[p],t_reator[tipo],t_projeto[[#This Row],[T.3]],t_reator[w],t_projeto[[#This Row],[P.3(W)]]),\"\")","v":""},{"$f":"IF(t_projeto[[#This Row],[Q.1]]<>\"\",IFERROR(IFERROR(D548*(E548+O548)+G548*(H548+P548)+J548*(K548+Q548),D548*(E548+O548)+G548*(H548+P548)),D548*(E548+O548)),\"\")","v":""},{"$f":"IF(t_projeto[[#This Row],[Consumo_W]]<>\"\",ROUND(t_projeto[[#This Row],[Consumo_W]]/t_projeto[[#This Row],[Luminárias]],0),\"\")","v":""},{"$f":"IF(t_projeto[[#This Row],[Q.1]]<>\"\",t_projeto[[#This Row],[Q.1]]*t_projeto[[#This Row],[P.1(W)]]*$C$24,\"\")","v":""},{"$f":"IF(t_projeto[[#This Row],[Q.2]]<>\"\",t_projeto[[#This Row],[Q.2]]*t_projeto[[#This Row],[P.2(W)]]*$C$24,\"\")","v":""},{"$f":"IF(t_projeto[[#This Row],[Q.3]]<>\"\",t_projeto[[#This Row],[Q.3]]*t_projeto[[#This Row],[P.3(W)]]*$C$24,\"\")","v":""},{"$f":"IF(t_projeto[[#This Row],[Trecho]]<>\"\",SUM(t_projeto[[#This Row],[f.1]:[f.3]]),\"\")","v":""},{"$f":"IF(t_projeto[[#This Row],[Trecho]]<>\"\",t_projeto[[#This Row],[Q.1]]+t_projeto[[#This Row],[Q.2]]+t_projeto[[#This Row],[Q.3]],\"\")","v":""},{"$f":"IF(AND(t_projeto[[#This Row],[FLUXO]]<>0,t_projeto[[#This Row],[FLUXO]]<>\"\"),ROUND(t_projeto[[#This Row],[FLUXO]]/t_projeto[[#This Row],[Luminárias]],0),\"\")","v":""},{"$f":"IF(AND(t_projeto[[#This Row],[Luminárias]]<>0,t_projeto[[#This Row],[Luminárias]]<>\"\"),ROUND(t_projeto[[#This Row],[lm_médio]]/t_projeto[[#This Row],[W_médio]],2),\"\")","v":""}]
[87,{"$f":"_xlfn.XLOOKUP(t_projeto[[#This Row],[cód.]],t_sitio[cód],t_sitio[Trecho],\"\")","v":""},null,null,{"$f":"IF(t_projeto[[#This Row],[T.1]]<>\"\",_xlfn.XLOOKUP(t_projeto[[#This Row],[T.1]],$G$22:$G$26,$H$22:$H$26),\"\")","v":""},null,null,{"$f":"IF(t_projeto[[#This Row],[T.2]]<>\"\",_xlfn.XLOOKUP(t_projeto[[#This Row],[T.2]],$G$22:$G$26,$H$22:$H$26),\"\")","v":""},null,null,{"$f":"IF(t_projeto[[#This Row],[T.3]]<>\"\",_xlfn.XLOOKUP(t_projeto[[#This Row],[T.3]],$G$22:$G$26,$H$22:$H$26),\"\")","v":""},null,{"$f":"t_projeto[[#This Row],[Q.1]]+t_projeto[[#This Row],[Q.2]]+t_projeto[[#This Row],[Q.3]]","v":0},{"$f":"t_projeto[[#This Row],[Q.1]]+t_projeto[[#This Row],[Q.2]]+t_projeto[[#This Row],[Q.3]]","v":0},{"$f":"IF(t_projeto[[#This Row],[Q.1]]<>\"\",SUMIFS(t_reator[p],t_reator[tipo],t_projeto[[#This Row],[T.1]],t_reator[w],t_projeto[[#This Row],[P.1(W)]]),\"\")","v":""},{"$f":"IF(t_projeto[[#This Row],[Q.2]]<>\"\",SUMIFS(t_reator[p],t_reator[tipo],t_projeto[[#This Row],[T.2]],t_reator[w],t_projeto[[#This Row],[P.2(W)]]),\"\")","v":""},{"$f":"IF(t_projeto[[#This Row],[Q.3]]<>\"\",SUMIFS(t_reator[p],t_reator[tipo],t_projeto[[#This Row],[T.3]],t_reator[w],t_projeto[[#This Row],[P.3(W)]]),\"\")","v":""},{"$f":"IF(t_projeto[[#This Row],[Q.1]]<>\"\",IFERROR(IFERROR(D549*(E549+O549)+G549*(H549+P549)+J549*(K549+Q549),D549*(E549+O549)+G549*(H549+P549)),D549*(E549+O549)),\"\")","v":""},{"$f":"IF(t_projeto[[#This Row],[Consumo_W]]<>\"\",ROUND(t_projeto[[#This Row],[Consumo_W]]/t_projeto[[#This Row],[Luminárias]],0),\"\")","v":""},{"$f":"IF(t_projeto[[#This Row],[Q.1]]<>\"\",t_projeto[[#This Row],[Q.1]]*t_projeto[[#This Row],[P.1(W)]]*$C$24,\"\")","v":""},{"$f":"IF(t_projeto[[#This Row],[Q.2]]<>\"\",t_projeto[[#This Row],[Q.2]]*t_projeto[[#This Row],[P.2(W)]]*$C$24,\"\")","v":""},{"$f":"IF(t_projeto[[#This Row],[Q.3]]<>\"\",t_projeto[[#This Row],[Q.3]]*t_projeto[[#This Row],[P.3(W)]]*$C$24,\"\")","v":""},{"$f":"IF(t_projeto[[#This Row],[Trecho]]<>\"\",SUM(t_projeto[[#This Row],[f.1]:[f.3]]),\"\")","v":""},{"$f":"IF(t_projeto[[#This Row],[Trecho]]<>\"\",t_projeto[[#This Row],[Q.1]]+t_projeto[[#This Row],[Q.2]]+t_projeto[[#This Row],[Q.3]],\"\")","v":""},{"$f":"IF(AND(t_projeto[[#This Row],[FLUXO]]<>0,t_projeto[[#This Row],[FLUXO]]<>\"\"),ROUND(t_projeto[[#This Row],[FLUXO]]/t_projeto[[#This Row],[Luminárias]],0),\"\")","v":""},{"$f":"IF(AND(t_projeto[[#This Row],[Luminárias]]<>0,t_projeto[[#This Row],[Luminárias]]<>\"\"),ROUND(t_projeto[[#This Row],[lm_médio]]/t_projeto[[#This Row],[W_médio]],2),\"\")","v":""}]
[88,{"$f":"_xlfn.XLOOKUP(t_projeto[[#This Row],[cód.]],t_sitio[cód],t_sitio[Trecho],\"\")","v":""},null,null,{"$f":"IF(t_projeto[[#This Row],[T.1]]<>\"\",_xlfn.XLOOKUP(t_projeto[[#This Row],[T.1]],$G$22:$G$26,$H$22:$H$26),\"\")","v":""},null,null,{"$f":"IF(t_projeto[[#This Row],[T.2]]<>\"\",_xlfn.XLOOKUP(t_projeto[[#This Row],[T.2]],$G$22:$G$26,$H$22:$H$26),\"\")","v":""},null,null,{"$f":"IF(t_projeto[[#This Row],[T.3]]<>\"\",_xlfn.XLOOKUP(t_projeto[[#This Row],[T.3]],$G$22:$G$26,$H$22:$H$26),\"\")","v":""},null,{"$f":"t_projeto[[#This Row],[Q.1]]+t_projeto[[#This Row],[Q.2]]+t_projeto[[#This Row],[Q.3]]","v":0},{"$f":"t_projeto[[#This Row],[Q.1]]+t_projeto[[#This Row],[Q.2]]+t_projeto[[#This Row],[Q.3]]","v":0},{"$f":"IF(t_projeto[[#This Row],[Q.1]]<>\"\",SUMIFS(t_reator[p],t_reator[tipo],t_projeto[[#This Row],[T.1]],t_reator[w],t_projeto[[#This Row],[P.1(W)]]),\"\")","v":""},{"$f":"IF(t_projeto[[#This Row],[Q.2]]<>\"\",SUMIFS(t_reator[p],t_reator[tipo],t_projeto[[#This Row],[T.2]],t_reator[w],t_projeto[[#This Row],[P.2(W)]]),\"\")","v":""},{"$f":"IF(t_projeto[[#This Row],[Q.3]]<>\"\",SUMIFS(t_reator[p],t_reator[tipo],t_projeto[[#This Row],[T.3]],t_reator[w],t_projeto[[#This Row],[P.3(W)]]),\"\")","v":""},{"$f":"IF(t_projeto[[#This Row],[Q.1]]<>\"\",IFERROR(IFERROR(D550*(E550+O550)+G550*(H550+P550)+J550*(K550+Q550),D550*(E550+O550)+G550*(H550+P550)),D550*(E550+O550)),\"\")","v":""},{"$f":"IF(t_projeto[[#This Row],[Consumo_W]]<>\"\",ROUND(t_projeto[[#This Row],[Consumo_W]]/t_projeto[[#This Row],[Luminárias]],0),\"\")","v":""},{"$f":"IF(t_projeto[[#This Row],[Q.1]]<>\"\",t_projeto[[#This Row],[Q.1]]*t_projeto[[#This Row],[P.1(W)]]*$C$24,\"\")","v":""},{"$f":"IF(t_projeto[[#This Row],[Q.2]]<>\"\",t_projeto[[#This Row],[Q.2]]*t_projeto[[#This Row],[P.2(W)]]*$C$24,\"\")","v":""},{"$f":"IF(t_projeto[[#This Row],[Q.3]]<>\"\",t_projeto[[#This Row],[Q.3]]*t_projeto[[#This Row],[P.3(W)]]*$C$24,\"\")","v":""},{"$f":"IF(t_projeto[[#This Row],[Trecho]]<>\"\",SUM(t_projeto[[#This Row],[f.1]:[f.3]]),\"\")","v":""},{"$f":"IF(t_projeto[[#This Row],[Trecho]]<>\"\",t_projeto[[#This Row],[Q.1]]+t_projeto[[#This Row],[Q.2]]+t_projeto[[#This Row],[Q.3]],\"\")","v":""},{"$f":"IF(AND(t_projeto[[#This Row],[FLUXO]]<>0,t_projeto[[#This Row],[FLUXO]]<>\"\"),ROUND(t_projeto[[#This Row],[FLUXO]]/t_projeto[[#This Row],[Luminárias]],0),\"\")","v":""},{"$f":"IF(AND(t_projeto[[#This Row],[Luminárias]]<>0,t_projeto[[#This Row],[Luminárias]]<>\"\"),ROUND(t_projeto[[#This Row],[lm_médio]]/t_projeto[[#This Row],[W_médio]],2),\"\")","v":""}]
[89,{"$f":"_xlfn.XLOOKUP(t_projeto[[#This Row],[cód.]],t_sitio[cód],t_sitio[Trecho],\"\")","v":""},null,null,{"$f":"IF(t_projeto[[#This Row],[T.1]]<>\"\",_xlfn.XLOOKUP(t_projeto[[#This Row],[T.1]],$G$22:$G$26,$H$22:$H$26),\"\")","v":""},null,null,{"$f":"IF(t_projeto[[#This Row],[T.2]]<>\"\",_xlfn.XLOOKUP(t_projeto[[#This Row],[T.2]],$G$22:$G$26,$H$22:$H$26),\"\")","v":""},null,null,{"$f":"IF(t_projeto[[#This Row],[T.3]]<>\"\",_xlfn.XLOOKUP(t_projeto[[#This Row],[T.3]],$G$22:$G$26,$H$22:$H$26),\"\")","v":""},null,{"$f":"t_projeto[[#This Row],[Q.1]]+t_projeto[[#This Row],[Q.2]]+t_projeto[[#This Row],[Q.3]]","v":0},{"$f":"t_projeto[[#This Row],[Q.1]]+t_projeto[[#This Row],[Q.2]]+t_projeto[[#This Row],[Q.3]]","v":0},{"$f":"IF(t_projeto[[#This Row],[Q.1]]<>\"\",SUMIFS(t_reator[p],t_reator[tipo],t_projeto[[#This Row],[T.1]],t_reator[w],t_projeto[[#This Row],[P.1(W)]]),\"\")","v":""},{"$f":"IF(t_projeto[[#This Row],[Q.2]]<>\"\",SUMIFS(t_reator[p],t_reator[tipo],t_projeto[[#This Row],[T.2]],t_reator[w],t_projeto[[#This Row],[P.2(W)]]),\"\")","v":""},{"$f":"IF(t_projeto[[#This Row],[Q.3]]<>\"\",SUMIFS(t_reator[p],t_reator[tipo],t_projeto[[#This Row],[T.3]],t_reator[w],t_projeto[[#This Row],[P.3(W)]]),\"\")","v":""},{"$f":"IF(t_projeto[[#This Row],[Q.1]]<>\"\",IFERROR(IFERROR(D551*(E551+O551)+G551*(H551+P551)+J551*(K551+Q551),D551*(E551+O551)+G551*(H551+P551)),D551*(E551+O551)),\"\")","v":""},{"$f":"IF(t_projeto[[#This Row],[Consumo_W]]<>\"\",ROUND(t_projeto[[#This Row],[Consumo_W]]/t_projeto[[#This Row],[Luminárias]],0),\"\")","v":""},{"$f":"IF(t_projeto[[#This Row],[Q.1]]<>\"\",t_projeto[[#This Row],[Q.1]]*t_projeto[[#This Row],[P.1(W)]]*$C$24,\"\")","v":""},{"$f":"IF(t_projeto[[#This Row],[Q.2]]<>\"\",t_projeto[[#This Row],[Q.2]]*t_projeto[[#This Row],[P.2(W)]]*$C$24,\"\")","v":""},{"$f":"IF(t_projeto[[#This Row],[Q.3]]<>\"\",t_projeto[[#This Row],[Q.3]]*t_projeto[[#This Row],[P.3(W)]]*$C$24,\"\")","v":""},{"$f":"IF(t_projeto[[#This Row],[Trecho]]<>\"\",SUM(t_projeto[[#This Row],[f.1]:[f.3]]),\"\")","v":""},{"$f":"IF(t_projeto[[#This Row],[Trecho]]<>\"\",t_projeto[[#This Row],[Q.1]]+t_projeto[[#This Row],[Q.2]]+t_projeto[[#This Row],[Q.3]],\"\")","v":""},{"$f":"IF(AND(t_projeto[[#This Row],[FLUXO]]<>0,t_projeto[[#This Row],[FLUXO]]<>\"\"),ROUND(t_projeto[[#This Row],[FLUXO]]/t_projeto[[#This Row],[Luminárias]],0),\"\")","v":""},{"$f":"IF(AND(t_projeto[[#This Row],[Luminárias]]<>0,t_projeto[[#This Row],[Luminárias]]<>\"\"),ROUND(t_projeto[[#This Row],[lm_médio]]/t_projeto[[#This Row],[W_médio]],2),\"\")","v":""}]
[90,{"$f":"_xlfn.XLOOKUP(t_projeto[[#This Row],[cód.]],t_sitio[cód],t_sitio[Trecho],\"\")","v":""},null,null,{"$f":"IF(t_projeto[[#This Row],[T.1]]<>\"\",_xlfn.XLOOKUP(t_projeto[[#This Row],[T.1]],$G$22:$G$26,$H$22:$H$26),\"\")","v":""},null,null,{"$f":"IF(t_projeto[[#This Row],[T.2]]<>\"\",_xlfn.XLOOKUP(t_projeto[[#This Row],[T.2]],$G$22:$G$26,$H$22:$H$26),\"\")","v":""},null,null,{"$f":"IF(t_projeto[[#This Row],[T.3]]<>\"\",_xlfn.XLOOKUP(t_projeto[[#This Row],[T.3]],$G$22:$G$26,$H$22:$H$26),\"\")","v":""},null,{"$f":"t_projeto[[#This Row],[Q.1]]+t_projeto[[#This Row],[Q.2]]+t_projeto[[#This Row],[Q.3]]","v":0},{"$f":"t_projeto[[#This Row],[Q.1]]+t_projeto[[#This Row],[Q.2]]+t_projeto[[#This Row],[Q.3]]","v":0},{"$f":"IF(t_projeto[[#This Row],[Q.1]]<>\"\",SUMIFS(t_reator[p],t_reator[tipo],t_projeto[[#This Row],[T.1]],t_reator[w],t_projeto[[#This Row],[P.1(W)]]),\"\")","v":""},{"$f":"IF(t_projeto[[#This Row],[Q.2]]<>\"\",SUMIFS(t_reator[p],t_reator[tipo],t_projeto[[#This Row],[T.2]],t_reator[w],t_projeto[[#This Row],[P.2(W)]]),\"\")","v":""},{"$f":"IF(t_projeto[[#This Row],[Q.3]]<>\"\",SUMIFS(t_reator[p],t_reator[tipo],t_projeto[[#This Row],[T.3]],t_reator[w],t_projeto[[#This Row],[P.3(W)]]),\"\")","v":""},{"$f":"IF(t_projeto[[#This Row],[Q.1]]<>\"\",IFERROR(IFERROR(D552*(E552+O552)+G552*(H552+P552)+J552*(K552+Q552),D552*(E552+O552)+G552*(H552+P552)),D552*(E552+O552)),\"\")","v":""},{"$f":"IF(t_projeto[[#This Row],[Consumo_W]]<>\"\",ROUND(t_projeto[[#This Row],[Consumo_W]]/t_projeto[[#This Row],[Luminárias]],0),\"\")","v":""},{"$f":"IF(t_projeto[[#This Row],[Q.1]]<>\"\",t_projeto[[#This Row],[Q.1]]*t_projeto[[#This Row],[P.1(W)]]*$C$24,\"\")","v":""},{"$f":"IF(t_projeto[[#This Row],[Q.2]]<>\"\",t_projeto[[#This Row],[Q.2]]*t_projeto[[#This Row],[P.2(W)]]*$C$24,\"\")","v":""},{"$f":"IF(t_projeto[[#This Row],[Q.3]]<>\"\",t_projeto[[#This Row],[Q.3]]*t_projeto[[#This Row],[P.3(W)]]*$C$24,\"\")","v":""},{"$f":"IF(t_projeto[[#This Row],[Trecho]]<>\"\",SUM(t_projeto[[#This Row],[f.1]:[f.3]]),\"\")","v":""},{"$f":"IF(t_projeto[[#This Row],[Trecho]]<>\"\",t_projeto[[#This Row],[Q.1]]+t_projeto[[#This Row],[Q.2]]+t_projeto[[#This Row],[Q.3]],\"\")","v":""},{"$f":"IF(AND(t_projeto[[#This Row],[FLUXO]]<>0,t_projeto[[#This Row],[FLUXO]]<>\"\"),ROUND(t_projeto[[#This Row],[FLUXO]]/t_projeto[[#This Row],[Luminárias]],0),\"\")","v":""},{"$f":"IF(AND(t_projeto[[#This Row],[Luminárias]]<>0,t_projeto[[#This Row],[Luminárias]]<>\"\"),ROUND(t_projeto[[#This Row],[lm_médio]]/t_projeto[[#This Row],[W_médio]],2),\"\")","v":""}]
[91,{"$f":"_xlfn.XLOOKUP(t_projeto[[#This Row],[cód.]],t_sitio[cód],t_sitio[Trecho],\"\")","v":""},null,null,{"$f":"IF(t_projeto[[#This Row],[T.1]]<>\"\",_xlfn.XLOOKUP(t_projeto[[#This Row],[T.1]],$G$22:$G$26,$H$22:$H$26),\"\")","v":""},null,null,{"$f":"IF(t_projeto[[#This Row],[T.2]]<>\"\",_xlfn.XLOOKUP(t_projeto[[#This Row],[T.2]],$G$22:$G$26,$H$22:$H$26),\"\")","v":""},null,null,{"$f":"IF(t_projeto[[#This Row],[T.3]]<>\"\",_xlfn.XLOOKUP(t_projeto[[#This Row],[T.3]],$G$22:$G$26,$H$22:$H$26),\"\")","v":""},null,{"$f":"t_projeto[[#This Row],[Q.1]]+t_projeto[[#This Row],[Q.2]]+t_projeto[[#This Row],[Q.3]]","v":0},{"$f":"t_projeto[[#This Row],[Q.1]]+t_projeto[[#This Row],[Q.2]]+t_projeto[[#This Row],[Q.3]]","v":0},{"$f":"IF(t_projeto[[#This Row],[Q.1]]<>\"\",SUMIFS(t_reator[p],t_reator[tipo],t_projeto[[#This Row],[T.1]],t_reator[w],t_projeto[[#This Row],[P.1(W)]]),\"\")","v":""},{"$f":"IF(t_projeto[[#This Row],[Q.2]]<>\"\",SUMIFS(t_reator[p],t_reator[tipo],t_projeto[[#This Row],[T.2]],t_reator[w],t_projeto[[#This Row],[P.2(W)]]),\"\")","v":""},{"$f":"IF(t_projeto[[#This Row],[Q.3]]<>\"\",SUMIFS(t_reator[p],t_reator[tipo],t_projeto[[#This Row],[T.3]],t_reator[w],t_projeto[[#This Row],[P.3(W)]]),\"\")","v":""},{"$f":"IF(t_projeto[[#This Row],[Q.1]]<>\"\",IFERROR(IFERROR(D553*(E553+O553)+G553*(H553+P553)+J553*(K553+Q553),D553*(E553+O553)+G553*(H553+P553)),D553*(E553+O553)),\"\")","v":""},{"$f":"IF(t_projeto[[#This Row],[Consumo_W]]<>\"\",ROUND(t_projeto[[#This Row],[Consumo_W]]/t_projeto[[#This Row],[Luminárias]],0),\"\")","v":""},{"$f":"IF(t_projeto[[#This Row],[Q.1]]<>\"\",t_projeto[[#This Row],[Q.1]]*t_projeto[[#This Row],[P.1(W)]]*$C$24,\"\")","v":""},{"$f":"IF(t_projeto[[#This Row],[Q.2]]<>\"\",t_projeto[[#This Row],[Q.2]]*t_projeto[[#This Row],[P.2(W)]]*$C$24,\"\")","v":""},{"$f":"IF(t_projeto[[#This Row],[Q.3]]<>\"\",t_projeto[[#This Row],[Q.3]]*t_projeto[[#This Row],[P.3(W)]]*$C$24,\"\")","v":""},{"$f":"IF(t_projeto[[#This Row],[Trecho]]<>\"\",SUM(t_projeto[[#This Row],[f.1]:[f.3]]),\"\")","v":""},{"$f":"IF(t_projeto[[#This Row],[Trecho]]<>\"\",t_projeto[[#This Row],[Q.1]]+t_projeto[[#This Row],[Q.2]]+t_projeto[[#This Row],[Q.3]],\"\")","v":""},{"$f":"IF(AND(t_projeto[[#This Row],[FLUXO]]<>0,t_projeto[[#This Row],[FLUXO]]<>\"\"),ROUND(t_projeto[[#This Row],[FLUXO]]/t_projeto[[#This Row],[Luminárias]],0),\"\")","v":""},{"$f":"IF(AND(t_projeto[[#This Row],[Luminárias]]<>0,t_projeto[[#This Row],[Luminárias]]<>\"\"),ROUND(t_projeto[[#This Row],[lm_médio]]/t_projeto[[#This Row],[W_médio]],2),\"\")","v":""}]
[92,{"$f":"_xlfn.XLOOKUP(t_projeto[[#This Row],[cód.]],t_sitio[cód],t_sitio[Trecho],\"\")","v":""},null,null,{"$f":"IF(t_projeto[[#This Row],[T.1]]<>\"\",_xlfn.XLOOKUP(t_projeto[[#This Row],[T.1]],$G$22:$G$26,$H$22:$H$26),\"\")","v":""},null,null,{"$f":"IF(t_projeto[[#This Row],[T.2]]<>\"\",_xlfn.XLOOKUP(t_projeto[[#This Row],[T.2]],$G$22:$G$26,$H$22:$H$26),\"\")","v":""},null,null,{"$f":"IF(t_projeto[[#This Row],[T.3]]<>\"\",_xlfn.XLOOKUP(t_projeto[[#This Row],[T.3]],$G$22:$G$26,$H$22:$H$26),\"\")","v":""},null,{"$f":"t_projeto[[#This Row],[Q.1]]+t_projeto[[#This Row],[Q.2]]+t_projeto[[#This Row],[Q.3]]","v":0},{"$f":"t_projeto[[#This Row],[Q.1]]+t_projeto[[#This Row],[Q.2]]+t_projeto[[#This Row],[Q.3]]","v":0},{"$f":"IF(t_projeto[[#This Row],[Q.1]]<>\"\",SUMIFS(t_reator[p],t_reator[tipo],t_projeto[[#This Row],[T.1]],t_reator[w],t_projeto[[#This Row],[P.1(W)]]),\"\")","v":""},{"$f":"IF(t_projeto[[#This Row],[Q.2]]<>\"\",SUMIFS(t_reator[p],t_reator[tipo],t_projeto[[#This Row],[T.2]],t_reator[w],t_projeto[[#This Row],[P.2(W)]]),\"\")","v":""},{"$f":"IF(t_projeto[[#This Row],[Q.3]]<>\"\",SUMIFS(t_reator[p],t_reator[tipo],t_projeto[[#This Row],[T.3]],t_reator[w],t_projeto[[#This Row],[P.3(W)]]),\"\")","v":""},{"$f":"IF(t_projeto[[#This Row],[Q.1]]<>\"\",IFERROR(IFERROR(D554*(E554+O554)+G554*(H554+P554)+J554*(K554+Q554),D554*(E554+O554)+G554*(H554+P554)),D554*(E554+O554)),\"\")","v":""},{"$f":"IF(t_projeto[[#This Row],[Consumo_W]]<>\"\",ROUND(t_projeto[[#This Row],[Consumo_W]]/t_projeto[[#This Row],[Luminárias]],0),\"\")","v":""},{"$f":"IF(t_projeto[[#This Row],[Q.1]]<>\"\",t_projeto[[#This Row],[Q.1]]*t_projeto[[#This Row],[P.1(W)]]*$C$24,\"\")","v":""},{"$f":"IF(t_projeto[[#This Row],[Q.2]]<>\"\",t_projeto[[#This Row],[Q.2]]*t_projeto[[#This Row],[P.2(W)]]*$C$24,\"\")","v":""},{"$f":"IF(t_projeto[[#This Row],[Q.3]]<>\"\",t_projeto[[#This Row],[Q.3]]*t_projeto[[#This Row],[P.3(W)]]*$C$24,\"\")","v":""},{"$f":"IF(t_projeto[[#This Row],[Trecho]]<>\"\",SUM(t_projeto[[#This Row],[f.1]:[f.3]]),\"\")","v":""},{"$f":"IF(t_projeto[[#This Row],[Trecho]]<>\"\",t_projeto[[#This Row],[Q.1]]+t_projeto[[#This Row],[Q.2]]+t_projeto[[#This Row],[Q.3]],\"\")","v":""},{"$f":"IF(AND(t_projeto[[#This Row],[FLUXO]]<>0,t_projeto[[#This Row],[FLUXO]]<>\"\"),ROUND(t_projeto[[#This Row],[FLUXO]]/t_projeto[[#This Row],[Luminárias]],0),\"\")","v":""},{"$f":"IF(AND(t_projeto[[#This Row],[Luminárias]]<>0,t_projeto[[#This Row],[Luminárias]]<>\"\"),ROUND(t_projeto[[#This Row],[lm_médio]]/t_projeto[[#This Row],[W_médio]],2),\"\")","v":""}]
[93,{"$f":"_xlfn.XLOOKUP(t_projeto[[#This Row],[cód.]],t_sitio[cód],t_sitio[Trecho],\"\")","v":""},null,null,{"$f":"IF(t_projeto[[#This Row],[T.1]]<>\"\",_xlfn.XLOOKUP(t_projeto[[#This Row],[T.1]],$G$22:$G$26,$H$22:$H$26),\"\")","v":""},null,null,{"$f":"IF(t_projeto[[#This Row],[T.2]]<>\"\",_xlfn.XLOOKUP(t_projeto[[#This Row],[T.2]],$G$22:$G$26,$H$22:$H$26),\"\")","v":""},null,null,{"$f":"IF(t_projeto[[#This Row],[T.3]]<>\"\",_xlfn.XLOOKUP(t_projeto[[#This Row],[T.3]],$G$22:$G$26,$H$22:$H$26),\"\")","v":""},null,{"$f":"t_projeto[[#This Row],[Q.1]]+t_projeto[[#This Row],[Q.2]]+t_projeto[[#This Row],[Q.3]]","v":0},{"$f":"t_projeto[[#This Row],[Q.1]]+t_projeto[[#This Row],[Q.2]]+t_projeto[[#This Row],[Q.3]]","v":0},{"$f":"IF(t_projeto[[#This Row],[Q.1]]<>\"\",SUMIFS(t_reator[p],t_reator[tipo],t_projeto[[#This Row],[T.1]],t_reator[w],t_projeto[[#This Row],[P.1(W)]]),\"\")","v":""},{"$f":"IF(t_projeto[[#This Row],[Q.2]]<>\"\",SUMIFS(t_reator[p],t_reator[tipo],t_projeto[[#This Row],[T.2]],t_reator[w],t_projeto[[#This Row],[P.2(W)]]),\"\")","v":""},{"$f":"IF(t_projeto[[#This Row],[Q.3]]<>\"\",SUMIFS(t_reator[p],t_reator[tipo],t_projeto[[#This Row],[T.3]],t_reator[w],t_projeto[[#This Row],[P.3(W)]]),\"\")","v":""},{"$f":"IF(t_projeto[[#This Row],[Q.1]]<>\"\",IFERROR(IFERROR(D555*(E555+O555)+G555*(H555+P555)+J555*(K555+Q555),D555*(E555+O555)+G555*(H555+P555)),D555*(E555+O555)),\"\")","v":""},{"$f":"IF(t_projeto[[#This Row],[Consumo_W]]<>\"\",ROUND(t_projeto[[#This Row],[Consumo_W]]/t_projeto[[#This Row],[Luminárias]],0),\"\")","v":""},{"$f":"IF(t_projeto[[#This Row],[Q.1]]<>\"\",t_projeto[[#This Row],[Q.1]]*t_projeto[[#This Row],[P.1(W)]]*$C$24,\"\")","v":""},{"$f":"IF(t_projeto[[#This Row],[Q.2]]<>\"\",t_projeto[[#This Row],[Q.2]]*t_projeto[[#This Row],[P.2(W)]]*$C$24,\"\")","v":""},{"$f":"IF(t_projeto[[#This Row],[Q.3]]<>\"\",t_projeto[[#This Row],[Q.3]]*t_projeto[[#This Row],[P.3(W)]]*$C$24,\"\")","v":""},{"$f":"IF(t_projeto[[#This Row],[Trecho]]<>\"\",SUM(t_projeto[[#This Row],[f.1]:[f.3]]),\"\")","v":""},{"$f":"IF(t_projeto[[#This Row],[Trecho]]<>\"\",t_projeto[[#This Row],[Q.1]]+t_projeto[[#This Row],[Q.2]]+t_projeto[[#This Row],[Q.3]],\"\")","v":""},{"$f":"IF(AND(t_projeto[[#This Row],[FLUXO]]<>0,t_projeto[[#This Row],[FLUXO]]<>\"\"),ROUND(t_projeto[[#This Row],[FLUXO]]/t_projeto[[#This Row],[Luminárias]],0),\"\")","v":""},{"$f":"IF(AND(t_projeto[[#This Row],[Luminárias]]<>0,t_projeto[[#This Row],[Luminárias]]<>\"\"),ROUND(t_projeto[[#This Row],[lm_médio]]/t_projeto[[#This Row],[W_médio]],2),\"\")","v":""}]
[94,{"$f":"_xlfn.XLOOKUP(t_projeto[[#This Row],[cód.]],t_sitio[cód],t_sitio[Trecho],\"\")","v":""},null,null,{"$f":"IF(t_projeto[[#This Row],[T.1]]<>\"\",_xlfn.XLOOKUP(t_projeto[[#This Row],[T.1]],$G$22:$G$26,$H$22:$H$26),\"\")","v":""},null,null,{"$f":"IF(t_projeto[[#This Row],[T.2]]<>\"\",_xlfn.XLOOKUP(t_projeto[[#This Row],[T.2]],$G$22:$G$26,$H$22:$H$26),\"\")","v":""},null,null,{"$f":"IF(t_projeto[[#This Row],[T.3]]<>\"\",_xlfn.XLOOKUP(t_projeto[[#This Row],[T.3]],$G$22:$G$26,$H$22:$H$26),\"\")","v":""},null,{"$f":"t_projeto[[#This Row],[Q.1]]+t_projeto[[#This Row],[Q.2]]+t_projeto[[#This Row],[Q.3]]","v":0},{"$f":"t_projeto[[#This Row],[Q.1]]+t_projeto[[#This Row],[Q.2]]+t_projeto[[#This Row],[Q.3]]","v":0},{"$f":"IF(t_projeto[[#This Row],[Q.1]]<>\"\",SUMIFS(t_reator[p],t_reator[tipo],t_projeto[[#This Row],[T.1]],t_reator[w],t_projeto[[#This Row],[P.1(W)]]),\"\")","v":""},{"$f":"IF(t_projeto[[#This Row],[Q.2]]<>\"\",SUMIFS(t_reator[p],t_reator[tipo],t_projeto[[#This Row],[T.2]],t_reator[w],t_projeto[[#This Row],[P.2(W)]]),\"\")","v":""},{"$f":"IF(t_projeto[[#This Row],[Q.3]]<>\"\",SUMIFS(t_reator[p],t_reator[tipo],t_projeto[[#This Row],[T.3]],t_reator[w],t_projeto[[#This Row],[P.3(W)]]),\"\")","v":""},{"$f":"IF(t_projeto[[#This Row],[Q.1]]<>\"\",IFERROR(IFERROR(D556*(E556+O556)+G556*(H556+P556)+J556*(K556+Q556),D556*(E556+O556)+G556*(H556+P556)),D556*(E556+O556)),\"\")","v":""},{"$f":"IF(t_projeto[[#This Row],[Consumo_W]]<>\"\",ROUND(t_projeto[[#This Row],[Consumo_W]]/t_projeto[[#This Row],[Luminárias]],0),\"\")","v":""},{"$f":"IF(t_projeto[[#This Row],[Q.1]]<>\"\",t_projeto[[#This Row],[Q.1]]*t_projeto[[#This Row],[P.1(W)]]*$C$24,\"\")","v":""},{"$f":"IF(t_projeto[[#This Row],[Q.2]]<>\"\",t_projeto[[#This Row],[Q.2]]*t_projeto[[#This Row],[P.2(W)]]*$C$24,\"\")","v":""},{"$f":"IF(t_projeto[[#This Row],[Q.3]]<>\"\",t_projeto[[#This Row],[Q.3]]*t_projeto[[#This Row],[P.3(W)]]*$C$24,\"\")","v":""},{"$f":"IF(t_projeto[[#This Row],[Trecho]]<>\"\",SUM(t_projeto[[#This Row],[f.1]:[f.3]]),\"\")","v":""},{"$f":"IF(t_projeto[[#This Row],[Trecho]]<>\"\",t_projeto[[#This Row],[Q.1]]+t_projeto[[#This Row],[Q.2]]+t_projeto[[#This Row],[Q.3]],\"\")","v":""},{"$f":"IF(AND(t_projeto[[#This Row],[FLUXO]]<>0,t_projeto[[#This Row],[FLUXO]]<>\"\"),ROUND(t_projeto[[#This Row],[FLUXO]]/t_projeto[[#This Row],[Luminárias]],0),\"\")","v":""},{"$f":"IF(AND(t_projeto[[#This Row],[Luminárias]]<>0,t_projeto[[#This Row],[Luminárias]]<>\"\"),ROUND(t_projeto[[#This Row],[lm_médio]]/t_projeto[[#This Row],[W_médio]],2),\"\")","v":""}]
[95,{"$f":"_xlfn.XLOOKUP(t_projeto[[#This Row],[cód.]],t_sitio[cód],t_sitio[Trecho],\"\")","v":""},null,null,{"$f":"IF(t_projeto[[#This Row],[T.1]]<>\"\",_xlfn.XLOOKUP(t_projeto[[#This Row],[T.1]],$G$22:$G$26,$H$22:$H$26),\"\")","v":""},null,null,{"$f":"IF(t_projeto[[#This Row],[T.2]]<>\"\",_xlfn.XLOOKUP(t_projeto[[#This Row],[T.2]],$G$22:$G$26,$H$22:$H$26),\"\")","v":""},null,null,{"$f":"IF(t_projeto[[#This Row],[T.3]]<>\"\",_xlfn.XLOOKUP(t_projeto[[#This Row],[T.3]],$G$22:$G$26,$H$22:$H$26),\"\")","v":""},null,{"$f":"t_projeto[[#This Row],[Q.1]]+t_projeto[[#This Row],[Q.2]]+t_projeto[[#This Row],[Q.3]]","v":0},{"$f":"t_projeto[[#This Row],[Q.1]]+t_projeto[[#This Row],[Q.2]]+t_projeto[[#This Row],[Q.3]]","v":0},{"$f":"IF(t_projeto[[#This Row],[Q.1]]<>\"\",SUMIFS(t_reator[p],t_reator[tipo],t_projeto[[#This Row],[T.1]],t_reator[w],t_projeto[[#This Row],[P.1(W)]]),\"\")","v":""},{"$f":"IF(t_projeto[[#This Row],[Q.2]]<>\"\",SUMIFS(t_reator[p],t_reator[tipo],t_projeto[[#This Row],[T.2]],t_reator[w],t_projeto[[#This Row],[P.2(W)]]),\"\")","v":""},{"$f":"IF(t_projeto[[#This Row],[Q.3]]<>\"\",SUMIFS(t_reator[p],t_reator[tipo],t_projeto[[#This Row],[T.3]],t_reator[w],t_projeto[[#This Row],[P.3(W)]]),\"\")","v":""},{"$f":"IF(t_projeto[[#This Row],[Q.1]]<>\"\",IFERROR(IFERROR(D557*(E557+O557)+G557*(H557+P557)+J557*(K557+Q557),D557*(E557+O557)+G557*(H557+P557)),D557*(E557+O557)),\"\")","v":""},{"$f":"IF(t_projeto[[#This Row],[Consumo_W]]<>\"\",ROUND(t_projeto[[#This Row],[Consumo_W]]/t_projeto[[#This Row],[Luminárias]],0),\"\")","v":""},{"$f":"IF(t_projeto[[#This Row],[Q.1]]<>\"\",t_projeto[[#This Row],[Q.1]]*t_projeto[[#This Row],[P.1(W)]]*$C$24,\"\")","v":""},{"$f":"IF(t_projeto[[#This Row],[Q.2]]<>\"\",t_projeto[[#This Row],[Q.2]]*t_projeto[[#This Row],[P.2(W)]]*$C$24,\"\")","v":""},{"$f":"IF(t_projeto[[#This Row],[Q.3]]<>\"\",t_projeto[[#This Row],[Q.3]]*t_projeto[[#This Row],[P.3(W)]]*$C$24,\"\")","v":""},{"$f":"IF(t_projeto[[#This Row],[Trecho]]<>\"\",SUM(t_projeto[[#This Row],[f.1]:[f.3]]),\"\")","v":""},{"$f":"IF(t_projeto[[#This Row],[Trecho]]<>\"\",t_projeto[[#This Row],[Q.1]]+t_projeto[[#This Row],[Q.2]]+t_projeto[[#This Row],[Q.3]],\"\")","v":""},{"$f":"IF(AND(t_projeto[[#This Row],[FLUXO]]<>0,t_projeto[[#This Row],[FLUXO]]<>\"\"),ROUND(t_projeto[[#This Row],[FLUXO]]/t_projeto[[#This Row],[Luminárias]],0),\"\")","v":""},{"$f":"IF(AND(t_projeto[[#This Row],[Luminárias]]<>0,t_projeto[[#This Row],[Luminárias]]<>\"\"),ROUND(t_projeto[[#This Row],[lm_médio]]/t_projeto[[#This Row],[W_médio]],2),\"\")","v":""}]
[96,{"$f":"_xlfn.XLOOKUP(t_projeto[[#This Row],[cód.]],t_sitio[cód],t_sitio[Trecho],\"\")","v":""},null,null,{"$f":"IF(t_projeto[[#This Row],[T.1]]<>\"\",_xlfn.XLOOKUP(t_projeto[[#This Row],[T.1]],$G$22:$G$26,$H$22:$H$26),\"\")","v":""},null,null,{"$f":"IF(t_projeto[[#This Row],[T.2]]<>\"\",_xlfn.XLOOKUP(t_projeto[[#This Row],[T.2]],$G$22:$G$26,$H$22:$H$26),\"\")","v":""},null,null,{"$f":"IF(t_projeto[[#This Row],[T.3]]<>\"\",_xlfn.XLOOKUP(t_projeto[[#This Row],[T.3]],$G$22:$G$26,$H$22:$H$26),\"\")","v":""},null,{"$f":"t_projeto[[#This Row],[Q.1]]+t_projeto[[#This Row],[Q.2]]+t_projeto[[#This Row],[Q.3]]","v":0},{"$f":"t_projeto[[#This Row],[Q.1]]+t_projeto[[#This Row],[Q.2]]+t_projeto[[#This Row],[Q.3]]","v":0},{"$f":"IF(t_projeto[[#This Row],[Q.1]]<>\"\",SUMIFS(t_reator[p],t_reator[tipo],t_projeto[[#This Row],[T.1]],t_reator[w],t_projeto[[#This Row],[P.1(W)]]),\"\")","v":""},{"$f":"IF(t_projeto[[#This Row],[Q.2]]<>\"\",SUMIFS(t_reator[p],t_reator[tipo],t_projeto[[#This Row],[T.2]],t_reator[w],t_projeto[[#This Row],[P.2(W)]]),\"\")","v":""},{"$f":"IF(t_projeto[[#This Row],[Q.3]]<>\"\",SUMIFS(t_reator[p],t_reator[tipo],t_projeto[[#This Row],[T.3]],t_reator[w],t_projeto[[#This Row],[P.3(W)]]),\"\")","v":""},{"$f":"IF(t_projeto[[#This Row],[Q.1]]<>\"\",IFERROR(IFERROR(D558*(E558+O558)+G558*(H558+P558)+J558*(K558+Q558),D558*(E558+O558)+G558*(H558+P558)),D558*(E558+O558)),\"\")","v":""},{"$f":"IF(t_projeto[[#This Row],[Consumo_W]]<>\"\",ROUND(t_projeto[[#This Row],[Consumo_W]]/t_projeto[[#This Row],[Luminárias]],0),\"\")","v":""},{"$f":"IF(t_projeto[[#This Row],[Q.1]]<>\"\",t_projeto[[#This Row],[Q.1]]*t_projeto[[#This Row],[P.1(W)]]*$C$24,\"\")","v":""},{"$f":"IF(t_projeto[[#This Row],[Q.2]]<>\"\",t_projeto[[#This Row],[Q.2]]*t_projeto[[#This Row],[P.2(W)]]*$C$24,\"\")","v":""},{"$f":"IF(t_projeto[[#This Row],[Q.3]]<>\"\",t_projeto[[#This Row],[Q.3]]*t_projeto[[#This Row],[P.3(W)]]*$C$24,\"\")","v":""},{"$f":"IF(t_projeto[[#This Row],[Trecho]]<>\"\",SUM(t_projeto[[#This Row],[f.1]:[f.3]]),\"\")","v":""},{"$f":"IF(t_projeto[[#This Row],[Trecho]]<>\"\",t_projeto[[#This Row],[Q.1]]+t_projeto[[#This Row],[Q.2]]+t_projeto[[#This Row],[Q.3]],\"\")","v":""},{"$f":"IF(AND(t_projeto[[#This Row],[FLUXO]]<>0,t_projeto[[#This Row],[FLUXO]]<>\"\"),ROUND(t_projeto[[#This Row],[FLUXO]]/t_projeto[[#This Row],[Luminárias]],0),\"\")","v":""},{"$f":"IF(AND(t_projeto[[#This Row],[Luminárias]]<>0,t_projeto[[#This Row],[Luminárias]]<>\"\"),ROUND(t_projeto[[#This Row],[lm_médio]]/t_projeto[[#This Row],[W_médio]],2),\"\")","v":""}]
[97,{"$f":"_xlfn.XLOOKUP(t_projeto[[#This Row],[cód.]],t_sitio[cód],t_sitio[Trecho],\"\")","v":""},null,null,{"$f":"IF(t_projeto[[#This Row],[T.1]]<>\"\",_xlfn.XLOOKUP(t_projeto[[#This Row],[T.1]],$G$22:$G$26,$H$22:$H$26),\"\")","v":""},null,null,{"$f":"IF(t_projeto[[#This Row],[T.2]]<>\"\",_xlfn.XLOOKUP(t_projeto[[#This Row],[T.2]],$G$22:$G$26,$H$22:$H$26),\"\")","v":""},null,null,{"$f":"IF(t_projeto[[#This Row],[T.3]]<>\"\",_xlfn.XLOOKUP(t_projeto[[#This Row],[T.3]],$G$22:$G$26,$H$22:$H$26),\"\")","v":""},null,{"$f":"t_projeto[[#This Row],[Q.1]]+t_projeto[[#This Row],[Q.2]]+t_projeto[[#This Row],[Q.3]]","v":0},{"$f":"t_projeto[[#This Row],[Q.1]]+t_projeto[[#This Row],[Q.2]]+t_projeto[[#This Row],[Q.3]]","v":0},{"$f":"IF(t_projeto[[#This Row],[Q.1]]<>\"\",SUMIFS(t_reator[p],t_reator[tipo],t_projeto[[#This Row],[T.1]],t_reator[w],t_projeto[[#This Row],[P.1(W)]]),\"\")","v":""},{"$f":"IF(t_projeto[[#This Row],[Q.2]]<>\"\",SUMIFS(t_reator[p],t_reator[tipo],t_projeto[[#This Row],[T.2]],t_reator[w],t_projeto[[#This Row],[P.2(W)]]),\"\")","v":""},{"$f":"IF(t_projeto[[#This Row],[Q.3]]<>\"\",SUMIFS(t_reator[p],t_reator[tipo],t_projeto[[#This Row],[T.3]],t_reator[w],t_projeto[[#This Row],[P.3(W)]]),\"\")","v":""},{"$f":"IF(t_projeto[[#This Row],[Q.1]]<>\"\",IFERROR(IFERROR(D559*(E559+O559)+G559*(H559+P559)+J559*(K559+Q559),D559*(E559+O559)+G559*(H559+P559)),D559*(E559+O559)),\"\")","v":""},{"$f":"IF(t_projeto[[#This Row],[Consumo_W]]<>\"\",ROUND(t_projeto[[#This Row],[Consumo_W]]/t_projeto[[#This Row],[Luminárias]],0),\"\")","v":""},{"$f":"IF(t_projeto[[#This Row],[Q.1]]<>\"\",t_projeto[[#This Row],[Q.1]]*t_projeto[[#This Row],[P.1(W)]]*$C$24,\"\")","v":""},{"$f":"IF(t_projeto[[#This Row],[Q.2]]<>\"\",t_projeto[[#This Row],[Q.2]]*t_projeto[[#This Row],[P.2(W)]]*$C$24,\"\")","v":""},{"$f":"IF(t_projeto[[#This Row],[Q.3]]<>\"\",t_projeto[[#This Row],[Q.3]]*t_projeto[[#This Row],[P.3(W)]]*$C$24,\"\")","v":""},{"$f":"IF(t_projeto[[#This Row],[Trecho]]<>\"\",SUM(t_projeto[[#This Row],[f.1]:[f.3]]),\"\")","v":""},{"$f":"IF(t_projeto[[#This Row],[Trecho]]<>\"\",t_projeto[[#This Row],[Q.1]]+t_projeto[[#This Row],[Q.2]]+t_projeto[[#This Row],[Q.3]],\"\")","v":""},{"$f":"IF(AND(t_projeto[[#This Row],[FLUXO]]<>0,t_projeto[[#This Row],[FLUXO]]<>\"\"),ROUND(t_projeto[[#This Row],[FLUXO]]/t_projeto[[#This Row],[Luminárias]],0),\"\")","v":""},{"$f":"IF(AND(t_projeto[[#This Row],[Luminárias]]<>0,t_projeto[[#This Row],[Luminárias]]<>\"\"),ROUND(t_projeto[[#This Row],[lm_médio]]/t_projeto[[#This Row],[W_médio]],2),\"\")","v":""}]
[98,{"$f":"_xlfn.XLOOKUP(t_projeto[[#This Row],[cód.]],t_sitio[cód],t_sitio[Trecho],\"\")","v":""},null,null,{"$f":"IF(t_projeto[[#This Row],[T.1]]<>\"\",_xlfn.XLOOKUP(t_projeto[[#This Row],[T.1]],$G$22:$G$26,$H$22:$H$26),\"\")","v":""},null,null,{"$f":"IF(t_projeto[[#This Row],[T.2]]<>\"\",_xlfn.XLOOKUP(t_projeto[[#This Row],[T.2]],$G$22:$G$26,$H$22:$H$26),\"\")","v":""},null,null,{"$f":"IF(t_projeto[[#This Row],[T.3]]<>\"\",_xlfn.XLOOKUP(t_projeto[[#This Row],[T.3]],$G$22:$G$26,$H$22:$H$26),\"\")","v":""},null,{"$f":"t_projeto[[#This Row],[Q.1]]+t_projeto[[#This Row],[Q.2]]+t_projeto[[#This Row],[Q.3]]","v":0},{"$f":"t_projeto[[#This Row],[Q.1]]+t_projeto[[#This Row],[Q.2]]+t_projeto[[#This Row],[Q.3]]","v":0},{"$f":"IF(t_projeto[[#This Row],[Q.1]]<>\"\",SUMIFS(t_reator[p],t_reator[tipo],t_projeto[[#This Row],[T.1]],t_reator[w],t_projeto[[#This Row],[P.1(W)]]),\"\")","v":""},{"$f":"IF(t_projeto[[#This Row],[Q.2]]<>\"\",SUMIFS(t_reator[p],t_reator[tipo],t_projeto[[#This Row],[T.2]],t_reator[w],t_projeto[[#This Row],[P.2(W)]]),\"\")","v":""},{"$f":"IF(t_projeto[[#This Row],[Q.3]]<>\"\",SUMIFS(t_reator[p],t_reator[tipo],t_projeto[[#This Row],[T.3]],t_reator[w],t_projeto[[#This Row],[P.3(W)]]),\"\")","v":""},{"$f":"IF(t_projeto[[#This Row],[Q.1]]<>\"\",IFERROR(IFERROR(D560*(E560+O560)+G560*(H560+P560)+J560*(K560+Q560),D560*(E560+O560)+G560*(H560+P560)),D560*(E560+O560)),\"\")","v":""},{"$f":"IF(t_projeto[[#This Row],[Consumo_W]]<>\"\",ROUND(t_projeto[[#This Row],[Consumo_W]]/t_projeto[[#This Row],[Luminárias]],0),\"\")","v":""},{"$f":"IF(t_projeto[[#This Row],[Q.1]]<>\"\",t_projeto[[#This Row],[Q.1]]*t_projeto[[#This Row],[P.1(W)]]*$C$24,\"\")","v":""},{"$f":"IF(t_projeto[[#This Row],[Q.2]]<>\"\",t_projeto[[#This Row],[Q.2]]*t_projeto[[#This Row],[P.2(W)]]*$C$24,\"\")","v":""},{"$f":"IF(t_projeto[[#This Row],[Q.3]]<>\"\",t_projeto[[#This Row],[Q.3]]*t_projeto[[#This Row],[P.3(W)]]*$C$24,\"\")","v":""},{"$f":"IF(t_projeto[[#This Row],[Trecho]]<>\"\",SUM(t_projeto[[#This Row],[f.1]:[f.3]]),\"\")","v":""},{"$f":"IF(t_projeto[[#This Row],[Trecho]]<>\"\",t_projeto[[#This Row],[Q.1]]+t_projeto[[#This Row],[Q.2]]+t_projeto[[#This Row],[Q.3]],\"\")","v":""},{"$f":"IF(AND(t_projeto[[#This Row],[FLUXO]]<>0,t_projeto[[#This Row],[FLUXO]]<>\"\"),ROUND(t_projeto[[#This Row],[FLUXO]]/t_projeto[[#This Row],[Luminárias]],0),\"\")","v":""},{"$f":"IF(AND(t_projeto[[#This Row],[Luminárias]]<>0,t_projeto[[#This Row],[Luminárias]]<>\"\"),ROUND(t_projeto[[#This Row],[lm_médio]]/t_projeto[[#This Row],[W_médio]],2),\"\")","v":""}]
[99,{"$f":"_xlfn.XLOOKUP(t_projeto[[#This Row],[cód.]],t_sitio[cód],t_sitio[Trecho],\"\")","v":""},null,null,{"$f":"IF(t_projeto[[#This Row],[T.1]]<>\"\",_xlfn.XLOOKUP(t_projeto[[#This Row],[T.1]],$G$22:$G$26,$H$22:$H$26),\"\")","v":""},null,null,{"$f":"IF(t_projeto[[#This Row],[T.2]]<>\"\",_xlfn.XLOOKUP(t_projeto[[#This Row],[T.2]],$G$22:$G$26,$H$22:$H$26),\"\")","v":""},null,null,{"$f":"IF(t_projeto[[#This Row],[T.3]]<>\"\",_xlfn.XLOOKUP(t_projeto[[#This Row],[T.3]],$G$22:$G$26,$H$22:$H$26),\"\")","v":""},null,{"$f":"t_projeto[[#This Row],[Q.1]]+t_projeto[[#This Row],[Q.2]]+t_projeto[[#This Row],[Q.3]]","v":0},{"$f":"t_projeto[[#This Row],[Q.1]]+t_projeto[[#This Row],[Q.2]]+t_projeto[[#This Row],[Q.3]]","v":0},{"$f":"IF(t_projeto[[#This Row],[Q.1]]<>\"\",SUMIFS(t_reator[p],t_reator[tipo],t_projeto[[#This Row],[T.1]],t_reator[w],t_projeto[[#This Row],[P.1(W)]]),\"\")","v":""},{"$f":"IF(t_projeto[[#This Row],[Q.2]]<>\"\",SUMIFS(t_reator[p],t_reator[tipo],t_projeto[[#This Row],[T.2]],t_reator[w],t_projeto[[#This Row],[P.2(W)]]),\"\")","v":""},{"$f":"IF(t_projeto[[#This Row],[Q.3]]<>\"\",SUMIFS(t_reator[p],t_reator[tipo],t_projeto[[#This Row],[T.3]],t_reator[w],t_projeto[[#This Row],[P.3(W)]]),\"\")","v":""},{"$f":"IF(t_projeto[[#This Row],[Q.1]]<>\"\",IFERROR(IFERROR(D561*(E561+O561)+G561*(H561+P561)+J561*(K561+Q561),D561*(E561+O561)+G561*(H561+P561)),D561*(E561+O561)),\"\")","v":""},{"$f":"IF(t_projeto[[#This Row],[Consumo_W]]<>\"\",ROUND(t_projeto[[#This Row],[Consumo_W]]/t_projeto[[#This Row],[Luminárias]],0),\"\")","v":""},{"$f":"IF(t_projeto[[#This Row],[Q.1]]<>\"\",t_projeto[[#This Row],[Q.1]]*t_projeto[[#This Row],[P.1(W)]]*$C$24,\"\")","v":""},{"$f":"IF(t_projeto[[#This Row],[Q.2]]<>\"\",t_projeto[[#This Row],[Q.2]]*t_projeto[[#This Row],[P.2(W)]]*$C$24,\"\")","v":""},{"$f":"IF(t_projeto[[#This Row],[Q.3]]<>\"\",t_projeto[[#This Row],[Q.3]]*t_projeto[[#This Row],[P.3(W)]]*$C$24,\"\")","v":""},{"$f":"IF(t_projeto[[#This Row],[Trecho]]<>\"\",SUM(t_projeto[[#This Row],[f.1]:[f.3]]),\"\")","v":""},{"$f":"IF(t_projeto[[#This Row],[Trecho]]<>\"\",t_projeto[[#This Row],[Q.1]]+t_projeto[[#This Row],[Q.2]]+t_projeto[[#This Row],[Q.3]],\"\")","v":""},{"$f":"IF(AND(t_projeto[[#This Row],[FLUXO]]<>0,t_projeto[[#This Row],[FLUXO]]<>\"\"),ROUND(t_projeto[[#This Row],[FLUXO]]/t_projeto[[#This Row],[Luminárias]],0),\"\")","v":""},{"$f":"IF(AND(t_projeto[[#This Row],[Luminárias]]<>0,t_projeto[[#This Row],[Luminárias]]<>\"\"),ROUND(t_projeto[[#This Row],[lm_médio]]/t_projeto[[#This Row],[W_médio]],2),\"\")","v":""}]
[100,{"$f":"_xlfn.XLOOKUP(t_projeto[[#This Row],[cód.]],t_sitio[cód],t_sitio[Trecho],\"\")","v":""},null,null,{"$f":"IF(t_projeto[[#This Row],[T.1]]<>\"\",_xlfn.XLOOKUP(t_projeto[[#This Row],[T.1]],$G$22:$G$26,$H$22:$H$26),\"\")","v":""},null,null,{"$f":"IF(t_projeto[[#This Row],[T.2]]<>\"\",_xlfn.XLOOKUP(t_projeto[[#This Row],[T.2]],$G$22:$G$26,$H$22:$H$26),\"\")","v":""},null,null,{"$f":"IF(t_projeto[[#This Row],[T.3]]<>\"\",_xlfn.XLOOKUP(t_projeto[[#This Row],[T.3]],$G$22:$G$26,$H$22:$H$26),\"\")","v":""},null,{"$f":"t_projeto[[#This Row],[Q.1]]+t_projeto[[#This Row],[Q.2]]+t_projeto[[#This Row],[Q.3]]","v":0},{"$f":"t_projeto[[#This Row],[Q.1]]+t_projeto[[#This Row],[Q.2]]+t_projeto[[#This Row],[Q.3]]","v":0},{"$f":"IF(t_projeto[[#This Row],[Q.1]]<>\"\",SUMIFS(t_reator[p],t_reator[tipo],t_projeto[[#This Row],[T.1]],t_reator[w],t_projeto[[#This Row],[P.1(W)]]),\"\")","v":""},{"$f":"IF(t_projeto[[#This Row],[Q.2]]<>\"\",SUMIFS(t_reator[p],t_reator[tipo],t_projeto[[#This Row],[T.2]],t_reator[w],t_projeto[[#This Row],[P.2(W)]]),\"\")","v":""},{"$f":"IF(t_projeto[[#This Row],[Q.3]]<>\"\",SUMIFS(t_reator[p],t_reator[tipo],t_projeto[[#This Row],[T.3]],t_reator[w],t_projeto[[#This Row],[P.3(W)]]),\"\")","v":""},{"$f":"IF(t_projeto[[#This Row],[Q.1]]<>\"\",IFERROR(IFERROR(D562*(E562+O562)+G562*(H562+P562)+J562*(K562+Q562),D562*(E562+O562)+G562*(H562+P562)),D562*(E562+O562)),\"\")","v":""},{"$f":"IF(t_projeto[[#This Row],[Consumo_W]]<>\"\",ROUND(t_projeto[[#This Row],[Consumo_W]]/t_projeto[[#This Row],[Luminárias]],0),\"\")","v":""},{"$f":"IF(t_projeto[[#This Row],[Q.1]]<>\"\",t_projeto[[#This Row],[Q.1]]*t_projeto[[#This Row],[P.1(W)]]*$C$24,\"\")","v":""},{"$f":"IF(t_projeto[[#This Row],[Q.2]]<>\"\",t_projeto[[#This Row],[Q.2]]*t_projeto[[#This Row],[P.2(W)]]*$C$24,\"\")","v":""},{"$f":"IF(t_projeto[[#This Row],[Q.3]]<>\"\",t_projeto[[#This Row],[Q.3]]*t_projeto[[#This Row],[P.3(W)]]*$C$24,\"\")","v":""},{"$f":"IF(t_projeto[[#This Row],[Trecho]]<>\"\",SUM(t_projeto[[#This Row],[f.1]:[f.3]]),\"\")","v":""},{"$f":"IF(t_projeto[[#This Row],[Trecho]]<>\"\",t_projeto[[#This Row],[Q.1]]+t_projeto[[#This Row],[Q.2]]+t_projeto[[#This Row],[Q.3]],\"\")","v":""},{"$f":"IF(AND(t_projeto[[#This Row],[FLUXO]]<>0,t_projeto[[#This Row],[FLUXO]]<>\"\"),ROUND(t_projeto[[#This Row],[FLUXO]]/t_projeto[[#This Row],[Luminárias]],0),\"\")","v":""},{"$f":"IF(AND(t_projeto[[#This Row],[Luminárias]]<>0,t_projeto[[#This Row],[Luminárias]]<>\"\"),ROUND(t_projeto[[#This Row],[lm_médio]]/t_projeto[[#This Row],[W_médio]],2),\"\")","v":""}]
[101,{"$f":"_xlfn.XLOOKUP(t_projeto[[#This Row],[cód.]],t_sitio[cód],t_sitio[Trecho],\"\")","v":""},null,null,{"$f":"IF(t_projeto[[#This Row],[T.1]]<>\"\",_xlfn.XLOOKUP(t_projeto[[#This Row],[T.1]],$G$22:$G$26,$H$22:$H$26),\"\")","v":""},null,null,{"$f":"IF(t_projeto[[#This Row],[T.2]]<>\"\",_xlfn.XLOOKUP(t_projeto[[#This Row],[T.2]],$G$22:$G$26,$H$22:$H$26),\"\")","v":""},null,null,{"$f":"IF(t_projeto[[#This Row],[T.3]]<>\"\",_xlfn.XLOOKUP(t_projeto[[#This Row],[T.3]],$G$22:$G$26,$H$22:$H$26),\"\")","v":""},null,{"$f":"t_projeto[[#This Row],[Q.1]]+t_projeto[[#This Row],[Q.2]]+t_projeto[[#This Row],[Q.3]]","v":0},{"$f":"t_projeto[[#This Row],[Q.1]]+t_projeto[[#This Row],[Q.2]]+t_projeto[[#This Row],[Q.3]]","v":0},{"$f":"IF(t_projeto[[#This Row],[Q.1]]<>\"\",SUMIFS(t_reator[p],t_reator[tipo],t_projeto[[#This Row],[T.1]],t_reator[w],t_projeto[[#This Row],[P.1(W)]]),\"\")","v":""},{"$f":"IF(t_projeto[[#This Row],[Q.2]]<>\"\",SUMIFS(t_reator[p],t_reator[tipo],t_projeto[[#This Row],[T.2]],t_reator[w],t_projeto[[#This Row],[P.2(W)]]),\"\")","v":""},{"$f":"IF(t_projeto[[#This Row],[Q.3]]<>\"\",SUMIFS(t_reator[p],t_reator[tipo],t_projeto[[#This Row],[T.3]],t_reator[w],t_projeto[[#This Row],[P.3(W)]]),\"\")","v":""},{"$f":"IF(t_projeto[[#This Row],[Q.1]]<>\"\",IFERROR(IFERROR(D563*(E563+O563)+G563*(H563+P563)+J563*(K563+Q563),D563*(E563+O563)+G563*(H563+P563)),D563*(E563+O563)),\"\")","v":""},{"$f":"IF(t_projeto[[#This Row],[Consumo_W]]<>\"\",ROUND(t_projeto[[#This Row],[Consumo_W]]/t_projeto[[#This Row],[Luminárias]],0),\"\")","v":""},{"$f":"IF(t_projeto[[#This Row],[Q.1]]<>\"\",t_projeto[[#This Row],[Q.1]]*t_projeto[[#This Row],[P.1(W)]]*$C$24,\"\")","v":""},{"$f":"IF(t_projeto[[#This Row],[Q.2]]<>\"\",t_projeto[[#This Row],[Q.2]]*t_projeto[[#This Row],[P.2(W)]]*$C$24,\"\")","v":""},{"$f":"IF(t_projeto[[#This Row],[Q.3]]<>\"\",t_projeto[[#This Row],[Q.3]]*t_projeto[[#This Row],[P.3(W)]]*$C$24,\"\")","v":""},{"$f":"IF(t_projeto[[#This Row],[Trecho]]<>\"\",SUM(t_projeto[[#This Row],[f.1]:[f.3]]),\"\")","v":""},{"$f":"IF(t_projeto[[#This Row],[Trecho]]<>\"\",t_projeto[[#This Row],[Q.1]]+t_projeto[[#This Row],[Q.2]]+t_projeto[[#This Row],[Q.3]],\"\")","v":""},{"$f":"IF(AND(t_projeto[[#This Row],[FLUXO]]<>0,t_projeto[[#This Row],[FLUXO]]<>\"\"),ROUND(t_projeto[[#This Row],[FLUXO]]/t_projeto[[#This Row],[Luminárias]],0),\"\")","v":""},{"$f":"IF(AND(t_projeto[[#This Row],[Luminárias]]<>0,t_projeto[[#This Row],[Luminárias]]<>\"\"),ROUND(t_projeto[[#This Row],[lm_médio]]/t_projeto[[#This Row],[W_médio]],2),\"\")","v":""}]
[102,{"$f":"_xlfn.XLOOKUP(t_projeto[[#This Row],[cód.]],t_sitio[cód],t_sitio[Trecho],\"\")","v":""},null,null,{"$f":"IF(t_projeto[[#This Row],[T.1]]<>\"\",_xlfn.XLOOKUP(t_projeto[[#This Row],[T.1]],$G$22:$G$26,$H$22:$H$26),\"\")","v":""},null,null,{"$f":"IF(t_projeto[[#This Row],[T.2]]<>\"\",_xlfn.XLOOKUP(t_projeto[[#This Row],[T.2]],$G$22:$G$26,$H$22:$H$26),\"\")","v":""},null,null,{"$f":"IF(t_projeto[[#This Row],[T.3]]<>\"\",_xlfn.XLOOKUP(t_projeto[[#This Row],[T.3]],$G$22:$G$26,$H$22:$H$26),\"\")","v":""},null,{"$f":"t_projeto[[#This Row],[Q.1]]+t_projeto[[#This Row],[Q.2]]+t_projeto[[#This Row],[Q.3]]","v":0},{"$f":"t_projeto[[#This Row],[Q.1]]+t_projeto[[#This Row],[Q.2]]+t_projeto[[#This Row],[Q.3]]","v":0},{"$f":"IF(t_projeto[[#This Row],[Q.1]]<>\"\",SUMIFS(t_reator[p],t_reator[tipo],t_projeto[[#This Row],[T.1]],t_reator[w],t_projeto[[#This Row],[P.1(W)]]),\"\")","v":""},{"$f":"IF(t_projeto[[#This Row],[Q.2]]<>\"\",SUMIFS(t_reator[p],t_reator[tipo],t_projeto[[#This Row],[T.2]],t_reator[w],t_projeto[[#This Row],[P.2(W)]]),\"\")","v":""},{"$f":"IF(t_projeto[[#This Row],[Q.3]]<>\"\",SUMIFS(t_reator[p],t_reator[tipo],t_projeto[[#This Row],[T.3]],t_reator[w],t_projeto[[#This Row],[P.3(W)]]),\"\")","v":""},{"$f":"IF(t_projeto[[#This Row],[Q.1]]<>\"\",IFERROR(IFERROR(D564*(E564+O564)+G564*(H564+P564)+J564*(K564+Q564),D564*(E564+O564)+G564*(H564+P564)),D564*(E564+O564)),\"\")","v":""},{"$f":"IF(t_projeto[[#This Row],[Consumo_W]]<>\"\",ROUND(t_projeto[[#This Row],[Consumo_W]]/t_projeto[[#This Row],[Luminárias]],0),\"\")","v":""},{"$f":"IF(t_projeto[[#This Row],[Q.1]]<>\"\",t_projeto[[#This Row],[Q.1]]*t_projeto[[#This Row],[P.1(W)]]*$C$24,\"\")","v":""},{"$f":"IF(t_projeto[[#This Row],[Q.2]]<>\"\",t_projeto[[#This Row],[Q.2]]*t_projeto[[#This Row],[P.2(W)]]*$C$24,\"\")","v":""},{"$f":"IF(t_projeto[[#This Row],[Q.3]]<>\"\",t_projeto[[#This Row],[Q.3]]*t_projeto[[#This Row],[P.3(W)]]*$C$24,\"\")","v":""},{"$f":"IF(t_projeto[[#This Row],[Trecho]]<>\"\",SUM(t_projeto[[#This Row],[f.1]:[f.3]]),\"\")","v":""},{"$f":"IF(t_projeto[[#This Row],[Trecho]]<>\"\",t_projeto[[#This Row],[Q.1]]+t_projeto[[#This Row],[Q.2]]+t_projeto[[#This Row],[Q.3]],\"\")","v":""},{"$f":"IF(AND(t_projeto[[#This Row],[FLUXO]]<>0,t_projeto[[#This Row],[FLUXO]]<>\"\"),ROUND(t_projeto[[#This Row],[FLUXO]]/t_projeto[[#This Row],[Luminárias]],0),\"\")","v":""},{"$f":"IF(AND(t_projeto[[#This Row],[Luminárias]]<>0,t_projeto[[#This Row],[Luminárias]]<>\"\"),ROUND(t_projeto[[#This Row],[lm_médio]]/t_projeto[[#This Row],[W_médio]],2),\"\")","v":""}]
[103,{"$f":"_xlfn.XLOOKUP(t_projeto[[#This Row],[cód.]],t_sitio[cód],t_sitio[Trecho],\"\")","v":""},null,null,{"$f":"IF(t_projeto[[#This Row],[T.1]]<>\"\",_xlfn.XLOOKUP(t_projeto[[#This Row],[T.1]],$G$22:$G$26,$H$22:$H$26),\"\")","v":""},null,null,{"$f":"IF(t_projeto[[#This Row],[T.2]]<>\"\",_xlfn.XLOOKUP(t_projeto[[#This Row],[T.2]],$G$22:$G$26,$H$22:$H$26),\"\")","v":""},null,null,{"$f":"IF(t_projeto[[#This Row],[T.3]]<>\"\",_xlfn.XLOOKUP(t_projeto[[#This Row],[T.3]],$G$22:$G$26,$H$22:$H$26),\"\")","v":""},null,{"$f":"t_projeto[[#This Row],[Q.1]]+t_projeto[[#This Row],[Q.2]]+t_projeto[[#This Row],[Q.3]]","v":0},{"$f":"t_projeto[[#This Row],[Q.1]]+t_projeto[[#This Row],[Q.2]]+t_projeto[[#This Row],[Q.3]]","v":0},{"$f":"IF(t_projeto[[#This Row],[Q.1]]<>\"\",SUMIFS(t_reator[p],t_reator[tipo],t_projeto[[#This Row],[T.1]],t_reator[w],t_projeto[[#This Row],[P.1(W)]]),\"\")","v":""},{"$f":"IF(t_projeto[[#This Row],[Q.2]]<>\"\",SUMIFS(t_reator[p],t_reator[tipo],t_projeto[[#This Row],[T.2]],t_reator[w],t_projeto[[#This Row],[P.2(W)]]),\"\")","v":""},{"$f":"IF(t_projeto[[#This Row],[Q.3]]<>\"\",SUMIFS(t_reator[p],t_reator[tipo],t_projeto[[#This Row],[T.3]],t_reator[w],t_projeto[[#This Row],[P.3(W)]]),\"\")","v":""},{"$f":"IF(t_projeto[[#This Row],[Q.1]]<>\"\",IFERROR(IFERROR(D565*(E565+O565)+G565*(H565+P565)+J565*(K565+Q565),D565*(E565+O565)+G565*(H565+P565)),D565*(E565+O565)),\"\")","v":""},{"$f":"IF(t_projeto[[#This Row],[Consumo_W]]<>\"\",ROUND(t_projeto[[#This Row],[Consumo_W]]/t_projeto[[#This Row],[Luminárias]],0),\"\")","v":""},{"$f":"IF(t_projeto[[#This Row],[Q.1]]<>\"\",t_projeto[[#This Row],[Q.1]]*t_projeto[[#This Row],[P.1(W)]]*$C$24,\"\")","v":""},{"$f":"IF(t_projeto[[#This Row],[Q.2]]<>\"\",t_projeto[[#This Row],[Q.2]]*t_projeto[[#This Row],[P.2(W)]]*$C$24,\"\")","v":""},{"$f":"IF(t_projeto[[#This Row],[Q.3]]<>\"\",t_projeto[[#This Row],[Q.3]]*t_projeto[[#This Row],[P.3(W)]]*$C$24,\"\")","v":""},{"$f":"IF(t_projeto[[#This Row],[Trecho]]<>\"\",SUM(t_projeto[[#This Row],[f.1]:[f.3]]),\"\")","v":""},{"$f":"IF(t_projeto[[#This Row],[Trecho]]<>\"\",t_projeto[[#This Row],[Q.1]]+t_projeto[[#This Row],[Q.2]]+t_projeto[[#This Row],[Q.3]],\"\")","v":""},{"$f":"IF(AND(t_projeto[[#This Row],[FLUXO]]<>0,t_projeto[[#This Row],[FLUXO]]<>\"\"),ROUND(t_projeto[[#This Row],[FLUXO]]/t_projeto[[#This Row],[Luminárias]],0),\"\")","v":""},{"$f":"IF(AND(t_projeto[[#This Row],[Luminárias]]<>0,t_projeto[[#This Row],[Luminárias]]<>\"\"),ROUND(t_projeto[[#This Row],[lm_médio]]/t_projeto[[#This Row],[W_médio]],2),\"\")","v":""}]
[104,{"$f":"_xlfn.XLOOKUP(t_projeto[[#This Row],[cód.]],t_sitio[cód],t_sitio[Trecho],\"\")","v":""},null,null,{"$f":"IF(t_projeto[[#This Row],[T.1]]<>\"\",_xlfn.XLOOKUP(t_projeto[[#This Row],[T.1]],$G$22:$G$26,$H$22:$H$26),\"\")","v":""},null,null,{"$f":"IF(t_projeto[[#This Row],[T.2]]<>\"\",_xlfn.XLOOKUP(t_projeto[[#This Row],[T.2]],$G$22:$G$26,$H$22:$H$26),\"\")","v":""},null,null,{"$f":"IF(t_projeto[[#This Row],[T.3]]<>\"\",_xlfn.XLOOKUP(t_projeto[[#This Row],[T.3]],$G$22:$G$26,$H$22:$H$26),\"\")","v":""},null,{"$f":"t_projeto[[#This Row],[Q.1]]+t_projeto[[#This Row],[Q.2]]+t_projeto[[#This Row],[Q.3]]","v":0},{"$f":"t_projeto[[#This Row],[Q.1]]+t_projeto[[#This Row],[Q.2]]+t_projeto[[#This Row],[Q.3]]","v":0},{"$f":"IF(t_projeto[[#This Row],[Q.1]]<>\"\",SUMIFS(t_reator[p],t_reator[tipo],t_projeto[[#This Row],[T.1]],t_reator[w],t_projeto[[#This Row],[P.1(W)]]),\"\")","v":""},{"$f":"IF(t_projeto[[#This Row],[Q.2]]<>\"\",SUMIFS(t_reator[p],t_reator[tipo],t_projeto[[#This Row],[T.2]],t_reator[w],t_projeto[[#This Row],[P.2(W)]]),\"\")","v":""},{"$f":"IF(t_projeto[[#This Row],[Q.3]]<>\"\",SUMIFS(t_reator[p],t_reator[tipo],t_projeto[[#This Row],[T.3]],t_reator[w],t_projeto[[#This Row],[P.3(W)]]),\"\")","v":""},{"$f":"IF(t_projeto[[#This Row],[Q.1]]<>\"\",IFERROR(IFERROR(D566*(E566+O566)+G566*(H566+P566)+J566*(K566+Q566),D566*(E566+O566)+G566*(H566+P566)),D566*(E566+O566)),\"\")","v":""},{"$f":"IF(t_projeto[[#This Row],[Consumo_W]]<>\"\",ROUND(t_projeto[[#This Row],[Consumo_W]]/t_projeto[[#This Row],[Luminárias]],0),\"\")","v":""},{"$f":"IF(t_projeto[[#This Row],[Q.1]]<>\"\",t_projeto[[#This Row],[Q.1]]*t_projeto[[#This Row],[P.1(W)]]*$C$24,\"\")","v":""},{"$f":"IF(t_projeto[[#This Row],[Q.2]]<>\"\",t_projeto[[#This Row],[Q.2]]*t_projeto[[#This Row],[P.2(W)]]*$C$24,\"\")","v":""},{"$f":"IF(t_projeto[[#This Row],[Q.3]]<>\"\",t_projeto[[#This Row],[Q.3]]*t_projeto[[#This Row],[P.3(W)]]*$C$24,\"\")","v":""},{"$f":"IF(t_projeto[[#This Row],[Trecho]]<>\"\",SUM(t_projeto[[#This Row],[f.1]:[f.3]]),\"\")","v":""},{"$f":"IF(t_projeto[[#This Row],[Trecho]]<>\"\",t_projeto[[#This Row],[Q.1]]+t_projeto[[#This Row],[Q.2]]+t_projeto[[#This Row],[Q.3]],\"\")","v":""},{"$f":"IF(AND(t_projeto[[#This Row],[FLUXO]]<>0,t_projeto[[#This Row],[FLUXO]]<>\"\"),ROUND(t_projeto[[#This Row],[FLUXO]]/t_projeto[[#This Row],[Luminárias]],0),\"\")","v":""},{"$f":"IF(AND(t_projeto[[#This Row],[Luminárias]]<>0,t_projeto[[#This Row],[Luminárias]]<>\"\"),ROUND(t_projeto[[#This Row],[lm_médio]]/t_projeto[[#This Row],[W_médio]],2),\"\")","v":""}]
[105,{"$f":"_xlfn.XLOOKUP(t_projeto[[#This Row],[cód.]],t_sitio[cód],t_sitio[Trecho],\"\")","v":""},null,null,{"$f":"IF(t_projeto[[#This Row],[T.1]]<>\"\",_xlfn.XLOOKUP(t_projeto[[#This Row],[T.1]],$G$22:$G$26,$H$22:$H$26),\"\")","v":""},null,null,{"$f":"IF(t_projeto[[#This Row],[T.2]]<>\"\",_xlfn.XLOOKUP(t_projeto[[#This Row],[T.2]],$G$22:$G$26,$H$22:$H$26),\"\")","v":""},null,null,{"$f":"IF(t_projeto[[#This Row],[T.3]]<>\"\",_xlfn.XLOOKUP(t_projeto[[#This Row],[T.3]],$G$22:$G$26,$H$22:$H$26),\"\")","v":""},null,{"$f":"t_projeto[[#This Row],[Q.1]]+t_projeto[[#This Row],[Q.2]]+t_projeto[[#This Row],[Q.3]]","v":0},{"$f":"t_projeto[[#This Row],[Q.1]]+t_projeto[[#This Row],[Q.2]]+t_projeto[[#This Row],[Q.3]]","v":0},{"$f":"IF(t_projeto[[#This Row],[Q.1]]<>\"\",SUMIFS(t_reator[p],t_reator[tipo],t_projeto[[#This Row],[T.1]],t_reator[w],t_projeto[[#This Row],[P.1(W)]]),\"\")","v":""},{"$f":"IF(t_projeto[[#This Row],[Q.2]]<>\"\",SUMIFS(t_reator[p],t_reator[tipo],t_projeto[[#This Row],[T.2]],t_reator[w],t_projeto[[#This Row],[P.2(W)]]),\"\")","v":""},{"$f":"IF(t_projeto[[#This Row],[Q.3]]<>\"\",SUMIFS(t_reator[p],t_reator[tipo],t_projeto[[#This Row],[T.3]],t_reator[w],t_projeto[[#This Row],[P.3(W)]]),\"\")","v":""},{"$f":"IF(t_projeto[[#This Row],[Q.1]]<>\"\",IFERROR(IFERROR(D567*(E567+O567)+G567*(H567+P567)+J567*(K567+Q567),D567*(E567+O567)+G567*(H567+P567)),D567*(E567+O567)),\"\")","v":""},{"$f":"IF(t_projeto[[#This Row],[Consumo_W]]<>\"\",ROUND(t_projeto[[#This Row],[Consumo_W]]/t_projeto[[#This Row],[Luminárias]],0),\"\")","v":""},{"$f":"IF(t_projeto[[#This Row],[Q.1]]<>\"\",t_projeto[[#This Row],[Q.1]]*t_projeto[[#This Row],[P.1(W)]]*$C$24,\"\")","v":""},{"$f":"IF(t_projeto[[#This Row],[Q.2]]<>\"\",t_projeto[[#This Row],[Q.2]]*t_projeto[[#This Row],[P.2(W)]]*$C$24,\"\")","v":""},{"$f":"IF(t_projeto[[#This Row],[Q.3]]<>\"\",t_projeto[[#This Row],[Q.3]]*t_projeto[[#This Row],[P.3(W)]]*$C$24,\"\")","v":""},{"$f":"IF(t_projeto[[#This Row],[Trecho]]<>\"\",SUM(t_projeto[[#This Row],[f.1]:[f.3]]),\"\")","v":""},{"$f":"IF(t_projeto[[#This Row],[Trecho]]<>\"\",t_projeto[[#This Row],[Q.1]]+t_projeto[[#This Row],[Q.2]]+t_projeto[[#This Row],[Q.3]],\"\")","v":""},{"$f":"IF(AND(t_projeto[[#This Row],[FLUXO]]<>0,t_projeto[[#This Row],[FLUXO]]<>\"\"),ROUND(t_projeto[[#This Row],[FLUXO]]/t_projeto[[#This Row],[Luminárias]],0),\"\")","v":""},{"$f":"IF(AND(t_projeto[[#This Row],[Luminárias]]<>0,t_projeto[[#This Row],[Luminárias]]<>\"\"),ROUND(t_projeto[[#This Row],[lm_médio]]/t_projeto[[#This Row],[W_médio]],2),\"\")","v":""}]
[106,{"$f":"_xlfn.XLOOKUP(t_projeto[[#This Row],[cód.]],t_sitio[cód],t_sitio[Trecho],\"\")","v":""},null,null,{"$f":"IF(t_projeto[[#This Row],[T.1]]<>\"\",_xlfn.XLOOKUP(t_projeto[[#This Row],[T.1]],$G$22:$G$26,$H$22:$H$26),\"\")","v":""},null,null,{"$f":"IF(t_projeto[[#This Row],[T.2]]<>\"\",_xlfn.XLOOKUP(t_projeto[[#This Row],[T.2]],$G$22:$G$26,$H$22:$H$26),\"\")","v":""},null,null,{"$f":"IF(t_projeto[[#This Row],[T.3]]<>\"\",_xlfn.XLOOKUP(t_projeto[[#This Row],[T.3]],$G$22:$G$26,$H$22:$H$26),\"\")","v":""},null,{"$f":"t_projeto[[#This Row],[Q.1]]+t_projeto[[#This Row],[Q.2]]+t_projeto[[#This Row],[Q.3]]","v":0},{"$f":"t_projeto[[#This Row],[Q.1]]+t_projeto[[#This Row],[Q.2]]+t_projeto[[#This Row],[Q.3]]","v":0},{"$f":"IF(t_projeto[[#This Row],[Q.1]]<>\"\",SUMIFS(t_reator[p],t_reator[tipo],t_projeto[[#This Row],[T.1]],t_reator[w],t_projeto[[#This Row],[P.1(W)]]),\"\")","v":""},{"$f":"IF(t_projeto[[#This Row],[Q.2]]<>\"\",SUMIFS(t_reator[p],t_reator[tipo],t_projeto[[#This Row],[T.2]],t_reator[w],t_projeto[[#This Row],[P.2(W)]]),\"\")","v":""},{"$f":"IF(t_projeto[[#This Row],[Q.3]]<>\"\",SUMIFS(t_reator[p],t_reator[tipo],t_projeto[[#This Row],[T.3]],t_reator[w],t_projeto[[#This Row],[P.3(W)]]),\"\")","v":""},{"$f":"IF(t_projeto[[#This Row],[Q.1]]<>\"\",IFERROR(IFERROR(D568*(E568+O568)+G568*(H568+P568)+J568*(K568+Q568),D568*(E568+O568)+G568*(H568+P568)),D568*(E568+O568)),\"\")","v":""},{"$f":"IF(t_projeto[[#This Row],[Consumo_W]]<>\"\",ROUND(t_projeto[[#This Row],[Consumo_W]]/t_projeto[[#This Row],[Luminárias]],0),\"\")","v":""},{"$f":"IF(t_projeto[[#This Row],[Q.1]]<>\"\",t_projeto[[#This Row],[Q.1]]*t_projeto[[#This Row],[P.1(W)]]*$C$24,\"\")","v":""},{"$f":"IF(t_projeto[[#This Row],[Q.2]]<>\"\",t_projeto[[#This Row],[Q.2]]*t_projeto[[#This Row],[P.2(W)]]*$C$24,\"\")","v":""},{"$f":"IF(t_projeto[[#This Row],[Q.3]]<>\"\",t_projeto[[#This Row],[Q.3]]*t_projeto[[#This Row],[P.3(W)]]*$C$24,\"\")","v":""},{"$f":"IF(t_projeto[[#This Row],[Trecho]]<>\"\",SUM(t_projeto[[#This Row],[f.1]:[f.3]]),\"\")","v":""},{"$f":"IF(t_projeto[[#This Row],[Trecho]]<>\"\",t_projeto[[#This Row],[Q.1]]+t_projeto[[#This Row],[Q.2]]+t_projeto[[#This Row],[Q.3]],\"\")","v":""},{"$f":"IF(AND(t_projeto[[#This Row],[FLUXO]]<>0,t_projeto[[#This Row],[FLUXO]]<>\"\"),ROUND(t_projeto[[#This Row],[FLUXO]]/t_projeto[[#This Row],[Luminárias]],0),\"\")","v":""},{"$f":"IF(AND(t_projeto[[#This Row],[Luminárias]]<>0,t_projeto[[#This Row],[Luminárias]]<>\"\"),ROUND(t_projeto[[#This Row],[lm_médio]]/t_projeto[[#This Row],[W_médio]],2),\"\")","v":""}]
[107,{"$f":"_xlfn.XLOOKUP(t_projeto[[#This Row],[cód.]],t_sitio[cód],t_sitio[Trecho],\"\")","v":""},null,null,{"$f":"IF(t_projeto[[#This Row],[T.1]]<>\"\",_xlfn.XLOOKUP(t_projeto[[#This Row],[T.1]],$G$22:$G$26,$H$22:$H$26),\"\")","v":""},null,null,{"$f":"IF(t_projeto[[#This Row],[T.2]]<>\"\",_xlfn.XLOOKUP(t_projeto[[#This Row],[T.2]],$G$22:$G$26,$H$22:$H$26),\"\")","v":""},null,null,{"$f":"IF(t_projeto[[#This Row],[T.3]]<>\"\",_xlfn.XLOOKUP(t_projeto[[#This Row],[T.3]],$G$22:$G$26,$H$22:$H$26),\"\")","v":""},null,{"$f":"t_projeto[[#This Row],[Q.1]]+t_projeto[[#This Row],[Q.2]]+t_projeto[[#This Row],[Q.3]]","v":0},{"$f":"t_projeto[[#This Row],[Q.1]]+t_projeto[[#This Row],[Q.2]]+t_projeto[[#This Row],[Q.3]]","v":0},{"$f":"IF(t_projeto[[#This Row],[Q.1]]<>\"\",SUMIFS(t_reator[p],t_reator[tipo],t_projeto[[#This Row],[T.1]],t_reator[w],t_projeto[[#This Row],[P.1(W)]]),\"\")","v":""},{"$f":"IF(t_projeto[[#This Row],[Q.2]]<>\"\",SUMIFS(t_reator[p],t_reator[tipo],t_projeto[[#This Row],[T.2]],t_reator[w],t_projeto[[#This Row],[P.2(W)]]),\"\")","v":""},{"$f":"IF(t_projeto[[#This Row],[Q.3]]<>\"\",SUMIFS(t_reator[p],t_reator[tipo],t_projeto[[#This Row],[T.3]],t_reator[w],t_projeto[[#This Row],[P.3(W)]]),\"\")","v":""},{"$f":"IF(t_projeto[[#This Row],[Q.1]]<>\"\",IFERROR(IFERROR(D569*(E569+O569)+G569*(H569+P569)+J569*(K569+Q569),D569*(E569+O569)+G569*(H569+P569)),D569*(E569+O569)),\"\")","v":""},{"$f":"IF(t_projeto[[#This Row],[Consumo_W]]<>\"\",ROUND(t_projeto[[#This Row],[Consumo_W]]/t_projeto[[#This Row],[Luminárias]],0),\"\")","v":""},{"$f":"IF(t_projeto[[#This Row],[Q.1]]<>\"\",t_projeto[[#This Row],[Q.1]]*t_projeto[[#This Row],[P.1(W)]]*$C$24,\"\")","v":""},{"$f":"IF(t_projeto[[#This Row],[Q.2]]<>\"\",t_projeto[[#This Row],[Q.2]]*t_projeto[[#This Row],[P.2(W)]]*$C$24,\"\")","v":""},{"$f":"IF(t_projeto[[#This Row],[Q.3]]<>\"\",t_projeto[[#This Row],[Q.3]]*t_projeto[[#This Row],[P.3(W)]]*$C$24,\"\")","v":""},{"$f":"IF(t_projeto[[#This Row],[Trecho]]<>\"\",SUM(t_projeto[[#This Row],[f.1]:[f.3]]),\"\")","v":""},{"$f":"IF(t_projeto[[#This Row],[Trecho]]<>\"\",t_projeto[[#This Row],[Q.1]]+t_projeto[[#This Row],[Q.2]]+t_projeto[[#This Row],[Q.3]],\"\")","v":""},{"$f":"IF(AND(t_projeto[[#This Row],[FLUXO]]<>0,t_projeto[[#This Row],[FLUXO]]<>\"\"),ROUND(t_projeto[[#This Row],[FLUXO]]/t_projeto[[#This Row],[Luminárias]],0),\"\")","v":""},{"$f":"IF(AND(t_projeto[[#This Row],[Luminárias]]<>0,t_projeto[[#This Row],[Luminárias]]<>\"\"),ROUND(t_projeto[[#This Row],[lm_médio]]/t_projeto[[#This Row],[W_médio]],2),\"\")","v":""}]
[108,{"$f":"_xlfn.XLOOKUP(t_projeto[[#This Row],[cód.]],t_sitio[cód],t_sitio[Trecho],\"\")","v":""},null,null,{"$f":"IF(t_projeto[[#This Row],[T.1]]<>\"\",_xlfn.XLOOKUP(t_projeto[[#This Row],[T.1]],$G$22:$G$26,$H$22:$H$26),\"\")","v":""},null,null,{"$f":"IF(t_projeto[[#This Row],[T.2]]<>\"\",_xlfn.XLOOKUP(t_projeto[[#This Row],[T.2]],$G$22:$G$26,$H$22:$H$26),\"\")","v":""},null,null,{"$f":"IF(t_projeto[[#This Row],[T.3]]<>\"\",_xlfn.XLOOKUP(t_projeto[[#This Row],[T.3]],$G$22:$G$26,$H$22:$H$26),\"\")","v":""},null,{"$f":"t_projeto[[#This Row],[Q.1]]+t_projeto[[#This Row],[Q.2]]+t_projeto[[#This Row],[Q.3]]","v":0},{"$f":"t_projeto[[#This Row],[Q.1]]+t_projeto[[#This Row],[Q.2]]+t_projeto[[#This Row],[Q.3]]","v":0},{"$f":"IF(t_projeto[[#This Row],[Q.1]]<>\"\",SUMIFS(t_reator[p],t_reator[tipo],t_projeto[[#This Row],[T.1]],t_reator[w],t_projeto[[#This Row],[P.1(W)]]),\"\")","v":""},{"$f":"IF(t_projeto[[#This Row],[Q.2]]<>\"\",SUMIFS(t_reator[p],t_reator[tipo],t_projeto[[#This Row],[T.2]],t_reator[w],t_projeto[[#This Row],[P.2(W)]]),\"\")","v":""},{"$f":"IF(t_projeto[[#This Row],[Q.3]]<>\"\",SUMIFS(t_reator[p],t_reator[tipo],t_projeto[[#This Row],[T.3]],t_reator[w],t_projeto[[#This Row],[P.3(W)]]),\"\")","v":""},{"$f":"IF(t_projeto[[#This Row],[Q.1]]<>\"\",IFERROR(IFERROR(D570*(E570+O570)+G570*(H570+P570)+J570*(K570+Q570),D570*(E570+O570)+G570*(H570+P570)),D570*(E570+O570)),\"\")","v":""},{"$f":"IF(t_projeto[[#This Row],[Consumo_W]]<>\"\",ROUND(t_projeto[[#This Row],[Consumo_W]]/t_projeto[[#This Row],[Luminárias]],0),\"\")","v":""},{"$f":"IF(t_projeto[[#This Row],[Q.1]]<>\"\",t_projeto[[#This Row],[Q.1]]*t_projeto[[#This Row],[P.1(W)]]*$C$24,\"\")","v":""},{"$f":"IF(t_projeto[[#This Row],[Q.2]]<>\"\",t_projeto[[#This Row],[Q.2]]*t_projeto[[#This Row],[P.2(W)]]*$C$24,\"\")","v":""},{"$f":"IF(t_projeto[[#This Row],[Q.3]]<>\"\",t_projeto[[#This Row],[Q.3]]*t_projeto[[#This Row],[P.3(W)]]*$C$24,\"\")","v":""},{"$f":"IF(t_projeto[[#This Row],[Trecho]]<>\"\",SUM(t_projeto[[#This Row],[f.1]:[f.3]]),\"\")","v":""},{"$f":"IF(t_projeto[[#This Row],[Trecho]]<>\"\",t_projeto[[#This Row],[Q.1]]+t_projeto[[#This Row],[Q.2]]+t_projeto[[#This Row],[Q.3]],\"\")","v":""},{"$f":"IF(AND(t_projeto[[#This Row],[FLUXO]]<>0,t_projeto[[#This Row],[FLUXO]]<>\"\"),ROUND(t_projeto[[#This Row],[FLUXO]]/t_projeto[[#This Row],[Luminárias]],0),\"\")","v":""},{"$f":"IF(AND(t_projeto[[#This Row],[Luminárias]]<>0,t_projeto[[#This Row],[Luminárias]]<>\"\"),ROUND(t_projeto[[#This Row],[lm_médio]]/t_projeto[[#This Row],[W_médio]],2),\"\")","v":""}]
[109,{"$f":"_xlfn.XLOOKUP(t_projeto[[#This Row],[cód.]],t_sitio[cód],t_sitio[Trecho],\"\")","v":""},null,null,{"$f":"IF(t_projeto[[#This Row],[T.1]]<>\"\",_xlfn.XLOOKUP(t_projeto[[#This Row],[T.1]],$G$22:$G$26,$H$22:$H$26),\"\")","v":""},null,null,{"$f":"IF(t_projeto[[#This Row],[T.2]]<>\"\",_xlfn.XLOOKUP(t_projeto[[#This Row],[T.2]],$G$22:$G$26,$H$22:$H$26),\"\")","v":""},null,null,{"$f":"IF(t_projeto[[#This Row],[T.3]]<>\"\",_xlfn.XLOOKUP(t_projeto[[#This Row],[T.3]],$G$22:$G$26,$H$22:$H$26),\"\")","v":""},null,{"$f":"t_projeto[[#This Row],[Q.1]]+t_projeto[[#This Row],[Q.2]]+t_projeto[[#This Row],[Q.3]]","v":0},{"$f":"t_projeto[[#This Row],[Q.1]]+t_projeto[[#This Row],[Q.2]]+t_projeto[[#This Row],[Q.3]]","v":0},{"$f":"IF(t_projeto[[#This Row],[Q.1]]<>\"\",SUMIFS(t_reator[p],t_reator[tipo],t_projeto[[#This Row],[T.1]],t_reator[w],t_projeto[[#This Row],[P.1(W)]]),\"\")","v":""},{"$f":"IF(t_projeto[[#This Row],[Q.2]]<>\"\",SUMIFS(t_reator[p],t_reator[tipo],t_projeto[[#This Row],[T.2]],t_reator[w],t_projeto[[#This Row],[P.2(W)]]),\"\")","v":""},{"$f":"IF(t_projeto[[#This Row],[Q.3]]<>\"\",SUMIFS(t_reator[p],t_reator[tipo],t_projeto[[#This Row],[T.3]],t_reator[w],t_projeto[[#This Row],[P.3(W)]]),\"\")","v":""},{"$f":"IF(t_projeto[[#This Row],[Q.1]]<>\"\",IFERROR(IFERROR(D571*(E571+O571)+G571*(H571+P571)+J571*(K571+Q571),D571*(E571+O571)+G571*(H571+P571)),D571*(E571+O571)),\"\")","v":""},{"$f":"IF(t_projeto[[#This Row],[Consumo_W]]<>\"\",ROUND(t_projeto[[#This Row],[Consumo_W]]/t_projeto[[#This Row],[Luminárias]],0),\"\")","v":""},{"$f":"IF(t_projeto[[#This Row],[Q.1]]<>\"\",t_projeto[[#This Row],[Q.1]]*t_projeto[[#This Row],[P.1(W)]]*$C$24,\"\")","v":""},{"$f":"IF(t_projeto[[#This Row],[Q.2]]<>\"\",t_projeto[[#This Row],[Q.2]]*t_projeto[[#This Row],[P.2(W)]]*$C$24,\"\")","v":""},{"$f":"IF(t_projeto[[#This Row],[Q.3]]<>\"\",t_projeto[[#This Row],[Q.3]]*t_projeto[[#This Row],[P.3(W)]]*$C$24,\"\")","v":""},{"$f":"IF(t_projeto[[#This Row],[Trecho]]<>\"\",SUM(t_projeto[[#This Row],[f.1]:[f.3]]),\"\")","v":""},{"$f":"IF(t_projeto[[#This Row],[Trecho]]<>\"\",t_projeto[[#This Row],[Q.1]]+t_projeto[[#This Row],[Q.2]]+t_projeto[[#This Row],[Q.3]],\"\")","v":""},{"$f":"IF(AND(t_projeto[[#This Row],[FLUXO]]<>0,t_projeto[[#This Row],[FLUXO]]<>\"\"),ROUND(t_projeto[[#This Row],[FLUXO]]/t_projeto[[#This Row],[Luminárias]],0),\"\")","v":""},{"$f":"IF(AND(t_projeto[[#This Row],[Luminárias]]<>0,t_projeto[[#This Row],[Luminárias]]<>\"\"),ROUND(t_projeto[[#This Row],[lm_médio]]/t_projeto[[#This Row],[W_médio]],2),\"\")","v":""}]
[110,{"$f":"_xlfn.XLOOKUP(t_projeto[[#This Row],[cód.]],t_sitio[cód],t_sitio[Trecho],\"\")","v":""},null,null,{"$f":"IF(t_projeto[[#This Row],[T.1]]<>\"\",_xlfn.XLOOKUP(t_projeto[[#This Row],[T.1]],$G$22:$G$26,$H$22:$H$26),\"\")","v":""},null,null,{"$f":"IF(t_projeto[[#This Row],[T.2]]<>\"\",_xlfn.XLOOKUP(t_projeto[[#This Row],[T.2]],$G$22:$G$26,$H$22:$H$26),\"\")","v":""},null,null,{"$f":"IF(t_projeto[[#This Row],[T.3]]<>\"\",_xlfn.XLOOKUP(t_projeto[[#This Row],[T.3]],$G$22:$G$26,$H$22:$H$26),\"\")","v":""},null,{"$f":"t_projeto[[#This Row],[Q.1]]+t_projeto[[#This Row],[Q.2]]+t_projeto[[#This Row],[Q.3]]","v":0},{"$f":"t_projeto[[#This Row],[Q.1]]+t_projeto[[#This Row],[Q.2]]+t_projeto[[#This Row],[Q.3]]","v":0},{"$f":"IF(t_projeto[[#This Row],[Q.1]]<>\"\",SUMIFS(t_reator[p],t_reator[tipo],t_projeto[[#This Row],[T.1]],t_reator[w],t_projeto[[#This Row],[P.1(W)]]),\"\")","v":""},{"$f":"IF(t_projeto[[#This Row],[Q.2]]<>\"\",SUMIFS(t_reator[p],t_reator[tipo],t_projeto[[#This Row],[T.2]],t_reator[w],t_projeto[[#This Row],[P.2(W)]]),\"\")","v":""},{"$f":"IF(t_projeto[[#This Row],[Q.3]]<>\"\",SUMIFS(t_reator[p],t_reator[tipo],t_projeto[[#This Row],[T.3]],t_reator[w],t_projeto[[#This Row],[P.3(W)]]),\"\")","v":""},{"$f":"IF(t_projeto[[#This Row],[Q.1]]<>\"\",IFERROR(IFERROR(D572*(E572+O572)+G572*(H572+P572)+J572*(K572+Q572),D572*(E572+O572)+G572*(H572+P572)),D572*(E572+O572)),\"\")","v":""},{"$f":"IF(t_projeto[[#This Row],[Consumo_W]]<>\"\",ROUND(t_projeto[[#This Row],[Consumo_W]]/t_projeto[[#This Row],[Luminárias]],0),\"\")","v":""},{"$f":"IF(t_projeto[[#This Row],[Q.1]]<>\"\",t_projeto[[#This Row],[Q.1]]*t_projeto[[#This Row],[P.1(W)]]*$C$24,\"\")","v":""},{"$f":"IF(t_projeto[[#This Row],[Q.2]]<>\"\",t_projeto[[#This Row],[Q.2]]*t_projeto[[#This Row],[P.2(W)]]*$C$24,\"\")","v":""},{"$f":"IF(t_projeto[[#This Row],[Q.3]]<>\"\",t_projeto[[#This Row],[Q.3]]*t_projeto[[#This Row],[P.3(W)]]*$C$24,\"\")","v":""},{"$f":"IF(t_projeto[[#This Row],[Trecho]]<>\"\",SUM(t_projeto[[#This Row],[f.1]:[f.3]]),\"\")","v":""},{"$f":"IF(t_projeto[[#This Row],[Trecho]]<>\"\",t_projeto[[#This Row],[Q.1]]+t_projeto[[#This Row],[Q.2]]+t_projeto[[#This Row],[Q.3]],\"\")","v":""},{"$f":"IF(AND(t_projeto[[#This Row],[FLUXO]]<>0,t_projeto[[#This Row],[FLUXO]]<>\"\"),ROUND(t_projeto[[#This Row],[FLUXO]]/t_projeto[[#This Row],[Luminárias]],0),\"\")","v":""},{"$f":"IF(AND(t_projeto[[#This Row],[Luminárias]]<>0,t_projeto[[#This Row],[Luminárias]]<>\"\"),ROUND(t_projeto[[#This Row],[lm_médio]]/t_projeto[[#This Row],[W_médio]],2),\"\")","v":""}]
[111,{"$f":"_xlfn.XLOOKUP(t_projeto[[#This Row],[cód.]],t_sitio[cód],t_sitio[Trecho],\"\")","v":""},null,null,{"$f":"IF(t_projeto[[#This Row],[T.1]]<>\"\",_xlfn.XLOOKUP(t_projeto[[#This Row],[T.1]],$G$22:$G$26,$H$22:$H$26),\"\")","v":""},null,null,{"$f":"IF(t_projeto[[#This Row],[T.2]]<>\"\",_xlfn.XLOOKUP(t_projeto[[#This Row],[T.2]],$G$22:$G$26,$H$22:$H$26),\"\")","v":""},null,null,{"$f":"IF(t_projeto[[#This Row],[T.3]]<>\"\",_xlfn.XLOOKUP(t_projeto[[#This Row],[T.3]],$G$22:$G$26,$H$22:$H$26),\"\")","v":""},null,{"$f":"t_projeto[[#This Row],[Q.1]]+t_projeto[[#This Row],[Q.2]]+t_projeto[[#This Row],[Q.3]]","v":0},{"$f":"t_projeto[[#This Row],[Q.1]]+t_projeto[[#This Row],[Q.2]]+t_projeto[[#This Row],[Q.3]]","v":0},{"$f":"IF(t_projeto[[#This Row],[Q.1]]<>\"\",SUMIFS(t_reator[p],t_reator[tipo],t_projeto[[#This Row],[T.1]],t_reator[w],t_projeto[[#This Row],[P.1(W)]]),\"\")","v":""},{"$f":"IF(t_projeto[[#This Row],[Q.2]]<>\"\",SUMIFS(t_reator[p],t_reator[tipo],t_projeto[[#This Row],[T.2]],t_reator[w],t_projeto[[#This Row],[P.2(W)]]),\"\")","v":""},{"$f":"IF(t_projeto[[#This Row],[Q.3]]<>\"\",SUMIFS(t_reator[p],t_reator[tipo],t_projeto[[#This Row],[T.3]],t_reator[w],t_projeto[[#This Row],[P.3(W)]]),\"\")","v":""},{"$f":"IF(t_projeto[[#This Row],[Q.1]]<>\"\",IFERROR(IFERROR(D573*(E573+O573)+G573*(H573+P573)+J573*(K573+Q573),D573*(E573+O573)+G573*(H573+P573)),D573*(E573+O573)),\"\")","v":""},{"$f":"IF(t_projeto[[#This Row],[Consumo_W]]<>\"\",ROUND(t_projeto[[#This Row],[Consumo_W]]/t_projeto[[#This Row],[Luminárias]],0),\"\")","v":""},{"$f":"IF(t_projeto[[#This Row],[Q.1]]<>\"\",t_projeto[[#This Row],[Q.1]]*t_projeto[[#This Row],[P.1(W)]]*$C$24,\"\")","v":""},{"$f":"IF(t_projeto[[#This Row],[Q.2]]<>\"\",t_projeto[[#This Row],[Q.2]]*t_projeto[[#This Row],[P.2(W)]]*$C$24,\"\")","v":""},{"$f":"IF(t_projeto[[#This Row],[Q.3]]<>\"\",t_projeto[[#This Row],[Q.3]]*t_projeto[[#This Row],[P.3(W)]]*$C$24,\"\")","v":""},{"$f":"IF(t_projeto[[#This Row],[Trecho]]<>\"\",SUM(t_projeto[[#This Row],[f.1]:[f.3]]),\"\")","v":""},{"$f":"IF(t_projeto[[#This Row],[Trecho]]<>\"\",t_projeto[[#This Row],[Q.1]]+t_projeto[[#This Row],[Q.2]]+t_projeto[[#This Row],[Q.3]],\"\")","v":""},{"$f":"IF(AND(t_projeto[[#This Row],[FLUXO]]<>0,t_projeto[[#This Row],[FLUXO]]<>\"\"),ROUND(t_projeto[[#This Row],[FLUXO]]/t_projeto[[#This Row],[Luminárias]],0),\"\")","v":""},{"$f":"IF(AND(t_projeto[[#This Row],[Luminárias]]<>0,t_projeto[[#This Row],[Luminárias]]<>\"\"),ROUND(t_projeto[[#This Row],[lm_médio]]/t_projeto[[#This Row],[W_médio]],2),\"\")","v":""}]
[112,{"$f":"_xlfn.XLOOKUP(t_projeto[[#This Row],[cód.]],t_sitio[cód],t_sitio[Trecho],\"\")","v":""},null,null,{"$f":"IF(t_projeto[[#This Row],[T.1]]<>\"\",_xlfn.XLOOKUP(t_projeto[[#This Row],[T.1]],$G$22:$G$26,$H$22:$H$26),\"\")","v":""},null,null,{"$f":"IF(t_projeto[[#This Row],[T.2]]<>\"\",_xlfn.XLOOKUP(t_projeto[[#This Row],[T.2]],$G$22:$G$26,$H$22:$H$26),\"\")","v":""},null,null,{"$f":"IF(t_projeto[[#This Row],[T.3]]<>\"\",_xlfn.XLOOKUP(t_projeto[[#This Row],[T.3]],$G$22:$G$26,$H$22:$H$26),\"\")","v":""},null,{"$f":"t_projeto[[#This Row],[Q.1]]+t_projeto[[#This Row],[Q.2]]+t_projeto[[#This Row],[Q.3]]","v":0},{"$f":"t_projeto[[#This Row],[Q.1]]+t_projeto[[#This Row],[Q.2]]+t_projeto[[#This Row],[Q.3]]","v":0},{"$f":"IF(t_projeto[[#This Row],[Q.1]]<>\"\",SUMIFS(t_reator[p],t_reator[tipo],t_projeto[[#This Row],[T.1]],t_reator[w],t_projeto[[#This Row],[P.1(W)]]),\"\")","v":""},{"$f":"IF(t_projeto[[#This Row],[Q.2]]<>\"\",SUMIFS(t_reator[p],t_reator[tipo],t_projeto[[#This Row],[T.2]],t_reator[w],t_projeto[[#This Row],[P.2(W)]]),\"\")","v":""},{"$f":"IF(t_projeto[[#This Row],[Q.3]]<>\"\",SUMIFS(t_reator[p],t_reator[tipo],t_projeto[[#This Row],[T.3]],t_reator[w],t_projeto[[#This Row],[P.3(W)]]),\"\")","v":""},{"$f":"IF(t_projeto[[#This Row],[Q.1]]<>\"\",IFERROR(IFERROR(D574*(E574+O574)+G574*(H574+P574)+J574*(K574+Q574),D574*(E574+O574)+G574*(H574+P574)),D574*(E574+O574)),\"\")","v":""},{"$f":"IF(t_projeto[[#This Row],[Consumo_W]]<>\"\",ROUND(t_projeto[[#This Row],[Consumo_W]]/t_projeto[[#This Row],[Luminárias]],0),\"\")","v":""},{"$f":"IF(t_projeto[[#This Row],[Q.1]]<>\"\",t_projeto[[#This Row],[Q.1]]*t_projeto[[#This Row],[P.1(W)]]*$C$24,\"\")","v":""},{"$f":"IF(t_projeto[[#This Row],[Q.2]]<>\"\",t_projeto[[#This Row],[Q.2]]*t_projeto[[#This Row],[P.2(W)]]*$C$24,\"\")","v":""},{"$f":"IF(t_projeto[[#This Row],[Q.3]]<>\"\",t_projeto[[#This Row],[Q.3]]*t_projeto[[#This Row],[P.3(W)]]*$C$24,\"\")","v":""},{"$f":"IF(t_projeto[[#This Row],[Trecho]]<>\"\",SUM(t_projeto[[#This Row],[f.1]:[f.3]]),\"\")","v":""},{"$f":"IF(t_projeto[[#This Row],[Trecho]]<>\"\",t_projeto[[#This Row],[Q.1]]+t_projeto[[#This Row],[Q.2]]+t_projeto[[#This Row],[Q.3]],\"\")","v":""},{"$f":"IF(AND(t_projeto[[#This Row],[FLUXO]]<>0,t_projeto[[#This Row],[FLUXO]]<>\"\"),ROUND(t_projeto[[#This Row],[FLUXO]]/t_projeto[[#This Row],[Luminárias]],0),\"\")","v":""},{"$f":"IF(AND(t_projeto[[#This Row],[Luminárias]]<>0,t_projeto[[#This Row],[Luminárias]]<>\"\"),ROUND(t_projeto[[#This Row],[lm_médio]]/t_projeto[[#This Row],[W_médio]],2),\"\")","v":""}]
[113,{"$f":"_xlfn.XLOOKUP(t_projeto[[#This Row],[cód.]],t_sitio[cód],t_sitio[Trecho],\"\")","v":""},null,null,{"$f":"IF(t_projeto[[#This Row],[T.1]]<>\"\",_xlfn.XLOOKUP(t_projeto[[#This Row],[T.1]],$G$22:$G$26,$H$22:$H$26),\"\")","v":""},null,null,{"$f":"IF(t_projeto[[#This Row],[T.2]]<>\"\",_xlfn.XLOOKUP(t_projeto[[#This Row],[T.2]],$G$22:$G$26,$H$22:$H$26),\"\")","v":""},null,null,{"$f":"IF(t_projeto[[#This Row],[T.3]]<>\"\",_xlfn.XLOOKUP(t_projeto[[#This Row],[T.3]],$G$22:$G$26,$H$22:$H$26),\"\")","v":""},null,{"$f":"t_projeto[[#This Row],[Q.1]]+t_projeto[[#This Row],[Q.2]]+t_projeto[[#This Row],[Q.3]]","v":0},{"$f":"t_projeto[[#This Row],[Q.1]]+t_projeto[[#This Row],[Q.2]]+t_projeto[[#This Row],[Q.3]]","v":0},{"$f":"IF(t_projeto[[#This Row],[Q.1]]<>\"\",SUMIFS(t_reator[p],t_reator[tipo],t_projeto[[#This Row],[T.1]],t_reator[w],t_projeto[[#This Row],[P.1(W)]]),\"\")","v":""},{"$f":"IF(t_projeto[[#This Row],[Q.2]]<>\"\",SUMIFS(t_reator[p],t_reator[tipo],t_projeto[[#This Row],[T.2]],t_reator[w],t_projeto[[#This Row],[P.2(W)]]),\"\")","v":""},{"$f":"IF(t_projeto[[#This Row],[Q.3]]<>\"\",SUMIFS(t_reator[p],t_reator[tipo],t_projeto[[#This Row],[T.3]],t_reator[w],t_projeto[[#This Row],[P.3(W)]]),\"\")","v":""},{"$f":"IF(t_projeto[[#This Row],[Q.1]]<>\"\",IFERROR(IFERROR(D575*(E575+O575)+G575*(H575+P575)+J575*(K575+Q575),D575*(E575+O575)+G575*(H575+P575)),D575*(E575+O575)),\"\")","v":""},{"$f":"IF(t_projeto[[#This Row],[Consumo_W]]<>\"\",ROUND(t_projeto[[#This Row],[Consumo_W]]/t_projeto[[#This Row],[Luminárias]],0),\"\")","v":""},{"$f":"IF(t_projeto[[#This Row],[Q.1]]<>\"\",t_projeto[[#This Row],[Q.1]]*t_projeto[[#This Row],[P.1(W)]]*$C$24,\"\")","v":""},{"$f":"IF(t_projeto[[#This Row],[Q.2]]<>\"\",t_projeto[[#This Row],[Q.2]]*t_projeto[[#This Row],[P.2(W)]]*$C$24,\"\")","v":""},{"$f":"IF(t_projeto[[#This Row],[Q.3]]<>\"\",t_projeto[[#This Row],[Q.3]]*t_projeto[[#This Row],[P.3(W)]]*$C$24,\"\")","v":""},{"$f":"IF(t_projeto[[#This Row],[Trecho]]<>\"\",SUM(t_projeto[[#This Row],[f.1]:[f.3]]),\"\")","v":""},{"$f":"IF(t_projeto[[#This Row],[Trecho]]<>\"\",t_projeto[[#This Row],[Q.1]]+t_projeto[[#This Row],[Q.2]]+t_projeto[[#This Row],[Q.3]],\"\")","v":""},{"$f":"IF(AND(t_projeto[[#This Row],[FLUXO]]<>0,t_projeto[[#This Row],[FLUXO]]<>\"\"),ROUND(t_projeto[[#This Row],[FLUXO]]/t_projeto[[#This Row],[Luminárias]],0),\"\")","v":""},{"$f":"IF(AND(t_projeto[[#This Row],[Luminárias]]<>0,t_projeto[[#This Row],[Luminárias]]<>\"\"),ROUND(t_projeto[[#This Row],[lm_médio]]/t_projeto[[#This Row],[W_médio]],2),\"\")","v":""}]
[114,{"$f":"_xlfn.XLOOKUP(t_projeto[[#This Row],[cód.]],t_sitio[cód],t_sitio[Trecho],\"\")","v":""},null,null,{"$f":"IF(t_projeto[[#This Row],[T.1]]<>\"\",_xlfn.XLOOKUP(t_projeto[[#This Row],[T.1]],$G$22:$G$26,$H$22:$H$26),\"\")","v":""},null,null,{"$f":"IF(t_projeto[[#This Row],[T.2]]<>\"\",_xlfn.XLOOKUP(t_projeto[[#This Row],[T.2]],$G$22:$G$26,$H$22:$H$26),\"\")","v":""},null,null,{"$f":"IF(t_projeto[[#This Row],[T.3]]<>\"\",_xlfn.XLOOKUP(t_projeto[[#This Row],[T.3]],$G$22:$G$26,$H$22:$H$26),\"\")","v":""},null,{"$f":"t_projeto[[#This Row],[Q.1]]+t_projeto[[#This Row],[Q.2]]+t_projeto[[#This Row],[Q.3]]","v":0},{"$f":"t_projeto[[#This Row],[Q.1]]+t_projeto[[#This Row],[Q.2]]+t_projeto[[#This Row],[Q.3]]","v":0},{"$f":"IF(t_projeto[[#This Row],[Q.1]]<>\"\",SUMIFS(t_reator[p],t_reator[tipo],t_projeto[[#This Row],[T.1]],t_reator[w],t_projeto[[#This Row],[P.1(W)]]),\"\")","v":""},{"$f":"IF(t_projeto[[#This Row],[Q.2]]<>\"\",SUMIFS(t_reator[p],t_reator[tipo],t_projeto[[#This Row],[T.2]],t_reator[w],t_projeto[[#This Row],[P.2(W)]]),\"\")","v":""},{"$f":"IF(t_projeto[[#This Row],[Q.3]]<>\"\",SUMIFS(t_reator[p],t_reator[tipo],t_projeto[[#This Row],[T.3]],t_reator[w],t_projeto[[#This Row],[P.3(W)]]),\"\")","v":""},{"$f":"IF(t_projeto[[#This Row],[Q.1]]<>\"\",IFERROR(IFERROR(D576*(E576+O576)+G576*(H576+P576)+J576*(K576+Q576),D576*(E576+O576)+G576*(H576+P576)),D576*(E576+O576)),\"\")","v":""},{"$f":"IF(t_projeto[[#This Row],[Consumo_W]]<>\"\",ROUND(t_projeto[[#This Row],[Consumo_W]]/t_projeto[[#This Row],[Luminárias]],0),\"\")","v":""},{"$f":"IF(t_projeto[[#This Row],[Q.1]]<>\"\",t_projeto[[#This Row],[Q.1]]*t_projeto[[#This Row],[P.1(W)]]*$C$24,\"\")","v":""},{"$f":"IF(t_projeto[[#This Row],[Q.2]]<>\"\",t_projeto[[#This Row],[Q.2]]*t_projeto[[#This Row],[P.2(W)]]*$C$24,\"\")","v":""},{"$f":"IF(t_projeto[[#This Row],[Q.3]]<>\"\",t_projeto[[#This Row],[Q.3]]*t_projeto[[#This Row],[P.3(W)]]*$C$24,\"\")","v":""},{"$f":"IF(t_projeto[[#This Row],[Trecho]]<>\"\",SUM(t_projeto[[#This Row],[f.1]:[f.3]]),\"\")","v":""},{"$f":"IF(t_projeto[[#This Row],[Trecho]]<>\"\",t_projeto[[#This Row],[Q.1]]+t_projeto[[#This Row],[Q.2]]+t_projeto[[#This Row],[Q.3]],\"\")","v":""},{"$f":"IF(AND(t_projeto[[#This Row],[FLUXO]]<>0,t_projeto[[#This Row],[FLUXO]]<>\"\"),ROUND(t_projeto[[#This Row],[FLUXO]]/t_projeto[[#This Row],[Luminárias]],0),\"\")","v":""},{"$f":"IF(AND(t_projeto[[#This Row],[Luminárias]]<>0,t_projeto[[#This Row],[Luminárias]]<>\"\"),ROUND(t_projeto[[#This Row],[lm_médio]]/t_projeto[[#This Row],[W_médio]],2),\"\")","v":""}]
[115,{"$f":"_xlfn.XLOOKUP(t_projeto[[#This Row],[cód.]],t_sitio[cód],t_sitio[Trecho],\"\")","v":""},null,null,{"$f":"IF(t_projeto[[#This Row],[T.1]]<>\"\",_xlfn.XLOOKUP(t_projeto[[#This Row],[T.1]],$G$22:$G$26,$H$22:$H$26),\"\")","v":""},null,null,{"$f":"IF(t_projeto[[#This Row],[T.2]]<>\"\",_xlfn.XLOOKUP(t_projeto[[#This Row],[T.2]],$G$22:$G$26,$H$22:$H$26),\"\")","v":""},null,null,{"$f":"IF(t_projeto[[#This Row],[T.3]]<>\"\",_xlfn.XLOOKUP(t_projeto[[#This Row],[T.3]],$G$22:$G$26,$H$22:$H$26),\"\")","v":""},null,{"$f":"t_projeto[[#This Row],[Q.1]]+t_projeto[[#This Row],[Q.2]]+t_projeto[[#This Row],[Q.3]]","v":0},{"$f":"t_projeto[[#This Row],[Q.1]]+t_projeto[[#This Row],[Q.2]]+t_projeto[[#This Row],[Q.3]]","v":0},{"$f":"IF(t_projeto[[#This Row],[Q.1]]<>\"\",SUMIFS(t_reator[p],t_reator[tipo],t_projeto[[#This Row],[T.1]],t_reator[w],t_projeto[[#This Row],[P.1(W)]]),\"\")","v":""},{"$f":"IF(t_projeto[[#This Row],[Q.2]]<>\"\",SUMIFS(t_reator[p],t_reator[tipo],t_projeto[[#This Row],[T.2]],t_reator[w],t_projeto[[#This Row],[P.2(W)]]),\"\")","v":""},{"$f":"IF(t_projeto[[#This Row],[Q.3]]<>\"\",SUMIFS(t_reator[p],t_reator[tipo],t_projeto[[#This Row],[T.3]],t_reator[w],t_projeto[[#This Row],[P.3(W)]]),\"\")","v":""},{"$f":"IF(t_projeto[[#This Row],[Q.1]]<>\"\",IFERROR(IFERROR(D577*(E577+O577)+G577*(H577+P577)+J577*(K577+Q577),D577*(E577+O577)+G577*(H577+P577)),D577*(E577+O577)),\"\")","v":""},{"$f":"IF(t_projeto[[#This Row],[Consumo_W]]<>\"\",ROUND(t_projeto[[#This Row],[Consumo_W]]/t_projeto[[#This Row],[Luminárias]],0),\"\")","v":""},{"$f":"IF(t_projeto[[#This Row],[Q.1]]<>\"\",t_projeto[[#This Row],[Q.1]]*t_projeto[[#This Row],[P.1(W)]]*$C$24,\"\")","v":""},{"$f":"IF(t_projeto[[#This Row],[Q.2]]<>\"\",t_projeto[[#This Row],[Q.2]]*t_projeto[[#This Row],[P.2(W)]]*$C$24,\"\")","v":""},{"$f":"IF(t_projeto[[#This Row],[Q.3]]<>\"\",t_projeto[[#This Row],[Q.3]]*t_projeto[[#This Row],[P.3(W)]]*$C$24,\"\")","v":""},{"$f":"IF(t_projeto[[#This Row],[Trecho]]<>\"\",SUM(t_projeto[[#This Row],[f.1]:[f.3]]),\"\")","v":""},{"$f":"IF(t_projeto[[#This Row],[Trecho]]<>\"\",t_projeto[[#This Row],[Q.1]]+t_projeto[[#This Row],[Q.2]]+t_projeto[[#This Row],[Q.3]],\"\")","v":""},{"$f":"IF(AND(t_projeto[[#This Row],[FLUXO]]<>0,t_projeto[[#This Row],[FLUXO]]<>\"\"),ROUND(t_projeto[[#This Row],[FLUXO]]/t_projeto[[#This Row],[Luminárias]],0),\"\")","v":""},{"$f":"IF(AND(t_projeto[[#This Row],[Luminárias]]<>0,t_projeto[[#This Row],[Luminárias]]<>\"\"),ROUND(t_projeto[[#This Row],[lm_médio]]/t_projeto[[#This Row],[W_médio]],2),\"\")","v":""}]
[116,{"$f":"_xlfn.XLOOKUP(t_projeto[[#This Row],[cód.]],t_sitio[cód],t_sitio[Trecho],\"\")","v":""},null,null,{"$f":"IF(t_projeto[[#This Row],[T.1]]<>\"\",_xlfn.XLOOKUP(t_projeto[[#This Row],[T.1]],$G$22:$G$26,$H$22:$H$26),\"\")","v":""},null,null,{"$f":"IF(t_projeto[[#This Row],[T.2]]<>\"\",_xlfn.XLOOKUP(t_projeto[[#This Row],[T.2]],$G$22:$G$26,$H$22:$H$26),\"\")","v":""},null,null,{"$f":"IF(t_projeto[[#This Row],[T.3]]<>\"\",_xlfn.XLOOKUP(t_projeto[[#This Row],[T.3]],$G$22:$G$26,$H$22:$H$26),\"\")","v":""},null,{"$f":"t_projeto[[#This Row],[Q.1]]+t_projeto[[#This Row],[Q.2]]+t_projeto[[#This Row],[Q.3]]","v":0},{"$f":"t_projeto[[#This Row],[Q.1]]+t_projeto[[#This Row],[Q.2]]+t_projeto[[#This Row],[Q.3]]","v":0},{"$f":"IF(t_projeto[[#This Row],[Q.1]]<>\"\",SUMIFS(t_reator[p],t_reator[tipo],t_projeto[[#This Row],[T.1]],t_reator[w],t_projeto[[#This Row],[P.1(W)]]),\"\")","v":""},{"$f":"IF(t_projeto[[#This Row],[Q.2]]<>\"\",SUMIFS(t_reator[p],t_reator[tipo],t_projeto[[#This Row],[T.2]],t_reator[w],t_projeto[[#This Row],[P.2(W)]]),\"\")","v":""},{"$f":"IF(t_projeto[[#This Row],[Q.3]]<>\"\",SUMIFS(t_reator[p],t_reator[tipo],t_projeto[[#This Row],[T.3]],t_reator[w],t_projeto[[#This Row],[P.3(W)]]),\"\")","v":""},{"$f":"IF(t_projeto[[#This Row],[Q.1]]<>\"\",IFERROR(IFERROR(D578*(E578+O578)+G578*(H578+P578)+J578*(K578+Q578),D578*(E578+O578)+G578*(H578+P578)),D578*(E578+O578)),\"\")","v":""},{"$f":"IF(t_projeto[[#This Row],[Consumo_W]]<>\"\",ROUND(t_projeto[[#This Row],[Consumo_W]]/t_projeto[[#This Row],[Luminárias]],0),\"\")","v":""},{"$f":"IF(t_projeto[[#This Row],[Q.1]]<>\"\",t_projeto[[#This Row],[Q.1]]*t_projeto[[#This Row],[P.1(W)]]*$C$24,\"\")","v":""},{"$f":"IF(t_projeto[[#This Row],[Q.2]]<>\"\",t_projeto[[#This Row],[Q.2]]*t_projeto[[#This Row],[P.2(W)]]*$C$24,\"\")","v":""},{"$f":"IF(t_projeto[[#This Row],[Q.3]]<>\"\",t_projeto[[#This Row],[Q.3]]*t_projeto[[#This Row],[P.3(W)]]*$C$24,\"\")","v":""},{"$f":"IF(t_projeto[[#This Row],[Trecho]]<>\"\",SUM(t_projeto[[#This Row],[f.1]:[f.3]]),\"\")","v":""},{"$f":"IF(t_projeto[[#This Row],[Trecho]]<>\"\",t_projeto[[#This Row],[Q.1]]+t_projeto[[#This Row],[Q.2]]+t_projeto[[#This Row],[Q.3]],\"\")","v":""},{"$f":"IF(AND(t_projeto[[#This Row],[FLUXO]]<>0,t_projeto[[#This Row],[FLUXO]]<>\"\"),ROUND(t_projeto[[#This Row],[FLUXO]]/t_projeto[[#This Row],[Luminárias]],0),\"\")","v":""},{"$f":"IF(AND(t_projeto[[#This Row],[Luminárias]]<>0,t_projeto[[#This Row],[Luminárias]]<>\"\"),ROUND(t_projeto[[#This Row],[lm_médio]]/t_projeto[[#This Row],[W_médio]],2),\"\")","v":""}]
[117,{"$f":"_xlfn.XLOOKUP(t_projeto[[#This Row],[cód.]],t_sitio[cód],t_sitio[Trecho],\"\")","v":""},null,null,{"$f":"IF(t_projeto[[#This Row],[T.1]]<>\"\",_xlfn.XLOOKUP(t_projeto[[#This Row],[T.1]],$G$22:$G$26,$H$22:$H$26),\"\")","v":""},null,null,{"$f":"IF(t_projeto[[#This Row],[T.2]]<>\"\",_xlfn.XLOOKUP(t_projeto[[#This Row],[T.2]],$G$22:$G$26,$H$22:$H$26),\"\")","v":""},null,null,{"$f":"IF(t_projeto[[#This Row],[T.3]]<>\"\",_xlfn.XLOOKUP(t_projeto[[#This Row],[T.3]],$G$22:$G$26,$H$22:$H$26),\"\")","v":""},null,{"$f":"t_projeto[[#This Row],[Q.1]]+t_projeto[[#This Row],[Q.2]]+t_projeto[[#This Row],[Q.3]]","v":0},{"$f":"t_projeto[[#This Row],[Q.1]]+t_projeto[[#This Row],[Q.2]]+t_projeto[[#This Row],[Q.3]]","v":0},{"$f":"IF(t_projeto[[#This Row],[Q.1]]<>\"\",SUMIFS(t_reator[p],t_reator[tipo],t_projeto[[#This Row],[T.1]],t_reator[w],t_projeto[[#This Row],[P.1(W)]]),\"\")","v":""},{"$f":"IF(t_projeto[[#This Row],[Q.2]]<>\"\",SUMIFS(t_reator[p],t_reator[tipo],t_projeto[[#This Row],[T.2]],t_reator[w],t_projeto[[#This Row],[P.2(W)]]),\"\")","v":""},{"$f":"IF(t_projeto[[#This Row],[Q.3]]<>\"\",SUMIFS(t_reator[p],t_reator[tipo],t_projeto[[#This Row],[T.3]],t_reator[w],t_projeto[[#This Row],[P.3(W)]]),\"\")","v":""},{"$f":"IF(t_projeto[[#This Row],[Q.1]]<>\"\",IFERROR(IFERROR(D579*(E579+O579)+G579*(H579+P579)+J579*(K579+Q579),D579*(E579+O579)+G579*(H579+P579)),D579*(E579+O579)),\"\")","v":""},{"$f":"IF(t_projeto[[#This Row],[Consumo_W]]<>\"\",ROUND(t_projeto[[#This Row],[Consumo_W]]/t_projeto[[#This Row],[Luminárias]],0),\"\")","v":""},{"$f":"IF(t_projeto[[#This Row],[Q.1]]<>\"\",t_projeto[[#This Row],[Q.1]]*t_projeto[[#This Row],[P.1(W)]]*$C$24,\"\")","v":""},{"$f":"IF(t_projeto[[#This Row],[Q.2]]<>\"\",t_projeto[[#This Row],[Q.2]]*t_projeto[[#This Row],[P.2(W)]]*$C$24,\"\")","v":""},{"$f":"IF(t_projeto[[#This Row],[Q.3]]<>\"\",t_projeto[[#This Row],[Q.3]]*t_projeto[[#This Row],[P.3(W)]]*$C$24,\"\")","v":""},{"$f":"IF(t_projeto[[#This Row],[Trecho]]<>\"\",SUM(t_projeto[[#This Row],[f.1]:[f.3]]),\"\")","v":""},{"$f":"IF(t_projeto[[#This Row],[Trecho]]<>\"\",t_projeto[[#This Row],[Q.1]]+t_projeto[[#This Row],[Q.2]]+t_projeto[[#This Row],[Q.3]],\"\")","v":""},{"$f":"IF(AND(t_projeto[[#This Row],[FLUXO]]<>0,t_projeto[[#This Row],[FLUXO]]<>\"\"),ROUND(t_projeto[[#This Row],[FLUXO]]/t_projeto[[#This Row],[Luminárias]],0),\"\")","v":""},{"$f":"IF(AND(t_projeto[[#This Row],[Luminárias]]<>0,t_projeto[[#This Row],[Luminárias]]<>\"\"),ROUND(t_projeto[[#This Row],[lm_médio]]/t_projeto[[#This Row],[W_médio]],2),\"\")","v":""}]
[118,{"$f":"_xlfn.XLOOKUP(t_projeto[[#This Row],[cód.]],t_sitio[cód],t_sitio[Trecho],\"\")","v":""},null,null,{"$f":"IF(t_projeto[[#This Row],[T.1]]<>\"\",_xlfn.XLOOKUP(t_projeto[[#This Row],[T.1]],$G$22:$G$26,$H$22:$H$26),\"\")","v":""},null,null,{"$f":"IF(t_projeto[[#This Row],[T.2]]<>\"\",_xlfn.XLOOKUP(t_projeto[[#This Row],[T.2]],$G$22:$G$26,$H$22:$H$26),\"\")","v":""},null,null,{"$f":"IF(t_projeto[[#This Row],[T.3]]<>\"\",_xlfn.XLOOKUP(t_projeto[[#This Row],[T.3]],$G$22:$G$26,$H$22:$H$26),\"\")","v":""},null,{"$f":"t_projeto[[#This Row],[Q.1]]+t_projeto[[#This Row],[Q.2]]+t_projeto[[#This Row],[Q.3]]","v":0},{"$f":"t_projeto[[#This Row],[Q.1]]+t_projeto[[#This Row],[Q.2]]+t_projeto[[#This Row],[Q.3]]","v":0},{"$f":"IF(t_projeto[[#This Row],[Q.1]]<>\"\",SUMIFS(t_reator[p],t_reator[tipo],t_projeto[[#This Row],[T.1]],t_reator[w],t_projeto[[#This Row],[P.1(W)]]),\"\")","v":""},{"$f":"IF(t_projeto[[#This Row],[Q.2]]<>\"\",SUMIFS(t_reator[p],t_reator[tipo],t_projeto[[#This Row],[T.2]],t_reator[w],t_projeto[[#This Row],[P.2(W)]]),\"\")","v":""},{"$f":"IF(t_projeto[[#This Row],[Q.3]]<>\"\",SUMIFS(t_reator[p],t_reator[tipo],t_projeto[[#This Row],[T.3]],t_reator[w],t_projeto[[#This Row],[P.3(W)]]),\"\")","v":""},{"$f":"IF(t_projeto[[#This Row],[Q.1]]<>\"\",IFERROR(IFERROR(D580*(E580+O580)+G580*(H580+P580)+J580*(K580+Q580),D580*(E580+O580)+G580*(H580+P580)),D580*(E580+O580)),\"\")","v":""},{"$f":"IF(t_projeto[[#This Row],[Consumo_W]]<>\"\",ROUND(t_projeto[[#This Row],[Consumo_W]]/t_projeto[[#This Row],[Luminárias]],0),\"\")","v":""},{"$f":"IF(t_projeto[[#This Row],[Q.1]]<>\"\",t_projeto[[#This Row],[Q.1]]*t_projeto[[#This Row],[P.1(W)]]*$C$24,\"\")","v":""},{"$f":"IF(t_projeto[[#This Row],[Q.2]]<>\"\",t_projeto[[#This Row],[Q.2]]*t_projeto[[#This Row],[P.2(W)]]*$C$24,\"\")","v":""},{"$f":"IF(t_projeto[[#This Row],[Q.3]]<>\"\",t_projeto[[#This Row],[Q.3]]*t_projeto[[#This Row],[P.3(W)]]*$C$24,\"\")","v":""},{"$f":"IF(t_projeto[[#This Row],[Trecho]]<>\"\",SUM(t_projeto[[#This Row],[f.1]:[f.3]]),\"\")","v":""},{"$f":"IF(t_projeto[[#This Row],[Trecho]]<>\"\",t_projeto[[#This Row],[Q.1]]+t_projeto[[#This Row],[Q.2]]+t_projeto[[#This Row],[Q.3]],\"\")","v":""},{"$f":"IF(AND(t_projeto[[#This Row],[FLUXO]]<>0,t_projeto[[#This Row],[FLUXO]]<>\"\"),ROUND(t_projeto[[#This Row],[FLUXO]]/t_projeto[[#This Row],[Luminárias]],0),\"\")","v":""},{"$f":"IF(AND(t_projeto[[#This Row],[Luminárias]]<>0,t_projeto[[#This Row],[Luminárias]]<>\"\"),ROUND(t_projeto[[#This Row],[lm_médio]]/t_projeto[[#This Row],[W_médio]],2),\"\")","v":""}]
[119,{"$f":"_xlfn.XLOOKUP(t_projeto[[#This Row],[cód.]],t_sitio[cód],t_sitio[Trecho],\"\")","v":""},null,null,{"$f":"IF(t_projeto[[#This Row],[T.1]]<>\"\",_xlfn.XLOOKUP(t_projeto[[#This Row],[T.1]],$G$22:$G$26,$H$22:$H$26),\"\")","v":""},null,null,{"$f":"IF(t_projeto[[#This Row],[T.2]]<>\"\",_xlfn.XLOOKUP(t_projeto[[#This Row],[T.2]],$G$22:$G$26,$H$22:$H$26),\"\")","v":""},null,null,{"$f":"IF(t_projeto[[#This Row],[T.3]]<>\"\",_xlfn.XLOOKUP(t_projeto[[#This Row],[T.3]],$G$22:$G$26,$H$22:$H$26),\"\")","v":""},null,{"$f":"t_projeto[[#This Row],[Q.1]]+t_projeto[[#This Row],[Q.2]]+t_projeto[[#This Row],[Q.3]]","v":0},{"$f":"t_projeto[[#This Row],[Q.1]]+t_projeto[[#This Row],[Q.2]]+t_projeto[[#This Row],[Q.3]]","v":0},{"$f":"IF(t_projeto[[#This Row],[Q.1]]<>\"\",SUMIFS(t_reator[p],t_reator[tipo],t_projeto[[#This Row],[T.1]],t_reator[w],t_projeto[[#This Row],[P.1(W)]]),\"\")","v":""},{"$f":"IF(t_projeto[[#This Row],[Q.2]]<>\"\",SUMIFS(t_reator[p],t_reator[tipo],t_projeto[[#This Row],[T.2]],t_reator[w],t_projeto[[#This Row],[P.2(W)]]),\"\")","v":""},{"$f":"IF(t_projeto[[#This Row],[Q.3]]<>\"\",SUMIFS(t_reator[p],t_reator[tipo],t_projeto[[#This Row],[T.3]],t_reator[w],t_projeto[[#This Row],[P.3(W)]]),\"\")","v":""},{"$f":"IF(t_projeto[[#This Row],[Q.1]]<>\"\",IFERROR(IFERROR(D581*(E581+O581)+G581*(H581+P581)+J581*(K581+Q581),D581*(E581+O581)+G581*(H581+P581)),D581*(E581+O581)),\"\")","v":""},{"$f":"IF(t_projeto[[#This Row],[Consumo_W]]<>\"\",ROUND(t_projeto[[#This Row],[Consumo_W]]/t_projeto[[#This Row],[Luminárias]],0),\"\")","v":""},{"$f":"IF(t_projeto[[#This Row],[Q.1]]<>\"\",t_projeto[[#This Row],[Q.1]]*t_projeto[[#This Row],[P.1(W)]]*$C$24,\"\")","v":""},{"$f":"IF(t_projeto[[#This Row],[Q.2]]<>\"\",t_projeto[[#This Row],[Q.2]]*t_projeto[[#This Row],[P.2(W)]]*$C$24,\"\")","v":""},{"$f":"IF(t_projeto[[#This Row],[Q.3]]<>\"\",t_projeto[[#This Row],[Q.3]]*t_projeto[[#This Row],[P.3(W)]]*$C$24,\"\")","v":""},{"$f":"IF(t_projeto[[#This Row],[Trecho]]<>\"\",SUM(t_projeto[[#This Row],[f.1]:[f.3]]),\"\")","v":""},{"$f":"IF(t_projeto[[#This Row],[Trecho]]<>\"\",t_projeto[[#This Row],[Q.1]]+t_projeto[[#This Row],[Q.2]]+t_projeto[[#This Row],[Q.3]],\"\")","v":""},{"$f":"IF(AND(t_projeto[[#This Row],[FLUXO]]<>0,t_projeto[[#This Row],[FLUXO]]<>\"\"),ROUND(t_projeto[[#This Row],[FLUXO]]/t_projeto[[#This Row],[Luminárias]],0),\"\")","v":""},{"$f":"IF(AND(t_projeto[[#This Row],[Luminárias]]<>0,t_projeto[[#This Row],[Luminárias]]<>\"\"),ROUND(t_projeto[[#This Row],[lm_médio]]/t_projeto[[#This Row],[W_médio]],2),\"\")","v":""}]
[120,{"$f":"_xlfn.XLOOKUP(t_projeto[[#This Row],[cód.]],t_sitio[cód],t_sitio[Trecho],\"\")","v":""},null,null,{"$f":"IF(t_projeto[[#This Row],[T.1]]<>\"\",_xlfn.XLOOKUP(t_projeto[[#This Row],[T.1]],$G$22:$G$26,$H$22:$H$26),\"\")","v":""},null,null,{"$f":"IF(t_projeto[[#This Row],[T.2]]<>\"\",_xlfn.XLOOKUP(t_projeto[[#This Row],[T.2]],$G$22:$G$26,$H$22:$H$26),\"\")","v":""},null,null,{"$f":"IF(t_projeto[[#This Row],[T.3]]<>\"\",_xlfn.XLOOKUP(t_projeto[[#This Row],[T.3]],$G$22:$G$26,$H$22:$H$26),\"\")","v":""},null,{"$f":"t_projeto[[#This Row],[Q.1]]+t_projeto[[#This Row],[Q.2]]+t_projeto[[#This Row],[Q.3]]","v":0},{"$f":"t_projeto[[#This Row],[Q.1]]+t_projeto[[#This Row],[Q.2]]+t_projeto[[#This Row],[Q.3]]","v":0},{"$f":"IF(t_projeto[[#This Row],[Q.1]]<>\"\",SUMIFS(t_reator[p],t_reator[tipo],t_projeto[[#This Row],[T.1]],t_reator[w],t_projeto[[#This Row],[P.1(W)]]),\"\")","v":""},{"$f":"IF(t_projeto[[#This Row],[Q.2]]<>\"\",SUMIFS(t_reator[p],t_reator[tipo],t_projeto[[#This Row],[T.2]],t_reator[w],t_projeto[[#This Row],[P.2(W)]]),\"\")","v":""},{"$f":"IF(t_projeto[[#This Row],[Q.3]]<>\"\",SUMIFS(t_reator[p],t_reator[tipo],t_projeto[[#This Row],[T.3]],t_reator[w],t_projeto[[#This Row],[P.3(W)]]),\"\")","v":""},{"$f":"IF(t_projeto[[#This Row],[Q.1]]<>\"\",IFERROR(IFERROR(D582*(E582+O582)+G582*(H582+P582)+J582*(K582+Q582),D582*(E582+O582)+G582*(H582+P582)),D582*(E582+O582)),\"\")","v":""},{"$f":"IF(t_projeto[[#This Row],[Consumo_W]]<>\"\",ROUND(t_projeto[[#This Row],[Consumo_W]]/t_projeto[[#This Row],[Luminárias]],0),\"\")","v":""},{"$f":"IF(t_projeto[[#This Row],[Q.1]]<>\"\",t_projeto[[#This Row],[Q.1]]*t_projeto[[#This Row],[P.1(W)]]*$C$24,\"\")","v":""},{"$f":"IF(t_projeto[[#This Row],[Q.2]]<>\"\",t_projeto[[#This Row],[Q.2]]*t_projeto[[#This Row],[P.2(W)]]*$C$24,\"\")","v":""},{"$f":"IF(t_projeto[[#This Row],[Q.3]]<>\"\",t_projeto[[#This Row],[Q.3]]*t_projeto[[#This Row],[P.3(W)]]*$C$24,\"\")","v":""},{"$f":"IF(t_projeto[[#This Row],[Trecho]]<>\"\",SUM(t_projeto[[#This Row],[f.1]:[f.3]]),\"\")","v":""},{"$f":"IF(t_projeto[[#This Row],[Trecho]]<>\"\",t_projeto[[#This Row],[Q.1]]+t_projeto[[#This Row],[Q.2]]+t_projeto[[#This Row],[Q.3]],\"\")","v":""},{"$f":"IF(AND(t_projeto[[#This Row],[FLUXO]]<>0,t_projeto[[#This Row],[FLUXO]]<>\"\"),ROUND(t_projeto[[#This Row],[FLUXO]]/t_projeto[[#This Row],[Luminárias]],0),\"\")","v":""},{"$f":"IF(AND(t_projeto[[#This Row],[Luminárias]]<>0,t_projeto[[#This Row],[Luminárias]]<>\"\"),ROUND(t_projeto[[#This Row],[lm_médio]]/t_projeto[[#This Row],[W_médio]],2),\"\")","v":""}]
[121,{"$f":"_xlfn.XLOOKUP(t_projeto[[#This Row],[cód.]],t_sitio[cód],t_sitio[Trecho],\"\")","v":""},null,null,{"$f":"IF(t_projeto[[#This Row],[T.1]]<>\"\",_xlfn.XLOOKUP(t_projeto[[#This Row],[T.1]],$G$22:$G$26,$H$22:$H$26),\"\")","v":""},null,null,{"$f":"IF(t_projeto[[#This Row],[T.2]]<>\"\",_xlfn.XLOOKUP(t_projeto[[#This Row],[T.2]],$G$22:$G$26,$H$22:$H$26),\"\")","v":""},null,null,{"$f":"IF(t_projeto[[#This Row],[T.3]]<>\"\",_xlfn.XLOOKUP(t_projeto[[#This Row],[T.3]],$G$22:$G$26,$H$22:$H$26),\"\")","v":""},null,{"$f":"t_projeto[[#This Row],[Q.1]]+t_projeto[[#This Row],[Q.2]]+t_projeto[[#This Row],[Q.3]]","v":0},{"$f":"t_projeto[[#This Row],[Q.1]]+t_projeto[[#This Row],[Q.2]]+t_projeto[[#This Row],[Q.3]]","v":0},{"$f":"IF(t_projeto[[#This Row],[Q.1]]<>\"\",SUMIFS(t_reator[p],t_reator[tipo],t_projeto[[#This Row],[T.1]],t_reator[w],t_projeto[[#This Row],[P.1(W)]]),\"\")","v":""},{"$f":"IF(t_projeto[[#This Row],[Q.2]]<>\"\",SUMIFS(t_reator[p],t_reator[tipo],t_projeto[[#This Row],[T.2]],t_reator[w],t_projeto[[#This Row],[P.2(W)]]),\"\")","v":""},{"$f":"IF(t_projeto[[#This Row],[Q.3]]<>\"\",SUMIFS(t_reator[p],t_reator[tipo],t_projeto[[#This Row],[T.3]],t_reator[w],t_projeto[[#This Row],[P.3(W)]]),\"\")","v":""},{"$f":"IF(t_projeto[[#This Row],[Q.1]]<>\"\",IFERROR(IFERROR(D583*(E583+O583)+G583*(H583+P583)+J583*(K583+Q583),D583*(E583+O583)+G583*(H583+P583)),D583*(E583+O583)),\"\")","v":""},{"$f":"IF(t_projeto[[#This Row],[Consumo_W]]<>\"\",ROUND(t_projeto[[#This Row],[Consumo_W]]/t_projeto[[#This Row],[Luminárias]],0),\"\")","v":""},{"$f":"IF(t_projeto[[#This Row],[Q.1]]<>\"\",t_projeto[[#This Row],[Q.1]]*t_projeto[[#This Row],[P.1(W)]]*$C$24,\"\")","v":""},{"$f":"IF(t_projeto[[#This Row],[Q.2]]<>\"\",t_projeto[[#This Row],[Q.2]]*t_projeto[[#This Row],[P.2(W)]]*$C$24,\"\")","v":""},{"$f":"IF(t_projeto[[#This Row],[Q.3]]<>\"\",t_projeto[[#This Row],[Q.3]]*t_projeto[[#This Row],[P.3(W)]]*$C$24,\"\")","v":""},{"$f":"IF(t_projeto[[#This Row],[Trecho]]<>\"\",SUM(t_projeto[[#This Row],[f.1]:[f.3]]),\"\")","v":""},{"$f":"IF(t_projeto[[#This Row],[Trecho]]<>\"\",t_projeto[[#This Row],[Q.1]]+t_projeto[[#This Row],[Q.2]]+t_projeto[[#This Row],[Q.3]],\"\")","v":""},{"$f":"IF(AND(t_projeto[[#This Row],[FLUXO]]<>0,t_projeto[[#This Row],[FLUXO]]<>\"\"),ROUND(t_projeto[[#This Row],[FLUXO]]/t_projeto[[#This Row],[Luminárias]],0),\"\")","v":""},{"$f":"IF(AND(t_projeto[[#This Row],[Luminárias]]<>0,t_projeto[[#This Row],[Luminárias]]<>\"\"),ROUND(t_projeto[[#This Row],[lm_médio]]/t_projeto[[#This Row],[W_médio]],2),\"\")","v":""}]
[122,{"$f":"_xlfn.XLOOKUP(t_projeto[[#This Row],[cód.]],t_sitio[cód],t_sitio[Trecho],\"\")","v":""},null,null,{"$f":"IF(t_projeto[[#This Row],[T.1]]<>\"\",_xlfn.XLOOKUP(t_projeto[[#This Row],[T.1]],$G$22:$G$26,$H$22:$H$26),\"\")","v":""},null,null,{"$f":"IF(t_projeto[[#This Row],[T.2]]<>\"\",_xlfn.XLOOKUP(t_projeto[[#This Row],[T.2]],$G$22:$G$26,$H$22:$H$26),\"\")","v":""},null,null,{"$f":"IF(t_projeto[[#This Row],[T.3]]<>\"\",_xlfn.XLOOKUP(t_projeto[[#This Row],[T.3]],$G$22:$G$26,$H$22:$H$26),\"\")","v":""},null,{"$f":"t_projeto[[#This Row],[Q.1]]+t_projeto[[#This Row],[Q.2]]+t_projeto[[#This Row],[Q.3]]","v":0},{"$f":"t_projeto[[#This Row],[Q.1]]+t_projeto[[#This Row],[Q.2]]+t_projeto[[#This Row],[Q.3]]","v":0},{"$f":"IF(t_projeto[[#This Row],[Q.1]]<>\"\",SUMIFS(t_reator[p],t_reator[tipo],t_projeto[[#This Row],[T.1]],t_reator[w],t_projeto[[#This Row],[P.1(W)]]),\"\")","v":""},{"$f":"IF(t_projeto[[#This Row],[Q.2]]<>\"\",SUMIFS(t_reator[p],t_reator[tipo],t_projeto[[#This Row],[T.2]],t_reator[w],t_projeto[[#This Row],[P.2(W)]]),\"\")","v":""},{"$f":"IF(t_projeto[[#This Row],[Q.3]]<>\"\",SUMIFS(t_reator[p],t_reator[tipo],t_projeto[[#This Row],[T.3]],t_reator[w],t_projeto[[#This Row],[P.3(W)]]),\"\")","v":""},{"$f":"IF(t_projeto[[#This Row],[Q.1]]<>\"\",IFERROR(IFERROR(D584*(E584+O584)+G584*(H584+P584)+J584*(K584+Q584),D584*(E584+O584)+G584*(H584+P584)),D584*(E584+O584)),\"\")","v":""},{"$f":"IF(t_projeto[[#This Row],[Consumo_W]]<>\"\",ROUND(t_projeto[[#This Row],[Consumo_W]]/t_projeto[[#This Row],[Luminárias]],0),\"\")","v":""},{"$f":"IF(t_projeto[[#This Row],[Q.1]]<>\"\",t_projeto[[#This Row],[Q.1]]*t_projeto[[#This Row],[P.1(W)]]*$C$24,\"\")","v":""},{"$f":"IF(t_projeto[[#This Row],[Q.2]]<>\"\",t_projeto[[#This Row],[Q.2]]*t_projeto[[#This Row],[P.2(W)]]*$C$24,\"\")","v":""},{"$f":"IF(t_projeto[[#This Row],[Q.3]]<>\"\",t_projeto[[#This Row],[Q.3]]*t_projeto[[#This Row],[P.3(W)]]*$C$24,\"\")","v":""},{"$f":"IF(t_projeto[[#This Row],[Trecho]]<>\"\",SUM(t_projeto[[#This Row],[f.1]:[f.3]]),\"\")","v":""},{"$f":"IF(t_projeto[[#This Row],[Trecho]]<>\"\",t_projeto[[#This Row],[Q.1]]+t_projeto[[#This Row],[Q.2]]+t_projeto[[#This Row],[Q.3]],\"\")","v":""},{"$f":"IF(AND(t_projeto[[#This Row],[FLUXO]]<>0,t_projeto[[#This Row],[FLUXO]]<>\"\"),ROUND(t_projeto[[#This Row],[FLUXO]]/t_projeto[[#This Row],[Luminárias]],0),\"\")","v":""},{"$f":"IF(AND(t_projeto[[#This Row],[Luminárias]]<>0,t_projeto[[#This Row],[Luminárias]]<>\"\"),ROUND(t_projeto[[#This Row],[lm_médio]]/t_projeto[[#This Row],[W_médio]],2),\"\")","v":""}]
[123,{"$f":"_xlfn.XLOOKUP(t_projeto[[#This Row],[cód.]],t_sitio[cód],t_sitio[Trecho],\"\")","v":""},null,null,{"$f":"IF(t_projeto[[#This Row],[T.1]]<>\"\",_xlfn.XLOOKUP(t_projeto[[#This Row],[T.1]],$G$22:$G$26,$H$22:$H$26),\"\")","v":""},null,null,{"$f":"IF(t_projeto[[#This Row],[T.2]]<>\"\",_xlfn.XLOOKUP(t_projeto[[#This Row],[T.2]],$G$22:$G$26,$H$22:$H$26),\"\")","v":""},null,null,{"$f":"IF(t_projeto[[#This Row],[T.3]]<>\"\",_xlfn.XLOOKUP(t_projeto[[#This Row],[T.3]],$G$22:$G$26,$H$22:$H$26),\"\")","v":""},null,{"$f":"t_projeto[[#This Row],[Q.1]]+t_projeto[[#This Row],[Q.2]]+t_projeto[[#This Row],[Q.3]]","v":0},{"$f":"t_projeto[[#This Row],[Q.1]]+t_projeto[[#This Row],[Q.2]]+t_projeto[[#This Row],[Q.3]]","v":0},{"$f":"IF(t_projeto[[#This Row],[Q.1]]<>\"\",SUMIFS(t_reator[p],t_reator[tipo],t_projeto[[#This Row],[T.1]],t_reator[w],t_projeto[[#This Row],[P.1(W)]]),\"\")","v":""},{"$f":"IF(t_projeto[[#This Row],[Q.2]]<>\"\",SUMIFS(t_reator[p],t_reator[tipo],t_projeto[[#This Row],[T.2]],t_reator[w],t_projeto[[#This Row],[P.2(W)]]),\"\")","v":""},{"$f":"IF(t_projeto[[#This Row],[Q.3]]<>\"\",SUMIFS(t_reator[p],t_reator[tipo],t_projeto[[#This Row],[T.3]],t_reator[w],t_projeto[[#This Row],[P.3(W)]]),\"\")","v":""},{"$f":"IF(t_projeto[[#This Row],[Q.1]]<>\"\",IFERROR(IFERROR(D585*(E585+O585)+G585*(H585+P585)+J585*(K585+Q585),D585*(E585+O585)+G585*(H585+P585)),D585*(E585+O585)),\"\")","v":""},{"$f":"IF(t_projeto[[#This Row],[Consumo_W]]<>\"\",ROUND(t_projeto[[#This Row],[Consumo_W]]/t_projeto[[#This Row],[Luminárias]],0),\"\")","v":""},{"$f":"IF(t_projeto[[#This Row],[Q.1]]<>\"\",t_projeto[[#This Row],[Q.1]]*t_projeto[[#This Row],[P.1(W)]]*$C$24,\"\")","v":""},{"$f":"IF(t_projeto[[#This Row],[Q.2]]<>\"\",t_projeto[[#This Row],[Q.2]]*t_projeto[[#This Row],[P.2(W)]]*$C$24,\"\")","v":""},{"$f":"IF(t_projeto[[#This Row],[Q.3]]<>\"\",t_projeto[[#This Row],[Q.3]]*t_projeto[[#This Row],[P.3(W)]]*$C$24,\"\")","v":""},{"$f":"IF(t_projeto[[#This Row],[Trecho]]<>\"\",SUM(t_projeto[[#This Row],[f.1]:[f.3]]),\"\")","v":""},{"$f":"IF(t_projeto[[#This Row],[Trecho]]<>\"\",t_projeto[[#This Row],[Q.1]]+t_projeto[[#This Row],[Q.2]]+t_projeto[[#This Row],[Q.3]],\"\")","v":""},{"$f":"IF(AND(t_projeto[[#This Row],[FLUXO]]<>0,t_projeto[[#This Row],[FLUXO]]<>\"\"),ROUND(t_projeto[[#This Row],[FLUXO]]/t_projeto[[#This Row],[Luminárias]],0),\"\")","v":""},{"$f":"IF(AND(t_projeto[[#This Row],[Luminárias]]<>0,t_projeto[[#This Row],[Luminárias]]<>\"\"),ROUND(t_projeto[[#This Row],[lm_médio]]/t_projeto[[#This Row],[W_médio]],2),\"\")","v":""}]
[124,{"$f":"_xlfn.XLOOKUP(t_projeto[[#This Row],[cód.]],t_sitio[cód],t_sitio[Trecho],\"\")","v":""},null,null,{"$f":"IF(t_projeto[[#This Row],[T.1]]<>\"\",_xlfn.XLOOKUP(t_projeto[[#This Row],[T.1]],$G$22:$G$26,$H$22:$H$26),\"\")","v":""},null,null,{"$f":"IF(t_projeto[[#This Row],[T.2]]<>\"\",_xlfn.XLOOKUP(t_projeto[[#This Row],[T.2]],$G$22:$G$26,$H$22:$H$26),\"\")","v":""},null,null,{"$f":"IF(t_projeto[[#This Row],[T.3]]<>\"\",_xlfn.XLOOKUP(t_projeto[[#This Row],[T.3]],$G$22:$G$26,$H$22:$H$26),\"\")","v":""},null,{"$f":"t_projeto[[#This Row],[Q.1]]+t_projeto[[#This Row],[Q.2]]+t_projeto[[#This Row],[Q.3]]","v":0},{"$f":"t_projeto[[#This Row],[Q.1]]+t_projeto[[#This Row],[Q.2]]+t_projeto[[#This Row],[Q.3]]","v":0},{"$f":"IF(t_projeto[[#This Row],[Q.1]]<>\"\",SUMIFS(t_reator[p],t_reator[tipo],t_projeto[[#This Row],[T.1]],t_reator[w],t_projeto[[#This Row],[P.1(W)]]),\"\")","v":""},{"$f":"IF(t_projeto[[#This Row],[Q.2]]<>\"\",SUMIFS(t_reator[p],t_reator[tipo],t_projeto[[#This Row],[T.2]],t_reator[w],t_projeto[[#This Row],[P.2(W)]]),\"\")","v":""},{"$f":"IF(t_projeto[[#This Row],[Q.3]]<>\"\",SUMIFS(t_reator[p],t_reator[tipo],t_projeto[[#This Row],[T.3]],t_reator[w],t_projeto[[#This Row],[P.3(W)]]),\"\")","v":""},{"$f":"IF(t_projeto[[#This Row],[Q.1]]<>\"\",IFERROR(IFERROR(D586*(E586+O586)+G586*(H586+P586)+J586*(K586+Q586),D586*(E586+O586)+G586*(H586+P586)),D586*(E586+O586)),\"\")","v":""},{"$f":"IF(t_projeto[[#This Row],[Consumo_W]]<>\"\",ROUND(t_projeto[[#This Row],[Consumo_W]]/t_projeto[[#This Row],[Luminárias]],0),\"\")","v":""},{"$f":"IF(t_projeto[[#This Row],[Q.1]]<>\"\",t_projeto[[#This Row],[Q.1]]*t_projeto[[#This Row],[P.1(W)]]*$C$24,\"\")","v":""},{"$f":"IF(t_projeto[[#This Row],[Q.2]]<>\"\",t_projeto[[#This Row],[Q.2]]*t_projeto[[#This Row],[P.2(W)]]*$C$24,\"\")","v":""},{"$f":"IF(t_projeto[[#This Row],[Q.3]]<>\"\",t_projeto[[#This Row],[Q.3]]*t_projeto[[#This Row],[P.3(W)]]*$C$24,\"\")","v":""},{"$f":"IF(t_projeto[[#This Row],[Trecho]]<>\"\",SUM(t_projeto[[#This Row],[f.1]:[f.3]]),\"\")","v":""},{"$f":"IF(t_projeto[[#This Row],[Trecho]]<>\"\",t_projeto[[#This Row],[Q.1]]+t_projeto[[#This Row],[Q.2]]+t_projeto[[#This Row],[Q.3]],\"\")","v":""},{"$f":"IF(AND(t_projeto[[#This Row],[FLUXO]]<>0,t_projeto[[#This Row],[FLUXO]]<>\"\"),ROUND(t_projeto[[#This Row],[FLUXO]]/t_projeto[[#This Row],[Luminárias]],0),\"\")","v":""},{"$f":"IF(AND(t_projeto[[#This Row],[Luminárias]]<>0,t_projeto[[#This Row],[Luminárias]]<>\"\"),ROUND(t_projeto[[#This Row],[lm_médio]]/t_projeto[[#This Row],[W_médio]],2),\"\")","v":""}]
[125,{"$f":"_xlfn.XLOOKUP(t_projeto[[#This Row],[cód.]],t_sitio[cód],t_sitio[Trecho],\"\")","v":""},null,null,{"$f":"IF(t_projeto[[#This Row],[T.1]]<>\"\",_xlfn.XLOOKUP(t_projeto[[#This Row],[T.1]],$G$22:$G$26,$H$22:$H$26),\"\")","v":""},null,null,{"$f":"IF(t_projeto[[#This Row],[T.2]]<>\"\",_xlfn.XLOOKUP(t_projeto[[#This Row],[T.2]],$G$22:$G$26,$H$22:$H$26),\"\")","v":""},null,null,{"$f":"IF(t_projeto[[#This Row],[T.3]]<>\"\",_xlfn.XLOOKUP(t_projeto[[#This Row],[T.3]],$G$22:$G$26,$H$22:$H$26),\"\")","v":""},null,{"$f":"t_projeto[[#This Row],[Q.1]]+t_projeto[[#This Row],[Q.2]]+t_projeto[[#This Row],[Q.3]]","v":0},{"$f":"t_projeto[[#This Row],[Q.1]]+t_projeto[[#This Row],[Q.2]]+t_projeto[[#This Row],[Q.3]]","v":0},{"$f":"IF(t_projeto[[#This Row],[Q.1]]<>\"\",SUMIFS(t_reator[p],t_reator[tipo],t_projeto[[#This Row],[T.1]],t_reator[w],t_projeto[[#This Row],[P.1(W)]]),\"\")","v":""},{"$f":"IF(t_projeto[[#This Row],[Q.2]]<>\"\",SUMIFS(t_reator[p],t_reator[tipo],t_projeto[[#This Row],[T.2]],t_reator[w],t_projeto[[#This Row],[P.2(W)]]),\"\")","v":""},{"$f":"IF(t_projeto[[#This Row],[Q.3]]<>\"\",SUMIFS(t_reator[p],t_reator[tipo],t_projeto[[#This Row],[T.3]],t_reator[w],t_projeto[[#This Row],[P.3(W)]]),\"\")","v":""},{"$f":"IF(t_projeto[[#This Row],[Q.1]]<>\"\",IFERROR(IFERROR(D587*(E587+O587)+G587*(H587+P587)+J587*(K587+Q587),D587*(E587+O587)+G587*(H587+P587)),D587*(E587+O587)),\"\")","v":""},{"$f":"IF(t_projeto[[#This Row],[Consumo_W]]<>\"\",ROUND(t_projeto[[#This Row],[Consumo_W]]/t_projeto[[#This Row],[Luminárias]],0),\"\")","v":""},{"$f":"IF(t_projeto[[#This Row],[Q.1]]<>\"\",t_projeto[[#This Row],[Q.1]]*t_projeto[[#This Row],[P.1(W)]]*$C$24,\"\")","v":""},{"$f":"IF(t_projeto[[#This Row],[Q.2]]<>\"\",t_projeto[[#This Row],[Q.2]]*t_projeto[[#This Row],[P.2(W)]]*$C$24,\"\")","v":""},{"$f":"IF(t_projeto[[#This Row],[Q.3]]<>\"\",t_projeto[[#This Row],[Q.3]]*t_projeto[[#This Row],[P.3(W)]]*$C$24,\"\")","v":""},{"$f":"IF(t_projeto[[#This Row],[Trecho]]<>\"\",SUM(t_projeto[[#This Row],[f.1]:[f.3]]),\"\")","v":""},{"$f":"IF(t_projeto[[#This Row],[Trecho]]<>\"\",t_projeto[[#This Row],[Q.1]]+t_projeto[[#This Row],[Q.2]]+t_projeto[[#This Row],[Q.3]],\"\")","v":""},{"$f":"IF(AND(t_projeto[[#This Row],[FLUXO]]<>0,t_projeto[[#This Row],[FLUXO]]<>\"\"),ROUND(t_projeto[[#This Row],[FLUXO]]/t_projeto[[#This Row],[Luminárias]],0),\"\")","v":""},{"$f":"IF(AND(t_projeto[[#This Row],[Luminárias]]<>0,t_projeto[[#This Row],[Luminárias]]<>\"\"),ROUND(t_projeto[[#This Row],[lm_médio]]/t_projeto[[#This Row],[W_médio]],2),\"\")","v":""}]
[126,{"$f":"_xlfn.XLOOKUP(t_projeto[[#This Row],[cód.]],t_sitio[cód],t_sitio[Trecho],\"\")","v":""},null,null,{"$f":"IF(t_projeto[[#This Row],[T.1]]<>\"\",_xlfn.XLOOKUP(t_projeto[[#This Row],[T.1]],$G$22:$G$26,$H$22:$H$26),\"\")","v":""},null,null,{"$f":"IF(t_projeto[[#This Row],[T.2]]<>\"\",_xlfn.XLOOKUP(t_projeto[[#This Row],[T.2]],$G$22:$G$26,$H$22:$H$26),\"\")","v":""},null,null,{"$f":"IF(t_projeto[[#This Row],[T.3]]<>\"\",_xlfn.XLOOKUP(t_projeto[[#This Row],[T.3]],$G$22:$G$26,$H$22:$H$26),\"\")","v":""},null,{"$f":"t_projeto[[#This Row],[Q.1]]+t_projeto[[#This Row],[Q.2]]+t_projeto[[#This Row],[Q.3]]","v":0},{"$f":"t_projeto[[#This Row],[Q.1]]+t_projeto[[#This Row],[Q.2]]+t_projeto[[#This Row],[Q.3]]","v":0},{"$f":"IF(t_projeto[[#This Row],[Q.1]]<>\"\",SUMIFS(t_reator[p],t_reator[tipo],t_projeto[[#This Row],[T.1]],t_reator[w],t_projeto[[#This Row],[P.1(W)]]),\"\")","v":""},{"$f":"IF(t_projeto[[#This Row],[Q.2]]<>\"\",SUMIFS(t_reator[p],t_reator[tipo],t_projeto[[#This Row],[T.2]],t_reator[w],t_projeto[[#This Row],[P.2(W)]]),\"\")","v":""},{"$f":"IF(t_projeto[[#This Row],[Q.3]]<>\"\",SUMIFS(t_reator[p],t_reator[tipo],t_projeto[[#This Row],[T.3]],t_reator[w],t_projeto[[#This Row],[P.3(W)]]),\"\")","v":""},{"$f":"IF(t_projeto[[#This Row],[Q.1]]<>\"\",IFERROR(IFERROR(D588*(E588+O588)+G588*(H588+P588)+J588*(K588+Q588),D588*(E588+O588)+G588*(H588+P588)),D588*(E588+O588)),\"\")","v":""},{"$f":"IF(t_projeto[[#This Row],[Consumo_W]]<>\"\",ROUND(t_projeto[[#This Row],[Consumo_W]]/t_projeto[[#This Row],[Luminárias]],0),\"\")","v":""},{"$f":"IF(t_projeto[[#This Row],[Q.1]]<>\"\",t_projeto[[#This Row],[Q.1]]*t_projeto[[#This Row],[P.1(W)]]*$C$24,\"\")","v":""},{"$f":"IF(t_projeto[[#This Row],[Q.2]]<>\"\",t_projeto[[#This Row],[Q.2]]*t_projeto[[#This Row],[P.2(W)]]*$C$24,\"\")","v":""},{"$f":"IF(t_projeto[[#This Row],[Q.3]]<>\"\",t_projeto[[#This Row],[Q.3]]*t_projeto[[#This Row],[P.3(W)]]*$C$24,\"\")","v":""},{"$f":"IF(t_projeto[[#This Row],[Trecho]]<>\"\",SUM(t_projeto[[#This Row],[f.1]:[f.3]]),\"\")","v":""},{"$f":"IF(t_projeto[[#This Row],[Trecho]]<>\"\",t_projeto[[#This Row],[Q.1]]+t_projeto[[#This Row],[Q.2]]+t_projeto[[#This Row],[Q.3]],\"\")","v":""},{"$f":"IF(AND(t_projeto[[#This Row],[FLUXO]]<>0,t_projeto[[#This Row],[FLUXO]]<>\"\"),ROUND(t_projeto[[#This Row],[FLUXO]]/t_projeto[[#This Row],[Luminárias]],0),\"\")","v":""},{"$f":"IF(AND(t_projeto[[#This Row],[Luminárias]]<>0,t_projeto[[#This Row],[Luminárias]]<>\"\"),ROUND(t_projeto[[#This Row],[lm_médio]]/t_projeto[[#This Row],[W_médio]],2),\"\")","v":""}]
[127,{"$f":"_xlfn.XLOOKUP(t_projeto[[#This Row],[cód.]],t_sitio[cód],t_sitio[Trecho],\"\")","v":""},null,null,{"$f":"IF(t_projeto[[#This Row],[T.1]]<>\"\",_xlfn.XLOOKUP(t_projeto[[#This Row],[T.1]],$G$22:$G$26,$H$22:$H$26),\"\")","v":""},null,null,{"$f":"IF(t_projeto[[#This Row],[T.2]]<>\"\",_xlfn.XLOOKUP(t_projeto[[#This Row],[T.2]],$G$22:$G$26,$H$22:$H$26),\"\")","v":""},null,null,{"$f":"IF(t_projeto[[#This Row],[T.3]]<>\"\",_xlfn.XLOOKUP(t_projeto[[#This Row],[T.3]],$G$22:$G$26,$H$22:$H$26),\"\")","v":""},null,{"$f":"t_projeto[[#This Row],[Q.1]]+t_projeto[[#This Row],[Q.2]]+t_projeto[[#This Row],[Q.3]]","v":0},{"$f":"t_projeto[[#This Row],[Q.1]]+t_projeto[[#This Row],[Q.2]]+t_projeto[[#This Row],[Q.3]]","v":0},{"$f":"IF(t_projeto[[#This Row],[Q.1]]<>\"\",SUMIFS(t_reator[p],t_reator[tipo],t_projeto[[#This Row],[T.1]],t_reator[w],t_projeto[[#This Row],[P.1(W)]]),\"\")","v":""},{"$f":"IF(t_projeto[[#This Row],[Q.2]]<>\"\",SUMIFS(t_reator[p],t_reator[tipo],t_projeto[[#This Row],[T.2]],t_reator[w],t_projeto[[#This Row],[P.2(W)]]),\"\")","v":""},{"$f":"IF(t_projeto[[#This Row],[Q.3]]<>\"\",SUMIFS(t_reator[p],t_reator[tipo],t_projeto[[#This Row],[T.3]],t_reator[w],t_projeto[[#This Row],[P.3(W)]]),\"\")","v":""},{"$f":"IF(t_projeto[[#This Row],[Q.1]]<>\"\",IFERROR(IFERROR(D589*(E589+O589)+G589*(H589+P589)+J589*(K589+Q589),D589*(E589+O589)+G589*(H589+P589)),D589*(E589+O589)),\"\")","v":""},{"$f":"IF(t_projeto[[#This Row],[Consumo_W]]<>\"\",ROUND(t_projeto[[#This Row],[Consumo_W]]/t_projeto[[#This Row],[Luminárias]],0),\"\")","v":""},{"$f":"IF(t_projeto[[#This Row],[Q.1]]<>\"\",t_projeto[[#This Row],[Q.1]]*t_projeto[[#This Row],[P.1(W)]]*$C$24,\"\")","v":""},{"$f":"IF(t_projeto[[#This Row],[Q.2]]<>\"\",t_projeto[[#This Row],[Q.2]]*t_projeto[[#This Row],[P.2(W)]]*$C$24,\"\")","v":""},{"$f":"IF(t_projeto[[#This Row],[Q.3]]<>\"\",t_projeto[[#This Row],[Q.3]]*t_projeto[[#This Row],[P.3(W)]]*$C$24,\"\")","v":""},{"$f":"IF(t_projeto[[#This Row],[Trecho]]<>\"\",SUM(t_projeto[[#This Row],[f.1]:[f.3]]),\"\")","v":""},{"$f":"IF(t_projeto[[#This Row],[Trecho]]<>\"\",t_projeto[[#This Row],[Q.1]]+t_projeto[[#This Row],[Q.2]]+t_projeto[[#This Row],[Q.3]],\"\")","v":""},{"$f":"IF(AND(t_projeto[[#This Row],[FLUXO]]<>0,t_projeto[[#This Row],[FLUXO]]<>\"\"),ROUND(t_projeto[[#This Row],[FLUXO]]/t_projeto[[#This Row],[Luminárias]],0),\"\")","v":""},{"$f":"IF(AND(t_projeto[[#This Row],[Luminárias]]<>0,t_projeto[[#This Row],[Luminárias]]<>\"\"),ROUND(t_projeto[[#This Row],[lm_médio]]/t_projeto[[#This Row],[W_médio]],2),\"\")","v":""}]
[128,{"$f":"_xlfn.XLOOKUP(t_projeto[[#This Row],[cód.]],t_sitio[cód],t_sitio[Trecho],\"\")","v":""},null,null,{"$f":"IF(t_projeto[[#This Row],[T.1]]<>\"\",_xlfn.XLOOKUP(t_projeto[[#This Row],[T.1]],$G$22:$G$26,$H$22:$H$26),\"\")","v":""},null,null,{"$f":"IF(t_projeto[[#This Row],[T.2]]<>\"\",_xlfn.XLOOKUP(t_projeto[[#This Row],[T.2]],$G$22:$G$26,$H$22:$H$26),\"\")","v":""},null,null,{"$f":"IF(t_projeto[[#This Row],[T.3]]<>\"\",_xlfn.XLOOKUP(t_projeto[[#This Row],[T.3]],$G$22:$G$26,$H$22:$H$26),\"\")","v":""},null,{"$f":"t_projeto[[#This Row],[Q.1]]+t_projeto[[#This Row],[Q.2]]+t_projeto[[#This Row],[Q.3]]","v":0},{"$f":"t_projeto[[#This Row],[Q.1]]+t_projeto[[#This Row],[Q.2]]+t_projeto[[#This Row],[Q.3]]","v":0},{"$f":"IF(t_projeto[[#This Row],[Q.1]]<>\"\",SUMIFS(t_reator[p],t_reator[tipo],t_projeto[[#This Row],[T.1]],t_reator[w],t_projeto[[#This Row],[P.1(W)]]),\"\")","v":""},{"$f":"IF(t_projeto[[#This Row],[Q.2]]<>\"\",SUMIFS(t_reator[p],t_reator[tipo],t_projeto[[#This Row],[T.2]],t_reator[w],t_projeto[[#This Row],[P.2(W)]]),\"\")","v":""},{"$f":"IF(t_projeto[[#This Row],[Q.3]]<>\"\",SUMIFS(t_reator[p],t_reator[tipo],t_projeto[[#This Row],[T.3]],t_reator[w],t_projeto[[#This Row],[P.3(W)]]),\"\")","v":""},{"$f":"IF(t_projeto[[#This Row],[Q.1]]<>\"\",IFERROR(IFERROR(D590*(E590+O590)+G590*(H590+P590)+J590*(K590+Q590),D590*(E590+O590)+G590*(H590+P590)),D590*(E590+O590)),\"\")","v":""},{"$f":"IF(t_projeto[[#This Row],[Consumo_W]]<>\"\",ROUND(t_projeto[[#This Row],[Consumo_W]]/t_projeto[[#This Row],[Luminárias]],0),\"\")","v":""},{"$f":"IF(t_projeto[[#This Row],[Q.1]]<>\"\",t_projeto[[#This Row],[Q.1]]*t_projeto[[#This Row],[P.1(W)]]*$C$24,\"\")","v":""},{"$f":"IF(t_projeto[[#This Row],[Q.2]]<>\"\",t_projeto[[#This Row],[Q.2]]*t_projeto[[#This Row],[P.2(W)]]*$C$24,\"\")","v":""},{"$f":"IF(t_projeto[[#This Row],[Q.3]]<>\"\",t_projeto[[#This Row],[Q.3]]*t_projeto[[#This Row],[P.3(W)]]*$C$24,\"\")","v":""},{"$f":"IF(t_projeto[[#This Row],[Trecho]]<>\"\",SUM(t_projeto[[#This Row],[f.1]:[f.3]]),\"\")","v":""},{"$f":"IF(t_projeto[[#This Row],[Trecho]]<>\"\",t_projeto[[#This Row],[Q.1]]+t_projeto[[#This Row],[Q.2]]+t_projeto[[#This Row],[Q.3]],\"\")","v":""},{"$f":"IF(AND(t_projeto[[#This Row],[FLUXO]]<>0,t_projeto[[#This Row],[FLUXO]]<>\"\"),ROUND(t_projeto[[#This Row],[FLUXO]]/t_projeto[[#This Row],[Luminárias]],0),\"\")","v":""},{"$f":"IF(AND(t_projeto[[#This Row],[Luminárias]]<>0,t_projeto[[#This Row],[Luminárias]]<>\"\"),ROUND(t_projeto[[#This Row],[lm_médio]]/t_projeto[[#This Row],[W_médio]],2),\"\")","v":""}]
[129,{"$f":"_xlfn.XLOOKUP(t_projeto[[#This Row],[cód.]],t_sitio[cód],t_sitio[Trecho],\"\")","v":""},null,null,{"$f":"IF(t_projeto[[#This Row],[T.1]]<>\"\",_xlfn.XLOOKUP(t_projeto[[#This Row],[T.1]],$G$22:$G$26,$H$22:$H$26),\"\")","v":""},null,null,{"$f":"IF(t_projeto[[#This Row],[T.2]]<>\"\",_xlfn.XLOOKUP(t_projeto[[#This Row],[T.2]],$G$22:$G$26,$H$22:$H$26),\"\")","v":""},null,null,{"$f":"IF(t_projeto[[#This Row],[T.3]]<>\"\",_xlfn.XLOOKUP(t_projeto[[#This Row],[T.3]],$G$22:$G$26,$H$22:$H$26),\"\")","v":""},null,{"$f":"t_projeto[[#This Row],[Q.1]]+t_projeto[[#This Row],[Q.2]]+t_projeto[[#This Row],[Q.3]]","v":0},{"$f":"t_projeto[[#This Row],[Q.1]]+t_projeto[[#This Row],[Q.2]]+t_projeto[[#This Row],[Q.3]]","v":0},{"$f":"IF(t_projeto[[#This Row],[Q.1]]<>\"\",SUMIFS(t_reator[p],t_reator[tipo],t_projeto[[#This Row],[T.1]],t_reator[w],t_projeto[[#This Row],[P.1(W)]]),\"\")","v":""},{"$f":"IF(t_projeto[[#This Row],[Q.2]]<>\"\",SUMIFS(t_reator[p],t_reator[tipo],t_projeto[[#This Row],[T.2]],t_reator[w],t_projeto[[#This Row],[P.2(W)]]),\"\")","v":""},{"$f":"IF(t_projeto[[#This Row],[Q.3]]<>\"\",SUMIFS(t_reator[p],t_reator[tipo],t_projeto[[#This Row],[T.3]],t_reator[w],t_projeto[[#This Row],[P.3(W)]]),\"\")","v":""},{"$f":"IF(t_projeto[[#This Row],[Q.1]]<>\"\",IFERROR(IFERROR(D591*(E591+O591)+G591*(H591+P591)+J591*(K591+Q591),D591*(E591+O591)+G591*(H591+P591)),D591*(E591+O591)),\"\")","v":""},{"$f":"IF(t_projeto[[#This Row],[Consumo_W]]<>\"\",ROUND(t_projeto[[#This Row],[Consumo_W]]/t_projeto[[#This Row],[Luminárias]],0),\"\")","v":""},{"$f":"IF(t_projeto[[#This Row],[Q.1]]<>\"\",t_projeto[[#This Row],[Q.1]]*t_projeto[[#This Row],[P.1(W)]]*$C$24,\"\")","v":""},{"$f":"IF(t_projeto[[#This Row],[Q.2]]<>\"\",t_projeto[[#This Row],[Q.2]]*t_projeto[[#This Row],[P.2(W)]]*$C$24,\"\")","v":""},{"$f":"IF(t_projeto[[#This Row],[Q.3]]<>\"\",t_projeto[[#This Row],[Q.3]]*t_projeto[[#This Row],[P.3(W)]]*$C$24,\"\")","v":""},{"$f":"IF(t_projeto[[#This Row],[Trecho]]<>\"\",SUM(t_projeto[[#This Row],[f.1]:[f.3]]),\"\")","v":""},{"$f":"IF(t_projeto[[#This Row],[Trecho]]<>\"\",t_projeto[[#This Row],[Q.1]]+t_projeto[[#This Row],[Q.2]]+t_projeto[[#This Row],[Q.3]],\"\")","v":""},{"$f":"IF(AND(t_projeto[[#This Row],[FLUXO]]<>0,t_projeto[[#This Row],[FLUXO]]<>\"\"),ROUND(t_projeto[[#This Row],[FLUXO]]/t_projeto[[#This Row],[Luminárias]],0),\"\")","v":""},{"$f":"IF(AND(t_projeto[[#This Row],[Luminárias]]<>0,t_projeto[[#This Row],[Luminárias]]<>\"\"),ROUND(t_projeto[[#This Row],[lm_médio]]/t_projeto[[#This Row],[W_médio]],2),\"\")","v":""}]
[130,{"$f":"_xlfn.XLOOKUP(t_projeto[[#This Row],[cód.]],t_sitio[cód],t_sitio[Trecho],\"\")","v":""},null,null,{"$f":"IF(t_projeto[[#This Row],[T.1]]<>\"\",_xlfn.XLOOKUP(t_projeto[[#This Row],[T.1]],$G$22:$G$26,$H$22:$H$26),\"\")","v":""},null,null,{"$f":"IF(t_projeto[[#This Row],[T.2]]<>\"\",_xlfn.XLOOKUP(t_projeto[[#This Row],[T.2]],$G$22:$G$26,$H$22:$H$26),\"\")","v":""},null,null,{"$f":"IF(t_projeto[[#This Row],[T.3]]<>\"\",_xlfn.XLOOKUP(t_projeto[[#This Row],[T.3]],$G$22:$G$26,$H$22:$H$26),\"\")","v":""},null,{"$f":"t_projeto[[#This Row],[Q.1]]+t_projeto[[#This Row],[Q.2]]+t_projeto[[#This Row],[Q.3]]","v":0},{"$f":"t_projeto[[#This Row],[Q.1]]+t_projeto[[#This Row],[Q.2]]+t_projeto[[#This Row],[Q.3]]","v":0},{"$f":"IF(t_projeto[[#This Row],[Q.1]]<>\"\",SUMIFS(t_reator[p],t_reator[tipo],t_projeto[[#This Row],[T.1]],t_reator[w],t_projeto[[#This Row],[P.1(W)]]),\"\")","v":""},{"$f":"IF(t_projeto[[#This Row],[Q.2]]<>\"\",SUMIFS(t_reator[p],t_reator[tipo],t_projeto[[#This Row],[T.2]],t_reator[w],t_projeto[[#This Row],[P.2(W)]]),\"\")","v":""},{"$f":"IF(t_projeto[[#This Row],[Q.3]]<>\"\",SUMIFS(t_reator[p],t_reator[tipo],t_projeto[[#This Row],[T.3]],t_reator[w],t_projeto[[#This Row],[P.3(W)]]),\"\")","v":""},{"$f":"IF(t_projeto[[#This Row],[Q.1]]<>\"\",IFERROR(IFERROR(D592*(E592+O592)+G592*(H592+P592)+J592*(K592+Q592),D592*(E592+O592)+G592*(H592+P592)),D592*(E592+O592)),\"\")","v":""},{"$f":"IF(t_projeto[[#This Row],[Consumo_W]]<>\"\",ROUND(t_projeto[[#This Row],[Consumo_W]]/t_projeto[[#This Row],[Luminárias]],0),\"\")","v":""},{"$f":"IF(t_projeto[[#This Row],[Q.1]]<>\"\",t_projeto[[#This Row],[Q.1]]*t_projeto[[#This Row],[P.1(W)]]*$C$24,\"\")","v":""},{"$f":"IF(t_projeto[[#This Row],[Q.2]]<>\"\",t_projeto[[#This Row],[Q.2]]*t_projeto[[#This Row],[P.2(W)]]*$C$24,\"\")","v":""},{"$f":"IF(t_projeto[[#This Row],[Q.3]]<>\"\",t_projeto[[#This Row],[Q.3]]*t_projeto[[#This Row],[P.3(W)]]*$C$24,\"\")","v":""},{"$f":"IF(t_projeto[[#This Row],[Trecho]]<>\"\",SUM(t_projeto[[#This Row],[f.1]:[f.3]]),\"\")","v":""},{"$f":"IF(t_projeto[[#This Row],[Trecho]]<>\"\",t_projeto[[#This Row],[Q.1]]+t_projeto[[#This Row],[Q.2]]+t_projeto[[#This Row],[Q.3]],\"\")","v":""},{"$f":"IF(AND(t_projeto[[#This Row],[FLUXO]]<>0,t_projeto[[#This Row],[FLUXO]]<>\"\"),ROUND(t_projeto[[#This Row],[FLUXO]]/t_projeto[[#This Row],[Luminárias]],0),\"\")","v":""},{"$f":"IF(AND(t_projeto[[#This Row],[Luminárias]]<>0,t_projeto[[#This Row],[Luminárias]]<>\"\"),ROUND(t_projeto[[#This Row],[lm_médio]]/t_projeto[[#This Row],[W_médio]],2),\"\")","v":""}]
[131,{"$f":"_xlfn.XLOOKUP(t_projeto[[#This Row],[cód.]],t_sitio[cód],t_sitio[Trecho],\"\")","v":""},null,null,{"$f":"IF(t_projeto[[#This Row],[T.1]]<>\"\",_xlfn.XLOOKUP(t_projeto[[#This Row],[T.1]],$G$22:$G$26,$H$22:$H$26),\"\")","v":""},null,null,{"$f":"IF(t_projeto[[#This Row],[T.2]]<>\"\",_xlfn.XLOOKUP(t_projeto[[#This Row],[T.2]],$G$22:$G$26,$H$22:$H$26),\"\")","v":""},null,null,{"$f":"IF(t_projeto[[#This Row],[T.3]]<>\"\",_xlfn.XLOOKUP(t_projeto[[#This Row],[T.3]],$G$22:$G$26,$H$22:$H$26),\"\")","v":""},null,{"$f":"t_projeto[[#This Row],[Q.1]]+t_projeto[[#This Row],[Q.2]]+t_projeto[[#This Row],[Q.3]]","v":0},{"$f":"t_projeto[[#This Row],[Q.1]]+t_projeto[[#This Row],[Q.2]]+t_projeto[[#This Row],[Q.3]]","v":0},{"$f":"IF(t_projeto[[#This Row],[Q.1]]<>\"\",SUMIFS(t_reator[p],t_reator[tipo],t_projeto[[#This Row],[T.1]],t_reator[w],t_projeto[[#This Row],[P.1(W)]]),\"\")","v":""},{"$f":"IF(t_projeto[[#This Row],[Q.2]]<>\"\",SUMIFS(t_reator[p],t_reator[tipo],t_projeto[[#This Row],[T.2]],t_reator[w],t_projeto[[#This Row],[P.2(W)]]),\"\")","v":""},{"$f":"IF(t_projeto[[#This Row],[Q.3]]<>\"\",SUMIFS(t_reator[p],t_reator[tipo],t_projeto[[#This Row],[T.3]],t_reator[w],t_projeto[[#This Row],[P.3(W)]]),\"\")","v":""},{"$f":"IF(t_projeto[[#This Row],[Q.1]]<>\"\",IFERROR(IFERROR(D593*(E593+O593)+G593*(H593+P593)+J593*(K593+Q593),D593*(E593+O593)+G593*(H593+P593)),D593*(E593+O593)),\"\")","v":""},{"$f":"IF(t_projeto[[#This Row],[Consumo_W]]<>\"\",ROUND(t_projeto[[#This Row],[Consumo_W]]/t_projeto[[#This Row],[Luminárias]],0),\"\")","v":""},{"$f":"IF(t_projeto[[#This Row],[Q.1]]<>\"\",t_projeto[[#This Row],[Q.1]]*t_projeto[[#This Row],[P.1(W)]]*$C$24,\"\")","v":""},{"$f":"IF(t_projeto[[#This Row],[Q.2]]<>\"\",t_projeto[[#This Row],[Q.2]]*t_projeto[[#This Row],[P.2(W)]]*$C$24,\"\")","v":""},{"$f":"IF(t_projeto[[#This Row],[Q.3]]<>\"\",t_projeto[[#This Row],[Q.3]]*t_projeto[[#This Row],[P.3(W)]]*$C$24,\"\")","v":""},{"$f":"IF(t_projeto[[#This Row],[Trecho]]<>\"\",SUM(t_projeto[[#This Row],[f.1]:[f.3]]),\"\")","v":""},{"$f":"IF(t_projeto[[#This Row],[Trecho]]<>\"\",t_projeto[[#This Row],[Q.1]]+t_projeto[[#This Row],[Q.2]]+t_projeto[[#This Row],[Q.3]],\"\")","v":""},{"$f":"IF(AND(t_projeto[[#This Row],[FLUXO]]<>0,t_projeto[[#This Row],[FLUXO]]<>\"\"),ROUND(t_projeto[[#This Row],[FLUXO]]/t_projeto[[#This Row],[Luminárias]],0),\"\")","v":""},{"$f":"IF(AND(t_projeto[[#This Row],[Luminárias]]<>0,t_projeto[[#This Row],[Luminárias]]<>\"\"),ROUND(t_projeto[[#This Row],[lm_médio]]/t_projeto[[#This Row],[W_médio]],2),\"\")","v":""}]
[132,{"$f":"_xlfn.XLOOKUP(t_projeto[[#This Row],[cód.]],t_sitio[cód],t_sitio[Trecho],\"\")","v":""},null,null,{"$f":"IF(t_projeto[[#This Row],[T.1]]<>\"\",_xlfn.XLOOKUP(t_projeto[[#This Row],[T.1]],$G$22:$G$26,$H$22:$H$26),\"\")","v":""},null,null,{"$f":"IF(t_projeto[[#This Row],[T.2]]<>\"\",_xlfn.XLOOKUP(t_projeto[[#This Row],[T.2]],$G$22:$G$26,$H$22:$H$26),\"\")","v":""},null,null,{"$f":"IF(t_projeto[[#This Row],[T.3]]<>\"\",_xlfn.XLOOKUP(t_projeto[[#This Row],[T.3]],$G$22:$G$26,$H$22:$H$26),\"\")","v":""},null,{"$f":"t_projeto[[#This Row],[Q.1]]+t_projeto[[#This Row],[Q.2]]+t_projeto[[#This Row],[Q.3]]","v":0},{"$f":"t_projeto[[#This Row],[Q.1]]+t_projeto[[#This Row],[Q.2]]+t_projeto[[#This Row],[Q.3]]","v":0},{"$f":"IF(t_projeto[[#This Row],[Q.1]]<>\"\",SUMIFS(t_reator[p],t_reator[tipo],t_projeto[[#This Row],[T.1]],t_reator[w],t_projeto[[#This Row],[P.1(W)]]),\"\")","v":""},{"$f":"IF(t_projeto[[#This Row],[Q.2]]<>\"\",SUMIFS(t_reator[p],t_reator[tipo],t_projeto[[#This Row],[T.2]],t_reator[w],t_projeto[[#This Row],[P.2(W)]]),\"\")","v":""},{"$f":"IF(t_projeto[[#This Row],[Q.3]]<>\"\",SUMIFS(t_reator[p],t_reator[tipo],t_projeto[[#This Row],[T.3]],t_reator[w],t_projeto[[#This Row],[P.3(W)]]),\"\")","v":""},{"$f":"IF(t_projeto[[#This Row],[Q.1]]<>\"\",IFERROR(IFERROR(D594*(E594+O594)+G594*(H594+P594)+J594*(K594+Q594),D594*(E594+O594)+G594*(H594+P594)),D594*(E594+O594)),\"\")","v":""},{"$f":"IF(t_projeto[[#This Row],[Consumo_W]]<>\"\",ROUND(t_projeto[[#This Row],[Consumo_W]]/t_projeto[[#This Row],[Luminárias]],0),\"\")","v":""},{"$f":"IF(t_projeto[[#This Row],[Q.1]]<>\"\",t_projeto[[#This Row],[Q.1]]*t_projeto[[#This Row],[P.1(W)]]*$C$24,\"\")","v":""},{"$f":"IF(t_projeto[[#This Row],[Q.2]]<>\"\",t_projeto[[#This Row],[Q.2]]*t_projeto[[#This Row],[P.2(W)]]*$C$24,\"\")","v":""},{"$f":"IF(t_projeto[[#This Row],[Q.3]]<>\"\",t_projeto[[#This Row],[Q.3]]*t_projeto[[#This Row],[P.3(W)]]*$C$24,\"\")","v":""},{"$f":"IF(t_projeto[[#This Row],[Trecho]]<>\"\",SUM(t_projeto[[#This Row],[f.1]:[f.3]]),\"\")","v":""},{"$f":"IF(t_projeto[[#This Row],[Trecho]]<>\"\",t_projeto[[#This Row],[Q.1]]+t_projeto[[#This Row],[Q.2]]+t_projeto[[#This Row],[Q.3]],\"\")","v":""},{"$f":"IF(AND(t_projeto[[#This Row],[FLUXO]]<>0,t_projeto[[#This Row],[FLUXO]]<>\"\"),ROUND(t_projeto[[#This Row],[FLUXO]]/t_projeto[[#This Row],[Luminárias]],0),\"\")","v":""},{"$f":"IF(AND(t_projeto[[#This Row],[Luminárias]]<>0,t_projeto[[#This Row],[Luminárias]]<>\"\"),ROUND(t_projeto[[#This Row],[lm_médio]]/t_projeto[[#This Row],[W_médio]],2),\"\")","v":""}]
[133,{"$f":"_xlfn.XLOOKUP(t_projeto[[#This Row],[cód.]],t_sitio[cód],t_sitio[Trecho],\"\")","v":""},null,null,{"$f":"IF(t_projeto[[#This Row],[T.1]]<>\"\",_xlfn.XLOOKUP(t_projeto[[#This Row],[T.1]],$G$22:$G$26,$H$22:$H$26),\"\")","v":""},null,null,{"$f":"IF(t_projeto[[#This Row],[T.2]]<>\"\",_xlfn.XLOOKUP(t_projeto[[#This Row],[T.2]],$G$22:$G$26,$H$22:$H$26),\"\")","v":""},null,null,{"$f":"IF(t_projeto[[#This Row],[T.3]]<>\"\",_xlfn.XLOOKUP(t_projeto[[#This Row],[T.3]],$G$22:$G$26,$H$22:$H$26),\"\")","v":""},null,{"$f":"t_projeto[[#This Row],[Q.1]]+t_projeto[[#This Row],[Q.2]]+t_projeto[[#This Row],[Q.3]]","v":0},{"$f":"t_projeto[[#This Row],[Q.1]]+t_projeto[[#This Row],[Q.2]]+t_projeto[[#This Row],[Q.3]]","v":0},{"$f":"IF(t_projeto[[#This Row],[Q.1]]<>\"\",SUMIFS(t_reator[p],t_reator[tipo],t_projeto[[#This Row],[T.1]],t_reator[w],t_projeto[[#This Row],[P.1(W)]]),\"\")","v":""},{"$f":"IF(t_projeto[[#This Row],[Q.2]]<>\"\",SUMIFS(t_reator[p],t_reator[tipo],t_projeto[[#This Row],[T.2]],t_reator[w],t_projeto[[#This Row],[P.2(W)]]),\"\")","v":""},{"$f":"IF(t_projeto[[#This Row],[Q.3]]<>\"\",SUMIFS(t_reator[p],t_reator[tipo],t_projeto[[#This Row],[T.3]],t_reator[w],t_projeto[[#This Row],[P.3(W)]]),\"\")","v":""},{"$f":"IF(t_projeto[[#This Row],[Q.1]]<>\"\",IFERROR(IFERROR(D595*(E595+O595)+G595*(H595+P595)+J595*(K595+Q595),D595*(E595+O595)+G595*(H595+P595)),D595*(E595+O595)),\"\")","v":""},{"$f":"IF(t_projeto[[#This Row],[Consumo_W]]<>\"\",ROUND(t_projeto[[#This Row],[Consumo_W]]/t_projeto[[#This Row],[Luminárias]],0),\"\")","v":""},{"$f":"IF(t_projeto[[#This Row],[Q.1]]<>\"\",t_projeto[[#This Row],[Q.1]]*t_projeto[[#This Row],[P.1(W)]]*$C$24,\"\")","v":""},{"$f":"IF(t_projeto[[#This Row],[Q.2]]<>\"\",t_projeto[[#This Row],[Q.2]]*t_projeto[[#This Row],[P.2(W)]]*$C$24,\"\")","v":""},{"$f":"IF(t_projeto[[#This Row],[Q.3]]<>\"\",t_projeto[[#This Row],[Q.3]]*t_projeto[[#This Row],[P.3(W)]]*$C$24,\"\")","v":""},{"$f":"IF(t_projeto[[#This Row],[Trecho]]<>\"\",SUM(t_projeto[[#This Row],[f.1]:[f.3]]),\"\")","v":""},{"$f":"IF(t_projeto[[#This Row],[Trecho]]<>\"\",t_projeto[[#This Row],[Q.1]]+t_projeto[[#This Row],[Q.2]]+t_projeto[[#This Row],[Q.3]],\"\")","v":""},{"$f":"IF(AND(t_projeto[[#This Row],[FLUXO]]<>0,t_projeto[[#This Row],[FLUXO]]<>\"\"),ROUND(t_projeto[[#This Row],[FLUXO]]/t_projeto[[#This Row],[Luminárias]],0),\"\")","v":""},{"$f":"IF(AND(t_projeto[[#This Row],[Luminárias]]<>0,t_projeto[[#This Row],[Luminárias]]<>\"\"),ROUND(t_projeto[[#This Row],[lm_médio]]/t_projeto[[#This Row],[W_médio]],2),\"\")","v":""}]
[134,{"$f":"_xlfn.XLOOKUP(t_projeto[[#This Row],[cód.]],t_sitio[cód],t_sitio[Trecho],\"\")","v":""},null,null,{"$f":"IF(t_projeto[[#This Row],[T.1]]<>\"\",_xlfn.XLOOKUP(t_projeto[[#This Row],[T.1]],$G$22:$G$26,$H$22:$H$26),\"\")","v":""},null,null,{"$f":"IF(t_projeto[[#This Row],[T.2]]<>\"\",_xlfn.XLOOKUP(t_projeto[[#This Row],[T.2]],$G$22:$G$26,$H$22:$H$26),\"\")","v":""},null,null,{"$f":"IF(t_projeto[[#This Row],[T.3]]<>\"\",_xlfn.XLOOKUP(t_projeto[[#This Row],[T.3]],$G$22:$G$26,$H$22:$H$26),\"\")","v":""},null,{"$f":"t_projeto[[#This Row],[Q.1]]+t_projeto[[#This Row],[Q.2]]+t_projeto[[#This Row],[Q.3]]","v":0},{"$f":"t_projeto[[#This Row],[Q.1]]+t_projeto[[#This Row],[Q.2]]+t_projeto[[#This Row],[Q.3]]","v":0},{"$f":"IF(t_projeto[[#This Row],[Q.1]]<>\"\",SUMIFS(t_reator[p],t_reator[tipo],t_projeto[[#This Row],[T.1]],t_reator[w],t_projeto[[#This Row],[P.1(W)]]),\"\")","v":""},{"$f":"IF(t_projeto[[#This Row],[Q.2]]<>\"\",SUMIFS(t_reator[p],t_reator[tipo],t_projeto[[#This Row],[T.2]],t_reator[w],t_projeto[[#This Row],[P.2(W)]]),\"\")","v":""},{"$f":"IF(t_projeto[[#This Row],[Q.3]]<>\"\",SUMIFS(t_reator[p],t_reator[tipo],t_projeto[[#This Row],[T.3]],t_reator[w],t_projeto[[#This Row],[P.3(W)]]),\"\")","v":""},{"$f":"IF(t_projeto[[#This Row],[Q.1]]<>\"\",IFERROR(IFERROR(D596*(E596+O596)+G596*(H596+P596)+J596*(K596+Q596),D596*(E596+O596)+G596*(H596+P596)),D596*(E596+O596)),\"\")","v":""},{"$f":"IF(t_projeto[[#This Row],[Consumo_W]]<>\"\",ROUND(t_projeto[[#This Row],[Consumo_W]]/t_projeto[[#This Row],[Luminárias]],0),\"\")","v":""},{"$f":"IF(t_projeto[[#This Row],[Q.1]]<>\"\",t_projeto[[#This Row],[Q.1]]*t_projeto[[#This Row],[P.1(W)]]*$C$24,\"\")","v":""},{"$f":"IF(t_projeto[[#This Row],[Q.2]]<>\"\",t_projeto[[#This Row],[Q.2]]*t_projeto[[#This Row],[P.2(W)]]*$C$24,\"\")","v":""},{"$f":"IF(t_projeto[[#This Row],[Q.3]]<>\"\",t_projeto[[#This Row],[Q.3]]*t_projeto[[#This Row],[P.3(W)]]*$C$24,\"\")","v":""},{"$f":"IF(t_projeto[[#This Row],[Trecho]]<>\"\",SUM(t_projeto[[#This Row],[f.1]:[f.3]]),\"\")","v":""},{"$f":"IF(t_projeto[[#This Row],[Trecho]]<>\"\",t_projeto[[#This Row],[Q.1]]+t_projeto[[#This Row],[Q.2]]+t_projeto[[#This Row],[Q.3]],\"\")","v":""},{"$f":"IF(AND(t_projeto[[#This Row],[FLUXO]]<>0,t_projeto[[#This Row],[FLUXO]]<>\"\"),ROUND(t_projeto[[#This Row],[FLUXO]]/t_projeto[[#This Row],[Luminárias]],0),\"\")","v":""},{"$f":"IF(AND(t_projeto[[#This Row],[Luminárias]]<>0,t_projeto[[#This Row],[Luminárias]]<>\"\"),ROUND(t_projeto[[#This Row],[lm_médio]]/t_projeto[[#This Row],[W_médio]],2),\"\")","v":""}]
[135,{"$f":"_xlfn.XLOOKUP(t_projeto[[#This Row],[cód.]],t_sitio[cód],t_sitio[Trecho],\"\")","v":""},null,null,{"$f":"IF(t_projeto[[#This Row],[T.1]]<>\"\",_xlfn.XLOOKUP(t_projeto[[#This Row],[T.1]],$G$22:$G$26,$H$22:$H$26),\"\")","v":""},null,null,{"$f":"IF(t_projeto[[#This Row],[T.2]]<>\"\",_xlfn.XLOOKUP(t_projeto[[#This Row],[T.2]],$G$22:$G$26,$H$22:$H$26),\"\")","v":""},null,null,{"$f":"IF(t_projeto[[#This Row],[T.3]]<>\"\",_xlfn.XLOOKUP(t_projeto[[#This Row],[T.3]],$G$22:$G$26,$H$22:$H$26),\"\")","v":""},null,{"$f":"t_projeto[[#This Row],[Q.1]]+t_projeto[[#This Row],[Q.2]]+t_projeto[[#This Row],[Q.3]]","v":0},{"$f":"t_projeto[[#This Row],[Q.1]]+t_projeto[[#This Row],[Q.2]]+t_projeto[[#This Row],[Q.3]]","v":0},{"$f":"IF(t_projeto[[#This Row],[Q.1]]<>\"\",SUMIFS(t_reator[p],t_reator[tipo],t_projeto[[#This Row],[T.1]],t_reator[w],t_projeto[[#This Row],[P.1(W)]]),\"\")","v":""},{"$f":"IF(t_projeto[[#This Row],[Q.2]]<>\"\",SUMIFS(t_reator[p],t_reator[tipo],t_projeto[[#This Row],[T.2]],t_reator[w],t_projeto[[#This Row],[P.2(W)]]),\"\")","v":""},{"$f":"IF(t_projeto[[#This Row],[Q.3]]<>\"\",SUMIFS(t_reator[p],t_reator[tipo],t_projeto[[#This Row],[T.3]],t_reator[w],t_projeto[[#This Row],[P.3(W)]]),\"\")","v":""},{"$f":"IF(t_projeto[[#This Row],[Q.1]]<>\"\",IFERROR(IFERROR(D597*(E597+O597)+G597*(H597+P597)+J597*(K597+Q597),D597*(E597+O597)+G597*(H597+P597)),D597*(E597+O597)),\"\")","v":""},{"$f":"IF(t_projeto[[#This Row],[Consumo_W]]<>\"\",ROUND(t_projeto[[#This Row],[Consumo_W]]/t_projeto[[#This Row],[Luminárias]],0),\"\")","v":""},{"$f":"IF(t_projeto[[#This Row],[Q.1]]<>\"\",t_projeto[[#This Row],[Q.1]]*t_projeto[[#This Row],[P.1(W)]]*$C$24,\"\")","v":""},{"$f":"IF(t_projeto[[#This Row],[Q.2]]<>\"\",t_projeto[[#This Row],[Q.2]]*t_projeto[[#This Row],[P.2(W)]]*$C$24,\"\")","v":""},{"$f":"IF(t_projeto[[#This Row],[Q.3]]<>\"\",t_projeto[[#This Row],[Q.3]]*t_projeto[[#This Row],[P.3(W)]]*$C$24,\"\")","v":""},{"$f":"IF(t_projeto[[#This Row],[Trecho]]<>\"\",SUM(t_projeto[[#This Row],[f.1]:[f.3]]),\"\")","v":""},{"$f":"IF(t_projeto[[#This Row],[Trecho]]<>\"\",t_projeto[[#This Row],[Q.1]]+t_projeto[[#This Row],[Q.2]]+t_projeto[[#This Row],[Q.3]],\"\")","v":""},{"$f":"IF(AND(t_projeto[[#This Row],[FLUXO]]<>0,t_projeto[[#This Row],[FLUXO]]<>\"\"),ROUND(t_projeto[[#This Row],[FLUXO]]/t_projeto[[#This Row],[Luminárias]],0),\"\")","v":""},{"$f":"IF(AND(t_projeto[[#This Row],[Luminárias]]<>0,t_projeto[[#This Row],[Luminárias]]<>\"\"),ROUND(t_projeto[[#This Row],[lm_médio]]/t_projeto[[#This Row],[W_médio]],2),\"\")","v":""}]
[136,{"$f":"_xlfn.XLOOKUP(t_projeto[[#This Row],[cód.]],t_sitio[cód],t_sitio[Trecho],\"\")","v":""},null,null,{"$f":"IF(t_projeto[[#This Row],[T.1]]<>\"\",_xlfn.XLOOKUP(t_projeto[[#This Row],[T.1]],$G$22:$G$26,$H$22:$H$26),\"\")","v":""},null,null,{"$f":"IF(t_projeto[[#This Row],[T.2]]<>\"\",_xlfn.XLOOKUP(t_projeto[[#This Row],[T.2]],$G$22:$G$26,$H$22:$H$26),\"\")","v":""},null,null,{"$f":"IF(t_projeto[[#This Row],[T.3]]<>\"\",_xlfn.XLOOKUP(t_projeto[[#This Row],[T.3]],$G$22:$G$26,$H$22:$H$26),\"\")","v":""},null,{"$f":"t_projeto[[#This Row],[Q.1]]+t_projeto[[#This Row],[Q.2]]+t_projeto[[#This Row],[Q.3]]","v":0},{"$f":"t_projeto[[#This Row],[Q.1]]+t_projeto[[#This Row],[Q.2]]+t_projeto[[#This Row],[Q.3]]","v":0},{"$f":"IF(t_projeto[[#This Row],[Q.1]]<>\"\",SUMIFS(t_reator[p],t_reator[tipo],t_projeto[[#This Row],[T.1]],t_reator[w],t_projeto[[#This Row],[P.1(W)]]),\"\")","v":""},{"$f":"IF(t_projeto[[#This Row],[Q.2]]<>\"\",SUMIFS(t_reator[p],t_reator[tipo],t_projeto[[#This Row],[T.2]],t_reator[w],t_projeto[[#This Row],[P.2(W)]]),\"\")","v":""},{"$f":"IF(t_projeto[[#This Row],[Q.3]]<>\"\",SUMIFS(t_reator[p],t_reator[tipo],t_projeto[[#This Row],[T.3]],t_reator[w],t_projeto[[#This Row],[P.3(W)]]),\"\")","v":""},{"$f":"IF(t_projeto[[#This Row],[Q.1]]<>\"\",IFERROR(IFERROR(D598*(E598+O598)+G598*(H598+P598)+J598*(K598+Q598),D598*(E598+O598)+G598*(H598+P598)),D598*(E598+O598)),\"\")","v":""},{"$f":"IF(t_projeto[[#This Row],[Consumo_W]]<>\"\",ROUND(t_projeto[[#This Row],[Consumo_W]]/t_projeto[[#This Row],[Luminárias]],0),\"\")","v":""},{"$f":"IF(t_projeto[[#This Row],[Q.1]]<>\"\",t_projeto[[#This Row],[Q.1]]*t_projeto[[#This Row],[P.1(W)]]*$C$24,\"\")","v":""},{"$f":"IF(t_projeto[[#This Row],[Q.2]]<>\"\",t_projeto[[#This Row],[Q.2]]*t_projeto[[#This Row],[P.2(W)]]*$C$24,\"\")","v":""},{"$f":"IF(t_projeto[[#This Row],[Q.3]]<>\"\",t_projeto[[#This Row],[Q.3]]*t_projeto[[#This Row],[P.3(W)]]*$C$24,\"\")","v":""},{"$f":"IF(t_projeto[[#This Row],[Trecho]]<>\"\",SUM(t_projeto[[#This Row],[f.1]:[f.3]]),\"\")","v":""},{"$f":"IF(t_projeto[[#This Row],[Trecho]]<>\"\",t_projeto[[#This Row],[Q.1]]+t_projeto[[#This Row],[Q.2]]+t_projeto[[#This Row],[Q.3]],\"\")","v":""},{"$f":"IF(AND(t_projeto[[#This Row],[FLUXO]]<>0,t_projeto[[#This Row],[FLUXO]]<>\"\"),ROUND(t_projeto[[#This Row],[FLUXO]]/t_projeto[[#This Row],[Luminárias]],0),\"\")","v":""},{"$f":"IF(AND(t_projeto[[#This Row],[Luminárias]]<>0,t_projeto[[#This Row],[Luminárias]]<>\"\"),ROUND(t_projeto[[#This Row],[lm_médio]]/t_projeto[[#This Row],[W_médio]],2),\"\")","v":""}]
[137,{"$f":"_xlfn.XLOOKUP(t_projeto[[#This Row],[cód.]],t_sitio[cód],t_sitio[Trecho],\"\")","v":""},null,null,{"$f":"IF(t_projeto[[#This Row],[T.1]]<>\"\",_xlfn.XLOOKUP(t_projeto[[#This Row],[T.1]],$G$22:$G$26,$H$22:$H$26),\"\")","v":""},null,null,{"$f":"IF(t_projeto[[#This Row],[T.2]]<>\"\",_xlfn.XLOOKUP(t_projeto[[#This Row],[T.2]],$G$22:$G$26,$H$22:$H$26),\"\")","v":""},null,null,{"$f":"IF(t_projeto[[#This Row],[T.3]]<>\"\",_xlfn.XLOOKUP(t_projeto[[#This Row],[T.3]],$G$22:$G$26,$H$22:$H$26),\"\")","v":""},null,{"$f":"t_projeto[[#This Row],[Q.1]]+t_projeto[[#This Row],[Q.2]]+t_projeto[[#This Row],[Q.3]]","v":0},{"$f":"t_projeto[[#This Row],[Q.1]]+t_projeto[[#This Row],[Q.2]]+t_projeto[[#This Row],[Q.3]]","v":0},{"$f":"IF(t_projeto[[#This Row],[Q.1]]<>\"\",SUMIFS(t_reator[p],t_reator[tipo],t_projeto[[#This Row],[T.1]],t_reator[w],t_projeto[[#This Row],[P.1(W)]]),\"\")","v":""},{"$f":"IF(t_projeto[[#This Row],[Q.2]]<>\"\",SUMIFS(t_reator[p],t_reator[tipo],t_projeto[[#This Row],[T.2]],t_reator[w],t_projeto[[#This Row],[P.2(W)]]),\"\")","v":""},{"$f":"IF(t_projeto[[#This Row],[Q.3]]<>\"\",SUMIFS(t_reator[p],t_reator[tipo],t_projeto[[#This Row],[T.3]],t_reator[w],t_projeto[[#This Row],[P.3(W)]]),\"\")","v":""},{"$f":"IF(t_projeto[[#This Row],[Q.1]]<>\"\",IFERROR(IFERROR(D599*(E599+O599)+G599*(H599+P599)+J599*(K599+Q599),D599*(E599+O599)+G599*(H599+P599)),D599*(E599+O599)),\"\")","v":""},{"$f":"IF(t_projeto[[#This Row],[Consumo_W]]<>\"\",ROUND(t_projeto[[#This Row],[Consumo_W]]/t_projeto[[#This Row],[Luminárias]],0),\"\")","v":""},{"$f":"IF(t_projeto[[#This Row],[Q.1]]<>\"\",t_projeto[[#This Row],[Q.1]]*t_projeto[[#This Row],[P.1(W)]]*$C$24,\"\")","v":""},{"$f":"IF(t_projeto[[#This Row],[Q.2]]<>\"\",t_projeto[[#This Row],[Q.2]]*t_projeto[[#This Row],[P.2(W)]]*$C$24,\"\")","v":""},{"$f":"IF(t_projeto[[#This Row],[Q.3]]<>\"\",t_projeto[[#This Row],[Q.3]]*t_projeto[[#This Row],[P.3(W)]]*$C$24,\"\")","v":""},{"$f":"IF(t_projeto[[#This Row],[Trecho]]<>\"\",SUM(t_projeto[[#This Row],[f.1]:[f.3]]),\"\")","v":""},{"$f":"IF(t_projeto[[#This Row],[Trecho]]<>\"\",t_projeto[[#This Row],[Q.1]]+t_projeto[[#This Row],[Q.2]]+t_projeto[[#This Row],[Q.3]],\"\")","v":""},{"$f":"IF(AND(t_projeto[[#This Row],[FLUXO]]<>0,t_projeto[[#This Row],[FLUXO]]<>\"\"),ROUND(t_projeto[[#This Row],[FLUXO]]/t_projeto[[#This Row],[Luminárias]],0),\"\")","v":""},{"$f":"IF(AND(t_projeto[[#This Row],[Luminárias]]<>0,t_projeto[[#This Row],[Luminárias]]<>\"\"),ROUND(t_projeto[[#This Row],[lm_médio]]/t_projeto[[#This Row],[W_médio]],2),\"\")","v":""}]
[138,{"$f":"_xlfn.XLOOKUP(t_projeto[[#This Row],[cód.]],t_sitio[cód],t_sitio[Trecho],\"\")","v":""},null,null,{"$f":"IF(t_projeto[[#This Row],[T.1]]<>\"\",_xlfn.XLOOKUP(t_projeto[[#This Row],[T.1]],$G$22:$G$26,$H$22:$H$26),\"\")","v":""},null,null,{"$f":"IF(t_projeto[[#This Row],[T.2]]<>\"\",_xlfn.XLOOKUP(t_projeto[[#This Row],[T.2]],$G$22:$G$26,$H$22:$H$26),\"\")","v":""},null,null,{"$f":"IF(t_projeto[[#This Row],[T.3]]<>\"\",_xlfn.XLOOKUP(t_projeto[[#This Row],[T.3]],$G$22:$G$26,$H$22:$H$26),\"\")","v":""},null,{"$f":"t_projeto[[#This Row],[Q.1]]+t_projeto[[#This Row],[Q.2]]+t_projeto[[#This Row],[Q.3]]","v":0},{"$f":"t_projeto[[#This Row],[Q.1]]+t_projeto[[#This Row],[Q.2]]+t_projeto[[#This Row],[Q.3]]","v":0},{"$f":"IF(t_projeto[[#This Row],[Q.1]]<>\"\",SUMIFS(t_reator[p],t_reator[tipo],t_projeto[[#This Row],[T.1]],t_reator[w],t_projeto[[#This Row],[P.1(W)]]),\"\")","v":""},{"$f":"IF(t_projeto[[#This Row],[Q.2]]<>\"\",SUMIFS(t_reator[p],t_reator[tipo],t_projeto[[#This Row],[T.2]],t_reator[w],t_projeto[[#This Row],[P.2(W)]]),\"\")","v":""},{"$f":"IF(t_projeto[[#This Row],[Q.3]]<>\"\",SUMIFS(t_reator[p],t_reator[tipo],t_projeto[[#This Row],[T.3]],t_reator[w],t_projeto[[#This Row],[P.3(W)]]),\"\")","v":""},{"$f":"IF(t_projeto[[#This Row],[Q.1]]<>\"\",IFERROR(IFERROR(D600*(E600+O600)+G600*(H600+P600)+J600*(K600+Q600),D600*(E600+O600)+G600*(H600+P600)),D600*(E600+O600)),\"\")","v":""},{"$f":"IF(t_projeto[[#This Row],[Consumo_W]]<>\"\",ROUND(t_projeto[[#This Row],[Consumo_W]]/t_projeto[[#This Row],[Luminárias]],0),\"\")","v":""},{"$f":"IF(t_projeto[[#This Row],[Q.1]]<>\"\",t_projeto[[#This Row],[Q.1]]*t_projeto[[#This Row],[P.1(W)]]*$C$24,\"\")","v":""},{"$f":"IF(t_projeto[[#This Row],[Q.2]]<>\"\",t_projeto[[#This Row],[Q.2]]*t_projeto[[#This Row],[P.2(W)]]*$C$24,\"\")","v":""},{"$f":"IF(t_projeto[[#This Row],[Q.3]]<>\"\",t_projeto[[#This Row],[Q.3]]*t_projeto[[#This Row],[P.3(W)]]*$C$24,\"\")","v":""},{"$f":"IF(t_projeto[[#This Row],[Trecho]]<>\"\",SUM(t_projeto[[#This Row],[f.1]:[f.3]]),\"\")","v":""},{"$f":"IF(t_projeto[[#This Row],[Trecho]]<>\"\",t_projeto[[#This Row],[Q.1]]+t_projeto[[#This Row],[Q.2]]+t_projeto[[#This Row],[Q.3]],\"\")","v":""},{"$f":"IF(AND(t_projeto[[#This Row],[FLUXO]]<>0,t_projeto[[#This Row],[FLUXO]]<>\"\"),ROUND(t_projeto[[#This Row],[FLUXO]]/t_projeto[[#This Row],[Luminárias]],0),\"\")","v":""},{"$f":"IF(AND(t_projeto[[#This Row],[Luminárias]]<>0,t_projeto[[#This Row],[Luminárias]]<>\"\"),ROUND(t_projeto[[#This Row],[lm_médio]]/t_projeto[[#This Row],[W_médio]],2),\"\")","v":""}]
[139,{"$f":"_xlfn.XLOOKUP(t_projeto[[#This Row],[cód.]],t_sitio[cód],t_sitio[Trecho],\"\")","v":""},null,null,{"$f":"IF(t_projeto[[#This Row],[T.1]]<>\"\",_xlfn.XLOOKUP(t_projeto[[#This Row],[T.1]],$G$22:$G$26,$H$22:$H$26),\"\")","v":""},null,null,{"$f":"IF(t_projeto[[#This Row],[T.2]]<>\"\",_xlfn.XLOOKUP(t_projeto[[#This Row],[T.2]],$G$22:$G$26,$H$22:$H$26),\"\")","v":""},null,null,{"$f":"IF(t_projeto[[#This Row],[T.3]]<>\"\",_xlfn.XLOOKUP(t_projeto[[#This Row],[T.3]],$G$22:$G$26,$H$22:$H$26),\"\")","v":""},null,{"$f":"t_projeto[[#This Row],[Q.1]]+t_projeto[[#This Row],[Q.2]]+t_projeto[[#This Row],[Q.3]]","v":0},{"$f":"t_projeto[[#This Row],[Q.1]]+t_projeto[[#This Row],[Q.2]]+t_projeto[[#This Row],[Q.3]]","v":0},{"$f":"IF(t_projeto[[#This Row],[Q.1]]<>\"\",SUMIFS(t_reator[p],t_reator[tipo],t_projeto[[#This Row],[T.1]],t_reator[w],t_projeto[[#This Row],[P.1(W)]]),\"\")","v":""},{"$f":"IF(t_projeto[[#This Row],[Q.2]]<>\"\",SUMIFS(t_reator[p],t_reator[tipo],t_projeto[[#This Row],[T.2]],t_reator[w],t_projeto[[#This Row],[P.2(W)]]),\"\")","v":""},{"$f":"IF(t_projeto[[#This Row],[Q.3]]<>\"\",SUMIFS(t_reator[p],t_reator[tipo],t_projeto[[#This Row],[T.3]],t_reator[w],t_projeto[[#This Row],[P.3(W)]]),\"\")","v":""},{"$f":"IF(t_projeto[[#This Row],[Q.1]]<>\"\",IFERROR(IFERROR(D601*(E601+O601)+G601*(H601+P601)+J601*(K601+Q601),D601*(E601+O601)+G601*(H601+P601)),D601*(E601+O601)),\"\")","v":""},{"$f":"IF(t_projeto[[#This Row],[Consumo_W]]<>\"\",ROUND(t_projeto[[#This Row],[Consumo_W]]/t_projeto[[#This Row],[Luminárias]],0),\"\")","v":""},{"$f":"IF(t_projeto[[#This Row],[Q.1]]<>\"\",t_projeto[[#This Row],[Q.1]]*t_projeto[[#This Row],[P.1(W)]]*$C$24,\"\")","v":""},{"$f":"IF(t_projeto[[#This Row],[Q.2]]<>\"\",t_projeto[[#This Row],[Q.2]]*t_projeto[[#This Row],[P.2(W)]]*$C$24,\"\")","v":""},{"$f":"IF(t_projeto[[#This Row],[Q.3]]<>\"\",t_projeto[[#This Row],[Q.3]]*t_projeto[[#This Row],[P.3(W)]]*$C$24,\"\")","v":""},{"$f":"IF(t_projeto[[#This Row],[Trecho]]<>\"\",SUM(t_projeto[[#This Row],[f.1]:[f.3]]),\"\")","v":""},{"$f":"IF(t_projeto[[#This Row],[Trecho]]<>\"\",t_projeto[[#This Row],[Q.1]]+t_projeto[[#This Row],[Q.2]]+t_projeto[[#This Row],[Q.3]],\"\")","v":""},{"$f":"IF(AND(t_projeto[[#This Row],[FLUXO]]<>0,t_projeto[[#This Row],[FLUXO]]<>\"\"),ROUND(t_projeto[[#This Row],[FLUXO]]/t_projeto[[#This Row],[Luminárias]],0),\"\")","v":""},{"$f":"IF(AND(t_projeto[[#This Row],[Luminárias]]<>0,t_projeto[[#This Row],[Luminárias]]<>\"\"),ROUND(t_projeto[[#This Row],[lm_médio]]/t_projeto[[#This Row],[W_médio]],2),\"\")","v":""}]
[140,{"$f":"_xlfn.XLOOKUP(t_projeto[[#This Row],[cód.]],t_sitio[cód],t_sitio[Trecho],\"\")","v":""},null,null,{"$f":"IF(t_projeto[[#This Row],[T.1]]<>\"\",_xlfn.XLOOKUP(t_projeto[[#This Row],[T.1]],$G$22:$G$26,$H$22:$H$26),\"\")","v":""},null,null,{"$f":"IF(t_projeto[[#This Row],[T.2]]<>\"\",_xlfn.XLOOKUP(t_projeto[[#This Row],[T.2]],$G$22:$G$26,$H$22:$H$26),\"\")","v":""},null,null,{"$f":"IF(t_projeto[[#This Row],[T.3]]<>\"\",_xlfn.XLOOKUP(t_projeto[[#This Row],[T.3]],$G$22:$G$26,$H$22:$H$26),\"\")","v":""},null,{"$f":"t_projeto[[#This Row],[Q.1]]+t_projeto[[#This Row],[Q.2]]+t_projeto[[#This Row],[Q.3]]","v":0},{"$f":"t_projeto[[#This Row],[Q.1]]+t_projeto[[#This Row],[Q.2]]+t_projeto[[#This Row],[Q.3]]","v":0},{"$f":"IF(t_projeto[[#This Row],[Q.1]]<>\"\",SUMIFS(t_reator[p],t_reator[tipo],t_projeto[[#This Row],[T.1]],t_reator[w],t_projeto[[#This Row],[P.1(W)]]),\"\")","v":""},{"$f":"IF(t_projeto[[#This Row],[Q.2]]<>\"\",SUMIFS(t_reator[p],t_reator[tipo],t_projeto[[#This Row],[T.2]],t_reator[w],t_projeto[[#This Row],[P.2(W)]]),\"\")","v":""},{"$f":"IF(t_projeto[[#This Row],[Q.3]]<>\"\",SUMIFS(t_reator[p],t_reator[tipo],t_projeto[[#This Row],[T.3]],t_reator[w],t_projeto[[#This Row],[P.3(W)]]),\"\")","v":""},{"$f":"IF(t_projeto[[#This Row],[Q.1]]<>\"\",IFERROR(IFERROR(D602*(E602+O602)+G602*(H602+P602)+J602*(K602+Q602),D602*(E602+O602)+G602*(H602+P602)),D602*(E602+O602)),\"\")","v":""},{"$f":"IF(t_projeto[[#This Row],[Consumo_W]]<>\"\",ROUND(t_projeto[[#This Row],[Consumo_W]]/t_projeto[[#This Row],[Luminárias]],0),\"\")","v":""},{"$f":"IF(t_projeto[[#This Row],[Q.1]]<>\"\",t_projeto[[#This Row],[Q.1]]*t_projeto[[#This Row],[P.1(W)]]*$C$24,\"\")","v":""},{"$f":"IF(t_projeto[[#This Row],[Q.2]]<>\"\",t_projeto[[#This Row],[Q.2]]*t_projeto[[#This Row],[P.2(W)]]*$C$24,\"\")","v":""},{"$f":"IF(t_projeto[[#This Row],[Q.3]]<>\"\",t_projeto[[#This Row],[Q.3]]*t_projeto[[#This Row],[P.3(W)]]*$C$24,\"\")","v":""},{"$f":"IF(t_projeto[[#This Row],[Trecho]]<>\"\",SUM(t_projeto[[#This Row],[f.1]:[f.3]]),\"\")","v":""},{"$f":"IF(t_projeto[[#This Row],[Trecho]]<>\"\",t_projeto[[#This Row],[Q.1]]+t_projeto[[#This Row],[Q.2]]+t_projeto[[#This Row],[Q.3]],\"\")","v":""},{"$f":"IF(AND(t_projeto[[#This Row],[FLUXO]]<>0,t_projeto[[#This Row],[FLUXO]]<>\"\"),ROUND(t_projeto[[#This Row],[FLUXO]]/t_projeto[[#This Row],[Luminárias]],0),\"\")","v":""},{"$f":"IF(AND(t_projeto[[#This Row],[Luminárias]]<>0,t_projeto[[#This Row],[Luminárias]]<>\"\"),ROUND(t_projeto[[#This Row],[lm_médio]]/t_projeto[[#This Row],[W_médio]],2),\"\")","v":""}]
[141,{"$f":"_xlfn.XLOOKUP(t_projeto[[#This Row],[cód.]],t_sitio[cód],t_sitio[Trecho],\"\")","v":""},null,null,{"$f":"IF(t_projeto[[#This Row],[T.1]]<>\"\",_xlfn.XLOOKUP(t_projeto[[#This Row],[T.1]],$G$22:$G$26,$H$22:$H$26),\"\")","v":""},null,null,{"$f":"IF(t_projeto[[#This Row],[T.2]]<>\"\",_xlfn.XLOOKUP(t_projeto[[#This Row],[T.2]],$G$22:$G$26,$H$22:$H$26),\"\")","v":""},null,null,{"$f":"IF(t_projeto[[#This Row],[T.3]]<>\"\",_xlfn.XLOOKUP(t_projeto[[#This Row],[T.3]],$G$22:$G$26,$H$22:$H$26),\"\")","v":""},null,{"$f":"t_projeto[[#This Row],[Q.1]]+t_projeto[[#This Row],[Q.2]]+t_projeto[[#This Row],[Q.3]]","v":0},{"$f":"t_projeto[[#This Row],[Q.1]]+t_projeto[[#This Row],[Q.2]]+t_projeto[[#This Row],[Q.3]]","v":0},{"$f":"IF(t_projeto[[#This Row],[Q.1]]<>\"\",SUMIFS(t_reator[p],t_reator[tipo],t_projeto[[#This Row],[T.1]],t_reator[w],t_projeto[[#This Row],[P.1(W)]]),\"\")","v":""},{"$f":"IF(t_projeto[[#This Row],[Q.2]]<>\"\",SUMIFS(t_reator[p],t_reator[tipo],t_projeto[[#This Row],[T.2]],t_reator[w],t_projeto[[#This Row],[P.2(W)]]),\"\")","v":""},{"$f":"IF(t_projeto[[#This Row],[Q.3]]<>\"\",SUMIFS(t_reator[p],t_reator[tipo],t_projeto[[#This Row],[T.3]],t_reator[w],t_projeto[[#This Row],[P.3(W)]]),\"\")","v":""},{"$f":"IF(t_projeto[[#This Row],[Q.1]]<>\"\",IFERROR(IFERROR(D603*(E603+O603)+G603*(H603+P603)+J603*(K603+Q603),D603*(E603+O603)+G603*(H603+P603)),D603*(E603+O603)),\"\")","v":""},{"$f":"IF(t_projeto[[#This Row],[Consumo_W]]<>\"\",ROUND(t_projeto[[#This Row],[Consumo_W]]/t_projeto[[#This Row],[Luminárias]],0),\"\")","v":""},{"$f":"IF(t_projeto[[#This Row],[Q.1]]<>\"\",t_projeto[[#This Row],[Q.1]]*t_projeto[[#This Row],[P.1(W)]]*$C$24,\"\")","v":""},{"$f":"IF(t_projeto[[#This Row],[Q.2]]<>\"\",t_projeto[[#This Row],[Q.2]]*t_projeto[[#This Row],[P.2(W)]]*$C$24,\"\")","v":""},{"$f":"IF(t_projeto[[#This Row],[Q.3]]<>\"\",t_projeto[[#This Row],[Q.3]]*t_projeto[[#This Row],[P.3(W)]]*$C$24,\"\")","v":""},{"$f":"IF(t_projeto[[#This Row],[Trecho]]<>\"\",SUM(t_projeto[[#This Row],[f.1]:[f.3]]),\"\")","v":""},{"$f":"IF(t_projeto[[#This Row],[Trecho]]<>\"\",t_projeto[[#This Row],[Q.1]]+t_projeto[[#This Row],[Q.2]]+t_projeto[[#This Row],[Q.3]],\"\")","v":""},{"$f":"IF(AND(t_projeto[[#This Row],[FLUXO]]<>0,t_projeto[[#This Row],[FLUXO]]<>\"\"),ROUND(t_projeto[[#This Row],[FLUXO]]/t_projeto[[#This Row],[Luminárias]],0),\"\")","v":""},{"$f":"IF(AND(t_projeto[[#This Row],[Luminárias]]<>0,t_projeto[[#This Row],[Luminárias]]<>\"\"),ROUND(t_projeto[[#This Row],[lm_médio]]/t_projeto[[#This Row],[W_médio]],2),\"\")","v":""}]
[142,{"$f":"_xlfn.XLOOKUP(t_projeto[[#This Row],[cód.]],t_sitio[cód],t_sitio[Trecho],\"\")","v":""},null,null,{"$f":"IF(t_projeto[[#This Row],[T.1]]<>\"\",_xlfn.XLOOKUP(t_projeto[[#This Row],[T.1]],$G$22:$G$26,$H$22:$H$26),\"\")","v":""},null,null,{"$f":"IF(t_projeto[[#This Row],[T.2]]<>\"\",_xlfn.XLOOKUP(t_projeto[[#This Row],[T.2]],$G$22:$G$26,$H$22:$H$26),\"\")","v":""},null,null,{"$f":"IF(t_projeto[[#This Row],[T.3]]<>\"\",_xlfn.XLOOKUP(t_projeto[[#This Row],[T.3]],$G$22:$G$26,$H$22:$H$26),\"\")","v":""},null,{"$f":"t_projeto[[#This Row],[Q.1]]+t_projeto[[#This Row],[Q.2]]+t_projeto[[#This Row],[Q.3]]","v":0},{"$f":"t_projeto[[#This Row],[Q.1]]+t_projeto[[#This Row],[Q.2]]+t_projeto[[#This Row],[Q.3]]","v":0},{"$f":"IF(t_projeto[[#This Row],[Q.1]]<>\"\",SUMIFS(t_reator[p],t_reator[tipo],t_projeto[[#This Row],[T.1]],t_reator[w],t_projeto[[#This Row],[P.1(W)]]),\"\")","v":""},{"$f":"IF(t_projeto[[#This Row],[Q.2]]<>\"\",SUMIFS(t_reator[p],t_reator[tipo],t_projeto[[#This Row],[T.2]],t_reator[w],t_projeto[[#This Row],[P.2(W)]]),\"\")","v":""},{"$f":"IF(t_projeto[[#This Row],[Q.3]]<>\"\",SUMIFS(t_reator[p],t_reator[tipo],t_projeto[[#This Row],[T.3]],t_reator[w],t_projeto[[#This Row],[P.3(W)]]),\"\")","v":""},{"$f":"IF(t_projeto[[#This Row],[Q.1]]<>\"\",IFERROR(IFERROR(D604*(E604+O604)+G604*(H604+P604)+J604*(K604+Q604),D604*(E604+O604)+G604*(H604+P604)),D604*(E604+O604)),\"\")","v":""},{"$f":"IF(t_projeto[[#This Row],[Consumo_W]]<>\"\",ROUND(t_projeto[[#This Row],[Consumo_W]]/t_projeto[[#This Row],[Luminárias]],0),\"\")","v":""},{"$f":"IF(t_projeto[[#This Row],[Q.1]]<>\"\",t_projeto[[#This Row],[Q.1]]*t_projeto[[#This Row],[P.1(W)]]*$C$24,\"\")","v":""},{"$f":"IF(t_projeto[[#This Row],[Q.2]]<>\"\",t_projeto[[#This Row],[Q.2]]*t_projeto[[#This Row],[P.2(W)]]*$C$24,\"\")","v":""},{"$f":"IF(t_projeto[[#This Row],[Q.3]]<>\"\",t_projeto[[#This Row],[Q.3]]*t_projeto[[#This Row],[P.3(W)]]*$C$24,\"\")","v":""},{"$f":"IF(t_projeto[[#This Row],[Trecho]]<>\"\",SUM(t_projeto[[#This Row],[f.1]:[f.3]]),\"\")","v":""},{"$f":"IF(t_projeto[[#This Row],[Trecho]]<>\"\",t_projeto[[#This Row],[Q.1]]+t_projeto[[#This Row],[Q.2]]+t_projeto[[#This Row],[Q.3]],\"\")","v":""},{"$f":"IF(AND(t_projeto[[#This Row],[FLUXO]]<>0,t_projeto[[#This Row],[FLUXO]]<>\"\"),ROUND(t_projeto[[#This Row],[FLUXO]]/t_projeto[[#This Row],[Luminárias]],0),\"\")","v":""},{"$f":"IF(AND(t_projeto[[#This Row],[Luminárias]]<>0,t_projeto[[#This Row],[Luminárias]]<>\"\"),ROUND(t_projeto[[#This Row],[lm_médio]]/t_projeto[[#This Row],[W_médio]],2),\"\")","v":""}]
[143,{"$f":"_xlfn.XLOOKUP(t_projeto[[#This Row],[cód.]],t_sitio[cód],t_sitio[Trecho],\"\")","v":""},null,null,{"$f":"IF(t_projeto[[#This Row],[T.1]]<>\"\",_xlfn.XLOOKUP(t_projeto[[#This Row],[T.1]],$G$22:$G$26,$H$22:$H$26),\"\")","v":""},null,null,{"$f":"IF(t_projeto[[#This Row],[T.2]]<>\"\",_xlfn.XLOOKUP(t_projeto[[#This Row],[T.2]],$G$22:$G$26,$H$22:$H$26),\"\")","v":""},null,null,{"$f":"IF(t_projeto[[#This Row],[T.3]]<>\"\",_xlfn.XLOOKUP(t_projeto[[#This Row],[T.3]],$G$22:$G$26,$H$22:$H$26),\"\")","v":""},null,{"$f":"t_projeto[[#This Row],[Q.1]]+t_projeto[[#This Row],[Q.2]]+t_projeto[[#This Row],[Q.3]]","v":0},{"$f":"t_projeto[[#This Row],[Q.1]]+t_projeto[[#This Row],[Q.2]]+t_projeto[[#This Row],[Q.3]]","v":0},{"$f":"IF(t_projeto[[#This Row],[Q.1]]<>\"\",SUMIFS(t_reator[p],t_reator[tipo],t_projeto[[#This Row],[T.1]],t_reator[w],t_projeto[[#This Row],[P.1(W)]]),\"\")","v":""},{"$f":"IF(t_projeto[[#This Row],[Q.2]]<>\"\",SUMIFS(t_reator[p],t_reator[tipo],t_projeto[[#This Row],[T.2]],t_reator[w],t_projeto[[#This Row],[P.2(W)]]),\"\")","v":""},{"$f":"IF(t_projeto[[#This Row],[Q.3]]<>\"\",SUMIFS(t_reator[p],t_reator[tipo],t_projeto[[#This Row],[T.3]],t_reator[w],t_projeto[[#This Row],[P.3(W)]]),\"\")","v":""},{"$f":"IF(t_projeto[[#This Row],[Q.1]]<>\"\",IFERROR(IFERROR(D605*(E605+O605)+G605*(H605+P605)+J605*(K605+Q605),D605*(E605+O605)+G605*(H605+P605)),D605*(E605+O605)),\"\")","v":""},{"$f":"IF(t_projeto[[#This Row],[Consumo_W]]<>\"\",ROUND(t_projeto[[#This Row],[Consumo_W]]/t_projeto[[#This Row],[Luminárias]],0),\"\")","v":""},{"$f":"IF(t_projeto[[#This Row],[Q.1]]<>\"\",t_projeto[[#This Row],[Q.1]]*t_projeto[[#This Row],[P.1(W)]]*$C$24,\"\")","v":""},{"$f":"IF(t_projeto[[#This Row],[Q.2]]<>\"\",t_projeto[[#This Row],[Q.2]]*t_projeto[[#This Row],[P.2(W)]]*$C$24,\"\")","v":""},{"$f":"IF(t_projeto[[#This Row],[Q.3]]<>\"\",t_projeto[[#This Row],[Q.3]]*t_projeto[[#This Row],[P.3(W)]]*$C$24,\"\")","v":""},{"$f":"IF(t_projeto[[#This Row],[Trecho]]<>\"\",SUM(t_projeto[[#This Row],[f.1]:[f.3]]),\"\")","v":""},{"$f":"IF(t_projeto[[#This Row],[Trecho]]<>\"\",t_projeto[[#This Row],[Q.1]]+t_projeto[[#This Row],[Q.2]]+t_projeto[[#This Row],[Q.3]],\"\")","v":""},{"$f":"IF(AND(t_projeto[[#This Row],[FLUXO]]<>0,t_projeto[[#This Row],[FLUXO]]<>\"\"),ROUND(t_projeto[[#This Row],[FLUXO]]/t_projeto[[#This Row],[Luminárias]],0),\"\")","v":""},{"$f":"IF(AND(t_projeto[[#This Row],[Luminárias]]<>0,t_projeto[[#This Row],[Luminárias]]<>\"\"),ROUND(t_projeto[[#This Row],[lm_médio]]/t_projeto[[#This Row],[W_médio]],2),\"\")","v":""}]
[144,{"$f":"_xlfn.XLOOKUP(t_projeto[[#This Row],[cód.]],t_sitio[cód],t_sitio[Trecho],\"\")","v":""},null,null,{"$f":"IF(t_projeto[[#This Row],[T.1]]<>\"\",_xlfn.XLOOKUP(t_projeto[[#This Row],[T.1]],$G$22:$G$26,$H$22:$H$26),\"\")","v":""},null,null,{"$f":"IF(t_projeto[[#This Row],[T.2]]<>\"\",_xlfn.XLOOKUP(t_projeto[[#This Row],[T.2]],$G$22:$G$26,$H$22:$H$26),\"\")","v":""},null,null,{"$f":"IF(t_projeto[[#This Row],[T.3]]<>\"\",_xlfn.XLOOKUP(t_projeto[[#This Row],[T.3]],$G$22:$G$26,$H$22:$H$26),\"\")","v":""},null,{"$f":"t_projeto[[#This Row],[Q.1]]+t_projeto[[#This Row],[Q.2]]+t_projeto[[#This Row],[Q.3]]","v":0},{"$f":"t_projeto[[#This Row],[Q.1]]+t_projeto[[#This Row],[Q.2]]+t_projeto[[#This Row],[Q.3]]","v":0},{"$f":"IF(t_projeto[[#This Row],[Q.1]]<>\"\",SUMIFS(t_reator[p],t_reator[tipo],t_projeto[[#This Row],[T.1]],t_reator[w],t_projeto[[#This Row],[P.1(W)]]),\"\")","v":""},{"$f":"IF(t_projeto[[#This Row],[Q.2]]<>\"\",SUMIFS(t_reator[p],t_reator[tipo],t_projeto[[#This Row],[T.2]],t_reator[w],t_projeto[[#This Row],[P.2(W)]]),\"\")","v":""},{"$f":"IF(t_projeto[[#This Row],[Q.3]]<>\"\",SUMIFS(t_reator[p],t_reator[tipo],t_projeto[[#This Row],[T.3]],t_reator[w],t_projeto[[#This Row],[P.3(W)]]),\"\")","v":""},{"$f":"IF(t_projeto[[#This Row],[Q.1]]<>\"\",IFERROR(IFERROR(D606*(E606+O606)+G606*(H606+P606)+J606*(K606+Q606),D606*(E606+O606)+G606*(H606+P606)),D606*(E606+O606)),\"\")","v":""},{"$f":"IF(t_projeto[[#This Row],[Consumo_W]]<>\"\",ROUND(t_projeto[[#This Row],[Consumo_W]]/t_projeto[[#This Row],[Luminárias]],0),\"\")","v":""},{"$f":"IF(t_projeto[[#This Row],[Q.1]]<>\"\",t_projeto[[#This Row],[Q.1]]*t_projeto[[#This Row],[P.1(W)]]*$C$24,\"\")","v":""},{"$f":"IF(t_projeto[[#This Row],[Q.2]]<>\"\",t_projeto[[#This Row],[Q.2]]*t_projeto[[#This Row],[P.2(W)]]*$C$24,\"\")","v":""},{"$f":"IF(t_projeto[[#This Row],[Q.3]]<>\"\",t_projeto[[#This Row],[Q.3]]*t_projeto[[#This Row],[P.3(W)]]*$C$24,\"\")","v":""},{"$f":"IF(t_projeto[[#This Row],[Trecho]]<>\"\",SUM(t_projeto[[#This Row],[f.1]:[f.3]]),\"\")","v":""},{"$f":"IF(t_projeto[[#This Row],[Trecho]]<>\"\",t_projeto[[#This Row],[Q.1]]+t_projeto[[#This Row],[Q.2]]+t_projeto[[#This Row],[Q.3]],\"\")","v":""},{"$f":"IF(AND(t_projeto[[#This Row],[FLUXO]]<>0,t_projeto[[#This Row],[FLUXO]]<>\"\"),ROUND(t_projeto[[#This Row],[FLUXO]]/t_projeto[[#This Row],[Luminárias]],0),\"\")","v":""},{"$f":"IF(AND(t_projeto[[#This Row],[Luminárias]]<>0,t_projeto[[#This Row],[Luminárias]]<>\"\"),ROUND(t_projeto[[#This Row],[lm_médio]]/t_projeto[[#This Row],[W_médio]],2),\"\")","v":""}]
[145,{"$f":"_xlfn.XLOOKUP(t_projeto[[#This Row],[cód.]],t_sitio[cód],t_sitio[Trecho],\"\")","v":""},null,null,{"$f":"IF(t_projeto[[#This Row],[T.1]]<>\"\",_xlfn.XLOOKUP(t_projeto[[#This Row],[T.1]],$G$22:$G$26,$H$22:$H$26),\"\")","v":""},null,null,{"$f":"IF(t_projeto[[#This Row],[T.2]]<>\"\",_xlfn.XLOOKUP(t_projeto[[#This Row],[T.2]],$G$22:$G$26,$H$22:$H$26),\"\")","v":""},null,null,{"$f":"IF(t_projeto[[#This Row],[T.3]]<>\"\",_xlfn.XLOOKUP(t_projeto[[#This Row],[T.3]],$G$22:$G$26,$H$22:$H$26),\"\")","v":""},null,{"$f":"t_projeto[[#This Row],[Q.1]]+t_projeto[[#This Row],[Q.2]]+t_projeto[[#This Row],[Q.3]]","v":0},{"$f":"t_projeto[[#This Row],[Q.1]]+t_projeto[[#This Row],[Q.2]]+t_projeto[[#This Row],[Q.3]]","v":0},{"$f":"IF(t_projeto[[#This Row],[Q.1]]<>\"\",SUMIFS(t_reator[p],t_reator[tipo],t_projeto[[#This Row],[T.1]],t_reator[w],t_projeto[[#This Row],[P.1(W)]]),\"\")","v":""},{"$f":"IF(t_projeto[[#This Row],[Q.2]]<>\"\",SUMIFS(t_reator[p],t_reator[tipo],t_projeto[[#This Row],[T.2]],t_reator[w],t_projeto[[#This Row],[P.2(W)]]),\"\")","v":""},{"$f":"IF(t_projeto[[#This Row],[Q.3]]<>\"\",SUMIFS(t_reator[p],t_reator[tipo],t_projeto[[#This Row],[T.3]],t_reator[w],t_projeto[[#This Row],[P.3(W)]]),\"\")","v":""},{"$f":"IF(t_projeto[[#This Row],[Q.1]]<>\"\",IFERROR(IFERROR(D607*(E607+O607)+G607*(H607+P607)+J607*(K607+Q607),D607*(E607+O607)+G607*(H607+P607)),D607*(E607+O607)),\"\")","v":""},{"$f":"IF(t_projeto[[#This Row],[Consumo_W]]<>\"\",ROUND(t_projeto[[#This Row],[Consumo_W]]/t_projeto[[#This Row],[Luminárias]],0),\"\")","v":""},{"$f":"IF(t_projeto[[#This Row],[Q.1]]<>\"\",t_projeto[[#This Row],[Q.1]]*t_projeto[[#This Row],[P.1(W)]]*$C$24,\"\")","v":""},{"$f":"IF(t_projeto[[#This Row],[Q.2]]<>\"\",t_projeto[[#This Row],[Q.2]]*t_projeto[[#This Row],[P.2(W)]]*$C$24,\"\")","v":""},{"$f":"IF(t_projeto[[#This Row],[Q.3]]<>\"\",t_projeto[[#This Row],[Q.3]]*t_projeto[[#This Row],[P.3(W)]]*$C$24,\"\")","v":""},{"$f":"IF(t_projeto[[#This Row],[Trecho]]<>\"\",SUM(t_projeto[[#This Row],[f.1]:[f.3]]),\"\")","v":""},{"$f":"IF(t_projeto[[#This Row],[Trecho]]<>\"\",t_projeto[[#This Row],[Q.1]]+t_projeto[[#This Row],[Q.2]]+t_projeto[[#This Row],[Q.3]],\"\")","v":""},{"$f":"IF(AND(t_projeto[[#This Row],[FLUXO]]<>0,t_projeto[[#This Row],[FLUXO]]<>\"\"),ROUND(t_projeto[[#This Row],[FLUXO]]/t_projeto[[#This Row],[Luminárias]],0),\"\")","v":""},{"$f":"IF(AND(t_projeto[[#This Row],[Luminárias]]<>0,t_projeto[[#This Row],[Luminárias]]<>\"\"),ROUND(t_projeto[[#This Row],[lm_médio]]/t_projeto[[#This Row],[W_médio]],2),\"\")","v":""}]
[146,{"$f":"_xlfn.XLOOKUP(t_projeto[[#This Row],[cód.]],t_sitio[cód],t_sitio[Trecho],\"\")","v":""},null,null,{"$f":"IF(t_projeto[[#This Row],[T.1]]<>\"\",_xlfn.XLOOKUP(t_projeto[[#This Row],[T.1]],$G$22:$G$26,$H$22:$H$26),\"\")","v":""},null,null,{"$f":"IF(t_projeto[[#This Row],[T.2]]<>\"\",_xlfn.XLOOKUP(t_projeto[[#This Row],[T.2]],$G$22:$G$26,$H$22:$H$26),\"\")","v":""},null,null,{"$f":"IF(t_projeto[[#This Row],[T.3]]<>\"\",_xlfn.XLOOKUP(t_projeto[[#This Row],[T.3]],$G$22:$G$26,$H$22:$H$26),\"\")","v":""},null,{"$f":"t_projeto[[#This Row],[Q.1]]+t_projeto[[#This Row],[Q.2]]+t_projeto[[#This Row],[Q.3]]","v":0},{"$f":"t_projeto[[#This Row],[Q.1]]+t_projeto[[#This Row],[Q.2]]+t_projeto[[#This Row],[Q.3]]","v":0},{"$f":"IF(t_projeto[[#This Row],[Q.1]]<>\"\",SUMIFS(t_reator[p],t_reator[tipo],t_projeto[[#This Row],[T.1]],t_reator[w],t_projeto[[#This Row],[P.1(W)]]),\"\")","v":""},{"$f":"IF(t_projeto[[#This Row],[Q.2]]<>\"\",SUMIFS(t_reator[p],t_reator[tipo],t_projeto[[#This Row],[T.2]],t_reator[w],t_projeto[[#This Row],[P.2(W)]]),\"\")","v":""},{"$f":"IF(t_projeto[[#This Row],[Q.3]]<>\"\",SUMIFS(t_reator[p],t_reator[tipo],t_projeto[[#This Row],[T.3]],t_reator[w],t_projeto[[#This Row],[P.3(W)]]),\"\")","v":""},{"$f":"IF(t_projeto[[#This Row],[Q.1]]<>\"\",IFERROR(IFERROR(D608*(E608+O608)+G608*(H608+P608)+J608*(K608+Q608),D608*(E608+O608)+G608*(H608+P608)),D608*(E608+O608)),\"\")","v":""},{"$f":"IF(t_projeto[[#This Row],[Consumo_W]]<>\"\",ROUND(t_projeto[[#This Row],[Consumo_W]]/t_projeto[[#This Row],[Luminárias]],0),\"\")","v":""},{"$f":"IF(t_projeto[[#This Row],[Q.1]]<>\"\",t_projeto[[#This Row],[Q.1]]*t_projeto[[#This Row],[P.1(W)]]*$C$24,\"\")","v":""},{"$f":"IF(t_projeto[[#This Row],[Q.2]]<>\"\",t_projeto[[#This Row],[Q.2]]*t_projeto[[#This Row],[P.2(W)]]*$C$24,\"\")","v":""},{"$f":"IF(t_projeto[[#This Row],[Q.3]]<>\"\",t_projeto[[#This Row],[Q.3]]*t_projeto[[#This Row],[P.3(W)]]*$C$24,\"\")","v":""},{"$f":"IF(t_projeto[[#This Row],[Trecho]]<>\"\",SUM(t_projeto[[#This Row],[f.1]:[f.3]]),\"\")","v":""},{"$f":"IF(t_projeto[[#This Row],[Trecho]]<>\"\",t_projeto[[#This Row],[Q.1]]+t_projeto[[#This Row],[Q.2]]+t_projeto[[#This Row],[Q.3]],\"\")","v":""},{"$f":"IF(AND(t_projeto[[#This Row],[FLUXO]]<>0,t_projeto[[#This Row],[FLUXO]]<>\"\"),ROUND(t_projeto[[#This Row],[FLUXO]]/t_projeto[[#This Row],[Luminárias]],0),\"\")","v":""},{"$f":"IF(AND(t_projeto[[#This Row],[Luminárias]]<>0,t_projeto[[#This Row],[Luminárias]]<>\"\"),ROUND(t_projeto[[#This Row],[lm_médio]]/t_projeto[[#This Row],[W_médio]],2),\"\")","v":""}]
[147,{"$f":"_xlfn.XLOOKUP(t_projeto[[#This Row],[cód.]],t_sitio[cód],t_sitio[Trecho],\"\")","v":""},null,null,{"$f":"IF(t_projeto[[#This Row],[T.1]]<>\"\",_xlfn.XLOOKUP(t_projeto[[#This Row],[T.1]],$G$22:$G$26,$H$22:$H$26),\"\")","v":""},null,null,{"$f":"IF(t_projeto[[#This Row],[T.2]]<>\"\",_xlfn.XLOOKUP(t_projeto[[#This Row],[T.2]],$G$22:$G$26,$H$22:$H$26),\"\")","v":""},null,null,{"$f":"IF(t_projeto[[#This Row],[T.3]]<>\"\",_xlfn.XLOOKUP(t_projeto[[#This Row],[T.3]],$G$22:$G$26,$H$22:$H$26),\"\")","v":""},null,{"$f":"t_projeto[[#This Row],[Q.1]]+t_projeto[[#This Row],[Q.2]]+t_projeto[[#This Row],[Q.3]]","v":0},{"$f":"t_projeto[[#This Row],[Q.1]]+t_projeto[[#This Row],[Q.2]]+t_projeto[[#This Row],[Q.3]]","v":0},{"$f":"IF(t_projeto[[#This Row],[Q.1]]<>\"\",SUMIFS(t_reator[p],t_reator[tipo],t_projeto[[#This Row],[T.1]],t_reator[w],t_projeto[[#This Row],[P.1(W)]]),\"\")","v":""},{"$f":"IF(t_projeto[[#This Row],[Q.2]]<>\"\",SUMIFS(t_reator[p],t_reator[tipo],t_projeto[[#This Row],[T.2]],t_reator[w],t_projeto[[#This Row],[P.2(W)]]),\"\")","v":""},{"$f":"IF(t_projeto[[#This Row],[Q.3]]<>\"\",SUMIFS(t_reator[p],t_reator[tipo],t_projeto[[#This Row],[T.3]],t_reator[w],t_projeto[[#This Row],[P.3(W)]]),\"\")","v":""},{"$f":"IF(t_projeto[[#This Row],[Q.1]]<>\"\",IFERROR(IFERROR(D609*(E609+O609)+G609*(H609+P609)+J609*(K609+Q609),D609*(E609+O609)+G609*(H609+P609)),D609*(E609+O609)),\"\")","v":""},{"$f":"IF(t_projeto[[#This Row],[Consumo_W]]<>\"\",ROUND(t_projeto[[#This Row],[Consumo_W]]/t_projeto[[#This Row],[Luminárias]],0),\"\")","v":""},{"$f":"IF(t_projeto[[#This Row],[Q.1]]<>\"\",t_projeto[[#This Row],[Q.1]]*t_projeto[[#This Row],[P.1(W)]]*$C$24,\"\")","v":""},{"$f":"IF(t_projeto[[#This Row],[Q.2]]<>\"\",t_projeto[[#This Row],[Q.2]]*t_projeto[[#This Row],[P.2(W)]]*$C$24,\"\")","v":""},{"$f":"IF(t_projeto[[#This Row],[Q.3]]<>\"\",t_projeto[[#This Row],[Q.3]]*t_projeto[[#This Row],[P.3(W)]]*$C$24,\"\")","v":""},{"$f":"IF(t_projeto[[#This Row],[Trecho]]<>\"\",SUM(t_projeto[[#This Row],[f.1]:[f.3]]),\"\")","v":""},{"$f":"IF(t_projeto[[#This Row],[Trecho]]<>\"\",t_projeto[[#This Row],[Q.1]]+t_projeto[[#This Row],[Q.2]]+t_projeto[[#This Row],[Q.3]],\"\")","v":""},{"$f":"IF(AND(t_projeto[[#This Row],[FLUXO]]<>0,t_projeto[[#This Row],[FLUXO]]<>\"\"),ROUND(t_projeto[[#This Row],[FLUXO]]/t_projeto[[#This Row],[Luminárias]],0),\"\")","v":""},{"$f":"IF(AND(t_projeto[[#This Row],[Luminárias]]<>0,t_projeto[[#This Row],[Luminárias]]<>\"\"),ROUND(t_projeto[[#This Row],[lm_médio]]/t_projeto[[#This Row],[W_médio]],2),\"\")","v":""}]
[148,{"$f":"_xlfn.XLOOKUP(t_projeto[[#This Row],[cód.]],t_sitio[cód],t_sitio[Trecho],\"\")","v":""},null,null,{"$f":"IF(t_projeto[[#This Row],[T.1]]<>\"\",_xlfn.XLOOKUP(t_projeto[[#This Row],[T.1]],$G$22:$G$26,$H$22:$H$26),\"\")","v":""},null,null,{"$f":"IF(t_projeto[[#This Row],[T.2]]<>\"\",_xlfn.XLOOKUP(t_projeto[[#This Row],[T.2]],$G$22:$G$26,$H$22:$H$26),\"\")","v":""},null,null,{"$f":"IF(t_projeto[[#This Row],[T.3]]<>\"\",_xlfn.XLOOKUP(t_projeto[[#This Row],[T.3]],$G$22:$G$26,$H$22:$H$26),\"\")","v":""},null,{"$f":"t_projeto[[#This Row],[Q.1]]+t_projeto[[#This Row],[Q.2]]+t_projeto[[#This Row],[Q.3]]","v":0},{"$f":"t_projeto[[#This Row],[Q.1]]+t_projeto[[#This Row],[Q.2]]+t_projeto[[#This Row],[Q.3]]","v":0},{"$f":"IF(t_projeto[[#This Row],[Q.1]]<>\"\",SUMIFS(t_reator[p],t_reator[tipo],t_projeto[[#This Row],[T.1]],t_reator[w],t_projeto[[#This Row],[P.1(W)]]),\"\")","v":""},{"$f":"IF(t_projeto[[#This Row],[Q.2]]<>\"\",SUMIFS(t_reator[p],t_reator[tipo],t_projeto[[#This Row],[T.2]],t_reator[w],t_projeto[[#This Row],[P.2(W)]]),\"\")","v":""},{"$f":"IF(t_projeto[[#This Row],[Q.3]]<>\"\",SUMIFS(t_reator[p],t_reator[tipo],t_projeto[[#This Row],[T.3]],t_reator[w],t_projeto[[#This Row],[P.3(W)]]),\"\")","v":""},{"$f":"IF(t_projeto[[#This Row],[Q.1]]<>\"\",IFERROR(IFERROR(D610*(E610+O610)+G610*(H610+P610)+J610*(K610+Q610),D610*(E610+O610)+G610*(H610+P610)),D610*(E610+O610)),\"\")","v":""},{"$f":"IF(t_projeto[[#This Row],[Consumo_W]]<>\"\",ROUND(t_projeto[[#This Row],[Consumo_W]]/t_projeto[[#This Row],[Luminárias]],0),\"\")","v":""},{"$f":"IF(t_projeto[[#This Row],[Q.1]]<>\"\",t_projeto[[#This Row],[Q.1]]*t_projeto[[#This Row],[P.1(W)]]*$C$24,\"\")","v":""},{"$f":"IF(t_projeto[[#This Row],[Q.2]]<>\"\",t_projeto[[#This Row],[Q.2]]*t_projeto[[#This Row],[P.2(W)]]*$C$24,\"\")","v":""},{"$f":"IF(t_projeto[[#This Row],[Q.3]]<>\"\",t_projeto[[#This Row],[Q.3]]*t_projeto[[#This Row],[P.3(W)]]*$C$24,\"\")","v":""},{"$f":"IF(t_projeto[[#This Row],[Trecho]]<>\"\",SUM(t_projeto[[#This Row],[f.1]:[f.3]]),\"\")","v":""},{"$f":"IF(t_projeto[[#This Row],[Trecho]]<>\"\",t_projeto[[#This Row],[Q.1]]+t_projeto[[#This Row],[Q.2]]+t_projeto[[#This Row],[Q.3]],\"\")","v":""},{"$f":"IF(AND(t_projeto[[#This Row],[FLUXO]]<>0,t_projeto[[#This Row],[FLUXO]]<>\"\"),ROUND(t_projeto[[#This Row],[FLUXO]]/t_projeto[[#This Row],[Luminárias]],0),\"\")","v":""},{"$f":"IF(AND(t_projeto[[#This Row],[Luminárias]]<>0,t_projeto[[#This Row],[Luminárias]]<>\"\"),ROUND(t_projeto[[#This Row],[lm_médio]]/t_projeto[[#This Row],[W_médio]],2),\"\")","v":""}]
[149,{"$f":"_xlfn.XLOOKUP(t_projeto[[#This Row],[cód.]],t_sitio[cód],t_sitio[Trecho],\"\")","v":""},null,null,{"$f":"IF(t_projeto[[#This Row],[T.1]]<>\"\",_xlfn.XLOOKUP(t_projeto[[#This Row],[T.1]],$G$22:$G$26,$H$22:$H$26),\"\")","v":""},null,null,{"$f":"IF(t_projeto[[#This Row],[T.2]]<>\"\",_xlfn.XLOOKUP(t_projeto[[#This Row],[T.2]],$G$22:$G$26,$H$22:$H$26),\"\")","v":""},null,null,{"$f":"IF(t_projeto[[#This Row],[T.3]]<>\"\",_xlfn.XLOOKUP(t_projeto[[#This Row],[T.3]],$G$22:$G$26,$H$22:$H$26),\"\")","v":""},null,{"$f":"t_projeto[[#This Row],[Q.1]]+t_projeto[[#This Row],[Q.2]]+t_projeto[[#This Row],[Q.3]]","v":0},{"$f":"t_projeto[[#This Row],[Q.1]]+t_projeto[[#This Row],[Q.2]]+t_projeto[[#This Row],[Q.3]]","v":0},{"$f":"IF(t_projeto[[#This Row],[Q.1]]<>\"\",SUMIFS(t_reator[p],t_reator[tipo],t_projeto[[#This Row],[T.1]],t_reator[w],t_projeto[[#This Row],[P.1(W)]]),\"\")","v":""},{"$f":"IF(t_projeto[[#This Row],[Q.2]]<>\"\",SUMIFS(t_reator[p],t_reator[tipo],t_projeto[[#This Row],[T.2]],t_reator[w],t_projeto[[#This Row],[P.2(W)]]),\"\")","v":""},{"$f":"IF(t_projeto[[#This Row],[Q.3]]<>\"\",SUMIFS(t_reator[p],t_reator[tipo],t_projeto[[#This Row],[T.3]],t_reator[w],t_projeto[[#This Row],[P.3(W)]]),\"\")","v":""},{"$f":"IF(t_projeto[[#This Row],[Q.1]]<>\"\",IFERROR(IFERROR(D611*(E611+O611)+G611*(H611+P611)+J611*(K611+Q611),D611*(E611+O611)+G611*(H611+P611)),D611*(E611+O611)),\"\")","v":""},{"$f":"IF(t_projeto[[#This Row],[Consumo_W]]<>\"\",ROUND(t_projeto[[#This Row],[Consumo_W]]/t_projeto[[#This Row],[Luminárias]],0),\"\")","v":""},{"$f":"IF(t_projeto[[#This Row],[Q.1]]<>\"\",t_projeto[[#This Row],[Q.1]]*t_projeto[[#This Row],[P.1(W)]]*$C$24,\"\")","v":""},{"$f":"IF(t_projeto[[#This Row],[Q.2]]<>\"\",t_projeto[[#This Row],[Q.2]]*t_projeto[[#This Row],[P.2(W)]]*$C$24,\"\")","v":""},{"$f":"IF(t_projeto[[#This Row],[Q.3]]<>\"\",t_projeto[[#This Row],[Q.3]]*t_projeto[[#This Row],[P.3(W)]]*$C$24,\"\")","v":""},{"$f":"IF(t_projeto[[#This Row],[Trecho]]<>\"\",SUM(t_projeto[[#This Row],[f.1]:[f.3]]),\"\")","v":""},{"$f":"IF(t_projeto[[#This Row],[Trecho]]<>\"\",t_projeto[[#This Row],[Q.1]]+t_projeto[[#This Row],[Q.2]]+t_projeto[[#This Row],[Q.3]],\"\")","v":""},{"$f":"IF(AND(t_projeto[[#This Row],[FLUXO]]<>0,t_projeto[[#This Row],[FLUXO]]<>\"\"),ROUND(t_projeto[[#This Row],[FLUXO]]/t_projeto[[#This Row],[Luminárias]],0),\"\")","v":""},{"$f":"IF(AND(t_projeto[[#This Row],[Luminárias]]<>0,t_projeto[[#This Row],[Luminárias]]<>\"\"),ROUND(t_projeto[[#This Row],[lm_médio]]/t_projeto[[#This Row],[W_médio]],2),\"\")","v":""}]
[150,{"$f":"_xlfn.XLOOKUP(t_projeto[[#This Row],[cód.]],t_sitio[cód],t_sitio[Trecho],\"\")","v":""},null,null,{"$f":"IF(t_projeto[[#This Row],[T.1]]<>\"\",_xlfn.XLOOKUP(t_projeto[[#This Row],[T.1]],$G$22:$G$26,$H$22:$H$26),\"\")","v":""},null,null,{"$f":"IF(t_projeto[[#This Row],[T.2]]<>\"\",_xlfn.XLOOKUP(t_projeto[[#This Row],[T.2]],$G$22:$G$26,$H$22:$H$26),\"\")","v":""},null,null,{"$f":"IF(t_projeto[[#This Row],[T.3]]<>\"\",_xlfn.XLOOKUP(t_projeto[[#This Row],[T.3]],$G$22:$G$26,$H$22:$H$26),\"\")","v":""},null,{"$f":"t_projeto[[#This Row],[Q.1]]+t_projeto[[#This Row],[Q.2]]+t_projeto[[#This Row],[Q.3]]","v":0},{"$f":"t_projeto[[#This Row],[Q.1]]+t_projeto[[#This Row],[Q.2]]+t_projeto[[#This Row],[Q.3]]","v":0},{"$f":"IF(t_projeto[[#This Row],[Q.1]]<>\"\",SUMIFS(t_reator[p],t_reator[tipo],t_projeto[[#This Row],[T.1]],t_reator[w],t_projeto[[#This Row],[P.1(W)]]),\"\")","v":""},{"$f":"IF(t_projeto[[#This Row],[Q.2]]<>\"\",SUMIFS(t_reator[p],t_reator[tipo],t_projeto[[#This Row],[T.2]],t_reator[w],t_projeto[[#This Row],[P.2(W)]]),\"\")","v":""},{"$f":"IF(t_projeto[[#This Row],[Q.3]]<>\"\",SUMIFS(t_reator[p],t_reator[tipo],t_projeto[[#This Row],[T.3]],t_reator[w],t_projeto[[#This Row],[P.3(W)]]),\"\")","v":""},{"$f":"IF(t_projeto[[#This Row],[Q.1]]<>\"\",IFERROR(IFERROR(D612*(E612+O612)+G612*(H612+P612)+J612*(K612+Q612),D612*(E612+O612)+G612*(H612+P612)),D612*(E612+O612)),\"\")","v":""},{"$f":"IF(t_projeto[[#This Row],[Consumo_W]]<>\"\",ROUND(t_projeto[[#This Row],[Consumo_W]]/t_projeto[[#This Row],[Luminárias]],0),\"\")","v":""},{"$f":"IF(t_projeto[[#This Row],[Q.1]]<>\"\",t_projeto[[#This Row],[Q.1]]*t_projeto[[#This Row],[P.1(W)]]*$C$24,\"\")","v":""},{"$f":"IF(t_projeto[[#This Row],[Q.2]]<>\"\",t_projeto[[#This Row],[Q.2]]*t_projeto[[#This Row],[P.2(W)]]*$C$24,\"\")","v":""},{"$f":"IF(t_projeto[[#This Row],[Q.3]]<>\"\",t_projeto[[#This Row],[Q.3]]*t_projeto[[#This Row],[P.3(W)]]*$C$24,\"\")","v":""},{"$f":"IF(t_projeto[[#This Row],[Trecho]]<>\"\",SUM(t_projeto[[#This Row],[f.1]:[f.3]]),\"\")","v":""},{"$f":"IF(t_projeto[[#This Row],[Trecho]]<>\"\",t_projeto[[#This Row],[Q.1]]+t_projeto[[#This Row],[Q.2]]+t_projeto[[#This Row],[Q.3]],\"\")","v":""},{"$f":"IF(AND(t_projeto[[#This Row],[FLUXO]]<>0,t_projeto[[#This Row],[FLUXO]]<>\"\"),ROUND(t_projeto[[#This Row],[FLUXO]]/t_projeto[[#This Row],[Luminárias]],0),\"\")","v":""},{"$f":"IF(AND(t_projeto[[#This Row],[Luminárias]]<>0,t_projeto[[#This Row],[Luminárias]]<>\"\"),ROUND(t_projeto[[#This Row],[lm_médio]]/t_projeto[[#This Row],[W_médio]],2),\"\")","v":""}]
[151,{"$f":"_xlfn.XLOOKUP(t_projeto[[#This Row],[cód.]],t_sitio[cód],t_sitio[Trecho],\"\")","v":""},null,null,{"$f":"IF(t_projeto[[#This Row],[T.1]]<>\"\",_xlfn.XLOOKUP(t_projeto[[#This Row],[T.1]],$G$22:$G$26,$H$22:$H$26),\"\")","v":""},null,null,{"$f":"IF(t_projeto[[#This Row],[T.2]]<>\"\",_xlfn.XLOOKUP(t_projeto[[#This Row],[T.2]],$G$22:$G$26,$H$22:$H$26),\"\")","v":""},null,null,{"$f":"IF(t_projeto[[#This Row],[T.3]]<>\"\",_xlfn.XLOOKUP(t_projeto[[#This Row],[T.3]],$G$22:$G$26,$H$22:$H$26),\"\")","v":""},null,{"$f":"t_projeto[[#This Row],[Q.1]]+t_projeto[[#This Row],[Q.2]]+t_projeto[[#This Row],[Q.3]]","v":0},{"$f":"t_projeto[[#This Row],[Q.1]]+t_projeto[[#This Row],[Q.2]]+t_projeto[[#This Row],[Q.3]]","v":0},{"$f":"IF(t_projeto[[#This Row],[Q.1]]<>\"\",SUMIFS(t_reator[p],t_reator[tipo],t_projeto[[#This Row],[T.1]],t_reator[w],t_projeto[[#This Row],[P.1(W)]]),\"\")","v":""},{"$f":"IF(t_projeto[[#This Row],[Q.2]]<>\"\",SUMIFS(t_reator[p],t_reator[tipo],t_projeto[[#This Row],[T.2]],t_reator[w],t_projeto[[#This Row],[P.2(W)]]),\"\")","v":""},{"$f":"IF(t_projeto[[#This Row],[Q.3]]<>\"\",SUMIFS(t_reator[p],t_reator[tipo],t_projeto[[#This Row],[T.3]],t_reator[w],t_projeto[[#This Row],[P.3(W)]]),\"\")","v":""},{"$f":"IF(t_projeto[[#This Row],[Q.1]]<>\"\",IFERROR(IFERROR(D613*(E613+O613)+G613*(H613+P613)+J613*(K613+Q613),D613*(E613+O613)+G613*(H613+P613)),D613*(E613+O613)),\"\")","v":""},{"$f":"IF(t_projeto[[#This Row],[Consumo_W]]<>\"\",ROUND(t_projeto[[#This Row],[Consumo_W]]/t_projeto[[#This Row],[Luminárias]],0),\"\")","v":""},{"$f":"IF(t_projeto[[#This Row],[Q.1]]<>\"\",t_projeto[[#This Row],[Q.1]]*t_projeto[[#This Row],[P.1(W)]]*$C$24,\"\")","v":""},{"$f":"IF(t_projeto[[#This Row],[Q.2]]<>\"\",t_projeto[[#This Row],[Q.2]]*t_projeto[[#This Row],[P.2(W)]]*$C$24,\"\")","v":""},{"$f":"IF(t_projeto[[#This Row],[Q.3]]<>\"\",t_projeto[[#This Row],[Q.3]]*t_projeto[[#This Row],[P.3(W)]]*$C$24,\"\")","v":""},{"$f":"IF(t_projeto[[#This Row],[Trecho]]<>\"\",SUM(t_projeto[[#This Row],[f.1]:[f.3]]),\"\")","v":""},{"$f":"IF(t_projeto[[#This Row],[Trecho]]<>\"\",t_projeto[[#This Row],[Q.1]]+t_projeto[[#This Row],[Q.2]]+t_projeto[[#This Row],[Q.3]],\"\")","v":""},{"$f":"IF(AND(t_projeto[[#This Row],[FLUXO]]<>0,t_projeto[[#This Row],[FLUXO]]<>\"\"),ROUND(t_projeto[[#This Row],[FLUXO]]/t_projeto[[#This Row],[Luminárias]],0),\"\")","v":""},{"$f":"IF(AND(t_projeto[[#This Row],[Luminárias]]<>0,t_projeto[[#This Row],[Luminárias]]<>\"\"),ROUND(t_projeto[[#This Row],[lm_médio]]/t_projeto[[#This Row],[W_médio]],2),\"\")","v":""}]
[152,{"$f":"_xlfn.XLOOKUP(t_projeto[[#This Row],[cód.]],t_sitio[cód],t_sitio[Trecho],\"\")","v":""},null,null,{"$f":"IF(t_projeto[[#This Row],[T.1]]<>\"\",_xlfn.XLOOKUP(t_projeto[[#This Row],[T.1]],$G$22:$G$26,$H$22:$H$26),\"\")","v":""},null,null,{"$f":"IF(t_projeto[[#This Row],[T.2]]<>\"\",_xlfn.XLOOKUP(t_projeto[[#This Row],[T.2]],$G$22:$G$26,$H$22:$H$26),\"\")","v":""},null,null,{"$f":"IF(t_projeto[[#This Row],[T.3]]<>\"\",_xlfn.XLOOKUP(t_projeto[[#This Row],[T.3]],$G$22:$G$26,$H$22:$H$26),\"\")","v":""},null,{"$f":"t_projeto[[#This Row],[Q.1]]+t_projeto[[#This Row],[Q.2]]+t_projeto[[#This Row],[Q.3]]","v":0},{"$f":"t_projeto[[#This Row],[Q.1]]+t_projeto[[#This Row],[Q.2]]+t_projeto[[#This Row],[Q.3]]","v":0},{"$f":"IF(t_projeto[[#This Row],[Q.1]]<>\"\",SUMIFS(t_reator[p],t_reator[tipo],t_projeto[[#This Row],[T.1]],t_reator[w],t_projeto[[#This Row],[P.1(W)]]),\"\")","v":""},{"$f":"IF(t_projeto[[#This Row],[Q.2]]<>\"\",SUMIFS(t_reator[p],t_reator[tipo],t_projeto[[#This Row],[T.2]],t_reator[w],t_projeto[[#This Row],[P.2(W)]]),\"\")","v":""},{"$f":"IF(t_projeto[[#This Row],[Q.3]]<>\"\",SUMIFS(t_reator[p],t_reator[tipo],t_projeto[[#This Row],[T.3]],t_reator[w],t_projeto[[#This Row],[P.3(W)]]),\"\")","v":""},{"$f":"IF(t_projeto[[#This Row],[Q.1]]<>\"\",IFERROR(IFERROR(D614*(E614+O614)+G614*(H614+P614)+J614*(K614+Q614),D614*(E614+O614)+G614*(H614+P614)),D614*(E614+O614)),\"\")","v":""},{"$f":"IF(t_projeto[[#This Row],[Consumo_W]]<>\"\",ROUND(t_projeto[[#This Row],[Consumo_W]]/t_projeto[[#This Row],[Luminárias]],0),\"\")","v":""},{"$f":"IF(t_projeto[[#This Row],[Q.1]]<>\"\",t_projeto[[#This Row],[Q.1]]*t_projeto[[#This Row],[P.1(W)]]*$C$24,\"\")","v":""},{"$f":"IF(t_projeto[[#This Row],[Q.2]]<>\"\",t_projeto[[#This Row],[Q.2]]*t_projeto[[#This Row],[P.2(W)]]*$C$24,\"\")","v":""},{"$f":"IF(t_projeto[[#This Row],[Q.3]]<>\"\",t_projeto[[#This Row],[Q.3]]*t_projeto[[#This Row],[P.3(W)]]*$C$24,\"\")","v":""},{"$f":"IF(t_projeto[[#This Row],[Trecho]]<>\"\",SUM(t_projeto[[#This Row],[f.1]:[f.3]]),\"\")","v":""},{"$f":"IF(t_projeto[[#This Row],[Trecho]]<>\"\",t_projeto[[#This Row],[Q.1]]+t_projeto[[#This Row],[Q.2]]+t_projeto[[#This Row],[Q.3]],\"\")","v":""},{"$f":"IF(AND(t_projeto[[#This Row],[FLUXO]]<>0,t_projeto[[#This Row],[FLUXO]]<>\"\"),ROUND(t_projeto[[#This Row],[FLUXO]]/t_projeto[[#This Row],[Luminárias]],0),\"\")","v":""},{"$f":"IF(AND(t_projeto[[#This Row],[Luminárias]]<>0,t_projeto[[#This Row],[Luminárias]]<>\"\"),ROUND(t_projeto[[#This Row],[lm_médio]]/t_projeto[[#This Row],[W_médio]],2),\"\")","v":""}]
[153,{"$f":"_xlfn.XLOOKUP(t_projeto[[#This Row],[cód.]],t_sitio[cód],t_sitio[Trecho],\"\")","v":""},null,null,{"$f":"IF(t_projeto[[#This Row],[T.1]]<>\"\",_xlfn.XLOOKUP(t_projeto[[#This Row],[T.1]],$G$22:$G$26,$H$22:$H$26),\"\")","v":""},null,null,{"$f":"IF(t_projeto[[#This Row],[T.2]]<>\"\",_xlfn.XLOOKUP(t_projeto[[#This Row],[T.2]],$G$22:$G$26,$H$22:$H$26),\"\")","v":""},null,null,{"$f":"IF(t_projeto[[#This Row],[T.3]]<>\"\",_xlfn.XLOOKUP(t_projeto[[#This Row],[T.3]],$G$22:$G$26,$H$22:$H$26),\"\")","v":""},null,{"$f":"t_projeto[[#This Row],[Q.1]]+t_projeto[[#This Row],[Q.2]]+t_projeto[[#This Row],[Q.3]]","v":0},{"$f":"t_projeto[[#This Row],[Q.1]]+t_projeto[[#This Row],[Q.2]]+t_projeto[[#This Row],[Q.3]]","v":0},{"$f":"IF(t_projeto[[#This Row],[Q.1]]<>\"\",SUMIFS(t_reator[p],t_reator[tipo],t_projeto[[#This Row],[T.1]],t_reator[w],t_projeto[[#This Row],[P.1(W)]]),\"\")","v":""},{"$f":"IF(t_projeto[[#This Row],[Q.2]]<>\"\",SUMIFS(t_reator[p],t_reator[tipo],t_projeto[[#This Row],[T.2]],t_reator[w],t_projeto[[#This Row],[P.2(W)]]),\"\")","v":""},{"$f":"IF(t_projeto[[#This Row],[Q.3]]<>\"\",SUMIFS(t_reator[p],t_reator[tipo],t_projeto[[#This Row],[T.3]],t_reator[w],t_projeto[[#This Row],[P.3(W)]]),\"\")","v":""},{"$f":"IF(t_projeto[[#This Row],[Q.1]]<>\"\",IFERROR(IFERROR(D615*(E615+O615)+G615*(H615+P615)+J615*(K615+Q615),D615*(E615+O615)+G615*(H615+P615)),D615*(E615+O615)),\"\")","v":""},{"$f":"IF(t_projeto[[#This Row],[Consumo_W]]<>\"\",ROUND(t_projeto[[#This Row],[Consumo_W]]/t_projeto[[#This Row],[Luminárias]],0),\"\")","v":""},{"$f":"IF(t_projeto[[#This Row],[Q.1]]<>\"\",t_projeto[[#This Row],[Q.1]]*t_projeto[[#This Row],[P.1(W)]]*$C$24,\"\")","v":""},{"$f":"IF(t_projeto[[#This Row],[Q.2]]<>\"\",t_projeto[[#This Row],[Q.2]]*t_projeto[[#This Row],[P.2(W)]]*$C$24,\"\")","v":""},{"$f":"IF(t_projeto[[#This Row],[Q.3]]<>\"\",t_projeto[[#This Row],[Q.3]]*t_projeto[[#This Row],[P.3(W)]]*$C$24,\"\")","v":""},{"$f":"IF(t_projeto[[#This Row],[Trecho]]<>\"\",SUM(t_projeto[[#This Row],[f.1]:[f.3]]),\"\")","v":""},{"$f":"IF(t_projeto[[#This Row],[Trecho]]<>\"\",t_projeto[[#This Row],[Q.1]]+t_projeto[[#This Row],[Q.2]]+t_projeto[[#This Row],[Q.3]],\"\")","v":""},{"$f":"IF(AND(t_projeto[[#This Row],[FLUXO]]<>0,t_projeto[[#This Row],[FLUXO]]<>\"\"),ROUND(t_projeto[[#This Row],[FLUXO]]/t_projeto[[#This Row],[Luminárias]],0),\"\")","v":""},{"$f":"IF(AND(t_projeto[[#This Row],[Luminárias]]<>0,t_projeto[[#This Row],[Luminárias]]<>\"\"),ROUND(t_projeto[[#This Row],[lm_médio]]/t_projeto[[#This Row],[W_médio]],2),\"\")","v":""}]
[154,{"$f":"_xlfn.XLOOKUP(t_projeto[[#This Row],[cód.]],t_sitio[cód],t_sitio[Trecho],\"\")","v":""},null,null,{"$f":"IF(t_projeto[[#This Row],[T.1]]<>\"\",_xlfn.XLOOKUP(t_projeto[[#This Row],[T.1]],$G$22:$G$26,$H$22:$H$26),\"\")","v":""},null,null,{"$f":"IF(t_projeto[[#This Row],[T.2]]<>\"\",_xlfn.XLOOKUP(t_projeto[[#This Row],[T.2]],$G$22:$G$26,$H$22:$H$26),\"\")","v":""},null,null,{"$f":"IF(t_projeto[[#This Row],[T.3]]<>\"\",_xlfn.XLOOKUP(t_projeto[[#This Row],[T.3]],$G$22:$G$26,$H$22:$H$26),\"\")","v":""},null,{"$f":"t_projeto[[#This Row],[Q.1]]+t_projeto[[#This Row],[Q.2]]+t_projeto[[#This Row],[Q.3]]","v":0},{"$f":"t_projeto[[#This Row],[Q.1]]+t_projeto[[#This Row],[Q.2]]+t_projeto[[#This Row],[Q.3]]","v":0},{"$f":"IF(t_projeto[[#This Row],[Q.1]]<>\"\",SUMIFS(t_reator[p],t_reator[tipo],t_projeto[[#This Row],[T.1]],t_reator[w],t_projeto[[#This Row],[P.1(W)]]),\"\")","v":""},{"$f":"IF(t_projeto[[#This Row],[Q.2]]<>\"\",SUMIFS(t_reator[p],t_reator[tipo],t_projeto[[#This Row],[T.2]],t_reator[w],t_projeto[[#This Row],[P.2(W)]]),\"\")","v":""},{"$f":"IF(t_projeto[[#This Row],[Q.3]]<>\"\",SUMIFS(t_reator[p],t_reator[tipo],t_projeto[[#This Row],[T.3]],t_reator[w],t_projeto[[#This Row],[P.3(W)]]),\"\")","v":""},{"$f":"IF(t_projeto[[#This Row],[Q.1]]<>\"\",IFERROR(IFERROR(D616*(E616+O616)+G616*(H616+P616)+J616*(K616+Q616),D616*(E616+O616)+G616*(H616+P616)),D616*(E616+O616)),\"\")","v":""},{"$f":"IF(t_projeto[[#This Row],[Consumo_W]]<>\"\",ROUND(t_projeto[[#This Row],[Consumo_W]]/t_projeto[[#This Row],[Luminárias]],0),\"\")","v":""},{"$f":"IF(t_projeto[[#This Row],[Q.1]]<>\"\",t_projeto[[#This Row],[Q.1]]*t_projeto[[#This Row],[P.1(W)]]*$C$24,\"\")","v":""},{"$f":"IF(t_projeto[[#This Row],[Q.2]]<>\"\",t_projeto[[#This Row],[Q.2]]*t_projeto[[#This Row],[P.2(W)]]*$C$24,\"\")","v":""},{"$f":"IF(t_projeto[[#This Row],[Q.3]]<>\"\",t_projeto[[#This Row],[Q.3]]*t_projeto[[#This Row],[P.3(W)]]*$C$24,\"\")","v":""},{"$f":"IF(t_projeto[[#This Row],[Trecho]]<>\"\",SUM(t_projeto[[#This Row],[f.1]:[f.3]]),\"\")","v":""},{"$f":"IF(t_projeto[[#This Row],[Trecho]]<>\"\",t_projeto[[#This Row],[Q.1]]+t_projeto[[#This Row],[Q.2]]+t_projeto[[#This Row],[Q.3]],\"\")","v":""},{"$f":"IF(AND(t_projeto[[#This Row],[FLUXO]]<>0,t_projeto[[#This Row],[FLUXO]]<>\"\"),ROUND(t_projeto[[#This Row],[FLUXO]]/t_projeto[[#This Row],[Luminárias]],0),\"\")","v":""},{"$f":"IF(AND(t_projeto[[#This Row],[Luminárias]]<>0,t_projeto[[#This Row],[Luminárias]]<>\"\"),ROUND(t_projeto[[#This Row],[lm_médio]]/t_projeto[[#This Row],[W_médio]],2),\"\")","v":""}]
[155,{"$f":"_xlfn.XLOOKUP(t_projeto[[#This Row],[cód.]],t_sitio[cód],t_sitio[Trecho],\"\")","v":""},null,null,{"$f":"IF(t_projeto[[#This Row],[T.1]]<>\"\",_xlfn.XLOOKUP(t_projeto[[#This Row],[T.1]],$G$22:$G$26,$H$22:$H$26),\"\")","v":""},null,null,{"$f":"IF(t_projeto[[#This Row],[T.2]]<>\"\",_xlfn.XLOOKUP(t_projeto[[#This Row],[T.2]],$G$22:$G$26,$H$22:$H$26),\"\")","v":""},null,null,{"$f":"IF(t_projeto[[#This Row],[T.3]]<>\"\",_xlfn.XLOOKUP(t_projeto[[#This Row],[T.3]],$G$22:$G$26,$H$22:$H$26),\"\")","v":""},null,{"$f":"t_projeto[[#This Row],[Q.1]]+t_projeto[[#This Row],[Q.2]]+t_projeto[[#This Row],[Q.3]]","v":0},{"$f":"t_projeto[[#This Row],[Q.1]]+t_projeto[[#This Row],[Q.2]]+t_projeto[[#This Row],[Q.3]]","v":0},{"$f":"IF(t_projeto[[#This Row],[Q.1]]<>\"\",SUMIFS(t_reator[p],t_reator[tipo],t_projeto[[#This Row],[T.1]],t_reator[w],t_projeto[[#This Row],[P.1(W)]]),\"\")","v":""},{"$f":"IF(t_projeto[[#This Row],[Q.2]]<>\"\",SUMIFS(t_reator[p],t_reator[tipo],t_projeto[[#This Row],[T.2]],t_reator[w],t_projeto[[#This Row],[P.2(W)]]),\"\")","v":""},{"$f":"IF(t_projeto[[#This Row],[Q.3]]<>\"\",SUMIFS(t_reator[p],t_reator[tipo],t_projeto[[#This Row],[T.3]],t_reator[w],t_projeto[[#This Row],[P.3(W)]]),\"\")","v":""},{"$f":"IF(t_projeto[[#This Row],[Q.1]]<>\"\",IFERROR(IFERROR(D617*(E617+O617)+G617*(H617+P617)+J617*(K617+Q617),D617*(E617+O617)+G617*(H617+P617)),D617*(E617+O617)),\"\")","v":""},{"$f":"IF(t_projeto[[#This Row],[Consumo_W]]<>\"\",ROUND(t_projeto[[#This Row],[Consumo_W]]/t_projeto[[#This Row],[Luminárias]],0),\"\")","v":""},{"$f":"IF(t_projeto[[#This Row],[Q.1]]<>\"\",t_projeto[[#This Row],[Q.1]]*t_projeto[[#This Row],[P.1(W)]]*$C$24,\"\")","v":""},{"$f":"IF(t_projeto[[#This Row],[Q.2]]<>\"\",t_projeto[[#This Row],[Q.2]]*t_projeto[[#This Row],[P.2(W)]]*$C$24,\"\")","v":""},{"$f":"IF(t_projeto[[#This Row],[Q.3]]<>\"\",t_projeto[[#This Row],[Q.3]]*t_projeto[[#This Row],[P.3(W)]]*$C$24,\"\")","v":""},{"$f":"IF(t_projeto[[#This Row],[Trecho]]<>\"\",SUM(t_projeto[[#This Row],[f.1]:[f.3]]),\"\")","v":""},{"$f":"IF(t_projeto[[#This Row],[Trecho]]<>\"\",t_projeto[[#This Row],[Q.1]]+t_projeto[[#This Row],[Q.2]]+t_projeto[[#This Row],[Q.3]],\"\")","v":""},{"$f":"IF(AND(t_projeto[[#This Row],[FLUXO]]<>0,t_projeto[[#This Row],[FLUXO]]<>\"\"),ROUND(t_projeto[[#This Row],[FLUXO]]/t_projeto[[#This Row],[Luminárias]],0),\"\")","v":""},{"$f":"IF(AND(t_projeto[[#This Row],[Luminárias]]<>0,t_projeto[[#This Row],[Luminárias]]<>\"\"),ROUND(t_projeto[[#This Row],[lm_médio]]/t_projeto[[#This Row],[W_médio]],2),\"\")","v":""}]
[156,{"$f":"_xlfn.XLOOKUP(t_projeto[[#This Row],[cód.]],t_sitio[cód],t_sitio[Trecho],\"\")","v":""},null,null,{"$f":"IF(t_projeto[[#This Row],[T.1]]<>\"\",_xlfn.XLOOKUP(t_projeto[[#This Row],[T.1]],$G$22:$G$26,$H$22:$H$26),\"\")","v":""},null,null,{"$f":"IF(t_projeto[[#This Row],[T.2]]<>\"\",_xlfn.XLOOKUP(t_projeto[[#This Row],[T.2]],$G$22:$G$26,$H$22:$H$26),\"\")","v":""},null,null,{"$f":"IF(t_projeto[[#This Row],[T.3]]<>\"\",_xlfn.XLOOKUP(t_projeto[[#This Row],[T.3]],$G$22:$G$26,$H$22:$H$26),\"\")","v":""},null,{"$f":"t_projeto[[#This Row],[Q.1]]+t_projeto[[#This Row],[Q.2]]+t_projeto[[#This Row],[Q.3]]","v":0},{"$f":"t_projeto[[#This Row],[Q.1]]+t_projeto[[#This Row],[Q.2]]+t_projeto[[#This Row],[Q.3]]","v":0},{"$f":"IF(t_projeto[[#This Row],[Q.1]]<>\"\",SUMIFS(t_reator[p],t_reator[tipo],t_projeto[[#This Row],[T.1]],t_reator[w],t_projeto[[#This Row],[P.1(W)]]),\"\")","v":""},{"$f":"IF(t_projeto[[#This Row],[Q.2]]<>\"\",SUMIFS(t_reator[p],t_reator[tipo],t_projeto[[#This Row],[T.2]],t_reator[w],t_projeto[[#This Row],[P.2(W)]]),\"\")","v":""},{"$f":"IF(t_projeto[[#This Row],[Q.3]]<>\"\",SUMIFS(t_reator[p],t_reator[tipo],t_projeto[[#This Row],[T.3]],t_reator[w],t_projeto[[#This Row],[P.3(W)]]),\"\")","v":""},{"$f":"IF(t_projeto[[#This Row],[Q.1]]<>\"\",IFERROR(IFERROR(D618*(E618+O618)+G618*(H618+P618)+J618*(K618+Q618),D618*(E618+O618)+G618*(H618+P618)),D618*(E618+O618)),\"\")","v":""},{"$f":"IF(t_projeto[[#This Row],[Consumo_W]]<>\"\",ROUND(t_projeto[[#This Row],[Consumo_W]]/t_projeto[[#This Row],[Luminárias]],0),\"\")","v":""},{"$f":"IF(t_projeto[[#This Row],[Q.1]]<>\"\",t_projeto[[#This Row],[Q.1]]*t_projeto[[#This Row],[P.1(W)]]*$C$24,\"\")","v":""},{"$f":"IF(t_projeto[[#This Row],[Q.2]]<>\"\",t_projeto[[#This Row],[Q.2]]*t_projeto[[#This Row],[P.2(W)]]*$C$24,\"\")","v":""},{"$f":"IF(t_projeto[[#This Row],[Q.3]]<>\"\",t_projeto[[#This Row],[Q.3]]*t_projeto[[#This Row],[P.3(W)]]*$C$24,\"\")","v":""},{"$f":"IF(t_projeto[[#This Row],[Trecho]]<>\"\",SUM(t_projeto[[#This Row],[f.1]:[f.3]]),\"\")","v":""},{"$f":"IF(t_projeto[[#This Row],[Trecho]]<>\"\",t_projeto[[#This Row],[Q.1]]+t_projeto[[#This Row],[Q.2]]+t_projeto[[#This Row],[Q.3]],\"\")","v":""},{"$f":"IF(AND(t_projeto[[#This Row],[FLUXO]]<>0,t_projeto[[#This Row],[FLUXO]]<>\"\"),ROUND(t_projeto[[#This Row],[FLUXO]]/t_projeto[[#This Row],[Luminárias]],0),\"\")","v":""},{"$f":"IF(AND(t_projeto[[#This Row],[Luminárias]]<>0,t_projeto[[#This Row],[Luminárias]]<>\"\"),ROUND(t_projeto[[#This Row],[lm_médio]]/t_projeto[[#This Row],[W_médio]],2),\"\")","v":""}]
[157,{"$f":"_xlfn.XLOOKUP(t_projeto[[#This Row],[cód.]],t_sitio[cód],t_sitio[Trecho],\"\")","v":""},null,null,{"$f":"IF(t_projeto[[#This Row],[T.1]]<>\"\",_xlfn.XLOOKUP(t_projeto[[#This Row],[T.1]],$G$22:$G$26,$H$22:$H$26),\"\")","v":""},null,null,{"$f":"IF(t_projeto[[#This Row],[T.2]]<>\"\",_xlfn.XLOOKUP(t_projeto[[#This Row],[T.2]],$G$22:$G$26,$H$22:$H$26),\"\")","v":""},null,null,{"$f":"IF(t_projeto[[#This Row],[T.3]]<>\"\",_xlfn.XLOOKUP(t_projeto[[#This Row],[T.3]],$G$22:$G$26,$H$22:$H$26),\"\")","v":""},null,{"$f":"t_projeto[[#This Row],[Q.1]]+t_projeto[[#This Row],[Q.2]]+t_projeto[[#This Row],[Q.3]]","v":0},{"$f":"t_projeto[[#This Row],[Q.1]]+t_projeto[[#This Row],[Q.2]]+t_projeto[[#This Row],[Q.3]]","v":0},{"$f":"IF(t_projeto[[#This Row],[Q.1]]<>\"\",SUMIFS(t_reator[p],t_reator[tipo],t_projeto[[#This Row],[T.1]],t_reator[w],t_projeto[[#This Row],[P.1(W)]]),\"\")","v":""},{"$f":"IF(t_projeto[[#This Row],[Q.2]]<>\"\",SUMIFS(t_reator[p],t_reator[tipo],t_projeto[[#This Row],[T.2]],t_reator[w],t_projeto[[#This Row],[P.2(W)]]),\"\")","v":""},{"$f":"IF(t_projeto[[#This Row],[Q.3]]<>\"\",SUMIFS(t_reator[p],t_reator[tipo],t_projeto[[#This Row],[T.3]],t_reator[w],t_projeto[[#This Row],[P.3(W)]]),\"\")","v":""},{"$f":"IF(t_projeto[[#This Row],[Q.1]]<>\"\",IFERROR(IFERROR(D619*(E619+O619)+G619*(H619+P619)+J619*(K619+Q619),D619*(E619+O619)+G619*(H619+P619)),D619*(E619+O619)),\"\")","v":""},{"$f":"IF(t_projeto[[#This Row],[Consumo_W]]<>\"\",ROUND(t_projeto[[#This Row],[Consumo_W]]/t_projeto[[#This Row],[Luminárias]],0),\"\")","v":""},{"$f":"IF(t_projeto[[#This Row],[Q.1]]<>\"\",t_projeto[[#This Row],[Q.1]]*t_projeto[[#This Row],[P.1(W)]]*$C$24,\"\")","v":""},{"$f":"IF(t_projeto[[#This Row],[Q.2]]<>\"\",t_projeto[[#This Row],[Q.2]]*t_projeto[[#This Row],[P.2(W)]]*$C$24,\"\")","v":""},{"$f":"IF(t_projeto[[#This Row],[Q.3]]<>\"\",t_projeto[[#This Row],[Q.3]]*t_projeto[[#This Row],[P.3(W)]]*$C$24,\"\")","v":""},{"$f":"IF(t_projeto[[#This Row],[Trecho]]<>\"\",SUM(t_projeto[[#This Row],[f.1]:[f.3]]),\"\")","v":""},{"$f":"IF(t_projeto[[#This Row],[Trecho]]<>\"\",t_projeto[[#This Row],[Q.1]]+t_projeto[[#This Row],[Q.2]]+t_projeto[[#This Row],[Q.3]],\"\")","v":""},{"$f":"IF(AND(t_projeto[[#This Row],[FLUXO]]<>0,t_projeto[[#This Row],[FLUXO]]<>\"\"),ROUND(t_projeto[[#This Row],[FLUXO]]/t_projeto[[#This Row],[Luminárias]],0),\"\")","v":""},{"$f":"IF(AND(t_projeto[[#This Row],[Luminárias]]<>0,t_projeto[[#This Row],[Luminárias]]<>\"\"),ROUND(t_projeto[[#This Row],[lm_médio]]/t_projeto[[#This Row],[W_médio]],2),\"\")","v":""}]
[158,{"$f":"_xlfn.XLOOKUP(t_projeto[[#This Row],[cód.]],t_sitio[cód],t_sitio[Trecho],\"\")","v":""},null,null,{"$f":"IF(t_projeto[[#This Row],[T.1]]<>\"\",_xlfn.XLOOKUP(t_projeto[[#This Row],[T.1]],$G$22:$G$26,$H$22:$H$26),\"\")","v":""},null,null,{"$f":"IF(t_projeto[[#This Row],[T.2]]<>\"\",_xlfn.XLOOKUP(t_projeto[[#This Row],[T.2]],$G$22:$G$26,$H$22:$H$26),\"\")","v":""},null,null,{"$f":"IF(t_projeto[[#This Row],[T.3]]<>\"\",_xlfn.XLOOKUP(t_projeto[[#This Row],[T.3]],$G$22:$G$26,$H$22:$H$26),\"\")","v":""},null,{"$f":"t_projeto[[#This Row],[Q.1]]+t_projeto[[#This Row],[Q.2]]+t_projeto[[#This Row],[Q.3]]","v":0},{"$f":"t_projeto[[#This Row],[Q.1]]+t_projeto[[#This Row],[Q.2]]+t_projeto[[#This Row],[Q.3]]","v":0},{"$f":"IF(t_projeto[[#This Row],[Q.1]]<>\"\",SUMIFS(t_reator[p],t_reator[tipo],t_projeto[[#This Row],[T.1]],t_reator[w],t_projeto[[#This Row],[P.1(W)]]),\"\")","v":""},{"$f":"IF(t_projeto[[#This Row],[Q.2]]<>\"\",SUMIFS(t_reator[p],t_reator[tipo],t_projeto[[#This Row],[T.2]],t_reator[w],t_projeto[[#This Row],[P.2(W)]]),\"\")","v":""},{"$f":"IF(t_projeto[[#This Row],[Q.3]]<>\"\",SUMIFS(t_reator[p],t_reator[tipo],t_projeto[[#This Row],[T.3]],t_reator[w],t_projeto[[#This Row],[P.3(W)]]),\"\")","v":""},{"$f":"IF(t_projeto[[#This Row],[Q.1]]<>\"\",IFERROR(IFERROR(D620*(E620+O620)+G620*(H620+P620)+J620*(K620+Q620),D620*(E620+O620)+G620*(H620+P620)),D620*(E620+O620)),\"\")","v":""},{"$f":"IF(t_projeto[[#This Row],[Consumo_W]]<>\"\",ROUND(t_projeto[[#This Row],[Consumo_W]]/t_projeto[[#This Row],[Luminárias]],0),\"\")","v":""},{"$f":"IF(t_projeto[[#This Row],[Q.1]]<>\"\",t_projeto[[#This Row],[Q.1]]*t_projeto[[#This Row],[P.1(W)]]*$C$24,\"\")","v":""},{"$f":"IF(t_projeto[[#This Row],[Q.2]]<>\"\",t_projeto[[#This Row],[Q.2]]*t_projeto[[#This Row],[P.2(W)]]*$C$24,\"\")","v":""},{"$f":"IF(t_projeto[[#This Row],[Q.3]]<>\"\",t_projeto[[#This Row],[Q.3]]*t_projeto[[#This Row],[P.3(W)]]*$C$24,\"\")","v":""},{"$f":"IF(t_projeto[[#This Row],[Trecho]]<>\"\",SUM(t_projeto[[#This Row],[f.1]:[f.3]]),\"\")","v":""},{"$f":"IF(t_projeto[[#This Row],[Trecho]]<>\"\",t_projeto[[#This Row],[Q.1]]+t_projeto[[#This Row],[Q.2]]+t_projeto[[#This Row],[Q.3]],\"\")","v":""},{"$f":"IF(AND(t_projeto[[#This Row],[FLUXO]]<>0,t_projeto[[#This Row],[FLUXO]]<>\"\"),ROUND(t_projeto[[#This Row],[FLUXO]]/t_projeto[[#This Row],[Luminárias]],0),\"\")","v":""},{"$f":"IF(AND(t_projeto[[#This Row],[Luminárias]]<>0,t_projeto[[#This Row],[Luminárias]]<>\"\"),ROUND(t_projeto[[#This Row],[lm_médio]]/t_projeto[[#This Row],[W_médio]],2),\"\")","v":""}]
[159,{"$f":"_xlfn.XLOOKUP(t_projeto[[#This Row],[cód.]],t_sitio[cód],t_sitio[Trecho],\"\")","v":""},null,null,{"$f":"IF(t_projeto[[#This Row],[T.1]]<>\"\",_xlfn.XLOOKUP(t_projeto[[#This Row],[T.1]],$G$22:$G$26,$H$22:$H$26),\"\")","v":""},null,null,{"$f":"IF(t_projeto[[#This Row],[T.2]]<>\"\",_xlfn.XLOOKUP(t_projeto[[#This Row],[T.2]],$G$22:$G$26,$H$22:$H$26),\"\")","v":""},null,null,{"$f":"IF(t_projeto[[#This Row],[T.3]]<>\"\",_xlfn.XLOOKUP(t_projeto[[#This Row],[T.3]],$G$22:$G$26,$H$22:$H$26),\"\")","v":""},null,{"$f":"t_projeto[[#This Row],[Q.1]]+t_projeto[[#This Row],[Q.2]]+t_projeto[[#This Row],[Q.3]]","v":0},{"$f":"t_projeto[[#This Row],[Q.1]]+t_projeto[[#This Row],[Q.2]]+t_projeto[[#This Row],[Q.3]]","v":0},{"$f":"IF(t_projeto[[#This Row],[Q.1]]<>\"\",SUMIFS(t_reator[p],t_reator[tipo],t_projeto[[#This Row],[T.1]],t_reator[w],t_projeto[[#This Row],[P.1(W)]]),\"\")","v":""},{"$f":"IF(t_projeto[[#This Row],[Q.2]]<>\"\",SUMIFS(t_reator[p],t_reator[tipo],t_projeto[[#This Row],[T.2]],t_reator[w],t_projeto[[#This Row],[P.2(W)]]),\"\")","v":""},{"$f":"IF(t_projeto[[#This Row],[Q.3]]<>\"\",SUMIFS(t_reator[p],t_reator[tipo],t_projeto[[#This Row],[T.3]],t_reator[w],t_projeto[[#This Row],[P.3(W)]]),\"\")","v":""},{"$f":"IF(t_projeto[[#This Row],[Q.1]]<>\"\",IFERROR(IFERROR(D621*(E621+O621)+G621*(H621+P621)+J621*(K621+Q621),D621*(E621+O621)+G621*(H621+P621)),D621*(E621+O621)),\"\")","v":""},{"$f":"IF(t_projeto[[#This Row],[Consumo_W]]<>\"\",ROUND(t_projeto[[#This Row],[Consumo_W]]/t_projeto[[#This Row],[Luminárias]],0),\"\")","v":""},{"$f":"IF(t_projeto[[#This Row],[Q.1]]<>\"\",t_projeto[[#This Row],[Q.1]]*t_projeto[[#This Row],[P.1(W)]]*$C$24,\"\")","v":""},{"$f":"IF(t_projeto[[#This Row],[Q.2]]<>\"\",t_projeto[[#This Row],[Q.2]]*t_projeto[[#This Row],[P.2(W)]]*$C$24,\"\")","v":""},{"$f":"IF(t_projeto[[#This Row],[Q.3]]<>\"\",t_projeto[[#This Row],[Q.3]]*t_projeto[[#This Row],[P.3(W)]]*$C$24,\"\")","v":""},{"$f":"IF(t_projeto[[#This Row],[Trecho]]<>\"\",SUM(t_projeto[[#This Row],[f.1]:[f.3]]),\"\")","v":""},{"$f":"IF(t_projeto[[#This Row],[Trecho]]<>\"\",t_projeto[[#This Row],[Q.1]]+t_projeto[[#This Row],[Q.2]]+t_projeto[[#This Row],[Q.3]],\"\")","v":""},{"$f":"IF(AND(t_projeto[[#This Row],[FLUXO]]<>0,t_projeto[[#This Row],[FLUXO]]<>\"\"),ROUND(t_projeto[[#This Row],[FLUXO]]/t_projeto[[#This Row],[Luminárias]],0),\"\")","v":""},{"$f":"IF(AND(t_projeto[[#This Row],[Luminárias]]<>0,t_projeto[[#This Row],[Luminárias]]<>\"\"),ROUND(t_projeto[[#This Row],[lm_médio]]/t_projeto[[#This Row],[W_médio]],2),\"\")","v":""}]
[160,{"$f":"_xlfn.XLOOKUP(t_projeto[[#This Row],[cód.]],t_sitio[cód],t_sitio[Trecho],\"\")","v":""},null,null,{"$f":"IF(t_projeto[[#This Row],[T.1]]<>\"\",_xlfn.XLOOKUP(t_projeto[[#This Row],[T.1]],$G$22:$G$26,$H$22:$H$26),\"\")","v":""},null,null,{"$f":"IF(t_projeto[[#This Row],[T.2]]<>\"\",_xlfn.XLOOKUP(t_projeto[[#This Row],[T.2]],$G$22:$G$26,$H$22:$H$26),\"\")","v":""},null,null,{"$f":"IF(t_projeto[[#This Row],[T.3]]<>\"\",_xlfn.XLOOKUP(t_projeto[[#This Row],[T.3]],$G$22:$G$26,$H$22:$H$26),\"\")","v":""},null,{"$f":"t_projeto[[#This Row],[Q.1]]+t_projeto[[#This Row],[Q.2]]+t_projeto[[#This Row],[Q.3]]","v":0},{"$f":"t_projeto[[#This Row],[Q.1]]+t_projeto[[#This Row],[Q.2]]+t_projeto[[#This Row],[Q.3]]","v":0},{"$f":"IF(t_projeto[[#This Row],[Q.1]]<>\"\",SUMIFS(t_reator[p],t_reator[tipo],t_projeto[[#This Row],[T.1]],t_reator[w],t_projeto[[#This Row],[P.1(W)]]),\"\")","v":""},{"$f":"IF(t_projeto[[#This Row],[Q.2]]<>\"\",SUMIFS(t_reator[p],t_reator[tipo],t_projeto[[#This Row],[T.2]],t_reator[w],t_projeto[[#This Row],[P.2(W)]]),\"\")","v":""},{"$f":"IF(t_projeto[[#This Row],[Q.3]]<>\"\",SUMIFS(t_reator[p],t_reator[tipo],t_projeto[[#This Row],[T.3]],t_reator[w],t_projeto[[#This Row],[P.3(W)]]),\"\")","v":""},{"$f":"IF(t_projeto[[#This Row],[Q.1]]<>\"\",IFERROR(IFERROR(D622*(E622+O622)+G622*(H622+P622)+J622*(K622+Q622),D622*(E622+O622)+G622*(H622+P622)),D622*(E622+O622)),\"\")","v":""},{"$f":"IF(t_projeto[[#This Row],[Consumo_W]]<>\"\",ROUND(t_projeto[[#This Row],[Consumo_W]]/t_projeto[[#This Row],[Luminárias]],0),\"\")","v":""},{"$f":"IF(t_projeto[[#This Row],[Q.1]]<>\"\",t_projeto[[#This Row],[Q.1]]*t_projeto[[#This Row],[P.1(W)]]*$C$24,\"\")","v":""},{"$f":"IF(t_projeto[[#This Row],[Q.2]]<>\"\",t_projeto[[#This Row],[Q.2]]*t_projeto[[#This Row],[P.2(W)]]*$C$24,\"\")","v":""},{"$f":"IF(t_projeto[[#This Row],[Q.3]]<>\"\",t_projeto[[#This Row],[Q.3]]*t_projeto[[#This Row],[P.3(W)]]*$C$24,\"\")","v":""},{"$f":"IF(t_projeto[[#This Row],[Trecho]]<>\"\",SUM(t_projeto[[#This Row],[f.1]:[f.3]]),\"\")","v":""},{"$f":"IF(t_projeto[[#This Row],[Trecho]]<>\"\",t_projeto[[#This Row],[Q.1]]+t_projeto[[#This Row],[Q.2]]+t_projeto[[#This Row],[Q.3]],\"\")","v":""},{"$f":"IF(AND(t_projeto[[#This Row],[FLUXO]]<>0,t_projeto[[#This Row],[FLUXO]]<>\"\"),ROUND(t_projeto[[#This Row],[FLUXO]]/t_projeto[[#This Row],[Luminárias]],0),\"\")","v":""},{"$f":"IF(AND(t_projeto[[#This Row],[Luminárias]]<>0,t_projeto[[#This Row],[Luminárias]]<>\"\"),ROUND(t_projeto[[#This Row],[lm_médio]]/t_projeto[[#This Row],[W_médio]],2),\"\")","v":""}]
[161,{"$f":"_xlfn.XLOOKUP(t_projeto[[#This Row],[cód.]],t_sitio[cód],t_sitio[Trecho],\"\")","v":""},null,null,{"$f":"IF(t_projeto[[#This Row],[T.1]]<>\"\",_xlfn.XLOOKUP(t_projeto[[#This Row],[T.1]],$G$22:$G$26,$H$22:$H$26),\"\")","v":""},null,null,{"$f":"IF(t_projeto[[#This Row],[T.2]]<>\"\",_xlfn.XLOOKUP(t_projeto[[#This Row],[T.2]],$G$22:$G$26,$H$22:$H$26),\"\")","v":""},null,null,{"$f":"IF(t_projeto[[#This Row],[T.3]]<>\"\",_xlfn.XLOOKUP(t_projeto[[#This Row],[T.3]],$G$22:$G$26,$H$22:$H$26),\"\")","v":""},null,{"$f":"t_projeto[[#This Row],[Q.1]]+t_projeto[[#This Row],[Q.2]]+t_projeto[[#This Row],[Q.3]]","v":0},{"$f":"t_projeto[[#This Row],[Q.1]]+t_projeto[[#This Row],[Q.2]]+t_projeto[[#This Row],[Q.3]]","v":0},{"$f":"IF(t_projeto[[#This Row],[Q.1]]<>\"\",SUMIFS(t_reator[p],t_reator[tipo],t_projeto[[#This Row],[T.1]],t_reator[w],t_projeto[[#This Row],[P.1(W)]]),\"\")","v":""},{"$f":"IF(t_projeto[[#This Row],[Q.2]]<>\"\",SUMIFS(t_reator[p],t_reator[tipo],t_projeto[[#This Row],[T.2]],t_reator[w],t_projeto[[#This Row],[P.2(W)]]),\"\")","v":""},{"$f":"IF(t_projeto[[#This Row],[Q.3]]<>\"\",SUMIFS(t_reator[p],t_reator[tipo],t_projeto[[#This Row],[T.3]],t_reator[w],t_projeto[[#This Row],[P.3(W)]]),\"\")","v":""},{"$f":"IF(t_projeto[[#This Row],[Q.1]]<>\"\",IFERROR(IFERROR(D623*(E623+O623)+G623*(H623+P623)+J623*(K623+Q623),D623*(E623+O623)+G623*(H623+P623)),D623*(E623+O623)),\"\")","v":""},{"$f":"IF(t_projeto[[#This Row],[Consumo_W]]<>\"\",ROUND(t_projeto[[#This Row],[Consumo_W]]/t_projeto[[#This Row],[Luminárias]],0),\"\")","v":""},{"$f":"IF(t_projeto[[#This Row],[Q.1]]<>\"\",t_projeto[[#This Row],[Q.1]]*t_projeto[[#This Row],[P.1(W)]]*$C$24,\"\")","v":""},{"$f":"IF(t_projeto[[#This Row],[Q.2]]<>\"\",t_projeto[[#This Row],[Q.2]]*t_projeto[[#This Row],[P.2(W)]]*$C$24,\"\")","v":""},{"$f":"IF(t_projeto[[#This Row],[Q.3]]<>\"\",t_projeto[[#This Row],[Q.3]]*t_projeto[[#This Row],[P.3(W)]]*$C$24,\"\")","v":""},{"$f":"IF(t_projeto[[#This Row],[Trecho]]<>\"\",SUM(t_projeto[[#This Row],[f.1]:[f.3]]),\"\")","v":""},{"$f":"IF(t_projeto[[#This Row],[Trecho]]<>\"\",t_projeto[[#This Row],[Q.1]]+t_projeto[[#This Row],[Q.2]]+t_projeto[[#This Row],[Q.3]],\"\")","v":""},{"$f":"IF(AND(t_projeto[[#This Row],[FLUXO]]<>0,t_projeto[[#This Row],[FLUXO]]<>\"\"),ROUND(t_projeto[[#This Row],[FLUXO]]/t_projeto[[#This Row],[Luminárias]],0),\"\")","v":""},{"$f":"IF(AND(t_projeto[[#This Row],[Luminárias]]<>0,t_projeto[[#This Row],[Luminárias]]<>\"\"),ROUND(t_projeto[[#This Row],[lm_médio]]/t_projeto[[#This Row],[W_médio]],2),\"\")","v":""}]
[162,{"$f":"_xlfn.XLOOKUP(t_projeto[[#This Row],[cód.]],t_sitio[cód],t_sitio[Trecho],\"\")","v":""},null,null,{"$f":"IF(t_projeto[[#This Row],[T.1]]<>\"\",_xlfn.XLOOKUP(t_projeto[[#This Row],[T.1]],$G$22:$G$26,$H$22:$H$26),\"\")","v":""},null,null,{"$f":"IF(t_projeto[[#This Row],[T.2]]<>\"\",_xlfn.XLOOKUP(t_projeto[[#This Row],[T.2]],$G$22:$G$26,$H$22:$H$26),\"\")","v":""},null,null,{"$f":"IF(t_projeto[[#This Row],[T.3]]<>\"\",_xlfn.XLOOKUP(t_projeto[[#This Row],[T.3]],$G$22:$G$26,$H$22:$H$26),\"\")","v":""},null,{"$f":"t_projeto[[#This Row],[Q.1]]+t_projeto[[#This Row],[Q.2]]+t_projeto[[#This Row],[Q.3]]","v":0},{"$f":"t_projeto[[#This Row],[Q.1]]+t_projeto[[#This Row],[Q.2]]+t_projeto[[#This Row],[Q.3]]","v":0},{"$f":"IF(t_projeto[[#This Row],[Q.1]]<>\"\",SUMIFS(t_reator[p],t_reator[tipo],t_projeto[[#This Row],[T.1]],t_reator[w],t_projeto[[#This Row],[P.1(W)]]),\"\")","v":""},{"$f":"IF(t_projeto[[#This Row],[Q.2]]<>\"\",SUMIFS(t_reator[p],t_reator[tipo],t_projeto[[#This Row],[T.2]],t_reator[w],t_projeto[[#This Row],[P.2(W)]]),\"\")","v":""},{"$f":"IF(t_projeto[[#This Row],[Q.3]]<>\"\",SUMIFS(t_reator[p],t_reator[tipo],t_projeto[[#This Row],[T.3]],t_reator[w],t_projeto[[#This Row],[P.3(W)]]),\"\")","v":""},{"$f":"IF(t_projeto[[#This Row],[Q.1]]<>\"\",IFERROR(IFERROR(D624*(E624+O624)+G624*(H624+P624)+J624*(K624+Q624),D624*(E624+O624)+G624*(H624+P624)),D624*(E624+O624)),\"\")","v":""},{"$f":"IF(t_projeto[[#This Row],[Consumo_W]]<>\"\",ROUND(t_projeto[[#This Row],[Consumo_W]]/t_projeto[[#This Row],[Luminárias]],0),\"\")","v":""},{"$f":"IF(t_projeto[[#This Row],[Q.1]]<>\"\",t_projeto[[#This Row],[Q.1]]*t_projeto[[#This Row],[P.1(W)]]*$C$24,\"\")","v":""},{"$f":"IF(t_projeto[[#This Row],[Q.2]]<>\"\",t_projeto[[#This Row],[Q.2]]*t_projeto[[#This Row],[P.2(W)]]*$C$24,\"\")","v":""},{"$f":"IF(t_projeto[[#This Row],[Q.3]]<>\"\",t_projeto[[#This Row],[Q.3]]*t_projeto[[#This Row],[P.3(W)]]*$C$24,\"\")","v":""},{"$f":"IF(t_projeto[[#This Row],[Trecho]]<>\"\",SUM(t_projeto[[#This Row],[f.1]:[f.3]]),\"\")","v":""},{"$f":"IF(t_projeto[[#This Row],[Trecho]]<>\"\",t_projeto[[#This Row],[Q.1]]+t_projeto[[#This Row],[Q.2]]+t_projeto[[#This Row],[Q.3]],\"\")","v":""},{"$f":"IF(AND(t_projeto[[#This Row],[FLUXO]]<>0,t_projeto[[#This Row],[FLUXO]]<>\"\"),ROUND(t_projeto[[#This Row],[FLUXO]]/t_projeto[[#This Row],[Luminárias]],0),\"\")","v":""},{"$f":"IF(AND(t_projeto[[#This Row],[Luminárias]]<>0,t_projeto[[#This Row],[Luminárias]]<>\"\"),ROUND(t_projeto[[#This Row],[lm_médio]]/t_projeto[[#This Row],[W_médio]],2),\"\")","v":""}]
[163,{"$f":"_xlfn.XLOOKUP(t_projeto[[#This Row],[cód.]],t_sitio[cód],t_sitio[Trecho],\"\")","v":""},null,null,{"$f":"IF(t_projeto[[#This Row],[T.1]]<>\"\",_xlfn.XLOOKUP(t_projeto[[#This Row],[T.1]],$G$22:$G$26,$H$22:$H$26),\"\")","v":""},null,null,{"$f":"IF(t_projeto[[#This Row],[T.2]]<>\"\",_xlfn.XLOOKUP(t_projeto[[#This Row],[T.2]],$G$22:$G$26,$H$22:$H$26),\"\")","v":""},null,null,{"$f":"IF(t_projeto[[#This Row],[T.3]]<>\"\",_xlfn.XLOOKUP(t_projeto[[#This Row],[T.3]],$G$22:$G$26,$H$22:$H$26),\"\")","v":""},null,{"$f":"t_projeto[[#This Row],[Q.1]]+t_projeto[[#This Row],[Q.2]]+t_projeto[[#This Row],[Q.3]]","v":0},{"$f":"t_projeto[[#This Row],[Q.1]]+t_projeto[[#This Row],[Q.2]]+t_projeto[[#This Row],[Q.3]]","v":0},{"$f":"IF(t_projeto[[#This Row],[Q.1]]<>\"\",SUMIFS(t_reator[p],t_reator[tipo],t_projeto[[#This Row],[T.1]],t_reator[w],t_projeto[[#This Row],[P.1(W)]]),\"\")","v":""},{"$f":"IF(t_projeto[[#This Row],[Q.2]]<>\"\",SUMIFS(t_reator[p],t_reator[tipo],t_projeto[[#This Row],[T.2]],t_reator[w],t_projeto[[#This Row],[P.2(W)]]),\"\")","v":""},{"$f":"IF(t_projeto[[#This Row],[Q.3]]<>\"\",SUMIFS(t_reator[p],t_reator[tipo],t_projeto[[#This Row],[T.3]],t_reator[w],t_projeto[[#This Row],[P.3(W)]]),\"\")","v":""},{"$f":"IF(t_projeto[[#This Row],[Q.1]]<>\"\",IFERROR(IFERROR(D625*(E625+O625)+G625*(H625+P625)+J625*(K625+Q625),D625*(E625+O625)+G625*(H625+P625)),D625*(E625+O625)),\"\")","v":""},{"$f":"IF(t_projeto[[#This Row],[Consumo_W]]<>\"\",ROUND(t_projeto[[#This Row],[Consumo_W]]/t_projeto[[#This Row],[Luminárias]],0),\"\")","v":""},{"$f":"IF(t_projeto[[#This Row],[Q.1]]<>\"\",t_projeto[[#This Row],[Q.1]]*t_projeto[[#This Row],[P.1(W)]]*$C$24,\"\")","v":""},{"$f":"IF(t_projeto[[#This Row],[Q.2]]<>\"\",t_projeto[[#This Row],[Q.2]]*t_projeto[[#This Row],[P.2(W)]]*$C$24,\"\")","v":""},{"$f":"IF(t_projeto[[#This Row],[Q.3]]<>\"\",t_projeto[[#This Row],[Q.3]]*t_projeto[[#This Row],[P.3(W)]]*$C$24,\"\")","v":""},{"$f":"IF(t_projeto[[#This Row],[Trecho]]<>\"\",SUM(t_projeto[[#This Row],[f.1]:[f.3]]),\"\")","v":""},{"$f":"IF(t_projeto[[#This Row],[Trecho]]<>\"\",t_projeto[[#This Row],[Q.1]]+t_projeto[[#This Row],[Q.2]]+t_projeto[[#This Row],[Q.3]],\"\")","v":""},{"$f":"IF(AND(t_projeto[[#This Row],[FLUXO]]<>0,t_projeto[[#This Row],[FLUXO]]<>\"\"),ROUND(t_projeto[[#This Row],[FLUXO]]/t_projeto[[#This Row],[Luminárias]],0),\"\")","v":""},{"$f":"IF(AND(t_projeto[[#This Row],[Luminárias]]<>0,t_projeto[[#This Row],[Luminárias]]<>\"\"),ROUND(t_projeto[[#This Row],[lm_médio]]/t_projeto[[#This Row],[W_médio]],2),\"\")","v":""}]
[164,{"$f":"_xlfn.XLOOKUP(t_projeto[[#This Row],[cód.]],t_sitio[cód],t_sitio[Trecho],\"\")","v":""},null,null,{"$f":"IF(t_projeto[[#This Row],[T.1]]<>\"\",_xlfn.XLOOKUP(t_projeto[[#This Row],[T.1]],$G$22:$G$26,$H$22:$H$26),\"\")","v":""},null,null,{"$f":"IF(t_projeto[[#This Row],[T.2]]<>\"\",_xlfn.XLOOKUP(t_projeto[[#This Row],[T.2]],$G$22:$G$26,$H$22:$H$26),\"\")","v":""},null,null,{"$f":"IF(t_projeto[[#This Row],[T.3]]<>\"\",_xlfn.XLOOKUP(t_projeto[[#This Row],[T.3]],$G$22:$G$26,$H$22:$H$26),\"\")","v":""},null,{"$f":"t_projeto[[#This Row],[Q.1]]+t_projeto[[#This Row],[Q.2]]+t_projeto[[#This Row],[Q.3]]","v":0},{"$f":"t_projeto[[#This Row],[Q.1]]+t_projeto[[#This Row],[Q.2]]+t_projeto[[#This Row],[Q.3]]","v":0},{"$f":"IF(t_projeto[[#This Row],[Q.1]]<>\"\",SUMIFS(t_reator[p],t_reator[tipo],t_projeto[[#This Row],[T.1]],t_reator[w],t_projeto[[#This Row],[P.1(W)]]),\"\")","v":""},{"$f":"IF(t_projeto[[#This Row],[Q.2]]<>\"\",SUMIFS(t_reator[p],t_reator[tipo],t_projeto[[#This Row],[T.2]],t_reator[w],t_projeto[[#This Row],[P.2(W)]]),\"\")","v":""},{"$f":"IF(t_projeto[[#This Row],[Q.3]]<>\"\",SUMIFS(t_reator[p],t_reator[tipo],t_projeto[[#This Row],[T.3]],t_reator[w],t_projeto[[#This Row],[P.3(W)]]),\"\")","v":""},{"$f":"IF(t_projeto[[#This Row],[Q.1]]<>\"\",IFERROR(IFERROR(D626*(E626+O626)+G626*(H626+P626)+J626*(K626+Q626),D626*(E626+O626)+G626*(H626+P626)),D626*(E626+O626)),\"\")","v":""},{"$f":"IF(t_projeto[[#This Row],[Consumo_W]]<>\"\",ROUND(t_projeto[[#This Row],[Consumo_W]]/t_projeto[[#This Row],[Luminárias]],0),\"\")","v":""},{"$f":"IF(t_projeto[[#This Row],[Q.1]]<>\"\",t_projeto[[#This Row],[Q.1]]*t_projeto[[#This Row],[P.1(W)]]*$C$24,\"\")","v":""},{"$f":"IF(t_projeto[[#This Row],[Q.2]]<>\"\",t_projeto[[#This Row],[Q.2]]*t_projeto[[#This Row],[P.2(W)]]*$C$24,\"\")","v":""},{"$f":"IF(t_projeto[[#This Row],[Q.3]]<>\"\",t_projeto[[#This Row],[Q.3]]*t_projeto[[#This Row],[P.3(W)]]*$C$24,\"\")","v":""},{"$f":"IF(t_projeto[[#This Row],[Trecho]]<>\"\",SUM(t_projeto[[#This Row],[f.1]:[f.3]]),\"\")","v":""},{"$f":"IF(t_projeto[[#This Row],[Trecho]]<>\"\",t_projeto[[#This Row],[Q.1]]+t_projeto[[#This Row],[Q.2]]+t_projeto[[#This Row],[Q.3]],\"\")","v":""},{"$f":"IF(AND(t_projeto[[#This Row],[FLUXO]]<>0,t_projeto[[#This Row],[FLUXO]]<>\"\"),ROUND(t_projeto[[#This Row],[FLUXO]]/t_projeto[[#This Row],[Luminárias]],0),\"\")","v":""},{"$f":"IF(AND(t_projeto[[#This Row],[Luminárias]]<>0,t_projeto[[#This Row],[Luminárias]]<>\"\"),ROUND(t_projeto[[#This Row],[lm_médio]]/t_projeto[[#This Row],[W_médio]],2),\"\")","v":""}]
[165,{"$f":"_xlfn.XLOOKUP(t_projeto[[#This Row],[cód.]],t_sitio[cód],t_sitio[Trecho],\"\")","v":""},null,null,{"$f":"IF(t_projeto[[#This Row],[T.1]]<>\"\",_xlfn.XLOOKUP(t_projeto[[#This Row],[T.1]],$G$22:$G$26,$H$22:$H$26),\"\")","v":""},null,null,{"$f":"IF(t_projeto[[#This Row],[T.2]]<>\"\",_xlfn.XLOOKUP(t_projeto[[#This Row],[T.2]],$G$22:$G$26,$H$22:$H$26),\"\")","v":""},null,null,{"$f":"IF(t_projeto[[#This Row],[T.3]]<>\"\",_xlfn.XLOOKUP(t_projeto[[#This Row],[T.3]],$G$22:$G$26,$H$22:$H$26),\"\")","v":""},null,{"$f":"t_projeto[[#This Row],[Q.1]]+t_projeto[[#This Row],[Q.2]]+t_projeto[[#This Row],[Q.3]]","v":0},{"$f":"t_projeto[[#This Row],[Q.1]]+t_projeto[[#This Row],[Q.2]]+t_projeto[[#This Row],[Q.3]]","v":0},{"$f":"IF(t_projeto[[#This Row],[Q.1]]<>\"\",SUMIFS(t_reator[p],t_reator[tipo],t_projeto[[#This Row],[T.1]],t_reator[w],t_projeto[[#This Row],[P.1(W)]]),\"\")","v":""},{"$f":"IF(t_projeto[[#This Row],[Q.2]]<>\"\",SUMIFS(t_reator[p],t_reator[tipo],t_projeto[[#This Row],[T.2]],t_reator[w],t_projeto[[#This Row],[P.2(W)]]),\"\")","v":""},{"$f":"IF(t_projeto[[#This Row],[Q.3]]<>\"\",SUMIFS(t_reator[p],t_reator[tipo],t_projeto[[#This Row],[T.3]],t_reator[w],t_projeto[[#This Row],[P.3(W)]]),\"\")","v":""},{"$f":"IF(t_projeto[[#This Row],[Q.1]]<>\"\",IFERROR(IFERROR(D627*(E627+O627)+G627*(H627+P627)+J627*(K627+Q627),D627*(E627+O627)+G627*(H627+P627)),D627*(E627+O627)),\"\")","v":""},{"$f":"IF(t_projeto[[#This Row],[Consumo_W]]<>\"\",ROUND(t_projeto[[#This Row],[Consumo_W]]/t_projeto[[#This Row],[Luminárias]],0),\"\")","v":""},{"$f":"IF(t_projeto[[#This Row],[Q.1]]<>\"\",t_projeto[[#This Row],[Q.1]]*t_projeto[[#This Row],[P.1(W)]]*$C$24,\"\")","v":""},{"$f":"IF(t_projeto[[#This Row],[Q.2]]<>\"\",t_projeto[[#This Row],[Q.2]]*t_projeto[[#This Row],[P.2(W)]]*$C$24,\"\")","v":""},{"$f":"IF(t_projeto[[#This Row],[Q.3]]<>\"\",t_projeto[[#This Row],[Q.3]]*t_projeto[[#This Row],[P.3(W)]]*$C$24,\"\")","v":""},{"$f":"IF(t_projeto[[#This Row],[Trecho]]<>\"\",SUM(t_projeto[[#This Row],[f.1]:[f.3]]),\"\")","v":""},{"$f":"IF(t_projeto[[#This Row],[Trecho]]<>\"\",t_projeto[[#This Row],[Q.1]]+t_projeto[[#This Row],[Q.2]]+t_projeto[[#This Row],[Q.3]],\"\")","v":""},{"$f":"IF(AND(t_projeto[[#This Row],[FLUXO]]<>0,t_projeto[[#This Row],[FLUXO]]<>\"\"),ROUND(t_projeto[[#This Row],[FLUXO]]/t_projeto[[#This Row],[Luminárias]],0),\"\")","v":""},{"$f":"IF(AND(t_projeto[[#This Row],[Luminárias]]<>0,t_projeto[[#This Row],[Luminárias]]<>\"\"),ROUND(t_projeto[[#This Row],[lm_médio]]/t_projeto[[#This Row],[W_médio]],2),\"\")","v":""}]
[166,{"$f":"_xlfn.XLOOKUP(t_projeto[[#This Row],[cód.]],t_sitio[cód],t_sitio[Trecho],\"\")","v":""},null,null,{"$f":"IF(t_projeto[[#This Row],[T.1]]<>\"\",_xlfn.XLOOKUP(t_projeto[[#This Row],[T.1]],$G$22:$G$26,$H$22:$H$26),\"\")","v":""},null,null,{"$f":"IF(t_projeto[[#This Row],[T.2]]<>\"\",_xlfn.XLOOKUP(t_projeto[[#This Row],[T.2]],$G$22:$G$26,$H$22:$H$26),\"\")","v":""},null,null,{"$f":"IF(t_projeto[[#This Row],[T.3]]<>\"\",_xlfn.XLOOKUP(t_projeto[[#This Row],[T.3]],$G$22:$G$26,$H$22:$H$26),\"\")","v":""},null,{"$f":"t_projeto[[#This Row],[Q.1]]+t_projeto[[#This Row],[Q.2]]+t_projeto[[#This Row],[Q.3]]","v":0},{"$f":"t_projeto[[#This Row],[Q.1]]+t_projeto[[#This Row],[Q.2]]+t_projeto[[#This Row],[Q.3]]","v":0},{"$f":"IF(t_projeto[[#This Row],[Q.1]]<>\"\",SUMIFS(t_reator[p],t_reator[tipo],t_projeto[[#This Row],[T.1]],t_reator[w],t_projeto[[#This Row],[P.1(W)]]),\"\")","v":""},{"$f":"IF(t_projeto[[#This Row],[Q.2]]<>\"\",SUMIFS(t_reator[p],t_reator[tipo],t_projeto[[#This Row],[T.2]],t_reator[w],t_projeto[[#This Row],[P.2(W)]]),\"\")","v":""},{"$f":"IF(t_projeto[[#This Row],[Q.3]]<>\"\",SUMIFS(t_reator[p],t_reator[tipo],t_projeto[[#This Row],[T.3]],t_reator[w],t_projeto[[#This Row],[P.3(W)]]),\"\")","v":""},{"$f":"IF(t_projeto[[#This Row],[Q.1]]<>\"\",IFERROR(IFERROR(D628*(E628+O628)+G628*(H628+P628)+J628*(K628+Q628),D628*(E628+O628)+G628*(H628+P628)),D628*(E628+O628)),\"\")","v":""},{"$f":"IF(t_projeto[[#This Row],[Consumo_W]]<>\"\",ROUND(t_projeto[[#This Row],[Consumo_W]]/t_projeto[[#This Row],[Luminárias]],0),\"\")","v":""},{"$f":"IF(t_projeto[[#This Row],[Q.1]]<>\"\",t_projeto[[#This Row],[Q.1]]*t_projeto[[#This Row],[P.1(W)]]*$C$24,\"\")","v":""},{"$f":"IF(t_projeto[[#This Row],[Q.2]]<>\"\",t_projeto[[#This Row],[Q.2]]*t_projeto[[#This Row],[P.2(W)]]*$C$24,\"\")","v":""},{"$f":"IF(t_projeto[[#This Row],[Q.3]]<>\"\",t_projeto[[#This Row],[Q.3]]*t_projeto[[#This Row],[P.3(W)]]*$C$24,\"\")","v":""},{"$f":"IF(t_projeto[[#This Row],[Trecho]]<>\"\",SUM(t_projeto[[#This Row],[f.1]:[f.3]]),\"\")","v":""},{"$f":"IF(t_projeto[[#This Row],[Trecho]]<>\"\",t_projeto[[#This Row],[Q.1]]+t_projeto[[#This Row],[Q.2]]+t_projeto[[#This Row],[Q.3]],\"\")","v":""},{"$f":"IF(AND(t_projeto[[#This Row],[FLUXO]]<>0,t_projeto[[#This Row],[FLUXO]]<>\"\"),ROUND(t_projeto[[#This Row],[FLUXO]]/t_projeto[[#This Row],[Luminárias]],0),\"\")","v":""},{"$f":"IF(AND(t_projeto[[#This Row],[Luminárias]]<>0,t_projeto[[#This Row],[Luminárias]]<>\"\"),ROUND(t_projeto[[#This Row],[lm_médio]]/t_projeto[[#This Row],[W_médio]],2),\"\")","v":""}]
[167,{"$f":"_xlfn.XLOOKUP(t_projeto[[#This Row],[cód.]],t_sitio[cód],t_sitio[Trecho],\"\")","v":""},null,null,{"$f":"IF(t_projeto[[#This Row],[T.1]]<>\"\",_xlfn.XLOOKUP(t_projeto[[#This Row],[T.1]],$G$22:$G$26,$H$22:$H$26),\"\")","v":""},null,null,{"$f":"IF(t_projeto[[#This Row],[T.2]]<>\"\",_xlfn.XLOOKUP(t_projeto[[#This Row],[T.2]],$G$22:$G$26,$H$22:$H$26),\"\")","v":""},null,null,{"$f":"IF(t_projeto[[#This Row],[T.3]]<>\"\",_xlfn.XLOOKUP(t_projeto[[#This Row],[T.3]],$G$22:$G$26,$H$22:$H$26),\"\")","v":""},null,{"$f":"t_projeto[[#This Row],[Q.1]]+t_projeto[[#This Row],[Q.2]]+t_projeto[[#This Row],[Q.3]]","v":0},{"$f":"t_projeto[[#This Row],[Q.1]]+t_projeto[[#This Row],[Q.2]]+t_projeto[[#This Row],[Q.3]]","v":0},{"$f":"IF(t_projeto[[#This Row],[Q.1]]<>\"\",SUMIFS(t_reator[p],t_reator[tipo],t_projeto[[#This Row],[T.1]],t_reator[w],t_projeto[[#This Row],[P.1(W)]]),\"\")","v":""},{"$f":"IF(t_projeto[[#This Row],[Q.2]]<>\"\",SUMIFS(t_reator[p],t_reator[tipo],t_projeto[[#This Row],[T.2]],t_reator[w],t_projeto[[#This Row],[P.2(W)]]),\"\")","v":""},{"$f":"IF(t_projeto[[#This Row],[Q.3]]<>\"\",SUMIFS(t_reator[p],t_reator[tipo],t_projeto[[#This Row],[T.3]],t_reator[w],t_projeto[[#This Row],[P.3(W)]]),\"\")","v":""},{"$f":"IF(t_projeto[[#This Row],[Q.1]]<>\"\",IFERROR(IFERROR(D629*(E629+O629)+G629*(H629+P629)+J629*(K629+Q629),D629*(E629+O629)+G629*(H629+P629)),D629*(E629+O629)),\"\")","v":""},{"$f":"IF(t_projeto[[#This Row],[Consumo_W]]<>\"\",ROUND(t_projeto[[#This Row],[Consumo_W]]/t_projeto[[#This Row],[Luminárias]],0),\"\")","v":""},{"$f":"IF(t_projeto[[#This Row],[Q.1]]<>\"\",t_projeto[[#This Row],[Q.1]]*t_projeto[[#This Row],[P.1(W)]]*$C$24,\"\")","v":""},{"$f":"IF(t_projeto[[#This Row],[Q.2]]<>\"\",t_projeto[[#This Row],[Q.2]]*t_projeto[[#This Row],[P.2(W)]]*$C$24,\"\")","v":""},{"$f":"IF(t_projeto[[#This Row],[Q.3]]<>\"\",t_projeto[[#This Row],[Q.3]]*t_projeto[[#This Row],[P.3(W)]]*$C$24,\"\")","v":""},{"$f":"IF(t_projeto[[#This Row],[Trecho]]<>\"\",SUM(t_projeto[[#This Row],[f.1]:[f.3]]),\"\")","v":""},{"$f":"IF(t_projeto[[#This Row],[Trecho]]<>\"\",t_projeto[[#This Row],[Q.1]]+t_projeto[[#This Row],[Q.2]]+t_projeto[[#This Row],[Q.3]],\"\")","v":""},{"$f":"IF(AND(t_projeto[[#This Row],[FLUXO]]<>0,t_projeto[[#This Row],[FLUXO]]<>\"\"),ROUND(t_projeto[[#This Row],[FLUXO]]/t_projeto[[#This Row],[Luminárias]],0),\"\")","v":""},{"$f":"IF(AND(t_projeto[[#This Row],[Luminárias]]<>0,t_projeto[[#This Row],[Luminárias]]<>\"\"),ROUND(t_projeto[[#This Row],[lm_médio]]/t_projeto[[#This Row],[W_médio]],2),\"\")","v":""}]
[168,{"$f":"_xlfn.XLOOKUP(t_projeto[[#This Row],[cód.]],t_sitio[cód],t_sitio[Trecho],\"\")","v":""},null,null,{"$f":"IF(t_projeto[[#This Row],[T.1]]<>\"\",_xlfn.XLOOKUP(t_projeto[[#This Row],[T.1]],$G$22:$G$26,$H$22:$H$26),\"\")","v":""},null,null,{"$f":"IF(t_projeto[[#This Row],[T.2]]<>\"\",_xlfn.XLOOKUP(t_projeto[[#This Row],[T.2]],$G$22:$G$26,$H$22:$H$26),\"\")","v":""},null,null,{"$f":"IF(t_projeto[[#This Row],[T.3]]<>\"\",_xlfn.XLOOKUP(t_projeto[[#This Row],[T.3]],$G$22:$G$26,$H$22:$H$26),\"\")","v":""},null,{"$f":"t_projeto[[#This Row],[Q.1]]+t_projeto[[#This Row],[Q.2]]+t_projeto[[#This Row],[Q.3]]","v":0},{"$f":"t_projeto[[#This Row],[Q.1]]+t_projeto[[#This Row],[Q.2]]+t_projeto[[#This Row],[Q.3]]","v":0},{"$f":"IF(t_projeto[[#This Row],[Q.1]]<>\"\",SUMIFS(t_reator[p],t_reator[tipo],t_projeto[[#This Row],[T.1]],t_reator[w],t_projeto[[#This Row],[P.1(W)]]),\"\")","v":""},{"$f":"IF(t_projeto[[#This Row],[Q.2]]<>\"\",SUMIFS(t_reator[p],t_reator[tipo],t_projeto[[#This Row],[T.2]],t_reator[w],t_projeto[[#This Row],[P.2(W)]]),\"\")","v":""},{"$f":"IF(t_projeto[[#This Row],[Q.3]]<>\"\",SUMIFS(t_reator[p],t_reator[tipo],t_projeto[[#This Row],[T.3]],t_reator[w],t_projeto[[#This Row],[P.3(W)]]),\"\")","v":""},{"$f":"IF(t_projeto[[#This Row],[Q.1]]<>\"\",IFERROR(IFERROR(D630*(E630+O630)+G630*(H630+P630)+J630*(K630+Q630),D630*(E630+O630)+G630*(H630+P630)),D630*(E630+O630)),\"\")","v":""},{"$f":"IF(t_projeto[[#This Row],[Consumo_W]]<>\"\",ROUND(t_projeto[[#This Row],[Consumo_W]]/t_projeto[[#This Row],[Luminárias]],0),\"\")","v":""},{"$f":"IF(t_projeto[[#This Row],[Q.1]]<>\"\",t_projeto[[#This Row],[Q.1]]*t_projeto[[#This Row],[P.1(W)]]*$C$24,\"\")","v":""},{"$f":"IF(t_projeto[[#This Row],[Q.2]]<>\"\",t_projeto[[#This Row],[Q.2]]*t_projeto[[#This Row],[P.2(W)]]*$C$24,\"\")","v":""},{"$f":"IF(t_projeto[[#This Row],[Q.3]]<>\"\",t_projeto[[#This Row],[Q.3]]*t_projeto[[#This Row],[P.3(W)]]*$C$24,\"\")","v":""},{"$f":"IF(t_projeto[[#This Row],[Trecho]]<>\"\",SUM(t_projeto[[#This Row],[f.1]:[f.3]]),\"\")","v":""},{"$f":"IF(t_projeto[[#This Row],[Trecho]]<>\"\",t_projeto[[#This Row],[Q.1]]+t_projeto[[#This Row],[Q.2]]+t_projeto[[#This Row],[Q.3]],\"\")","v":""},{"$f":"IF(AND(t_projeto[[#This Row],[FLUXO]]<>0,t_projeto[[#This Row],[FLUXO]]<>\"\"),ROUND(t_projeto[[#This Row],[FLUXO]]/t_projeto[[#This Row],[Luminárias]],0),\"\")","v":""},{"$f":"IF(AND(t_projeto[[#This Row],[Luminárias]]<>0,t_projeto[[#This Row],[Luminárias]]<>\"\"),ROUND(t_projeto[[#This Row],[lm_médio]]/t_projeto[[#This Row],[W_médio]],2),\"\")","v":""}]
[169,{"$f":"_xlfn.XLOOKUP(t_projeto[[#This Row],[cód.]],t_sitio[cód],t_sitio[Trecho],\"\")","v":""},null,null,{"$f":"IF(t_projeto[[#This Row],[T.1]]<>\"\",_xlfn.XLOOKUP(t_projeto[[#This Row],[T.1]],$G$22:$G$26,$H$22:$H$26),\"\")","v":""},null,null,{"$f":"IF(t_projeto[[#This Row],[T.2]]<>\"\",_xlfn.XLOOKUP(t_projeto[[#This Row],[T.2]],$G$22:$G$26,$H$22:$H$26),\"\")","v":""},null,null,{"$f":"IF(t_projeto[[#This Row],[T.3]]<>\"\",_xlfn.XLOOKUP(t_projeto[[#This Row],[T.3]],$G$22:$G$26,$H$22:$H$26),\"\")","v":""},null,{"$f":"t_projeto[[#This Row],[Q.1]]+t_projeto[[#This Row],[Q.2]]+t_projeto[[#This Row],[Q.3]]","v":0},{"$f":"t_projeto[[#This Row],[Q.1]]+t_projeto[[#This Row],[Q.2]]+t_projeto[[#This Row],[Q.3]]","v":0},{"$f":"IF(t_projeto[[#This Row],[Q.1]]<>\"\",SUMIFS(t_reator[p],t_reator[tipo],t_projeto[[#This Row],[T.1]],t_reator[w],t_projeto[[#This Row],[P.1(W)]]),\"\")","v":""},{"$f":"IF(t_projeto[[#This Row],[Q.2]]<>\"\",SUMIFS(t_reator[p],t_reator[tipo],t_projeto[[#This Row],[T.2]],t_reator[w],t_projeto[[#This Row],[P.2(W)]]),\"\")","v":""},{"$f":"IF(t_projeto[[#This Row],[Q.3]]<>\"\",SUMIFS(t_reator[p],t_reator[tipo],t_projeto[[#This Row],[T.3]],t_reator[w],t_projeto[[#This Row],[P.3(W)]]),\"\")","v":""},{"$f":"IF(t_projeto[[#This Row],[Q.1]]<>\"\",IFERROR(IFERROR(D631*(E631+O631)+G631*(H631+P631)+J631*(K631+Q631),D631*(E631+O631)+G631*(H631+P631)),D631*(E631+O631)),\"\")","v":""},{"$f":"IF(t_projeto[[#This Row],[Consumo_W]]<>\"\",ROUND(t_projeto[[#This Row],[Consumo_W]]/t_projeto[[#This Row],[Luminárias]],0),\"\")","v":""},{"$f":"IF(t_projeto[[#This Row],[Q.1]]<>\"\",t_projeto[[#This Row],[Q.1]]*t_projeto[[#This Row],[P.1(W)]]*$C$24,\"\")","v":""},{"$f":"IF(t_projeto[[#This Row],[Q.2]]<>\"\",t_projeto[[#This Row],[Q.2]]*t_projeto[[#This Row],[P.2(W)]]*$C$24,\"\")","v":""},{"$f":"IF(t_projeto[[#This Row],[Q.3]]<>\"\",t_projeto[[#This Row],[Q.3]]*t_projeto[[#This Row],[P.3(W)]]*$C$24,\"\")","v":""},{"$f":"IF(t_projeto[[#This Row],[Trecho]]<>\"\",SUM(t_projeto[[#This Row],[f.1]:[f.3]]),\"\")","v":""},{"$f":"IF(t_projeto[[#This Row],[Trecho]]<>\"\",t_projeto[[#This Row],[Q.1]]+t_projeto[[#This Row],[Q.2]]+t_projeto[[#This Row],[Q.3]],\"\")","v":""},{"$f":"IF(AND(t_projeto[[#This Row],[FLUXO]]<>0,t_projeto[[#This Row],[FLUXO]]<>\"\"),ROUND(t_projeto[[#This Row],[FLUXO]]/t_projeto[[#This Row],[Luminárias]],0),\"\")","v":""},{"$f":"IF(AND(t_projeto[[#This Row],[Luminárias]]<>0,t_projeto[[#This Row],[Luminárias]]<>\"\"),ROUND(t_projeto[[#This Row],[lm_médio]]/t_projeto[[#This Row],[W_médio]],2),\"\")","v":""}]
[170,{"$f":"_xlfn.XLOOKUP(t_projeto[[#This Row],[cód.]],t_sitio[cód],t_sitio[Trecho],\"\")","v":""},null,null,{"$f":"IF(t_projeto[[#This Row],[T.1]]<>\"\",_xlfn.XLOOKUP(t_projeto[[#This Row],[T.1]],$G$22:$G$26,$H$22:$H$26),\"\")","v":""},null,null,{"$f":"IF(t_projeto[[#This Row],[T.2]]<>\"\",_xlfn.XLOOKUP(t_projeto[[#This Row],[T.2]],$G$22:$G$26,$H$22:$H$26),\"\")","v":""},null,null,{"$f":"IF(t_projeto[[#This Row],[T.3]]<>\"\",_xlfn.XLOOKUP(t_projeto[[#This Row],[T.3]],$G$22:$G$26,$H$22:$H$26),\"\")","v":""},null,{"$f":"t_projeto[[#This Row],[Q.1]]+t_projeto[[#This Row],[Q.2]]+t_projeto[[#This Row],[Q.3]]","v":0},{"$f":"t_projeto[[#This Row],[Q.1]]+t_projeto[[#This Row],[Q.2]]+t_projeto[[#This Row],[Q.3]]","v":0},{"$f":"IF(t_projeto[[#This Row],[Q.1]]<>\"\",SUMIFS(t_reator[p],t_reator[tipo],t_projeto[[#This Row],[T.1]],t_reator[w],t_projeto[[#This Row],[P.1(W)]]),\"\")","v":""},{"$f":"IF(t_projeto[[#This Row],[Q.2]]<>\"\",SUMIFS(t_reator[p],t_reator[tipo],t_projeto[[#This Row],[T.2]],t_reator[w],t_projeto[[#This Row],[P.2(W)]]),\"\")","v":""},{"$f":"IF(t_projeto[[#This Row],[Q.3]]<>\"\",SUMIFS(t_reator[p],t_reator[tipo],t_projeto[[#This Row],[T.3]],t_reator[w],t_projeto[[#This Row],[P.3(W)]]),\"\")","v":""},{"$f":"IF(t_projeto[[#This Row],[Q.1]]<>\"\",IFERROR(IFERROR(D632*(E632+O632)+G632*(H632+P632)+J632*(K632+Q632),D632*(E632+O632)+G632*(H632+P632)),D632*(E632+O632)),\"\")","v":""},{"$f":"IF(t_projeto[[#This Row],[Consumo_W]]<>\"\",ROUND(t_projeto[[#This Row],[Consumo_W]]/t_projeto[[#This Row],[Luminárias]],0),\"\")","v":""},{"$f":"IF(t_projeto[[#This Row],[Q.1]]<>\"\",t_projeto[[#This Row],[Q.1]]*t_projeto[[#This Row],[P.1(W)]]*$C$24,\"\")","v":""},{"$f":"IF(t_projeto[[#This Row],[Q.2]]<>\"\",t_projeto[[#This Row],[Q.2]]*t_projeto[[#This Row],[P.2(W)]]*$C$24,\"\")","v":""},{"$f":"IF(t_projeto[[#This Row],[Q.3]]<>\"\",t_projeto[[#This Row],[Q.3]]*t_projeto[[#This Row],[P.3(W)]]*$C$24,\"\")","v":""},{"$f":"IF(t_projeto[[#This Row],[Trecho]]<>\"\",SUM(t_projeto[[#This Row],[f.1]:[f.3]]),\"\")","v":""},{"$f":"IF(t_projeto[[#This Row],[Trecho]]<>\"\",t_projeto[[#This Row],[Q.1]]+t_projeto[[#This Row],[Q.2]]+t_projeto[[#This Row],[Q.3]],\"\")","v":""},{"$f":"IF(AND(t_projeto[[#This Row],[FLUXO]]<>0,t_projeto[[#This Row],[FLUXO]]<>\"\"),ROUND(t_projeto[[#This Row],[FLUXO]]/t_projeto[[#This Row],[Luminárias]],0),\"\")","v":""},{"$f":"IF(AND(t_projeto[[#This Row],[Luminárias]]<>0,t_projeto[[#This Row],[Luminárias]]<>\"\"),ROUND(t_projeto[[#This Row],[lm_médio]]/t_projeto[[#This Row],[W_médio]],2),\"\")","v":""}]
[171,{"$f":"_xlfn.XLOOKUP(t_projeto[[#This Row],[cód.]],t_sitio[cód],t_sitio[Trecho],\"\")","v":""},null,null,{"$f":"IF(t_projeto[[#This Row],[T.1]]<>\"\",_xlfn.XLOOKUP(t_projeto[[#This Row],[T.1]],$G$22:$G$26,$H$22:$H$26),\"\")","v":""},null,null,{"$f":"IF(t_projeto[[#This Row],[T.2]]<>\"\",_xlfn.XLOOKUP(t_projeto[[#This Row],[T.2]],$G$22:$G$26,$H$22:$H$26),\"\")","v":""},null,null,{"$f":"IF(t_projeto[[#This Row],[T.3]]<>\"\",_xlfn.XLOOKUP(t_projeto[[#This Row],[T.3]],$G$22:$G$26,$H$22:$H$26),\"\")","v":""},null,{"$f":"t_projeto[[#This Row],[Q.1]]+t_projeto[[#This Row],[Q.2]]+t_projeto[[#This Row],[Q.3]]","v":0},{"$f":"t_projeto[[#This Row],[Q.1]]+t_projeto[[#This Row],[Q.2]]+t_projeto[[#This Row],[Q.3]]","v":0},{"$f":"IF(t_projeto[[#This Row],[Q.1]]<>\"\",SUMIFS(t_reator[p],t_reator[tipo],t_projeto[[#This Row],[T.1]],t_reator[w],t_projeto[[#This Row],[P.1(W)]]),\"\")","v":""},{"$f":"IF(t_projeto[[#This Row],[Q.2]]<>\"\",SUMIFS(t_reator[p],t_reator[tipo],t_projeto[[#This Row],[T.2]],t_reator[w],t_projeto[[#This Row],[P.2(W)]]),\"\")","v":""},{"$f":"IF(t_projeto[[#This Row],[Q.3]]<>\"\",SUMIFS(t_reator[p],t_reator[tipo],t_projeto[[#This Row],[T.3]],t_reator[w],t_projeto[[#This Row],[P.3(W)]]),\"\")","v":""},{"$f":"IF(t_projeto[[#This Row],[Q.1]]<>\"\",IFERROR(IFERROR(D633*(E633+O633)+G633*(H633+P633)+J633*(K633+Q633),D633*(E633+O633)+G633*(H633+P633)),D633*(E633+O633)),\"\")","v":""},{"$f":"IF(t_projeto[[#This Row],[Consumo_W]]<>\"\",ROUND(t_projeto[[#This Row],[Consumo_W]]/t_projeto[[#This Row],[Luminárias]],0),\"\")","v":""},{"$f":"IF(t_projeto[[#This Row],[Q.1]]<>\"\",t_projeto[[#This Row],[Q.1]]*t_projeto[[#This Row],[P.1(W)]]*$C$24,\"\")","v":""},{"$f":"IF(t_projeto[[#This Row],[Q.2]]<>\"\",t_projeto[[#This Row],[Q.2]]*t_projeto[[#This Row],[P.2(W)]]*$C$24,\"\")","v":""},{"$f":"IF(t_projeto[[#This Row],[Q.3]]<>\"\",t_projeto[[#This Row],[Q.3]]*t_projeto[[#This Row],[P.3(W)]]*$C$24,\"\")","v":""},{"$f":"IF(t_projeto[[#This Row],[Trecho]]<>\"\",SUM(t_projeto[[#This Row],[f.1]:[f.3]]),\"\")","v":""},{"$f":"IF(t_projeto[[#This Row],[Trecho]]<>\"\",t_projeto[[#This Row],[Q.1]]+t_projeto[[#This Row],[Q.2]]+t_projeto[[#This Row],[Q.3]],\"\")","v":""},{"$f":"IF(AND(t_projeto[[#This Row],[FLUXO]]<>0,t_projeto[[#This Row],[FLUXO]]<>\"\"),ROUND(t_projeto[[#This Row],[FLUXO]]/t_projeto[[#This Row],[Luminárias]],0),\"\")","v":""},{"$f":"IF(AND(t_projeto[[#This Row],[Luminárias]]<>0,t_projeto[[#This Row],[Luminárias]]<>\"\"),ROUND(t_projeto[[#This Row],[lm_médio]]/t_projeto[[#This Row],[W_médio]],2),\"\")","v":""}]
[172,{"$f":"_xlfn.XLOOKUP(t_projeto[[#This Row],[cód.]],t_sitio[cód],t_sitio[Trecho],\"\")","v":""},null,null,{"$f":"IF(t_projeto[[#This Row],[T.1]]<>\"\",_xlfn.XLOOKUP(t_projeto[[#This Row],[T.1]],$G$22:$G$26,$H$22:$H$26),\"\")","v":""},null,null,{"$f":"IF(t_projeto[[#This Row],[T.2]]<>\"\",_xlfn.XLOOKUP(t_projeto[[#This Row],[T.2]],$G$22:$G$26,$H$22:$H$26),\"\")","v":""},null,null,{"$f":"IF(t_projeto[[#This Row],[T.3]]<>\"\",_xlfn.XLOOKUP(t_projeto[[#This Row],[T.3]],$G$22:$G$26,$H$22:$H$26),\"\")","v":""},null,{"$f":"t_projeto[[#This Row],[Q.1]]+t_projeto[[#This Row],[Q.2]]+t_projeto[[#This Row],[Q.3]]","v":0},{"$f":"t_projeto[[#This Row],[Q.1]]+t_projeto[[#This Row],[Q.2]]+t_projeto[[#This Row],[Q.3]]","v":0},{"$f":"IF(t_projeto[[#This Row],[Q.1]]<>\"\",SUMIFS(t_reator[p],t_reator[tipo],t_projeto[[#This Row],[T.1]],t_reator[w],t_projeto[[#This Row],[P.1(W)]]),\"\")","v":""},{"$f":"IF(t_projeto[[#This Row],[Q.2]]<>\"\",SUMIFS(t_reator[p],t_reator[tipo],t_projeto[[#This Row],[T.2]],t_reator[w],t_projeto[[#This Row],[P.2(W)]]),\"\")","v":""},{"$f":"IF(t_projeto[[#This Row],[Q.3]]<>\"\",SUMIFS(t_reator[p],t_reator[tipo],t_projeto[[#This Row],[T.3]],t_reator[w],t_projeto[[#This Row],[P.3(W)]]),\"\")","v":""},{"$f":"IF(t_projeto[[#This Row],[Q.1]]<>\"\",IFERROR(IFERROR(D634*(E634+O634)+G634*(H634+P634)+J634*(K634+Q634),D634*(E634+O634)+G634*(H634+P634)),D634*(E634+O634)),\"\")","v":""},{"$f":"IF(t_projeto[[#This Row],[Consumo_W]]<>\"\",ROUND(t_projeto[[#This Row],[Consumo_W]]/t_projeto[[#This Row],[Luminárias]],0),\"\")","v":""},{"$f":"IF(t_projeto[[#This Row],[Q.1]]<>\"\",t_projeto[[#This Row],[Q.1]]*t_projeto[[#This Row],[P.1(W)]]*$C$24,\"\")","v":""},{"$f":"IF(t_projeto[[#This Row],[Q.2]]<>\"\",t_projeto[[#This Row],[Q.2]]*t_projeto[[#This Row],[P.2(W)]]*$C$24,\"\")","v":""},{"$f":"IF(t_projeto[[#This Row],[Q.3]]<>\"\",t_projeto[[#This Row],[Q.3]]*t_projeto[[#This Row],[P.3(W)]]*$C$24,\"\")","v":""},{"$f":"IF(t_projeto[[#This Row],[Trecho]]<>\"\",SUM(t_projeto[[#This Row],[f.1]:[f.3]]),\"\")","v":""},{"$f":"IF(t_projeto[[#This Row],[Trecho]]<>\"\",t_projeto[[#This Row],[Q.1]]+t_projeto[[#This Row],[Q.2]]+t_projeto[[#This Row],[Q.3]],\"\")","v":""},{"$f":"IF(AND(t_projeto[[#This Row],[FLUXO]]<>0,t_projeto[[#This Row],[FLUXO]]<>\"\"),ROUND(t_projeto[[#This Row],[FLUXO]]/t_projeto[[#This Row],[Luminárias]],0),\"\")","v":""},{"$f":"IF(AND(t_projeto[[#This Row],[Luminárias]]<>0,t_projeto[[#This Row],[Luminárias]]<>\"\"),ROUND(t_projeto[[#This Row],[lm_médio]]/t_projeto[[#This Row],[W_médio]],2),\"\")","v":""}]
[173,{"$f":"_xlfn.XLOOKUP(t_projeto[[#This Row],[cód.]],t_sitio[cód],t_sitio[Trecho],\"\")","v":""},null,null,{"$f":"IF(t_projeto[[#This Row],[T.1]]<>\"\",_xlfn.XLOOKUP(t_projeto[[#This Row],[T.1]],$G$22:$G$26,$H$22:$H$26),\"\")","v":""},null,null,{"$f":"IF(t_projeto[[#This Row],[T.2]]<>\"\",_xlfn.XLOOKUP(t_projeto[[#This Row],[T.2]],$G$22:$G$26,$H$22:$H$26),\"\")","v":""},null,null,{"$f":"IF(t_projeto[[#This Row],[T.3]]<>\"\",_xlfn.XLOOKUP(t_projeto[[#This Row],[T.3]],$G$22:$G$26,$H$22:$H$26),\"\")","v":""},null,{"$f":"t_projeto[[#This Row],[Q.1]]+t_projeto[[#This Row],[Q.2]]+t_projeto[[#This Row],[Q.3]]","v":0},{"$f":"t_projeto[[#This Row],[Q.1]]+t_projeto[[#This Row],[Q.2]]+t_projeto[[#This Row],[Q.3]]","v":0},{"$f":"IF(t_projeto[[#This Row],[Q.1]]<>\"\",SUMIFS(t_reator[p],t_reator[tipo],t_projeto[[#This Row],[T.1]],t_reator[w],t_projeto[[#This Row],[P.1(W)]]),\"\")","v":""},{"$f":"IF(t_projeto[[#This Row],[Q.2]]<>\"\",SUMIFS(t_reator[p],t_reator[tipo],t_projeto[[#This Row],[T.2]],t_reator[w],t_projeto[[#This Row],[P.2(W)]]),\"\")","v":""},{"$f":"IF(t_projeto[[#This Row],[Q.3]]<>\"\",SUMIFS(t_reator[p],t_reator[tipo],t_projeto[[#This Row],[T.3]],t_reator[w],t_projeto[[#This Row],[P.3(W)]]),\"\")","v":""},{"$f":"IF(t_projeto[[#This Row],[Q.1]]<>\"\",IFERROR(IFERROR(D635*(E635+O635)+G635*(H635+P635)+J635*(K635+Q635),D635*(E635+O635)+G635*(H635+P635)),D635*(E635+O635)),\"\")","v":""},{"$f":"IF(t_projeto[[#This Row],[Consumo_W]]<>\"\",ROUND(t_projeto[[#This Row],[Consumo_W]]/t_projeto[[#This Row],[Luminárias]],0),\"\")","v":""},{"$f":"IF(t_projeto[[#This Row],[Q.1]]<>\"\",t_projeto[[#This Row],[Q.1]]*t_projeto[[#This Row],[P.1(W)]]*$C$24,\"\")","v":""},{"$f":"IF(t_projeto[[#This Row],[Q.2]]<>\"\",t_projeto[[#This Row],[Q.2]]*t_projeto[[#This Row],[P.2(W)]]*$C$24,\"\")","v":""},{"$f":"IF(t_projeto[[#This Row],[Q.3]]<>\"\",t_projeto[[#This Row],[Q.3]]*t_projeto[[#This Row],[P.3(W)]]*$C$24,\"\")","v":""},{"$f":"IF(t_projeto[[#This Row],[Trecho]]<>\"\",SUM(t_projeto[[#This Row],[f.1]:[f.3]]),\"\")","v":""},{"$f":"IF(t_projeto[[#This Row],[Trecho]]<>\"\",t_projeto[[#This Row],[Q.1]]+t_projeto[[#This Row],[Q.2]]+t_projeto[[#This Row],[Q.3]],\"\")","v":""},{"$f":"IF(AND(t_projeto[[#This Row],[FLUXO]]<>0,t_projeto[[#This Row],[FLUXO]]<>\"\"),ROUND(t_projeto[[#This Row],[FLUXO]]/t_projeto[[#This Row],[Luminárias]],0),\"\")","v":""},{"$f":"IF(AND(t_projeto[[#This Row],[Luminárias]]<>0,t_projeto[[#This Row],[Luminárias]]<>\"\"),ROUND(t_projeto[[#This Row],[lm_médio]]/t_projeto[[#This Row],[W_médio]],2),\"\")","v":""}]
[174,{"$f":"_xlfn.XLOOKUP(t_projeto[[#This Row],[cód.]],t_sitio[cód],t_sitio[Trecho],\"\")","v":""},null,null,{"$f":"IF(t_projeto[[#This Row],[T.1]]<>\"\",_xlfn.XLOOKUP(t_projeto[[#This Row],[T.1]],$G$22:$G$26,$H$22:$H$26),\"\")","v":""},null,null,{"$f":"IF(t_projeto[[#This Row],[T.2]]<>\"\",_xlfn.XLOOKUP(t_projeto[[#This Row],[T.2]],$G$22:$G$26,$H$22:$H$26),\"\")","v":""},null,null,{"$f":"IF(t_projeto[[#This Row],[T.3]]<>\"\",_xlfn.XLOOKUP(t_projeto[[#This Row],[T.3]],$G$22:$G$26,$H$22:$H$26),\"\")","v":""},null,{"$f":"t_projeto[[#This Row],[Q.1]]+t_projeto[[#This Row],[Q.2]]+t_projeto[[#This Row],[Q.3]]","v":0},{"$f":"t_projeto[[#This Row],[Q.1]]+t_projeto[[#This Row],[Q.2]]+t_projeto[[#This Row],[Q.3]]","v":0},{"$f":"IF(t_projeto[[#This Row],[Q.1]]<>\"\",SUMIFS(t_reator[p],t_reator[tipo],t_projeto[[#This Row],[T.1]],t_reator[w],t_projeto[[#This Row],[P.1(W)]]),\"\")","v":""},{"$f":"IF(t_projeto[[#This Row],[Q.2]]<>\"\",SUMIFS(t_reator[p],t_reator[tipo],t_projeto[[#This Row],[T.2]],t_reator[w],t_projeto[[#This Row],[P.2(W)]]),\"\")","v":""},{"$f":"IF(t_projeto[[#This Row],[Q.3]]<>\"\",SUMIFS(t_reator[p],t_reator[tipo],t_projeto[[#This Row],[T.3]],t_reator[w],t_projeto[[#This Row],[P.3(W)]]),\"\")","v":""},{"$f":"IF(t_projeto[[#This Row],[Q.1]]<>\"\",IFERROR(IFERROR(D636*(E636+O636)+G636*(H636+P636)+J636*(K636+Q636),D636*(E636+O636)+G636*(H636+P636)),D636*(E636+O636)),\"\")","v":""},{"$f":"IF(t_projeto[[#This Row],[Consumo_W]]<>\"\",ROUND(t_projeto[[#This Row],[Consumo_W]]/t_projeto[[#This Row],[Luminárias]],0),\"\")","v":""},{"$f":"IF(t_projeto[[#This Row],[Q.1]]<>\"\",t_projeto[[#This Row],[Q.1]]*t_projeto[[#This Row],[P.1(W)]]*$C$24,\"\")","v":""},{"$f":"IF(t_projeto[[#This Row],[Q.2]]<>\"\",t_projeto[[#This Row],[Q.2]]*t_projeto[[#This Row],[P.2(W)]]*$C$24,\"\")","v":""},{"$f":"IF(t_projeto[[#This Row],[Q.3]]<>\"\",t_projeto[[#This Row],[Q.3]]*t_projeto[[#This Row],[P.3(W)]]*$C$24,\"\")","v":""},{"$f":"IF(t_projeto[[#This Row],[Trecho]]<>\"\",SUM(t_projeto[[#This Row],[f.1]:[f.3]]),\"\")","v":""},{"$f":"IF(t_projeto[[#This Row],[Trecho]]<>\"\",t_projeto[[#This Row],[Q.1]]+t_projeto[[#This Row],[Q.2]]+t_projeto[[#This Row],[Q.3]],\"\")","v":""},{"$f":"IF(AND(t_projeto[[#This Row],[FLUXO]]<>0,t_projeto[[#This Row],[FLUXO]]<>\"\"),ROUND(t_projeto[[#This Row],[FLUXO]]/t_projeto[[#This Row],[Luminárias]],0),\"\")","v":""},{"$f":"IF(AND(t_projeto[[#This Row],[Luminárias]]<>0,t_projeto[[#This Row],[Luminárias]]<>\"\"),ROUND(t_projeto[[#This Row],[lm_médio]]/t_projeto[[#This Row],[W_médio]],2),\"\")","v":""}]
[175,{"$f":"_xlfn.XLOOKUP(t_projeto[[#This Row],[cód.]],t_sitio[cód],t_sitio[Trecho],\"\")","v":""},null,null,{"$f":"IF(t_projeto[[#This Row],[T.1]]<>\"\",_xlfn.XLOOKUP(t_projeto[[#This Row],[T.1]],$G$22:$G$26,$H$22:$H$26),\"\")","v":""},null,null,{"$f":"IF(t_projeto[[#This Row],[T.2]]<>\"\",_xlfn.XLOOKUP(t_projeto[[#This Row],[T.2]],$G$22:$G$26,$H$22:$H$26),\"\")","v":""},null,null,{"$f":"IF(t_projeto[[#This Row],[T.3]]<>\"\",_xlfn.XLOOKUP(t_projeto[[#This Row],[T.3]],$G$22:$G$26,$H$22:$H$26),\"\")","v":""},null,{"$f":"t_projeto[[#This Row],[Q.1]]+t_projeto[[#This Row],[Q.2]]+t_projeto[[#This Row],[Q.3]]","v":0},{"$f":"t_projeto[[#This Row],[Q.1]]+t_projeto[[#This Row],[Q.2]]+t_projeto[[#This Row],[Q.3]]","v":0},{"$f":"IF(t_projeto[[#This Row],[Q.1]]<>\"\",SUMIFS(t_reator[p],t_reator[tipo],t_projeto[[#This Row],[T.1]],t_reator[w],t_projeto[[#This Row],[P.1(W)]]),\"\")","v":""},{"$f":"IF(t_projeto[[#This Row],[Q.2]]<>\"\",SUMIFS(t_reator[p],t_reator[tipo],t_projeto[[#This Row],[T.2]],t_reator[w],t_projeto[[#This Row],[P.2(W)]]),\"\")","v":""},{"$f":"IF(t_projeto[[#This Row],[Q.3]]<>\"\",SUMIFS(t_reator[p],t_reator[tipo],t_projeto[[#This Row],[T.3]],t_reator[w],t_projeto[[#This Row],[P.3(W)]]),\"\")","v":""},{"$f":"IF(t_projeto[[#This Row],[Q.1]]<>\"\",IFERROR(IFERROR(D637*(E637+O637)+G637*(H637+P637)+J637*(K637+Q637),D637*(E637+O637)+G637*(H637+P637)),D637*(E637+O637)),\"\")","v":""},{"$f":"IF(t_projeto[[#This Row],[Consumo_W]]<>\"\",ROUND(t_projeto[[#This Row],[Consumo_W]]/t_projeto[[#This Row],[Luminárias]],0),\"\")","v":""},{"$f":"IF(t_projeto[[#This Row],[Q.1]]<>\"\",t_projeto[[#This Row],[Q.1]]*t_projeto[[#This Row],[P.1(W)]]*$C$24,\"\")","v":""},{"$f":"IF(t_projeto[[#This Row],[Q.2]]<>\"\",t_projeto[[#This Row],[Q.2]]*t_projeto[[#This Row],[P.2(W)]]*$C$24,\"\")","v":""},{"$f":"IF(t_projeto[[#This Row],[Q.3]]<>\"\",t_projeto[[#This Row],[Q.3]]*t_projeto[[#This Row],[P.3(W)]]*$C$24,\"\")","v":""},{"$f":"IF(t_projeto[[#This Row],[Trecho]]<>\"\",SUM(t_projeto[[#This Row],[f.1]:[f.3]]),\"\")","v":""},{"$f":"IF(t_projeto[[#This Row],[Trecho]]<>\"\",t_projeto[[#This Row],[Q.1]]+t_projeto[[#This Row],[Q.2]]+t_projeto[[#This Row],[Q.3]],\"\")","v":""},{"$f":"IF(AND(t_projeto[[#This Row],[FLUXO]]<>0,t_projeto[[#This Row],[FLUXO]]<>\"\"),ROUND(t_projeto[[#This Row],[FLUXO]]/t_projeto[[#This Row],[Luminárias]],0),\"\")","v":""},{"$f":"IF(AND(t_projeto[[#This Row],[Luminárias]]<>0,t_projeto[[#This Row],[Luminárias]]<>\"\"),ROUND(t_projeto[[#This Row],[lm_médio]]/t_projeto[[#This Row],[W_médio]],2),\"\")","v":""}]
[176,{"$f":"_xlfn.XLOOKUP(t_projeto[[#This Row],[cód.]],t_sitio[cód],t_sitio[Trecho],\"\")","v":""},null,null,{"$f":"IF(t_projeto[[#This Row],[T.1]]<>\"\",_xlfn.XLOOKUP(t_projeto[[#This Row],[T.1]],$G$22:$G$26,$H$22:$H$26),\"\")","v":""},null,null,{"$f":"IF(t_projeto[[#This Row],[T.2]]<>\"\",_xlfn.XLOOKUP(t_projeto[[#This Row],[T.2]],$G$22:$G$26,$H$22:$H$26),\"\")","v":""},null,null,{"$f":"IF(t_projeto[[#This Row],[T.3]]<>\"\",_xlfn.XLOOKUP(t_projeto[[#This Row],[T.3]],$G$22:$G$26,$H$22:$H$26),\"\")","v":""},null,{"$f":"t_projeto[[#This Row],[Q.1]]+t_projeto[[#This Row],[Q.2]]+t_projeto[[#This Row],[Q.3]]","v":0},{"$f":"t_projeto[[#This Row],[Q.1]]+t_projeto[[#This Row],[Q.2]]+t_projeto[[#This Row],[Q.3]]","v":0},{"$f":"IF(t_projeto[[#This Row],[Q.1]]<>\"\",SUMIFS(t_reator[p],t_reator[tipo],t_projeto[[#This Row],[T.1]],t_reator[w],t_projeto[[#This Row],[P.1(W)]]),\"\")","v":""},{"$f":"IF(t_projeto[[#This Row],[Q.2]]<>\"\",SUMIFS(t_reator[p],t_reator[tipo],t_projeto[[#This Row],[T.2]],t_reator[w],t_projeto[[#This Row],[P.2(W)]]),\"\")","v":""},{"$f":"IF(t_projeto[[#This Row],[Q.3]]<>\"\",SUMIFS(t_reator[p],t_reator[tipo],t_projeto[[#This Row],[T.3]],t_reator[w],t_projeto[[#This Row],[P.3(W)]]),\"\")","v":""},{"$f":"IF(t_projeto[[#This Row],[Q.1]]<>\"\",IFERROR(IFERROR(D638*(E638+O638)+G638*(H638+P638)+J638*(K638+Q638),D638*(E638+O638)+G638*(H638+P638)),D638*(E638+O638)),\"\")","v":""},{"$f":"IF(t_projeto[[#This Row],[Consumo_W]]<>\"\",ROUND(t_projeto[[#This Row],[Consumo_W]]/t_projeto[[#This Row],[Luminárias]],0),\"\")","v":""},{"$f":"IF(t_projeto[[#This Row],[Q.1]]<>\"\",t_projeto[[#This Row],[Q.1]]*t_projeto[[#This Row],[P.1(W)]]*$C$24,\"\")","v":""},{"$f":"IF(t_projeto[[#This Row],[Q.2]]<>\"\",t_projeto[[#This Row],[Q.2]]*t_projeto[[#This Row],[P.2(W)]]*$C$24,\"\")","v":""},{"$f":"IF(t_projeto[[#This Row],[Q.3]]<>\"\",t_projeto[[#This Row],[Q.3]]*t_projeto[[#This Row],[P.3(W)]]*$C$24,\"\")","v":""},{"$f":"IF(t_projeto[[#This Row],[Trecho]]<>\"\",SUM(t_projeto[[#This Row],[f.1]:[f.3]]),\"\")","v":""},{"$f":"IF(t_projeto[[#This Row],[Trecho]]<>\"\",t_projeto[[#This Row],[Q.1]]+t_projeto[[#This Row],[Q.2]]+t_projeto[[#This Row],[Q.3]],\"\")","v":""},{"$f":"IF(AND(t_projeto[[#This Row],[FLUXO]]<>0,t_projeto[[#This Row],[FLUXO]]<>\"\"),ROUND(t_projeto[[#This Row],[FLUXO]]/t_projeto[[#This Row],[Luminárias]],0),\"\")","v":""},{"$f":"IF(AND(t_projeto[[#This Row],[Luminárias]]<>0,t_projeto[[#This Row],[Luminárias]]<>\"\"),ROUND(t_projeto[[#This Row],[lm_médio]]/t_projeto[[#This Row],[W_médio]],2),\"\")","v":""}]
[177,{"$f":"_xlfn.XLOOKUP(t_projeto[[#This Row],[cód.]],t_sitio[cód],t_sitio[Trecho],\"\")","v":""},null,null,{"$f":"IF(t_projeto[[#This Row],[T.1]]<>\"\",_xlfn.XLOOKUP(t_projeto[[#This Row],[T.1]],$G$22:$G$26,$H$22:$H$26),\"\")","v":""},null,null,{"$f":"IF(t_projeto[[#This Row],[T.2]]<>\"\",_xlfn.XLOOKUP(t_projeto[[#This Row],[T.2]],$G$22:$G$26,$H$22:$H$26),\"\")","v":""},null,null,{"$f":"IF(t_projeto[[#This Row],[T.3]]<>\"\",_xlfn.XLOOKUP(t_projeto[[#This Row],[T.3]],$G$22:$G$26,$H$22:$H$26),\"\")","v":""},null,{"$f":"t_projeto[[#This Row],[Q.1]]+t_projeto[[#This Row],[Q.2]]+t_projeto[[#This Row],[Q.3]]","v":0},{"$f":"t_projeto[[#This Row],[Q.1]]+t_projeto[[#This Row],[Q.2]]+t_projeto[[#This Row],[Q.3]]","v":0},{"$f":"IF(t_projeto[[#This Row],[Q.1]]<>\"\",SUMIFS(t_reator[p],t_reator[tipo],t_projeto[[#This Row],[T.1]],t_reator[w],t_projeto[[#This Row],[P.1(W)]]),\"\")","v":""},{"$f":"IF(t_projeto[[#This Row],[Q.2]]<>\"\",SUMIFS(t_reator[p],t_reator[tipo],t_projeto[[#This Row],[T.2]],t_reator[w],t_projeto[[#This Row],[P.2(W)]]),\"\")","v":""},{"$f":"IF(t_projeto[[#This Row],[Q.3]]<>\"\",SUMIFS(t_reator[p],t_reator[tipo],t_projeto[[#This Row],[T.3]],t_reator[w],t_projeto[[#This Row],[P.3(W)]]),\"\")","v":""},{"$f":"IF(t_projeto[[#This Row],[Q.1]]<>\"\",IFERROR(IFERROR(D639*(E639+O639)+G639*(H639+P639)+J639*(K639+Q639),D639*(E639+O639)+G639*(H639+P639)),D639*(E639+O639)),\"\")","v":""},{"$f":"IF(t_projeto[[#This Row],[Consumo_W]]<>\"\",ROUND(t_projeto[[#This Row],[Consumo_W]]/t_projeto[[#This Row],[Luminárias]],0),\"\")","v":""},{"$f":"IF(t_projeto[[#This Row],[Q.1]]<>\"\",t_projeto[[#This Row],[Q.1]]*t_projeto[[#This Row],[P.1(W)]]*$C$24,\"\")","v":""},{"$f":"IF(t_projeto[[#This Row],[Q.2]]<>\"\",t_projeto[[#This Row],[Q.2]]*t_projeto[[#This Row],[P.2(W)]]*$C$24,\"\")","v":""},{"$f":"IF(t_projeto[[#This Row],[Q.3]]<>\"\",t_projeto[[#This Row],[Q.3]]*t_projeto[[#This Row],[P.3(W)]]*$C$24,\"\")","v":""},{"$f":"IF(t_projeto[[#This Row],[Trecho]]<>\"\",SUM(t_projeto[[#This Row],[f.1]:[f.3]]),\"\")","v":""},{"$f":"IF(t_projeto[[#This Row],[Trecho]]<>\"\",t_projeto[[#This Row],[Q.1]]+t_projeto[[#This Row],[Q.2]]+t_projeto[[#This Row],[Q.3]],\"\")","v":""},{"$f":"IF(AND(t_projeto[[#This Row],[FLUXO]]<>0,t_projeto[[#This Row],[FLUXO]]<>\"\"),ROUND(t_projeto[[#This Row],[FLUXO]]/t_projeto[[#This Row],[Luminárias]],0),\"\")","v":""},{"$f":"IF(AND(t_projeto[[#This Row],[Luminárias]]<>0,t_projeto[[#This Row],[Luminárias]]<>\"\"),ROUND(t_projeto[[#This Row],[lm_médio]]/t_projeto[[#This Row],[W_médio]],2),\"\")","v":""}]
[178,{"$f":"_xlfn.XLOOKUP(t_projeto[[#This Row],[cód.]],t_sitio[cód],t_sitio[Trecho],\"\")","v":""},null,null,{"$f":"IF(t_projeto[[#This Row],[T.1]]<>\"\",_xlfn.XLOOKUP(t_projeto[[#This Row],[T.1]],$G$22:$G$26,$H$22:$H$26),\"\")","v":""},null,null,{"$f":"IF(t_projeto[[#This Row],[T.2]]<>\"\",_xlfn.XLOOKUP(t_projeto[[#This Row],[T.2]],$G$22:$G$26,$H$22:$H$26),\"\")","v":""},null,null,{"$f":"IF(t_projeto[[#This Row],[T.3]]<>\"\",_xlfn.XLOOKUP(t_projeto[[#This Row],[T.3]],$G$22:$G$26,$H$22:$H$26),\"\")","v":""},null,{"$f":"t_projeto[[#This Row],[Q.1]]+t_projeto[[#This Row],[Q.2]]+t_projeto[[#This Row],[Q.3]]","v":0},{"$f":"t_projeto[[#This Row],[Q.1]]+t_projeto[[#This Row],[Q.2]]+t_projeto[[#This Row],[Q.3]]","v":0},{"$f":"IF(t_projeto[[#This Row],[Q.1]]<>\"\",SUMIFS(t_reator[p],t_reator[tipo],t_projeto[[#This Row],[T.1]],t_reator[w],t_projeto[[#This Row],[P.1(W)]]),\"\")","v":""},{"$f":"IF(t_projeto[[#This Row],[Q.2]]<>\"\",SUMIFS(t_reator[p],t_reator[tipo],t_projeto[[#This Row],[T.2]],t_reator[w],t_projeto[[#This Row],[P.2(W)]]),\"\")","v":""},{"$f":"IF(t_projeto[[#This Row],[Q.3]]<>\"\",SUMIFS(t_reator[p],t_reator[tipo],t_projeto[[#This Row],[T.3]],t_reator[w],t_projeto[[#This Row],[P.3(W)]]),\"\")","v":""},{"$f":"IF(t_projeto[[#This Row],[Q.1]]<>\"\",IFERROR(IFERROR(D640*(E640+O640)+G640*(H640+P640)+J640*(K640+Q640),D640*(E640+O640)+G640*(H640+P640)),D640*(E640+O640)),\"\")","v":""},{"$f":"IF(t_projeto[[#This Row],[Consumo_W]]<>\"\",ROUND(t_projeto[[#This Row],[Consumo_W]]/t_projeto[[#This Row],[Luminárias]],0),\"\")","v":""},{"$f":"IF(t_projeto[[#This Row],[Q.1]]<>\"\",t_projeto[[#This Row],[Q.1]]*t_projeto[[#This Row],[P.1(W)]]*$C$24,\"\")","v":""},{"$f":"IF(t_projeto[[#This Row],[Q.2]]<>\"\",t_projeto[[#This Row],[Q.2]]*t_projeto[[#This Row],[P.2(W)]]*$C$24,\"\")","v":""},{"$f":"IF(t_projeto[[#This Row],[Q.3]]<>\"\",t_projeto[[#This Row],[Q.3]]*t_projeto[[#This Row],[P.3(W)]]*$C$24,\"\")","v":""},{"$f":"IF(t_projeto[[#This Row],[Trecho]]<>\"\",SUM(t_projeto[[#This Row],[f.1]:[f.3]]),\"\")","v":""},{"$f":"IF(t_projeto[[#This Row],[Trecho]]<>\"\",t_projeto[[#This Row],[Q.1]]+t_projeto[[#This Row],[Q.2]]+t_projeto[[#This Row],[Q.3]],\"\")","v":""},{"$f":"IF(AND(t_projeto[[#This Row],[FLUXO]]<>0,t_projeto[[#This Row],[FLUXO]]<>\"\"),ROUND(t_projeto[[#This Row],[FLUXO]]/t_projeto[[#This Row],[Luminárias]],0),\"\")","v":""},{"$f":"IF(AND(t_projeto[[#This Row],[Luminárias]]<>0,t_projeto[[#This Row],[Luminárias]]<>\"\"),ROUND(t_projeto[[#This Row],[lm_médio]]/t_projeto[[#This Row],[W_médio]],2),\"\")","v":""}]
[179,{"$f":"_xlfn.XLOOKUP(t_projeto[[#This Row],[cód.]],t_sitio[cód],t_sitio[Trecho],\"\")","v":""},null,null,{"$f":"IF(t_projeto[[#This Row],[T.1]]<>\"\",_xlfn.XLOOKUP(t_projeto[[#This Row],[T.1]],$G$22:$G$26,$H$22:$H$26),\"\")","v":""},null,null,{"$f":"IF(t_projeto[[#This Row],[T.2]]<>\"\",_xlfn.XLOOKUP(t_projeto[[#This Row],[T.2]],$G$22:$G$26,$H$22:$H$26),\"\")","v":""},null,null,{"$f":"IF(t_projeto[[#This Row],[T.3]]<>\"\",_xlfn.XLOOKUP(t_projeto[[#This Row],[T.3]],$G$22:$G$26,$H$22:$H$26),\"\")","v":""},null,{"$f":"t_projeto[[#This Row],[Q.1]]+t_projeto[[#This Row],[Q.2]]+t_projeto[[#This Row],[Q.3]]","v":0},{"$f":"t_projeto[[#This Row],[Q.1]]+t_projeto[[#This Row],[Q.2]]+t_projeto[[#This Row],[Q.3]]","v":0},{"$f":"IF(t_projeto[[#This Row],[Q.1]]<>\"\",SUMIFS(t_reator[p],t_reator[tipo],t_projeto[[#This Row],[T.1]],t_reator[w],t_projeto[[#This Row],[P.1(W)]]),\"\")","v":""},{"$f":"IF(t_projeto[[#This Row],[Q.2]]<>\"\",SUMIFS(t_reator[p],t_reator[tipo],t_projeto[[#This Row],[T.2]],t_reator[w],t_projeto[[#This Row],[P.2(W)]]),\"\")","v":""},{"$f":"IF(t_projeto[[#This Row],[Q.3]]<>\"\",SUMIFS(t_reator[p],t_reator[tipo],t_projeto[[#This Row],[T.3]],t_reator[w],t_projeto[[#This Row],[P.3(W)]]),\"\")","v":""},{"$f":"IF(t_projeto[[#This Row],[Q.1]]<>\"\",IFERROR(IFERROR(D641*(E641+O641)+G641*(H641+P641)+J641*(K641+Q641),D641*(E641+O641)+G641*(H641+P641)),D641*(E641+O641)),\"\")","v":""},{"$f":"IF(t_projeto[[#This Row],[Consumo_W]]<>\"\",ROUND(t_projeto[[#This Row],[Consumo_W]]/t_projeto[[#This Row],[Luminárias]],0),\"\")","v":""},{"$f":"IF(t_projeto[[#This Row],[Q.1]]<>\"\",t_projeto[[#This Row],[Q.1]]*t_projeto[[#This Row],[P.1(W)]]*$C$24,\"\")","v":""},{"$f":"IF(t_projeto[[#This Row],[Q.2]]<>\"\",t_projeto[[#This Row],[Q.2]]*t_projeto[[#This Row],[P.2(W)]]*$C$24,\"\")","v":""},{"$f":"IF(t_projeto[[#This Row],[Q.3]]<>\"\",t_projeto[[#This Row],[Q.3]]*t_projeto[[#This Row],[P.3(W)]]*$C$24,\"\")","v":""},{"$f":"IF(t_projeto[[#This Row],[Trecho]]<>\"\",SUM(t_projeto[[#This Row],[f.1]:[f.3]]),\"\")","v":""},{"$f":"IF(t_projeto[[#This Row],[Trecho]]<>\"\",t_projeto[[#This Row],[Q.1]]+t_projeto[[#This Row],[Q.2]]+t_projeto[[#This Row],[Q.3]],\"\")","v":""},{"$f":"IF(AND(t_projeto[[#This Row],[FLUXO]]<>0,t_projeto[[#This Row],[FLUXO]]<>\"\"),ROUND(t_projeto[[#This Row],[FLUXO]]/t_projeto[[#This Row],[Luminárias]],0),\"\")","v":""},{"$f":"IF(AND(t_projeto[[#This Row],[Luminárias]]<>0,t_projeto[[#This Row],[Luminárias]]<>\"\"),ROUND(t_projeto[[#This Row],[lm_médio]]/t_projeto[[#This Row],[W_médio]],2),\"\")","v":""}]
[180,{"$f":"_xlfn.XLOOKUP(t_projeto[[#This Row],[cód.]],t_sitio[cód],t_sitio[Trecho],\"\")","v":""},null,null,{"$f":"IF(t_projeto[[#This Row],[T.1]]<>\"\",_xlfn.XLOOKUP(t_projeto[[#This Row],[T.1]],$G$22:$G$26,$H$22:$H$26),\"\")","v":""},null,null,{"$f":"IF(t_projeto[[#This Row],[T.2]]<>\"\",_xlfn.XLOOKUP(t_projeto[[#This Row],[T.2]],$G$22:$G$26,$H$22:$H$26),\"\")","v":""},null,null,{"$f":"IF(t_projeto[[#This Row],[T.3]]<>\"\",_xlfn.XLOOKUP(t_projeto[[#This Row],[T.3]],$G$22:$G$26,$H$22:$H$26),\"\")","v":""},null,{"$f":"t_projeto[[#This Row],[Q.1]]+t_projeto[[#This Row],[Q.2]]+t_projeto[[#This Row],[Q.3]]","v":0},{"$f":"t_projeto[[#This Row],[Q.1]]+t_projeto[[#This Row],[Q.2]]+t_projeto[[#This Row],[Q.3]]","v":0},{"$f":"IF(t_projeto[[#This Row],[Q.1]]<>\"\",SUMIFS(t_reator[p],t_reator[tipo],t_projeto[[#This Row],[T.1]],t_reator[w],t_projeto[[#This Row],[P.1(W)]]),\"\")","v":""},{"$f":"IF(t_projeto[[#This Row],[Q.2]]<>\"\",SUMIFS(t_reator[p],t_reator[tipo],t_projeto[[#This Row],[T.2]],t_reator[w],t_projeto[[#This Row],[P.2(W)]]),\"\")","v":""},{"$f":"IF(t_projeto[[#This Row],[Q.3]]<>\"\",SUMIFS(t_reator[p],t_reator[tipo],t_projeto[[#This Row],[T.3]],t_reator[w],t_projeto[[#This Row],[P.3(W)]]),\"\")","v":""},{"$f":"IF(t_projeto[[#This Row],[Q.1]]<>\"\",IFERROR(IFERROR(D642*(E642+O642)+G642*(H642+P642)+J642*(K642+Q642),D642*(E642+O642)+G642*(H642+P642)),D642*(E642+O642)),\"\")","v":""},{"$f":"IF(t_projeto[[#This Row],[Consumo_W]]<>\"\",ROUND(t_projeto[[#This Row],[Consumo_W]]/t_projeto[[#This Row],[Luminárias]],0),\"\")","v":""},{"$f":"IF(t_projeto[[#This Row],[Q.1]]<>\"\",t_projeto[[#This Row],[Q.1]]*t_projeto[[#This Row],[P.1(W)]]*$C$24,\"\")","v":""},{"$f":"IF(t_projeto[[#This Row],[Q.2]]<>\"\",t_projeto[[#This Row],[Q.2]]*t_projeto[[#This Row],[P.2(W)]]*$C$24,\"\")","v":""},{"$f":"IF(t_projeto[[#This Row],[Q.3]]<>\"\",t_projeto[[#This Row],[Q.3]]*t_projeto[[#This Row],[P.3(W)]]*$C$24,\"\")","v":""},{"$f":"IF(t_projeto[[#This Row],[Trecho]]<>\"\",SUM(t_projeto[[#This Row],[f.1]:[f.3]]),\"\")","v":""},{"$f":"IF(t_projeto[[#This Row],[Trecho]]<>\"\",t_projeto[[#This Row],[Q.1]]+t_projeto[[#This Row],[Q.2]]+t_projeto[[#This Row],[Q.3]],\"\")","v":""},{"$f":"IF(AND(t_projeto[[#This Row],[FLUXO]]<>0,t_projeto[[#This Row],[FLUXO]]<>\"\"),ROUND(t_projeto[[#This Row],[FLUXO]]/t_projeto[[#This Row],[Luminárias]],0),\"\")","v":""},{"$f":"IF(AND(t_projeto[[#This Row],[Luminárias]]<>0,t_projeto[[#This Row],[Luminárias]]<>\"\"),ROUND(t_projeto[[#This Row],[lm_médio]]/t_projeto[[#This Row],[W_médio]],2),\"\")","v":""}]
[181,{"$f":"_xlfn.XLOOKUP(t_projeto[[#This Row],[cód.]],t_sitio[cód],t_sitio[Trecho],\"\")","v":""},null,null,{"$f":"IF(t_projeto[[#This Row],[T.1]]<>\"\",_xlfn.XLOOKUP(t_projeto[[#This Row],[T.1]],$G$22:$G$26,$H$22:$H$26),\"\")","v":""},null,null,{"$f":"IF(t_projeto[[#This Row],[T.2]]<>\"\",_xlfn.XLOOKUP(t_projeto[[#This Row],[T.2]],$G$22:$G$26,$H$22:$H$26),\"\")","v":""},null,null,{"$f":"IF(t_projeto[[#This Row],[T.3]]<>\"\",_xlfn.XLOOKUP(t_projeto[[#This Row],[T.3]],$G$22:$G$26,$H$22:$H$26),\"\")","v":""},null,{"$f":"t_projeto[[#This Row],[Q.1]]+t_projeto[[#This Row],[Q.2]]+t_projeto[[#This Row],[Q.3]]","v":0},{"$f":"t_projeto[[#This Row],[Q.1]]+t_projeto[[#This Row],[Q.2]]+t_projeto[[#This Row],[Q.3]]","v":0},{"$f":"IF(t_projeto[[#This Row],[Q.1]]<>\"\",SUMIFS(t_reator[p],t_reator[tipo],t_projeto[[#This Row],[T.1]],t_reator[w],t_projeto[[#This Row],[P.1(W)]]),\"\")","v":""},{"$f":"IF(t_projeto[[#This Row],[Q.2]]<>\"\",SUMIFS(t_reator[p],t_reator[tipo],t_projeto[[#This Row],[T.2]],t_reator[w],t_projeto[[#This Row],[P.2(W)]]),\"\")","v":""},{"$f":"IF(t_projeto[[#This Row],[Q.3]]<>\"\",SUMIFS(t_reator[p],t_reator[tipo],t_projeto[[#This Row],[T.3]],t_reator[w],t_projeto[[#This Row],[P.3(W)]]),\"\")","v":""},{"$f":"IF(t_projeto[[#This Row],[Q.1]]<>\"\",IFERROR(IFERROR(D643*(E643+O643)+G643*(H643+P643)+J643*(K643+Q643),D643*(E643+O643)+G643*(H643+P643)),D643*(E643+O643)),\"\")","v":""},{"$f":"IF(t_projeto[[#This Row],[Consumo_W]]<>\"\",ROUND(t_projeto[[#This Row],[Consumo_W]]/t_projeto[[#This Row],[Luminárias]],0),\"\")","v":""},{"$f":"IF(t_projeto[[#This Row],[Q.1]]<>\"\",t_projeto[[#This Row],[Q.1]]*t_projeto[[#This Row],[P.1(W)]]*$C$24,\"\")","v":""},{"$f":"IF(t_projeto[[#This Row],[Q.2]]<>\"\",t_projeto[[#This Row],[Q.2]]*t_projeto[[#This Row],[P.2(W)]]*$C$24,\"\")","v":""},{"$f":"IF(t_projeto[[#This Row],[Q.3]]<>\"\",t_projeto[[#This Row],[Q.3]]*t_projeto[[#This Row],[P.3(W)]]*$C$24,\"\")","v":""},{"$f":"IF(t_projeto[[#This Row],[Trecho]]<>\"\",SUM(t_projeto[[#This Row],[f.1]:[f.3]]),\"\")","v":""},{"$f":"IF(t_projeto[[#This Row],[Trecho]]<>\"\",t_projeto[[#This Row],[Q.1]]+t_projeto[[#This Row],[Q.2]]+t_projeto[[#This Row],[Q.3]],\"\")","v":""},{"$f":"IF(AND(t_projeto[[#This Row],[FLUXO]]<>0,t_projeto[[#This Row],[FLUXO]]<>\"\"),ROUND(t_projeto[[#This Row],[FLUXO]]/t_projeto[[#This Row],[Luminárias]],0),\"\")","v":""},{"$f":"IF(AND(t_projeto[[#This Row],[Luminárias]]<>0,t_projeto[[#This Row],[Luminárias]]<>\"\"),ROUND(t_projeto[[#This Row],[lm_médio]]/t_projeto[[#This Row],[W_médio]],2),\"\")","v":""}]
[182,{"$f":"_xlfn.XLOOKUP(t_projeto[[#This Row],[cód.]],t_sitio[cód],t_sitio[Trecho],\"\")","v":""},null,null,{"$f":"IF(t_projeto[[#This Row],[T.1]]<>\"\",_xlfn.XLOOKUP(t_projeto[[#This Row],[T.1]],$G$22:$G$26,$H$22:$H$26),\"\")","v":""},null,null,{"$f":"IF(t_projeto[[#This Row],[T.2]]<>\"\",_xlfn.XLOOKUP(t_projeto[[#This Row],[T.2]],$G$22:$G$26,$H$22:$H$26),\"\")","v":""},null,null,{"$f":"IF(t_projeto[[#This Row],[T.3]]<>\"\",_xlfn.XLOOKUP(t_projeto[[#This Row],[T.3]],$G$22:$G$26,$H$22:$H$26),\"\")","v":""},null,{"$f":"t_projeto[[#This Row],[Q.1]]+t_projeto[[#This Row],[Q.2]]+t_projeto[[#This Row],[Q.3]]","v":0},{"$f":"t_projeto[[#This Row],[Q.1]]+t_projeto[[#This Row],[Q.2]]+t_projeto[[#This Row],[Q.3]]","v":0},{"$f":"IF(t_projeto[[#This Row],[Q.1]]<>\"\",SUMIFS(t_reator[p],t_reator[tipo],t_projeto[[#This Row],[T.1]],t_reator[w],t_projeto[[#This Row],[P.1(W)]]),\"\")","v":""},{"$f":"IF(t_projeto[[#This Row],[Q.2]]<>\"\",SUMIFS(t_reator[p],t_reator[tipo],t_projeto[[#This Row],[T.2]],t_reator[w],t_projeto[[#This Row],[P.2(W)]]),\"\")","v":""},{"$f":"IF(t_projeto[[#This Row],[Q.3]]<>\"\",SUMIFS(t_reator[p],t_reator[tipo],t_projeto[[#This Row],[T.3]],t_reator[w],t_projeto[[#This Row],[P.3(W)]]),\"\")","v":""},{"$f":"IF(t_projeto[[#This Row],[Q.1]]<>\"\",IFERROR(IFERROR(D644*(E644+O644)+G644*(H644+P644)+J644*(K644+Q644),D644*(E644+O644)+G644*(H644+P644)),D644*(E644+O644)),\"\")","v":""},{"$f":"IF(t_projeto[[#This Row],[Consumo_W]]<>\"\",ROUND(t_projeto[[#This Row],[Consumo_W]]/t_projeto[[#This Row],[Luminárias]],0),\"\")","v":""},{"$f":"IF(t_projeto[[#This Row],[Q.1]]<>\"\",t_projeto[[#This Row],[Q.1]]*t_projeto[[#This Row],[P.1(W)]]*$C$24,\"\")","v":""},{"$f":"IF(t_projeto[[#This Row],[Q.2]]<>\"\",t_projeto[[#This Row],[Q.2]]*t_projeto[[#This Row],[P.2(W)]]*$C$24,\"\")","v":""},{"$f":"IF(t_projeto[[#This Row],[Q.3]]<>\"\",t_projeto[[#This Row],[Q.3]]*t_projeto[[#This Row],[P.3(W)]]*$C$24,\"\")","v":""},{"$f":"IF(t_projeto[[#This Row],[Trecho]]<>\"\",SUM(t_projeto[[#This Row],[f.1]:[f.3]]),\"\")","v":""},{"$f":"IF(t_projeto[[#This Row],[Trecho]]<>\"\",t_projeto[[#This Row],[Q.1]]+t_projeto[[#This Row],[Q.2]]+t_projeto[[#This Row],[Q.3]],\"\")","v":""},{"$f":"IF(AND(t_projeto[[#This Row],[FLUXO]]<>0,t_projeto[[#This Row],[FLUXO]]<>\"\"),ROUND(t_projeto[[#This Row],[FLUXO]]/t_projeto[[#This Row],[Luminárias]],0),\"\")","v":""},{"$f":"IF(AND(t_projeto[[#This Row],[Luminárias]]<>0,t_projeto[[#This Row],[Luminárias]]<>\"\"),ROUND(t_projeto[[#This Row],[lm_médio]]/t_projeto[[#This Row],[W_médio]],2),\"\")","v":""}]
[183,{"$f":"_xlfn.XLOOKUP(t_projeto[[#This Row],[cód.]],t_sitio[cód],t_sitio[Trecho],\"\")","v":""},null,null,{"$f":"IF(t_projeto[[#This Row],[T.1]]<>\"\",_xlfn.XLOOKUP(t_projeto[[#This Row],[T.1]],$G$22:$G$26,$H$22:$H$26),\"\")","v":""},null,null,{"$f":"IF(t_projeto[[#This Row],[T.2]]<>\"\",_xlfn.XLOOKUP(t_projeto[[#This Row],[T.2]],$G$22:$G$26,$H$22:$H$26),\"\")","v":""},null,null,{"$f":"IF(t_projeto[[#This Row],[T.3]]<>\"\",_xlfn.XLOOKUP(t_projeto[[#This Row],[T.3]],$G$22:$G$26,$H$22:$H$26),\"\")","v":""},null,{"$f":"t_projeto[[#This Row],[Q.1]]+t_projeto[[#This Row],[Q.2]]+t_projeto[[#This Row],[Q.3]]","v":0},{"$f":"t_projeto[[#This Row],[Q.1]]+t_projeto[[#This Row],[Q.2]]+t_projeto[[#This Row],[Q.3]]","v":0},{"$f":"IF(t_projeto[[#This Row],[Q.1]]<>\"\",SUMIFS(t_reator[p],t_reator[tipo],t_projeto[[#This Row],[T.1]],t_reator[w],t_projeto[[#This Row],[P.1(W)]]),\"\")","v":""},{"$f":"IF(t_projeto[[#This Row],[Q.2]]<>\"\",SUMIFS(t_reator[p],t_reator[tipo],t_projeto[[#This Row],[T.2]],t_reator[w],t_projeto[[#This Row],[P.2(W)]]),\"\")","v":""},{"$f":"IF(t_projeto[[#This Row],[Q.3]]<>\"\",SUMIFS(t_reator[p],t_reator[tipo],t_projeto[[#This Row],[T.3]],t_reator[w],t_projeto[[#This Row],[P.3(W)]]),\"\")","v":""},{"$f":"IF(t_projeto[[#This Row],[Q.1]]<>\"\",IFERROR(IFERROR(D645*(E645+O645)+G645*(H645+P645)+J645*(K645+Q645),D645*(E645+O645)+G645*(H645+P645)),D645*(E645+O645)),\"\")","v":""},{"$f":"IF(t_projeto[[#This Row],[Consumo_W]]<>\"\",ROUND(t_projeto[[#This Row],[Consumo_W]]/t_projeto[[#This Row],[Luminárias]],0),\"\")","v":""},{"$f":"IF(t_projeto[[#This Row],[Q.1]]<>\"\",t_projeto[[#This Row],[Q.1]]*t_projeto[[#This Row],[P.1(W)]]*$C$24,\"\")","v":""},{"$f":"IF(t_projeto[[#This Row],[Q.2]]<>\"\",t_projeto[[#This Row],[Q.2]]*t_projeto[[#This Row],[P.2(W)]]*$C$24,\"\")","v":""},{"$f":"IF(t_projeto[[#This Row],[Q.3]]<>\"\",t_projeto[[#This Row],[Q.3]]*t_projeto[[#This Row],[P.3(W)]]*$C$24,\"\")","v":""},{"$f":"IF(t_projeto[[#This Row],[Trecho]]<>\"\",SUM(t_projeto[[#This Row],[f.1]:[f.3]]),\"\")","v":""},{"$f":"IF(t_projeto[[#This Row],[Trecho]]<>\"\",t_projeto[[#This Row],[Q.1]]+t_projeto[[#This Row],[Q.2]]+t_projeto[[#This Row],[Q.3]],\"\")","v":""},{"$f":"IF(AND(t_projeto[[#This Row],[FLUXO]]<>0,t_projeto[[#This Row],[FLUXO]]<>\"\"),ROUND(t_projeto[[#This Row],[FLUXO]]/t_projeto[[#This Row],[Luminárias]],0),\"\")","v":""},{"$f":"IF(AND(t_projeto[[#This Row],[Luminárias]]<>0,t_projeto[[#This Row],[Luminárias]]<>\"\"),ROUND(t_projeto[[#This Row],[lm_médio]]/t_projeto[[#This Row],[W_médio]],2),\"\")","v":""}]
[184,{"$f":"_xlfn.XLOOKUP(t_projeto[[#This Row],[cód.]],t_sitio[cód],t_sitio[Trecho],\"\")","v":""},null,null,{"$f":"IF(t_projeto[[#This Row],[T.1]]<>\"\",_xlfn.XLOOKUP(t_projeto[[#This Row],[T.1]],$G$22:$G$26,$H$22:$H$26),\"\")","v":""},null,null,{"$f":"IF(t_projeto[[#This Row],[T.2]]<>\"\",_xlfn.XLOOKUP(t_projeto[[#This Row],[T.2]],$G$22:$G$26,$H$22:$H$26),\"\")","v":""},null,null,{"$f":"IF(t_projeto[[#This Row],[T.3]]<>\"\",_xlfn.XLOOKUP(t_projeto[[#This Row],[T.3]],$G$22:$G$26,$H$22:$H$26),\"\")","v":""},null,{"$f":"t_projeto[[#This Row],[Q.1]]+t_projeto[[#This Row],[Q.2]]+t_projeto[[#This Row],[Q.3]]","v":0},{"$f":"t_projeto[[#This Row],[Q.1]]+t_projeto[[#This Row],[Q.2]]+t_projeto[[#This Row],[Q.3]]","v":0},{"$f":"IF(t_projeto[[#This Row],[Q.1]]<>\"\",SUMIFS(t_reator[p],t_reator[tipo],t_projeto[[#This Row],[T.1]],t_reator[w],t_projeto[[#This Row],[P.1(W)]]),\"\")","v":""},{"$f":"IF(t_projeto[[#This Row],[Q.2]]<>\"\",SUMIFS(t_reator[p],t_reator[tipo],t_projeto[[#This Row],[T.2]],t_reator[w],t_projeto[[#This Row],[P.2(W)]]),\"\")","v":""},{"$f":"IF(t_projeto[[#This Row],[Q.3]]<>\"\",SUMIFS(t_reator[p],t_reator[tipo],t_projeto[[#This Row],[T.3]],t_reator[w],t_projeto[[#This Row],[P.3(W)]]),\"\")","v":""},{"$f":"IF(t_projeto[[#This Row],[Q.1]]<>\"\",IFERROR(IFERROR(D646*(E646+O646)+G646*(H646+P646)+J646*(K646+Q646),D646*(E646+O646)+G646*(H646+P646)),D646*(E646+O646)),\"\")","v":""},{"$f":"IF(t_projeto[[#This Row],[Consumo_W]]<>\"\",ROUND(t_projeto[[#This Row],[Consumo_W]]/t_projeto[[#This Row],[Luminárias]],0),\"\")","v":""},{"$f":"IF(t_projeto[[#This Row],[Q.1]]<>\"\",t_projeto[[#This Row],[Q.1]]*t_projeto[[#This Row],[P.1(W)]]*$C$24,\"\")","v":""},{"$f":"IF(t_projeto[[#This Row],[Q.2]]<>\"\",t_projeto[[#This Row],[Q.2]]*t_projeto[[#This Row],[P.2(W)]]*$C$24,\"\")","v":""},{"$f":"IF(t_projeto[[#This Row],[Q.3]]<>\"\",t_projeto[[#This Row],[Q.3]]*t_projeto[[#This Row],[P.3(W)]]*$C$24,\"\")","v":""},{"$f":"IF(t_projeto[[#This Row],[Trecho]]<>\"\",SUM(t_projeto[[#This Row],[f.1]:[f.3]]),\"\")","v":""},{"$f":"IF(t_projeto[[#This Row],[Trecho]]<>\"\",t_projeto[[#This Row],[Q.1]]+t_projeto[[#This Row],[Q.2]]+t_projeto[[#This Row],[Q.3]],\"\")","v":""},{"$f":"IF(AND(t_projeto[[#This Row],[FLUXO]]<>0,t_projeto[[#This Row],[FLUXO]]<>\"\"),ROUND(t_projeto[[#This Row],[FLUXO]]/t_projeto[[#This Row],[Luminárias]],0),\"\")","v":""},{"$f":"IF(AND(t_projeto[[#This Row],[Luminárias]]<>0,t_projeto[[#This Row],[Luminárias]]<>\"\"),ROUND(t_projeto[[#This Row],[lm_médio]]/t_projeto[[#This Row],[W_médio]],2),\"\")","v":""}]
[185,{"$f":"_xlfn.XLOOKUP(t_projeto[[#This Row],[cód.]],t_sitio[cód],t_sitio[Trecho],\"\")","v":""},null,null,{"$f":"IF(t_projeto[[#This Row],[T.1]]<>\"\",_xlfn.XLOOKUP(t_projeto[[#This Row],[T.1]],$G$22:$G$26,$H$22:$H$26),\"\")","v":""},null,null,{"$f":"IF(t_projeto[[#This Row],[T.2]]<>\"\",_xlfn.XLOOKUP(t_projeto[[#This Row],[T.2]],$G$22:$G$26,$H$22:$H$26),\"\")","v":""},null,null,{"$f":"IF(t_projeto[[#This Row],[T.3]]<>\"\",_xlfn.XLOOKUP(t_projeto[[#This Row],[T.3]],$G$22:$G$26,$H$22:$H$26),\"\")","v":""},null,{"$f":"t_projeto[[#This Row],[Q.1]]+t_projeto[[#This Row],[Q.2]]+t_projeto[[#This Row],[Q.3]]","v":0},{"$f":"t_projeto[[#This Row],[Q.1]]+t_projeto[[#This Row],[Q.2]]+t_projeto[[#This Row],[Q.3]]","v":0},{"$f":"IF(t_projeto[[#This Row],[Q.1]]<>\"\",SUMIFS(t_reator[p],t_reator[tipo],t_projeto[[#This Row],[T.1]],t_reator[w],t_projeto[[#This Row],[P.1(W)]]),\"\")","v":""},{"$f":"IF(t_projeto[[#This Row],[Q.2]]<>\"\",SUMIFS(t_reator[p],t_reator[tipo],t_projeto[[#This Row],[T.2]],t_reator[w],t_projeto[[#This Row],[P.2(W)]]),\"\")","v":""},{"$f":"IF(t_projeto[[#This Row],[Q.3]]<>\"\",SUMIFS(t_reator[p],t_reator[tipo],t_projeto[[#This Row],[T.3]],t_reator[w],t_projeto[[#This Row],[P.3(W)]]),\"\")","v":""},{"$f":"IF(t_projeto[[#This Row],[Q.1]]<>\"\",IFERROR(IFERROR(D647*(E647+O647)+G647*(H647+P647)+J647*(K647+Q647),D647*(E647+O647)+G647*(H647+P647)),D647*(E647+O647)),\"\")","v":""},{"$f":"IF(t_projeto[[#This Row],[Consumo_W]]<>\"\",ROUND(t_projeto[[#This Row],[Consumo_W]]/t_projeto[[#This Row],[Luminárias]],0),\"\")","v":""},{"$f":"IF(t_projeto[[#This Row],[Q.1]]<>\"\",t_projeto[[#This Row],[Q.1]]*t_projeto[[#This Row],[P.1(W)]]*$C$24,\"\")","v":""},{"$f":"IF(t_projeto[[#This Row],[Q.2]]<>\"\",t_projeto[[#This Row],[Q.2]]*t_projeto[[#This Row],[P.2(W)]]*$C$24,\"\")","v":""},{"$f":"IF(t_projeto[[#This Row],[Q.3]]<>\"\",t_projeto[[#This Row],[Q.3]]*t_projeto[[#This Row],[P.3(W)]]*$C$24,\"\")","v":""},{"$f":"IF(t_projeto[[#This Row],[Trecho]]<>\"\",SUM(t_projeto[[#This Row],[f.1]:[f.3]]),\"\")","v":""},{"$f":"IF(t_projeto[[#This Row],[Trecho]]<>\"\",t_projeto[[#This Row],[Q.1]]+t_projeto[[#This Row],[Q.2]]+t_projeto[[#This Row],[Q.3]],\"\")","v":""},{"$f":"IF(AND(t_projeto[[#This Row],[FLUXO]]<>0,t_projeto[[#This Row],[FLUXO]]<>\"\"),ROUND(t_projeto[[#This Row],[FLUXO]]/t_projeto[[#This Row],[Luminárias]],0),\"\")","v":""},{"$f":"IF(AND(t_projeto[[#This Row],[Luminárias]]<>0,t_projeto[[#This Row],[Luminárias]]<>\"\"),ROUND(t_projeto[[#This Row],[lm_médio]]/t_projeto[[#This Row],[W_médio]],2),\"\")","v":""}]
[186,{"$f":"_xlfn.XLOOKUP(t_projeto[[#This Row],[cód.]],t_sitio[cód],t_sitio[Trecho],\"\")","v":""},null,null,{"$f":"IF(t_projeto[[#This Row],[T.1]]<>\"\",_xlfn.XLOOKUP(t_projeto[[#This Row],[T.1]],$G$22:$G$26,$H$22:$H$26),\"\")","v":""},null,null,{"$f":"IF(t_projeto[[#This Row],[T.2]]<>\"\",_xlfn.XLOOKUP(t_projeto[[#This Row],[T.2]],$G$22:$G$26,$H$22:$H$26),\"\")","v":""},null,null,{"$f":"IF(t_projeto[[#This Row],[T.3]]<>\"\",_xlfn.XLOOKUP(t_projeto[[#This Row],[T.3]],$G$22:$G$26,$H$22:$H$26),\"\")","v":""},null,{"$f":"t_projeto[[#This Row],[Q.1]]+t_projeto[[#This Row],[Q.2]]+t_projeto[[#This Row],[Q.3]]","v":0},{"$f":"t_projeto[[#This Row],[Q.1]]+t_projeto[[#This Row],[Q.2]]+t_projeto[[#This Row],[Q.3]]","v":0},{"$f":"IF(t_projeto[[#This Row],[Q.1]]<>\"\",SUMIFS(t_reator[p],t_reator[tipo],t_projeto[[#This Row],[T.1]],t_reator[w],t_projeto[[#This Row],[P.1(W)]]),\"\")","v":""},{"$f":"IF(t_projeto[[#This Row],[Q.2]]<>\"\",SUMIFS(t_reator[p],t_reator[tipo],t_projeto[[#This Row],[T.2]],t_reator[w],t_projeto[[#This Row],[P.2(W)]]),\"\")","v":""},{"$f":"IF(t_projeto[[#This Row],[Q.3]]<>\"\",SUMIFS(t_reator[p],t_reator[tipo],t_projeto[[#This Row],[T.3]],t_reator[w],t_projeto[[#This Row],[P.3(W)]]),\"\")","v":""},{"$f":"IF(t_projeto[[#This Row],[Q.1]]<>\"\",IFERROR(IFERROR(D648*(E648+O648)+G648*(H648+P648)+J648*(K648+Q648),D648*(E648+O648)+G648*(H648+P648)),D648*(E648+O648)),\"\")","v":""},{"$f":"IF(t_projeto[[#This Row],[Consumo_W]]<>\"\",ROUND(t_projeto[[#This Row],[Consumo_W]]/t_projeto[[#This Row],[Luminárias]],0),\"\")","v":""},{"$f":"IF(t_projeto[[#This Row],[Q.1]]<>\"\",t_projeto[[#This Row],[Q.1]]*t_projeto[[#This Row],[P.1(W)]]*$C$24,\"\")","v":""},{"$f":"IF(t_projeto[[#This Row],[Q.2]]<>\"\",t_projeto[[#This Row],[Q.2]]*t_projeto[[#This Row],[P.2(W)]]*$C$24,\"\")","v":""},{"$f":"IF(t_projeto[[#This Row],[Q.3]]<>\"\",t_projeto[[#This Row],[Q.3]]*t_projeto[[#This Row],[P.3(W)]]*$C$24,\"\")","v":""},{"$f":"IF(t_projeto[[#This Row],[Trecho]]<>\"\",SUM(t_projeto[[#This Row],[f.1]:[f.3]]),\"\")","v":""},{"$f":"IF(t_projeto[[#This Row],[Trecho]]<>\"\",t_projeto[[#This Row],[Q.1]]+t_projeto[[#This Row],[Q.2]]+t_projeto[[#This Row],[Q.3]],\"\")","v":""},{"$f":"IF(AND(t_projeto[[#This Row],[FLUXO]]<>0,t_projeto[[#This Row],[FLUXO]]<>\"\"),ROUND(t_projeto[[#This Row],[FLUXO]]/t_projeto[[#This Row],[Luminárias]],0),\"\")","v":""},{"$f":"IF(AND(t_projeto[[#This Row],[Luminárias]]<>0,t_projeto[[#This Row],[Luminárias]]<>\"\"),ROUND(t_projeto[[#This Row],[lm_médio]]/t_projeto[[#This Row],[W_médio]],2),\"\")","v":""}]
[187,{"$f":"_xlfn.XLOOKUP(t_projeto[[#This Row],[cód.]],t_sitio[cód],t_sitio[Trecho],\"\")","v":""},null,null,{"$f":"IF(t_projeto[[#This Row],[T.1]]<>\"\",_xlfn.XLOOKUP(t_projeto[[#This Row],[T.1]],$G$22:$G$26,$H$22:$H$26),\"\")","v":""},null,null,{"$f":"IF(t_projeto[[#This Row],[T.2]]<>\"\",_xlfn.XLOOKUP(t_projeto[[#This Row],[T.2]],$G$22:$G$26,$H$22:$H$26),\"\")","v":""},null,null,{"$f":"IF(t_projeto[[#This Row],[T.3]]<>\"\",_xlfn.XLOOKUP(t_projeto[[#This Row],[T.3]],$G$22:$G$26,$H$22:$H$26),\"\")","v":""},null,{"$f":"t_projeto[[#This Row],[Q.1]]+t_projeto[[#This Row],[Q.2]]+t_projeto[[#This Row],[Q.3]]","v":0},{"$f":"t_projeto[[#This Row],[Q.1]]+t_projeto[[#This Row],[Q.2]]+t_projeto[[#This Row],[Q.3]]","v":0},{"$f":"IF(t_projeto[[#This Row],[Q.1]]<>\"\",SUMIFS(t_reator[p],t_reator[tipo],t_projeto[[#This Row],[T.1]],t_reator[w],t_projeto[[#This Row],[P.1(W)]]),\"\")","v":""},{"$f":"IF(t_projeto[[#This Row],[Q.2]]<>\"\",SUMIFS(t_reator[p],t_reator[tipo],t_projeto[[#This Row],[T.2]],t_reator[w],t_projeto[[#This Row],[P.2(W)]]),\"\")","v":""},{"$f":"IF(t_projeto[[#This Row],[Q.3]]<>\"\",SUMIFS(t_reator[p],t_reator[tipo],t_projeto[[#This Row],[T.3]],t_reator[w],t_projeto[[#This Row],[P.3(W)]]),\"\")","v":""},{"$f":"IF(t_projeto[[#This Row],[Q.1]]<>\"\",IFERROR(IFERROR(D649*(E649+O649)+G649*(H649+P649)+J649*(K649+Q649),D649*(E649+O649)+G649*(H649+P649)),D649*(E649+O649)),\"\")","v":""},{"$f":"IF(t_projeto[[#This Row],[Consumo_W]]<>\"\",ROUND(t_projeto[[#This Row],[Consumo_W]]/t_projeto[[#This Row],[Luminárias]],0),\"\")","v":""},{"$f":"IF(t_projeto[[#This Row],[Q.1]]<>\"\",t_projeto[[#This Row],[Q.1]]*t_projeto[[#This Row],[P.1(W)]]*$C$24,\"\")","v":""},{"$f":"IF(t_projeto[[#This Row],[Q.2]]<>\"\",t_projeto[[#This Row],[Q.2]]*t_projeto[[#This Row],[P.2(W)]]*$C$24,\"\")","v":""},{"$f":"IF(t_projeto[[#This Row],[Q.3]]<>\"\",t_projeto[[#This Row],[Q.3]]*t_projeto[[#This Row],[P.3(W)]]*$C$24,\"\")","v":""},{"$f":"IF(t_projeto[[#This Row],[Trecho]]<>\"\",SUM(t_projeto[[#This Row],[f.1]:[f.3]]),\"\")","v":""},{"$f":"IF(t_projeto[[#This Row],[Trecho]]<>\"\",t_projeto[[#This Row],[Q.1]]+t_projeto[[#This Row],[Q.2]]+t_projeto[[#This Row],[Q.3]],\"\")","v":""},{"$f":"IF(AND(t_projeto[[#This Row],[FLUXO]]<>0,t_projeto[[#This Row],[FLUXO]]<>\"\"),ROUND(t_projeto[[#This Row],[FLUXO]]/t_projeto[[#This Row],[Luminárias]],0),\"\")","v":""},{"$f":"IF(AND(t_projeto[[#This Row],[Luminárias]]<>0,t_projeto[[#This Row],[Luminárias]]<>\"\"),ROUND(t_projeto[[#This Row],[lm_médio]]/t_projeto[[#This Row],[W_médio]],2),\"\")","v":""}]
[188,{"$f":"_xlfn.XLOOKUP(t_projeto[[#This Row],[cód.]],t_sitio[cód],t_sitio[Trecho],\"\")","v":""},null,null,{"$f":"IF(t_projeto[[#This Row],[T.1]]<>\"\",_xlfn.XLOOKUP(t_projeto[[#This Row],[T.1]],$G$22:$G$26,$H$22:$H$26),\"\")","v":""},null,null,{"$f":"IF(t_projeto[[#This Row],[T.2]]<>\"\",_xlfn.XLOOKUP(t_projeto[[#This Row],[T.2]],$G$22:$G$26,$H$22:$H$26),\"\")","v":""},null,null,{"$f":"IF(t_projeto[[#This Row],[T.3]]<>\"\",_xlfn.XLOOKUP(t_projeto[[#This Row],[T.3]],$G$22:$G$26,$H$22:$H$26),\"\")","v":""},null,{"$f":"t_projeto[[#This Row],[Q.1]]+t_projeto[[#This Row],[Q.2]]+t_projeto[[#This Row],[Q.3]]","v":0},{"$f":"t_projeto[[#This Row],[Q.1]]+t_projeto[[#This Row],[Q.2]]+t_projeto[[#This Row],[Q.3]]","v":0},{"$f":"IF(t_projeto[[#This Row],[Q.1]]<>\"\",SUMIFS(t_reator[p],t_reator[tipo],t_projeto[[#This Row],[T.1]],t_reator[w],t_projeto[[#This Row],[P.1(W)]]),\"\")","v":""},{"$f":"IF(t_projeto[[#This Row],[Q.2]]<>\"\",SUMIFS(t_reator[p],t_reator[tipo],t_projeto[[#This Row],[T.2]],t_reator[w],t_projeto[[#This Row],[P.2(W)]]),\"\")","v":""},{"$f":"IF(t_projeto[[#This Row],[Q.3]]<>\"\",SUMIFS(t_reator[p],t_reator[tipo],t_projeto[[#This Row],[T.3]],t_reator[w],t_projeto[[#This Row],[P.3(W)]]),\"\")","v":""},{"$f":"IF(t_projeto[[#This Row],[Q.1]]<>\"\",IFERROR(IFERROR(D650*(E650+O650)+G650*(H650+P650)+J650*(K650+Q650),D650*(E650+O650)+G650*(H650+P650)),D650*(E650+O650)),\"\")","v":""},{"$f":"IF(t_projeto[[#This Row],[Consumo_W]]<>\"\",ROUND(t_projeto[[#This Row],[Consumo_W]]/t_projeto[[#This Row],[Luminárias]],0),\"\")","v":""},{"$f":"IF(t_projeto[[#This Row],[Q.1]]<>\"\",t_projeto[[#This Row],[Q.1]]*t_projeto[[#This Row],[P.1(W)]]*$C$24,\"\")","v":""},{"$f":"IF(t_projeto[[#This Row],[Q.2]]<>\"\",t_projeto[[#This Row],[Q.2]]*t_projeto[[#This Row],[P.2(W)]]*$C$24,\"\")","v":""},{"$f":"IF(t_projeto[[#This Row],[Q.3]]<>\"\",t_projeto[[#This Row],[Q.3]]*t_projeto[[#This Row],[P.3(W)]]*$C$24,\"\")","v":""},{"$f":"IF(t_projeto[[#This Row],[Trecho]]<>\"\",SUM(t_projeto[[#This Row],[f.1]:[f.3]]),\"\")","v":""},{"$f":"IF(t_projeto[[#This Row],[Trecho]]<>\"\",t_projeto[[#This Row],[Q.1]]+t_projeto[[#This Row],[Q.2]]+t_projeto[[#This Row],[Q.3]],\"\")","v":""},{"$f":"IF(AND(t_projeto[[#This Row],[FLUXO]]<>0,t_projeto[[#This Row],[FLUXO]]<>\"\"),ROUND(t_projeto[[#This Row],[FLUXO]]/t_projeto[[#This Row],[Luminárias]],0),\"\")","v":""},{"$f":"IF(AND(t_projeto[[#This Row],[Luminárias]]<>0,t_projeto[[#This Row],[Luminárias]]<>\"\"),ROUND(t_projeto[[#This Row],[lm_médio]]/t_projeto[[#This Row],[W_médio]],2),\"\")","v":""}]
[189,{"$f":"_xlfn.XLOOKUP(t_projeto[[#This Row],[cód.]],t_sitio[cód],t_sitio[Trecho],\"\")","v":""},null,null,{"$f":"IF(t_projeto[[#This Row],[T.1]]<>\"\",_xlfn.XLOOKUP(t_projeto[[#This Row],[T.1]],$G$22:$G$26,$H$22:$H$26),\"\")","v":""},null,null,{"$f":"IF(t_projeto[[#This Row],[T.2]]<>\"\",_xlfn.XLOOKUP(t_projeto[[#This Row],[T.2]],$G$22:$G$26,$H$22:$H$26),\"\")","v":""},null,null,{"$f":"IF(t_projeto[[#This Row],[T.3]]<>\"\",_xlfn.XLOOKUP(t_projeto[[#This Row],[T.3]],$G$22:$G$26,$H$22:$H$26),\"\")","v":""},null,{"$f":"t_projeto[[#This Row],[Q.1]]+t_projeto[[#This Row],[Q.2]]+t_projeto[[#This Row],[Q.3]]","v":0},{"$f":"t_projeto[[#This Row],[Q.1]]+t_projeto[[#This Row],[Q.2]]+t_projeto[[#This Row],[Q.3]]","v":0},{"$f":"IF(t_projeto[[#This Row],[Q.1]]<>\"\",SUMIFS(t_reator[p],t_reator[tipo],t_projeto[[#This Row],[T.1]],t_reator[w],t_projeto[[#This Row],[P.1(W)]]),\"\")","v":""},{"$f":"IF(t_projeto[[#This Row],[Q.2]]<>\"\",SUMIFS(t_reator[p],t_reator[tipo],t_projeto[[#This Row],[T.2]],t_reator[w],t_projeto[[#This Row],[P.2(W)]]),\"\")","v":""},{"$f":"IF(t_projeto[[#This Row],[Q.3]]<>\"\",SUMIFS(t_reator[p],t_reator[tipo],t_projeto[[#This Row],[T.3]],t_reator[w],t_projeto[[#This Row],[P.3(W)]]),\"\")","v":""},{"$f":"IF(t_projeto[[#This Row],[Q.1]]<>\"\",IFERROR(IFERROR(D651*(E651+O651)+G651*(H651+P651)+J651*(K651+Q651),D651*(E651+O651)+G651*(H651+P651)),D651*(E651+O651)),\"\")","v":""},{"$f":"IF(t_projeto[[#This Row],[Consumo_W]]<>\"\",ROUND(t_projeto[[#This Row],[Consumo_W]]/t_projeto[[#This Row],[Luminárias]],0),\"\")","v":""},{"$f":"IF(t_projeto[[#This Row],[Q.1]]<>\"\",t_projeto[[#This Row],[Q.1]]*t_projeto[[#This Row],[P.1(W)]]*$C$24,\"\")","v":""},{"$f":"IF(t_projeto[[#This Row],[Q.2]]<>\"\",t_projeto[[#This Row],[Q.2]]*t_projeto[[#This Row],[P.2(W)]]*$C$24,\"\")","v":""},{"$f":"IF(t_projeto[[#This Row],[Q.3]]<>\"\",t_projeto[[#This Row],[Q.3]]*t_projeto[[#This Row],[P.3(W)]]*$C$24,\"\")","v":""},{"$f":"IF(t_projeto[[#This Row],[Trecho]]<>\"\",SUM(t_projeto[[#This Row],[f.1]:[f.3]]),\"\")","v":""},{"$f":"IF(t_projeto[[#This Row],[Trecho]]<>\"\",t_projeto[[#This Row],[Q.1]]+t_projeto[[#This Row],[Q.2]]+t_projeto[[#This Row],[Q.3]],\"\")","v":""},{"$f":"IF(AND(t_projeto[[#This Row],[FLUXO]]<>0,t_projeto[[#This Row],[FLUXO]]<>\"\"),ROUND(t_projeto[[#This Row],[FLUXO]]/t_projeto[[#This Row],[Luminárias]],0),\"\")","v":""},{"$f":"IF(AND(t_projeto[[#This Row],[Luminárias]]<>0,t_projeto[[#This Row],[Luminárias]]<>\"\"),ROUND(t_projeto[[#This Row],[lm_médio]]/t_projeto[[#This Row],[W_médio]],2),\"\")","v":""}]
[190,{"$f":"_xlfn.XLOOKUP(t_projeto[[#This Row],[cód.]],t_sitio[cód],t_sitio[Trecho],\"\")","v":""},null,null,{"$f":"IF(t_projeto[[#This Row],[T.1]]<>\"\",_xlfn.XLOOKUP(t_projeto[[#This Row],[T.1]],$G$22:$G$26,$H$22:$H$26),\"\")","v":""},null,null,{"$f":"IF(t_projeto[[#This Row],[T.2]]<>\"\",_xlfn.XLOOKUP(t_projeto[[#This Row],[T.2]],$G$22:$G$26,$H$22:$H$26),\"\")","v":""},null,null,{"$f":"IF(t_projeto[[#This Row],[T.3]]<>\"\",_xlfn.XLOOKUP(t_projeto[[#This Row],[T.3]],$G$22:$G$26,$H$22:$H$26),\"\")","v":""},null,{"$f":"t_projeto[[#This Row],[Q.1]]+t_projeto[[#This Row],[Q.2]]+t_projeto[[#This Row],[Q.3]]","v":0},{"$f":"t_projeto[[#This Row],[Q.1]]+t_projeto[[#This Row],[Q.2]]+t_projeto[[#This Row],[Q.3]]","v":0},{"$f":"IF(t_projeto[[#This Row],[Q.1]]<>\"\",SUMIFS(t_reator[p],t_reator[tipo],t_projeto[[#This Row],[T.1]],t_reator[w],t_projeto[[#This Row],[P.1(W)]]),\"\")","v":""},{"$f":"IF(t_projeto[[#This Row],[Q.2]]<>\"\",SUMIFS(t_reator[p],t_reator[tipo],t_projeto[[#This Row],[T.2]],t_reator[w],t_projeto[[#This Row],[P.2(W)]]),\"\")","v":""},{"$f":"IF(t_projeto[[#This Row],[Q.3]]<>\"\",SUMIFS(t_reator[p],t_reator[tipo],t_projeto[[#This Row],[T.3]],t_reator[w],t_projeto[[#This Row],[P.3(W)]]),\"\")","v":""},{"$f":"IF(t_projeto[[#This Row],[Q.1]]<>\"\",IFERROR(IFERROR(D652*(E652+O652)+G652*(H652+P652)+J652*(K652+Q652),D652*(E652+O652)+G652*(H652+P652)),D652*(E652+O652)),\"\")","v":""},{"$f":"IF(t_projeto[[#This Row],[Consumo_W]]<>\"\",ROUND(t_projeto[[#This Row],[Consumo_W]]/t_projeto[[#This Row],[Luminárias]],0),\"\")","v":""},{"$f":"IF(t_projeto[[#This Row],[Q.1]]<>\"\",t_projeto[[#This Row],[Q.1]]*t_projeto[[#This Row],[P.1(W)]]*$C$24,\"\")","v":""},{"$f":"IF(t_projeto[[#This Row],[Q.2]]<>\"\",t_projeto[[#This Row],[Q.2]]*t_projeto[[#This Row],[P.2(W)]]*$C$24,\"\")","v":""},{"$f":"IF(t_projeto[[#This Row],[Q.3]]<>\"\",t_projeto[[#This Row],[Q.3]]*t_projeto[[#This Row],[P.3(W)]]*$C$24,\"\")","v":""},{"$f":"IF(t_projeto[[#This Row],[Trecho]]<>\"\",SUM(t_projeto[[#This Row],[f.1]:[f.3]]),\"\")","v":""},{"$f":"IF(t_projeto[[#This Row],[Trecho]]<>\"\",t_projeto[[#This Row],[Q.1]]+t_projeto[[#This Row],[Q.2]]+t_projeto[[#This Row],[Q.3]],\"\")","v":""},{"$f":"IF(AND(t_projeto[[#This Row],[FLUXO]]<>0,t_projeto[[#This Row],[FLUXO]]<>\"\"),ROUND(t_projeto[[#This Row],[FLUXO]]/t_projeto[[#This Row],[Luminárias]],0),\"\")","v":""},{"$f":"IF(AND(t_projeto[[#This Row],[Luminárias]]<>0,t_projeto[[#This Row],[Luminárias]]<>\"\"),ROUND(t_projeto[[#This Row],[lm_médio]]/t_projeto[[#This Row],[W_médio]],2),\"\")","v":""}]
[191,{"$f":"_xlfn.XLOOKUP(t_projeto[[#This Row],[cód.]],t_sitio[cód],t_sitio[Trecho],\"\")","v":""},null,null,{"$f":"IF(t_projeto[[#This Row],[T.1]]<>\"\",_xlfn.XLOOKUP(t_projeto[[#This Row],[T.1]],$G$22:$G$26,$H$22:$H$26),\"\")","v":""},null,null,{"$f":"IF(t_projeto[[#This Row],[T.2]]<>\"\",_xlfn.XLOOKUP(t_projeto[[#This Row],[T.2]],$G$22:$G$26,$H$22:$H$26),\"\")","v":""},null,null,{"$f":"IF(t_projeto[[#This Row],[T.3]]<>\"\",_xlfn.XLOOKUP(t_projeto[[#This Row],[T.3]],$G$22:$G$26,$H$22:$H$26),\"\")","v":""},null,{"$f":"t_projeto[[#This Row],[Q.1]]+t_projeto[[#This Row],[Q.2]]+t_projeto[[#This Row],[Q.3]]","v":0},{"$f":"t_projeto[[#This Row],[Q.1]]+t_projeto[[#This Row],[Q.2]]+t_projeto[[#This Row],[Q.3]]","v":0},{"$f":"IF(t_projeto[[#This Row],[Q.1]]<>\"\",SUMIFS(t_reator[p],t_reator[tipo],t_projeto[[#This Row],[T.1]],t_reator[w],t_projeto[[#This Row],[P.1(W)]]),\"\")","v":""},{"$f":"IF(t_projeto[[#This Row],[Q.2]]<>\"\",SUMIFS(t_reator[p],t_reator[tipo],t_projeto[[#This Row],[T.2]],t_reator[w],t_projeto[[#This Row],[P.2(W)]]),\"\")","v":""},{"$f":"IF(t_projeto[[#This Row],[Q.3]]<>\"\",SUMIFS(t_reator[p],t_reator[tipo],t_projeto[[#This Row],[T.3]],t_reator[w],t_projeto[[#This Row],[P.3(W)]]),\"\")","v":""},{"$f":"IF(t_projeto[[#This Row],[Q.1]]<>\"\",IFERROR(IFERROR(D653*(E653+O653)+G653*(H653+P653)+J653*(K653+Q653),D653*(E653+O653)+G653*(H653+P653)),D653*(E653+O653)),\"\")","v":""},{"$f":"IF(t_projeto[[#This Row],[Consumo_W]]<>\"\",ROUND(t_projeto[[#This Row],[Consumo_W]]/t_projeto[[#This Row],[Luminárias]],0),\"\")","v":""},{"$f":"IF(t_projeto[[#This Row],[Q.1]]<>\"\",t_projeto[[#This Row],[Q.1]]*t_projeto[[#This Row],[P.1(W)]]*$C$24,\"\")","v":""},{"$f":"IF(t_projeto[[#This Row],[Q.2]]<>\"\",t_projeto[[#This Row],[Q.2]]*t_projeto[[#This Row],[P.2(W)]]*$C$24,\"\")","v":""},{"$f":"IF(t_projeto[[#This Row],[Q.3]]<>\"\",t_projeto[[#This Row],[Q.3]]*t_projeto[[#This Row],[P.3(W)]]*$C$24,\"\")","v":""},{"$f":"IF(t_projeto[[#This Row],[Trecho]]<>\"\",SUM(t_projeto[[#This Row],[f.1]:[f.3]]),\"\")","v":""},{"$f":"IF(t_projeto[[#This Row],[Trecho]]<>\"\",t_projeto[[#This Row],[Q.1]]+t_projeto[[#This Row],[Q.2]]+t_projeto[[#This Row],[Q.3]],\"\")","v":""},{"$f":"IF(AND(t_projeto[[#This Row],[FLUXO]]<>0,t_projeto[[#This Row],[FLUXO]]<>\"\"),ROUND(t_projeto[[#This Row],[FLUXO]]/t_projeto[[#This Row],[Luminárias]],0),\"\")","v":""},{"$f":"IF(AND(t_projeto[[#This Row],[Luminárias]]<>0,t_projeto[[#This Row],[Luminárias]]<>\"\"),ROUND(t_projeto[[#This Row],[lm_médio]]/t_projeto[[#This Row],[W_médio]],2),\"\")","v":""}]
[192,{"$f":"_xlfn.XLOOKUP(t_projeto[[#This Row],[cód.]],t_sitio[cód],t_sitio[Trecho],\"\")","v":""},null,null,{"$f":"IF(t_projeto[[#This Row],[T.1]]<>\"\",_xlfn.XLOOKUP(t_projeto[[#This Row],[T.1]],$G$22:$G$26,$H$22:$H$26),\"\")","v":""},null,null,{"$f":"IF(t_projeto[[#This Row],[T.2]]<>\"\",_xlfn.XLOOKUP(t_projeto[[#This Row],[T.2]],$G$22:$G$26,$H$22:$H$26),\"\")","v":""},null,null,{"$f":"IF(t_projeto[[#This Row],[T.3]]<>\"\",_xlfn.XLOOKUP(t_projeto[[#This Row],[T.3]],$G$22:$G$26,$H$22:$H$26),\"\")","v":""},null,{"$f":"t_projeto[[#This Row],[Q.1]]+t_projeto[[#This Row],[Q.2]]+t_projeto[[#This Row],[Q.3]]","v":0},{"$f":"t_projeto[[#This Row],[Q.1]]+t_projeto[[#This Row],[Q.2]]+t_projeto[[#This Row],[Q.3]]","v":0},{"$f":"IF(t_projeto[[#This Row],[Q.1]]<>\"\",SUMIFS(t_reator[p],t_reator[tipo],t_projeto[[#This Row],[T.1]],t_reator[w],t_projeto[[#This Row],[P.1(W)]]),\"\")","v":""},{"$f":"IF(t_projeto[[#This Row],[Q.2]]<>\"\",SUMIFS(t_reator[p],t_reator[tipo],t_projeto[[#This Row],[T.2]],t_reator[w],t_projeto[[#This Row],[P.2(W)]]),\"\")","v":""},{"$f":"IF(t_projeto[[#This Row],[Q.3]]<>\"\",SUMIFS(t_reator[p],t_reator[tipo],t_projeto[[#This Row],[T.3]],t_reator[w],t_projeto[[#This Row],[P.3(W)]]),\"\")","v":""},{"$f":"IF(t_projeto[[#This Row],[Q.1]]<>\"\",IFERROR(IFERROR(D654*(E654+O654)+G654*(H654+P654)+J654*(K654+Q654),D654*(E654+O654)+G654*(H654+P654)),D654*(E654+O654)),\"\")","v":""},{"$f":"IF(t_projeto[[#This Row],[Consumo_W]]<>\"\",ROUND(t_projeto[[#This Row],[Consumo_W]]/t_projeto[[#This Row],[Luminárias]],0),\"\")","v":""},{"$f":"IF(t_projeto[[#This Row],[Q.1]]<>\"\",t_projeto[[#This Row],[Q.1]]*t_projeto[[#This Row],[P.1(W)]]*$C$24,\"\")","v":""},{"$f":"IF(t_projeto[[#This Row],[Q.2]]<>\"\",t_projeto[[#This Row],[Q.2]]*t_projeto[[#This Row],[P.2(W)]]*$C$24,\"\")","v":""},{"$f":"IF(t_projeto[[#This Row],[Q.3]]<>\"\",t_projeto[[#This Row],[Q.3]]*t_projeto[[#This Row],[P.3(W)]]*$C$24,\"\")","v":""},{"$f":"IF(t_projeto[[#This Row],[Trecho]]<>\"\",SUM(t_projeto[[#This Row],[f.1]:[f.3]]),\"\")","v":""},{"$f":"IF(t_projeto[[#This Row],[Trecho]]<>\"\",t_projeto[[#This Row],[Q.1]]+t_projeto[[#This Row],[Q.2]]+t_projeto[[#This Row],[Q.3]],\"\")","v":""},{"$f":"IF(AND(t_projeto[[#This Row],[FLUXO]]<>0,t_projeto[[#This Row],[FLUXO]]<>\"\"),ROUND(t_projeto[[#This Row],[FLUXO]]/t_projeto[[#This Row],[Luminárias]],0),\"\")","v":""},{"$f":"IF(AND(t_projeto[[#This Row],[Luminárias]]<>0,t_projeto[[#This Row],[Luminárias]]<>\"\"),ROUND(t_projeto[[#This Row],[lm_médio]]/t_projeto[[#This Row],[W_médio]],2),\"\")","v":""}]
[193,{"$f":"_xlfn.XLOOKUP(t_projeto[[#This Row],[cód.]],t_sitio[cód],t_sitio[Trecho],\"\")","v":""},null,null,{"$f":"IF(t_projeto[[#This Row],[T.1]]<>\"\",_xlfn.XLOOKUP(t_projeto[[#This Row],[T.1]],$G$22:$G$26,$H$22:$H$26),\"\")","v":""},null,null,{"$f":"IF(t_projeto[[#This Row],[T.2]]<>\"\",_xlfn.XLOOKUP(t_projeto[[#This Row],[T.2]],$G$22:$G$26,$H$22:$H$26),\"\")","v":""},null,null,{"$f":"IF(t_projeto[[#This Row],[T.3]]<>\"\",_xlfn.XLOOKUP(t_projeto[[#This Row],[T.3]],$G$22:$G$26,$H$22:$H$26),\"\")","v":""},null,{"$f":"t_projeto[[#This Row],[Q.1]]+t_projeto[[#This Row],[Q.2]]+t_projeto[[#This Row],[Q.3]]","v":0},{"$f":"t_projeto[[#This Row],[Q.1]]+t_projeto[[#This Row],[Q.2]]+t_projeto[[#This Row],[Q.3]]","v":0},{"$f":"IF(t_projeto[[#This Row],[Q.1]]<>\"\",SUMIFS(t_reator[p],t_reator[tipo],t_projeto[[#This Row],[T.1]],t_reator[w],t_projeto[[#This Row],[P.1(W)]]),\"\")","v":""},{"$f":"IF(t_projeto[[#This Row],[Q.2]]<>\"\",SUMIFS(t_reator[p],t_reator[tipo],t_projeto[[#This Row],[T.2]],t_reator[w],t_projeto[[#This Row],[P.2(W)]]),\"\")","v":""},{"$f":"IF(t_projeto[[#This Row],[Q.3]]<>\"\",SUMIFS(t_reator[p],t_reator[tipo],t_projeto[[#This Row],[T.3]],t_reator[w],t_projeto[[#This Row],[P.3(W)]]),\"\")","v":""},{"$f":"IF(t_projeto[[#This Row],[Q.1]]<>\"\",IFERROR(IFERROR(D655*(E655+O655)+G655*(H655+P655)+J655*(K655+Q655),D655*(E655+O655)+G655*(H655+P655)),D655*(E655+O655)),\"\")","v":""},{"$f":"IF(t_projeto[[#This Row],[Consumo_W]]<>\"\",ROUND(t_projeto[[#This Row],[Consumo_W]]/t_projeto[[#This Row],[Luminárias]],0),\"\")","v":""},{"$f":"IF(t_projeto[[#This Row],[Q.1]]<>\"\",t_projeto[[#This Row],[Q.1]]*t_projeto[[#This Row],[P.1(W)]]*$C$24,\"\")","v":""},{"$f":"IF(t_projeto[[#This Row],[Q.2]]<>\"\",t_projeto[[#This Row],[Q.2]]*t_projeto[[#This Row],[P.2(W)]]*$C$24,\"\")","v":""},{"$f":"IF(t_projeto[[#This Row],[Q.3]]<>\"\",t_projeto[[#This Row],[Q.3]]*t_projeto[[#This Row],[P.3(W)]]*$C$24,\"\")","v":""},{"$f":"IF(t_projeto[[#This Row],[Trecho]]<>\"\",SUM(t_projeto[[#This Row],[f.1]:[f.3]]),\"\")","v":""},{"$f":"IF(t_projeto[[#This Row],[Trecho]]<>\"\",t_projeto[[#This Row],[Q.1]]+t_projeto[[#This Row],[Q.2]]+t_projeto[[#This Row],[Q.3]],\"\")","v":""},{"$f":"IF(AND(t_projeto[[#This Row],[FLUXO]]<>0,t_projeto[[#This Row],[FLUXO]]<>\"\"),ROUND(t_projeto[[#This Row],[FLUXO]]/t_projeto[[#This Row],[Luminárias]],0),\"\")","v":""},{"$f":"IF(AND(t_projeto[[#This Row],[Luminárias]]<>0,t_projeto[[#This Row],[Luminárias]]<>\"\"),ROUND(t_projeto[[#This Row],[lm_médio]]/t_projeto[[#This Row],[W_médio]],2),\"\")","v":""}]
[194,{"$f":"_xlfn.XLOOKUP(t_projeto[[#This Row],[cód.]],t_sitio[cód],t_sitio[Trecho],\"\")","v":""},null,null,{"$f":"IF(t_projeto[[#This Row],[T.1]]<>\"\",_xlfn.XLOOKUP(t_projeto[[#This Row],[T.1]],$G$22:$G$26,$H$22:$H$26),\"\")","v":""},null,null,{"$f":"IF(t_projeto[[#This Row],[T.2]]<>\"\",_xlfn.XLOOKUP(t_projeto[[#This Row],[T.2]],$G$22:$G$26,$H$22:$H$26),\"\")","v":""},null,null,{"$f":"IF(t_projeto[[#This Row],[T.3]]<>\"\",_xlfn.XLOOKUP(t_projeto[[#This Row],[T.3]],$G$22:$G$26,$H$22:$H$26),\"\")","v":""},null,{"$f":"t_projeto[[#This Row],[Q.1]]+t_projeto[[#This Row],[Q.2]]+t_projeto[[#This Row],[Q.3]]","v":0},{"$f":"t_projeto[[#This Row],[Q.1]]+t_projeto[[#This Row],[Q.2]]+t_projeto[[#This Row],[Q.3]]","v":0},{"$f":"IF(t_projeto[[#This Row],[Q.1]]<>\"\",SUMIFS(t_reator[p],t_reator[tipo],t_projeto[[#This Row],[T.1]],t_reator[w],t_projeto[[#This Row],[P.1(W)]]),\"\")","v":""},{"$f":"IF(t_projeto[[#This Row],[Q.2]]<>\"\",SUMIFS(t_reator[p],t_reator[tipo],t_projeto[[#This Row],[T.2]],t_reator[w],t_projeto[[#This Row],[P.2(W)]]),\"\")","v":""},{"$f":"IF(t_projeto[[#This Row],[Q.3]]<>\"\",SUMIFS(t_reator[p],t_reator[tipo],t_projeto[[#This Row],[T.3]],t_reator[w],t_projeto[[#This Row],[P.3(W)]]),\"\")","v":""},{"$f":"IF(t_projeto[[#This Row],[Q.1]]<>\"\",IFERROR(IFERROR(D656*(E656+O656)+G656*(H656+P656)+J656*(K656+Q656),D656*(E656+O656)+G656*(H656+P656)),D656*(E656+O656)),\"\")","v":""},{"$f":"IF(t_projeto[[#This Row],[Consumo_W]]<>\"\",ROUND(t_projeto[[#This Row],[Consumo_W]]/t_projeto[[#This Row],[Luminárias]],0),\"\")","v":""},{"$f":"IF(t_projeto[[#This Row],[Q.1]]<>\"\",t_projeto[[#This Row],[Q.1]]*t_projeto[[#This Row],[P.1(W)]]*$C$24,\"\")","v":""},{"$f":"IF(t_projeto[[#This Row],[Q.2]]<>\"\",t_projeto[[#This Row],[Q.2]]*t_projeto[[#This Row],[P.2(W)]]*$C$24,\"\")","v":""},{"$f":"IF(t_projeto[[#This Row],[Q.3]]<>\"\",t_projeto[[#This Row],[Q.3]]*t_projeto[[#This Row],[P.3(W)]]*$C$24,\"\")","v":""},{"$f":"IF(t_projeto[[#This Row],[Trecho]]<>\"\",SUM(t_projeto[[#This Row],[f.1]:[f.3]]),\"\")","v":""},{"$f":"IF(t_projeto[[#This Row],[Trecho]]<>\"\",t_projeto[[#This Row],[Q.1]]+t_projeto[[#This Row],[Q.2]]+t_projeto[[#This Row],[Q.3]],\"\")","v":""},{"$f":"IF(AND(t_projeto[[#This Row],[FLUXO]]<>0,t_projeto[[#This Row],[FLUXO]]<>\"\"),ROUND(t_projeto[[#This Row],[FLUXO]]/t_projeto[[#This Row],[Luminárias]],0),\"\")","v":""},{"$f":"IF(AND(t_projeto[[#This Row],[Luminárias]]<>0,t_projeto[[#This Row],[Luminárias]]<>\"\"),ROUND(t_projeto[[#This Row],[lm_médio]]/t_projeto[[#This Row],[W_médio]],2),\"\")","v":""}]
[195,{"$f":"_xlfn.XLOOKUP(t_projeto[[#This Row],[cód.]],t_sitio[cód],t_sitio[Trecho],\"\")","v":""},null,null,{"$f":"IF(t_projeto[[#This Row],[T.1]]<>\"\",_xlfn.XLOOKUP(t_projeto[[#This Row],[T.1]],$G$22:$G$26,$H$22:$H$26),\"\")","v":""},null,null,{"$f":"IF(t_projeto[[#This Row],[T.2]]<>\"\",_xlfn.XLOOKUP(t_projeto[[#This Row],[T.2]],$G$22:$G$26,$H$22:$H$26),\"\")","v":""},null,null,{"$f":"IF(t_projeto[[#This Row],[T.3]]<>\"\",_xlfn.XLOOKUP(t_projeto[[#This Row],[T.3]],$G$22:$G$26,$H$22:$H$26),\"\")","v":""},null,{"$f":"t_projeto[[#This Row],[Q.1]]+t_projeto[[#This Row],[Q.2]]+t_projeto[[#This Row],[Q.3]]","v":0},{"$f":"t_projeto[[#This Row],[Q.1]]+t_projeto[[#This Row],[Q.2]]+t_projeto[[#This Row],[Q.3]]","v":0},{"$f":"IF(t_projeto[[#This Row],[Q.1]]<>\"\",SUMIFS(t_reator[p],t_reator[tipo],t_projeto[[#This Row],[T.1]],t_reator[w],t_projeto[[#This Row],[P.1(W)]]),\"\")","v":""},{"$f":"IF(t_projeto[[#This Row],[Q.2]]<>\"\",SUMIFS(t_reator[p],t_reator[tipo],t_projeto[[#This Row],[T.2]],t_reator[w],t_projeto[[#This Row],[P.2(W)]]),\"\")","v":""},{"$f":"IF(t_projeto[[#This Row],[Q.3]]<>\"\",SUMIFS(t_reator[p],t_reator[tipo],t_projeto[[#This Row],[T.3]],t_reator[w],t_projeto[[#This Row],[P.3(W)]]),\"\")","v":""},{"$f":"IF(t_projeto[[#This Row],[Q.1]]<>\"\",IFERROR(IFERROR(D657*(E657+O657)+G657*(H657+P657)+J657*(K657+Q657),D657*(E657+O657)+G657*(H657+P657)),D657*(E657+O657)),\"\")","v":""},{"$f":"IF(t_projeto[[#This Row],[Consumo_W]]<>\"\",ROUND(t_projeto[[#This Row],[Consumo_W]]/t_projeto[[#This Row],[Luminárias]],0),\"\")","v":""},{"$f":"IF(t_projeto[[#This Row],[Q.1]]<>\"\",t_projeto[[#This Row],[Q.1]]*t_projeto[[#This Row],[P.1(W)]]*$C$24,\"\")","v":""},{"$f":"IF(t_projeto[[#This Row],[Q.2]]<>\"\",t_projeto[[#This Row],[Q.2]]*t_projeto[[#This Row],[P.2(W)]]*$C$24,\"\")","v":""},{"$f":"IF(t_projeto[[#This Row],[Q.3]]<>\"\",t_projeto[[#This Row],[Q.3]]*t_projeto[[#This Row],[P.3(W)]]*$C$24,\"\")","v":""},{"$f":"IF(t_projeto[[#This Row],[Trecho]]<>\"\",SUM(t_projeto[[#This Row],[f.1]:[f.3]]),\"\")","v":""},{"$f":"IF(t_projeto[[#This Row],[Trecho]]<>\"\",t_projeto[[#This Row],[Q.1]]+t_projeto[[#This Row],[Q.2]]+t_projeto[[#This Row],[Q.3]],\"\")","v":""},{"$f":"IF(AND(t_projeto[[#This Row],[FLUXO]]<>0,t_projeto[[#This Row],[FLUXO]]<>\"\"),ROUND(t_projeto[[#This Row],[FLUXO]]/t_projeto[[#This Row],[Luminárias]],0),\"\")","v":""},{"$f":"IF(AND(t_projeto[[#This Row],[Luminárias]]<>0,t_projeto[[#This Row],[Luminárias]]<>\"\"),ROUND(t_projeto[[#This Row],[lm_médio]]/t_projeto[[#This Row],[W_médio]],2),\"\")","v":""}]
[196,{"$f":"_xlfn.XLOOKUP(t_projeto[[#This Row],[cód.]],t_sitio[cód],t_sitio[Trecho],\"\")","v":""},null,null,{"$f":"IF(t_projeto[[#This Row],[T.1]]<>\"\",_xlfn.XLOOKUP(t_projeto[[#This Row],[T.1]],$G$22:$G$26,$H$22:$H$26),\"\")","v":""},null,null,{"$f":"IF(t_projeto[[#This Row],[T.2]]<>\"\",_xlfn.XLOOKUP(t_projeto[[#This Row],[T.2]],$G$22:$G$26,$H$22:$H$26),\"\")","v":""},null,null,{"$f":"IF(t_projeto[[#This Row],[T.3]]<>\"\",_xlfn.XLOOKUP(t_projeto[[#This Row],[T.3]],$G$22:$G$26,$H$22:$H$26),\"\")","v":""},null,{"$f":"t_projeto[[#This Row],[Q.1]]+t_projeto[[#This Row],[Q.2]]+t_projeto[[#This Row],[Q.3]]","v":0},{"$f":"t_projeto[[#This Row],[Q.1]]+t_projeto[[#This Row],[Q.2]]+t_projeto[[#This Row],[Q.3]]","v":0},{"$f":"IF(t_projeto[[#This Row],[Q.1]]<>\"\",SUMIFS(t_reator[p],t_reator[tipo],t_projeto[[#This Row],[T.1]],t_reator[w],t_projeto[[#This Row],[P.1(W)]]),\"\")","v":""},{"$f":"IF(t_projeto[[#This Row],[Q.2]]<>\"\",SUMIFS(t_reator[p],t_reator[tipo],t_projeto[[#This Row],[T.2]],t_reator[w],t_projeto[[#This Row],[P.2(W)]]),\"\")","v":""},{"$f":"IF(t_projeto[[#This Row],[Q.3]]<>\"\",SUMIFS(t_reator[p],t_reator[tipo],t_projeto[[#This Row],[T.3]],t_reator[w],t_projeto[[#This Row],[P.3(W)]]),\"\")","v":""},{"$f":"IF(t_projeto[[#This Row],[Q.1]]<>\"\",IFERROR(IFERROR(D658*(E658+O658)+G658*(H658+P658)+J658*(K658+Q658),D658*(E658+O658)+G658*(H658+P658)),D658*(E658+O658)),\"\")","v":""},{"$f":"IF(t_projeto[[#This Row],[Consumo_W]]<>\"\",ROUND(t_projeto[[#This Row],[Consumo_W]]/t_projeto[[#This Row],[Luminárias]],0),\"\")","v":""},{"$f":"IF(t_projeto[[#This Row],[Q.1]]<>\"\",t_projeto[[#This Row],[Q.1]]*t_projeto[[#This Row],[P.1(W)]]*$C$24,\"\")","v":""},{"$f":"IF(t_projeto[[#This Row],[Q.2]]<>\"\",t_projeto[[#This Row],[Q.2]]*t_projeto[[#This Row],[P.2(W)]]*$C$24,\"\")","v":""},{"$f":"IF(t_projeto[[#This Row],[Q.3]]<>\"\",t_projeto[[#This Row],[Q.3]]*t_projeto[[#This Row],[P.3(W)]]*$C$24,\"\")","v":""},{"$f":"IF(t_projeto[[#This Row],[Trecho]]<>\"\",SUM(t_projeto[[#This Row],[f.1]:[f.3]]),\"\")","v":""},{"$f":"IF(t_projeto[[#This Row],[Trecho]]<>\"\",t_projeto[[#This Row],[Q.1]]+t_projeto[[#This Row],[Q.2]]+t_projeto[[#This Row],[Q.3]],\"\")","v":""},{"$f":"IF(AND(t_projeto[[#This Row],[FLUXO]]<>0,t_projeto[[#This Row],[FLUXO]]<>\"\"),ROUND(t_projeto[[#This Row],[FLUXO]]/t_projeto[[#This Row],[Luminárias]],0),\"\")","v":""},{"$f":"IF(AND(t_projeto[[#This Row],[Luminárias]]<>0,t_projeto[[#This Row],[Luminárias]]<>\"\"),ROUND(t_projeto[[#This Row],[lm_médio]]/t_projeto[[#This Row],[W_médio]],2),\"\")","v":""}]
[197,{"$f":"_xlfn.XLOOKUP(t_projeto[[#This Row],[cód.]],t_sitio[cód],t_sitio[Trecho],\"\")","v":""},null,null,{"$f":"IF(t_projeto[[#This Row],[T.1]]<>\"\",_xlfn.XLOOKUP(t_projeto[[#This Row],[T.1]],$G$22:$G$26,$H$22:$H$26),\"\")","v":""},null,null,{"$f":"IF(t_projeto[[#This Row],[T.2]]<>\"\",_xlfn.XLOOKUP(t_projeto[[#This Row],[T.2]],$G$22:$G$26,$H$22:$H$26),\"\")","v":""},null,null,{"$f":"IF(t_projeto[[#This Row],[T.3]]<>\"\",_xlfn.XLOOKUP(t_projeto[[#This Row],[T.3]],$G$22:$G$26,$H$22:$H$26),\"\")","v":""},null,{"$f":"t_projeto[[#This Row],[Q.1]]+t_projeto[[#This Row],[Q.2]]+t_projeto[[#This Row],[Q.3]]","v":0},{"$f":"t_projeto[[#This Row],[Q.1]]+t_projeto[[#This Row],[Q.2]]+t_projeto[[#This Row],[Q.3]]","v":0},{"$f":"IF(t_projeto[[#This Row],[Q.1]]<>\"\",SUMIFS(t_reator[p],t_reator[tipo],t_projeto[[#This Row],[T.1]],t_reator[w],t_projeto[[#This Row],[P.1(W)]]),\"\")","v":""},{"$f":"IF(t_projeto[[#This Row],[Q.2]]<>\"\",SUMIFS(t_reator[p],t_reator[tipo],t_projeto[[#This Row],[T.2]],t_reator[w],t_projeto[[#This Row],[P.2(W)]]),\"\")","v":""},{"$f":"IF(t_projeto[[#This Row],[Q.3]]<>\"\",SUMIFS(t_reator[p],t_reator[tipo],t_projeto[[#This Row],[T.3]],t_reator[w],t_projeto[[#This Row],[P.3(W)]]),\"\")","v":""},{"$f":"IF(t_projeto[[#This Row],[Q.1]]<>\"\",IFERROR(IFERROR(D659*(E659+O659)+G659*(H659+P659)+J659*(K659+Q659),D659*(E659+O659)+G659*(H659+P659)),D659*(E659+O659)),\"\")","v":""},{"$f":"IF(t_projeto[[#This Row],[Consumo_W]]<>\"\",ROUND(t_projeto[[#This Row],[Consumo_W]]/t_projeto[[#This Row],[Luminárias]],0),\"\")","v":""},{"$f":"IF(t_projeto[[#This Row],[Q.1]]<>\"\",t_projeto[[#This Row],[Q.1]]*t_projeto[[#This Row],[P.1(W)]]*$C$24,\"\")","v":""},{"$f":"IF(t_projeto[[#This Row],[Q.2]]<>\"\",t_projeto[[#This Row],[Q.2]]*t_projeto[[#This Row],[P.2(W)]]*$C$24,\"\")","v":""},{"$f":"IF(t_projeto[[#This Row],[Q.3]]<>\"\",t_projeto[[#This Row],[Q.3]]*t_projeto[[#This Row],[P.3(W)]]*$C$24,\"\")","v":""},{"$f":"IF(t_projeto[[#This Row],[Trecho]]<>\"\",SUM(t_projeto[[#This Row],[f.1]:[f.3]]),\"\")","v":""},{"$f":"IF(t_projeto[[#This Row],[Trecho]]<>\"\",t_projeto[[#This Row],[Q.1]]+t_projeto[[#This Row],[Q.2]]+t_projeto[[#This Row],[Q.3]],\"\")","v":""},{"$f":"IF(AND(t_projeto[[#This Row],[FLUXO]]<>0,t_projeto[[#This Row],[FLUXO]]<>\"\"),ROUND(t_projeto[[#This Row],[FLUXO]]/t_projeto[[#This Row],[Luminárias]],0),\"\")","v":""},{"$f":"IF(AND(t_projeto[[#This Row],[Luminárias]]<>0,t_projeto[[#This Row],[Luminárias]]<>\"\"),ROUND(t_projeto[[#This Row],[lm_médio]]/t_projeto[[#This Row],[W_médio]],2),\"\")","v":""}]
[198,{"$f":"_xlfn.XLOOKUP(t_projeto[[#This Row],[cód.]],t_sitio[cód],t_sitio[Trecho],\"\")","v":""},null,null,{"$f":"IF(t_projeto[[#This Row],[T.1]]<>\"\",_xlfn.XLOOKUP(t_projeto[[#This Row],[T.1]],$G$22:$G$26,$H$22:$H$26),\"\")","v":""},null,null,{"$f":"IF(t_projeto[[#This Row],[T.2]]<>\"\",_xlfn.XLOOKUP(t_projeto[[#This Row],[T.2]],$G$22:$G$26,$H$22:$H$26),\"\")","v":""},null,null,{"$f":"IF(t_projeto[[#This Row],[T.3]]<>\"\",_xlfn.XLOOKUP(t_projeto[[#This Row],[T.3]],$G$22:$G$26,$H$22:$H$26),\"\")","v":""},null,{"$f":"t_projeto[[#This Row],[Q.1]]+t_projeto[[#This Row],[Q.2]]+t_projeto[[#This Row],[Q.3]]","v":0},{"$f":"t_projeto[[#This Row],[Q.1]]+t_projeto[[#This Row],[Q.2]]+t_projeto[[#This Row],[Q.3]]","v":0},{"$f":"IF(t_projeto[[#This Row],[Q.1]]<>\"\",SUMIFS(t_reator[p],t_reator[tipo],t_projeto[[#This Row],[T.1]],t_reator[w],t_projeto[[#This Row],[P.1(W)]]),\"\")","v":""},{"$f":"IF(t_projeto[[#This Row],[Q.2]]<>\"\",SUMIFS(t_reator[p],t_reator[tipo],t_projeto[[#This Row],[T.2]],t_reator[w],t_projeto[[#This Row],[P.2(W)]]),\"\")","v":""},{"$f":"IF(t_projeto[[#This Row],[Q.3]]<>\"\",SUMIFS(t_reator[p],t_reator[tipo],t_projeto[[#This Row],[T.3]],t_reator[w],t_projeto[[#This Row],[P.3(W)]]),\"\")","v":""},{"$f":"IF(t_projeto[[#This Row],[Q.1]]<>\"\",IFERROR(IFERROR(D660*(E660+O660)+G660*(H660+P660)+J660*(K660+Q660),D660*(E660+O660)+G660*(H660+P660)),D660*(E660+O660)),\"\")","v":""},{"$f":"IF(t_projeto[[#This Row],[Consumo_W]]<>\"\",ROUND(t_projeto[[#This Row],[Consumo_W]]/t_projeto[[#This Row],[Luminárias]],0),\"\")","v":""},{"$f":"IF(t_projeto[[#This Row],[Q.1]]<>\"\",t_projeto[[#This Row],[Q.1]]*t_projeto[[#This Row],[P.1(W)]]*$C$24,\"\")","v":""},{"$f":"IF(t_projeto[[#This Row],[Q.2]]<>\"\",t_projeto[[#This Row],[Q.2]]*t_projeto[[#This Row],[P.2(W)]]*$C$24,\"\")","v":""},{"$f":"IF(t_projeto[[#This Row],[Q.3]]<>\"\",t_projeto[[#This Row],[Q.3]]*t_projeto[[#This Row],[P.3(W)]]*$C$24,\"\")","v":""},{"$f":"IF(t_projeto[[#This Row],[Trecho]]<>\"\",SUM(t_projeto[[#This Row],[f.1]:[f.3]]),\"\")","v":""},{"$f":"IF(t_projeto[[#This Row],[Trecho]]<>\"\",t_projeto[[#This Row],[Q.1]]+t_projeto[[#This Row],[Q.2]]+t_projeto[[#This Row],[Q.3]],\"\")","v":""},{"$f":"IF(AND(t_projeto[[#This Row],[FLUXO]]<>0,t_projeto[[#This Row],[FLUXO]]<>\"\"),ROUND(t_projeto[[#This Row],[FLUXO]]/t_projeto[[#This Row],[Luminárias]],0),\"\")","v":""},{"$f":"IF(AND(t_projeto[[#This Row],[Luminárias]]<>0,t_projeto[[#This Row],[Luminárias]]<>\"\"),ROUND(t_projeto[[#This Row],[lm_médio]]/t_projeto[[#This Row],[W_médio]],2),\"\")","v":""}]
[199,{"$f":"_xlfn.XLOOKUP(t_projeto[[#This Row],[cód.]],t_sitio[cód],t_sitio[Trecho],\"\")","v":""},null,null,{"$f":"IF(t_projeto[[#This Row],[T.1]]<>\"\",_xlfn.XLOOKUP(t_projeto[[#This Row],[T.1]],$G$22:$G$26,$H$22:$H$26),\"\")","v":""},null,null,{"$f":"IF(t_projeto[[#This Row],[T.2]]<>\"\",_xlfn.XLOOKUP(t_projeto[[#This Row],[T.2]],$G$22:$G$26,$H$22:$H$26),\"\")","v":""},null,null,{"$f":"IF(t_projeto[[#This Row],[T.3]]<>\"\",_xlfn.XLOOKUP(t_projeto[[#This Row],[T.3]],$G$22:$G$26,$H$22:$H$26),\"\")","v":""},null,{"$f":"t_projeto[[#This Row],[Q.1]]+t_projeto[[#This Row],[Q.2]]+t_projeto[[#This Row],[Q.3]]","v":0},{"$f":"t_projeto[[#This Row],[Q.1]]+t_projeto[[#This Row],[Q.2]]+t_projeto[[#This Row],[Q.3]]","v":0},{"$f":"IF(t_projeto[[#This Row],[Q.1]]<>\"\",SUMIFS(t_reator[p],t_reator[tipo],t_projeto[[#This Row],[T.1]],t_reator[w],t_projeto[[#This Row],[P.1(W)]]),\"\")","v":""},{"$f":"IF(t_projeto[[#This Row],[Q.2]]<>\"\",SUMIFS(t_reator[p],t_reator[tipo],t_projeto[[#This Row],[T.2]],t_reator[w],t_projeto[[#This Row],[P.2(W)]]),\"\")","v":""},{"$f":"IF(t_projeto[[#This Row],[Q.3]]<>\"\",SUMIFS(t_reator[p],t_reator[tipo],t_projeto[[#This Row],[T.3]],t_reator[w],t_projeto[[#This Row],[P.3(W)]]),\"\")","v":""},{"$f":"IF(t_projeto[[#This Row],[Q.1]]<>\"\",IFERROR(IFERROR(D661*(E661+O661)+G661*(H661+P661)+J661*(K661+Q661),D661*(E661+O661)+G661*(H661+P661)),D661*(E661+O661)),\"\")","v":""},{"$f":"IF(t_projeto[[#This Row],[Consumo_W]]<>\"\",ROUND(t_projeto[[#This Row],[Consumo_W]]/t_projeto[[#This Row],[Luminárias]],0),\"\")","v":""},{"$f":"IF(t_projeto[[#This Row],[Q.1]]<>\"\",t_projeto[[#This Row],[Q.1]]*t_projeto[[#This Row],[P.1(W)]]*$C$24,\"\")","v":""},{"$f":"IF(t_projeto[[#This Row],[Q.2]]<>\"\",t_projeto[[#This Row],[Q.2]]*t_projeto[[#This Row],[P.2(W)]]*$C$24,\"\")","v":""},{"$f":"IF(t_projeto[[#This Row],[Q.3]]<>\"\",t_projeto[[#This Row],[Q.3]]*t_projeto[[#This Row],[P.3(W)]]*$C$24,\"\")","v":""},{"$f":"IF(t_projeto[[#This Row],[Trecho]]<>\"\",SUM(t_projeto[[#This Row],[f.1]:[f.3]]),\"\")","v":""},{"$f":"IF(t_projeto[[#This Row],[Trecho]]<>\"\",t_projeto[[#This Row],[Q.1]]+t_projeto[[#This Row],[Q.2]]+t_projeto[[#This Row],[Q.3]],\"\")","v":""},{"$f":"IF(AND(t_projeto[[#This Row],[FLUXO]]<>0,t_projeto[[#This Row],[FLUXO]]<>\"\"),ROUND(t_projeto[[#This Row],[FLUXO]]/t_projeto[[#This Row],[Luminárias]],0),\"\")","v":""},{"$f":"IF(AND(t_projeto[[#This Row],[Luminárias]]<>0,t_projeto[[#This Row],[Luminárias]]<>\"\"),ROUND(t_projeto[[#This Row],[lm_médio]]/t_projeto[[#This Row],[W_médio]],2),\"\")","v":""}]
[200,{"$f":"_xlfn.XLOOKUP(t_projeto[[#This Row],[cód.]],t_sitio[cód],t_sitio[Trecho],\"\")","v":""},null,null,{"$f":"IF(t_projeto[[#This Row],[T.1]]<>\"\",_xlfn.XLOOKUP(t_projeto[[#This Row],[T.1]],$G$22:$G$26,$H$22:$H$26),\"\")","v":""},null,null,{"$f":"IF(t_projeto[[#This Row],[T.2]]<>\"\",_xlfn.XLOOKUP(t_projeto[[#This Row],[T.2]],$G$22:$G$26,$H$22:$H$26),\"\")","v":""},null,null,{"$f":"IF(t_projeto[[#This Row],[T.3]]<>\"\",_xlfn.XLOOKUP(t_projeto[[#This Row],[T.3]],$G$22:$G$26,$H$22:$H$26),\"\")","v":""},null,{"$f":"t_projeto[[#This Row],[Q.1]]+t_projeto[[#This Row],[Q.2]]+t_projeto[[#This Row],[Q.3]]","v":0},{"$f":"t_projeto[[#This Row],[Q.1]]+t_projeto[[#This Row],[Q.2]]+t_projeto[[#This Row],[Q.3]]","v":0},{"$f":"IF(t_projeto[[#This Row],[Q.1]]<>\"\",SUMIFS(t_reator[p],t_reator[tipo],t_projeto[[#This Row],[T.1]],t_reator[w],t_projeto[[#This Row],[P.1(W)]]),\"\")","v":""},{"$f":"IF(t_projeto[[#This Row],[Q.2]]<>\"\",SUMIFS(t_reator[p],t_reator[tipo],t_projeto[[#This Row],[T.2]],t_reator[w],t_projeto[[#This Row],[P.2(W)]]),\"\")","v":""},{"$f":"IF(t_projeto[[#This Row],[Q.3]]<>\"\",SUMIFS(t_reator[p],t_reator[tipo],t_projeto[[#This Row],[T.3]],t_reator[w],t_projeto[[#This Row],[P.3(W)]]),\"\")","v":""},{"$f":"IF(t_projeto[[#This Row],[Q.1]]<>\"\",IFERROR(IFERROR(D662*(E662+O662)+G662*(H662+P662)+J662*(K662+Q662),D662*(E662+O662)+G662*(H662+P662)),D662*(E662+O662)),\"\")","v":""},{"$f":"IF(t_projeto[[#This Row],[Consumo_W]]<>\"\",ROUND(t_projeto[[#This Row],[Consumo_W]]/t_projeto[[#This Row],[Luminárias]],0),\"\")","v":""},{"$f":"IF(t_projeto[[#This Row],[Q.1]]<>\"\",t_projeto[[#This Row],[Q.1]]*t_projeto[[#This Row],[P.1(W)]]*$C$24,\"\")","v":""},{"$f":"IF(t_projeto[[#This Row],[Q.2]]<>\"\",t_projeto[[#This Row],[Q.2]]*t_projeto[[#This Row],[P.2(W)]]*$C$24,\"\")","v":""},{"$f":"IF(t_projeto[[#This Row],[Q.3]]<>\"\",t_projeto[[#This Row],[Q.3]]*t_projeto[[#This Row],[P.3(W)]]*$C$24,\"\")","v":""},{"$f":"IF(t_projeto[[#This Row],[Trecho]]<>\"\",SUM(t_projeto[[#This Row],[f.1]:[f.3]]),\"\")","v":""},{"$f":"IF(t_projeto[[#This Row],[Trecho]]<>\"\",t_projeto[[#This Row],[Q.1]]+t_projeto[[#This Row],[Q.2]]+t_projeto[[#This Row],[Q.3]],\"\")","v":""},{"$f":"IF(AND(t_projeto[[#This Row],[FLUXO]]<>0,t_projeto[[#This Row],[FLUXO]]<>\"\"),ROUND(t_projeto[[#This Row],[FLUXO]]/t_projeto[[#This Row],[Luminárias]],0),\"\")","v":""},{"$f":"IF(AND(t_projeto[[#This Row],[Luminárias]]<>0,t_projeto[[#This Row],[Luminárias]]<>\"\"),ROUND(t_projeto[[#This Row],[lm_médio]]/t_projeto[[#This Row],[W_médio]],2),\"\")","v":""}]
[201,{"$f":"_xlfn.XLOOKUP(t_projeto[[#This Row],[cód.]],t_sitio[cód],t_sitio[Trecho],\"\")","v":""},null,null,{"$f":"IF(t_projeto[[#This Row],[T.1]]<>\"\",_xlfn.XLOOKUP(t_projeto[[#This Row],[T.1]],$G$22:$G$26,$H$22:$H$26),\"\")","v":""},null,null,{"$f":"IF(t_projeto[[#This Row],[T.2]]<>\"\",_xlfn.XLOOKUP(t_projeto[[#This Row],[T.2]],$G$22:$G$26,$H$22:$H$26),\"\")","v":""},null,null,{"$f":"IF(t_projeto[[#This Row],[T.3]]<>\"\",_xlfn.XLOOKUP(t_projeto[[#This Row],[T.3]],$G$22:$G$26,$H$22:$H$26),\"\")","v":""},null,{"$f":"t_projeto[[#This Row],[Q.1]]+t_projeto[[#This Row],[Q.2]]+t_projeto[[#This Row],[Q.3]]","v":0},{"$f":"t_projeto[[#This Row],[Q.1]]+t_projeto[[#This Row],[Q.2]]+t_projeto[[#This Row],[Q.3]]","v":0},{"$f":"IF(t_projeto[[#This Row],[Q.1]]<>\"\",SUMIFS(t_reator[p],t_reator[tipo],t_projeto[[#This Row],[T.1]],t_reator[w],t_projeto[[#This Row],[P.1(W)]]),\"\")","v":""},{"$f":"IF(t_projeto[[#This Row],[Q.2]]<>\"\",SUMIFS(t_reator[p],t_reator[tipo],t_projeto[[#This Row],[T.2]],t_reator[w],t_projeto[[#This Row],[P.2(W)]]),\"\")","v":""},{"$f":"IF(t_projeto[[#This Row],[Q.3]]<>\"\",SUMIFS(t_reator[p],t_reator[tipo],t_projeto[[#This Row],[T.3]],t_reator[w],t_projeto[[#This Row],[P.3(W)]]),\"\")","v":""},{"$f":"IF(t_projeto[[#This Row],[Q.1]]<>\"\",IFERROR(IFERROR(D663*(E663+O663)+G663*(H663+P663)+J663*(K663+Q663),D663*(E663+O663)+G663*(H663+P663)),D663*(E663+O663)),\"\")","v":""},{"$f":"IF(t_projeto[[#This Row],[Consumo_W]]<>\"\",ROUND(t_projeto[[#This Row],[Consumo_W]]/t_projeto[[#This Row],[Luminárias]],0),\"\")","v":""},{"$f":"IF(t_projeto[[#This Row],[Q.1]]<>\"\",t_projeto[[#This Row],[Q.1]]*t_projeto[[#This Row],[P.1(W)]]*$C$24,\"\")","v":""},{"$f":"IF(t_projeto[[#This Row],[Q.2]]<>\"\",t_projeto[[#This Row],[Q.2]]*t_projeto[[#This Row],[P.2(W)]]*$C$24,\"\")","v":""},{"$f":"IF(t_projeto[[#This Row],[Q.3]]<>\"\",t_projeto[[#This Row],[Q.3]]*t_projeto[[#This Row],[P.3(W)]]*$C$24,\"\")","v":""},{"$f":"IF(t_projeto[[#This Row],[Trecho]]<>\"\",SUM(t_projeto[[#This Row],[f.1]:[f.3]]),\"\")","v":""},{"$f":"IF(t_projeto[[#This Row],[Trecho]]<>\"\",t_projeto[[#This Row],[Q.1]]+t_projeto[[#This Row],[Q.2]]+t_projeto[[#This Row],[Q.3]],\"\")","v":""},{"$f":"IF(AND(t_projeto[[#This Row],[FLUXO]]<>0,t_projeto[[#This Row],[FLUXO]]<>\"\"),ROUND(t_projeto[[#This Row],[FLUXO]]/t_projeto[[#This Row],[Luminárias]],0),\"\")","v":""},{"$f":"IF(AND(t_projeto[[#This Row],[Luminárias]]<>0,t_projeto[[#This Row],[Luminárias]]<>\"\"),ROUND(t_projeto[[#This Row],[lm_médio]]/t_projeto[[#This Row],[W_médio]],2),\"\")","v":""}]
[202,{"$f":"_xlfn.XLOOKUP(t_projeto[[#This Row],[cód.]],t_sitio[cód],t_sitio[Trecho],\"\")","v":""},null,null,{"$f":"IF(t_projeto[[#This Row],[T.1]]<>\"\",_xlfn.XLOOKUP(t_projeto[[#This Row],[T.1]],$G$22:$G$26,$H$22:$H$26),\"\")","v":""},null,null,{"$f":"IF(t_projeto[[#This Row],[T.2]]<>\"\",_xlfn.XLOOKUP(t_projeto[[#This Row],[T.2]],$G$22:$G$26,$H$22:$H$26),\"\")","v":""},null,null,{"$f":"IF(t_projeto[[#This Row],[T.3]]<>\"\",_xlfn.XLOOKUP(t_projeto[[#This Row],[T.3]],$G$22:$G$26,$H$22:$H$26),\"\")","v":""},null,{"$f":"t_projeto[[#This Row],[Q.1]]+t_projeto[[#This Row],[Q.2]]+t_projeto[[#This Row],[Q.3]]","v":0},{"$f":"t_projeto[[#This Row],[Q.1]]+t_projeto[[#This Row],[Q.2]]+t_projeto[[#This Row],[Q.3]]","v":0},{"$f":"IF(t_projeto[[#This Row],[Q.1]]<>\"\",SUMIFS(t_reator[p],t_reator[tipo],t_projeto[[#This Row],[T.1]],t_reator[w],t_projeto[[#This Row],[P.1(W)]]),\"\")","v":""},{"$f":"IF(t_projeto[[#This Row],[Q.2]]<>\"\",SUMIFS(t_reator[p],t_reator[tipo],t_projeto[[#This Row],[T.2]],t_reator[w],t_projeto[[#This Row],[P.2(W)]]),\"\")","v":""},{"$f":"IF(t_projeto[[#This Row],[Q.3]]<>\"\",SUMIFS(t_reator[p],t_reator[tipo],t_projeto[[#This Row],[T.3]],t_reator[w],t_projeto[[#This Row],[P.3(W)]]),\"\")","v":""},{"$f":"IF(t_projeto[[#This Row],[Q.1]]<>\"\",IFERROR(IFERROR(D664*(E664+O664)+G664*(H664+P664)+J664*(K664+Q664),D664*(E664+O664)+G664*(H664+P664)),D664*(E664+O664)),\"\")","v":""},{"$f":"IF(t_projeto[[#This Row],[Consumo_W]]<>\"\",ROUND(t_projeto[[#This Row],[Consumo_W]]/t_projeto[[#This Row],[Luminárias]],0),\"\")","v":""},{"$f":"IF(t_projeto[[#This Row],[Q.1]]<>\"\",t_projeto[[#This Row],[Q.1]]*t_projeto[[#This Row],[P.1(W)]]*$C$24,\"\")","v":""},{"$f":"IF(t_projeto[[#This Row],[Q.2]]<>\"\",t_projeto[[#This Row],[Q.2]]*t_projeto[[#This Row],[P.2(W)]]*$C$24,\"\")","v":""},{"$f":"IF(t_projeto[[#This Row],[Q.3]]<>\"\",t_projeto[[#This Row],[Q.3]]*t_projeto[[#This Row],[P.3(W)]]*$C$24,\"\")","v":""},{"$f":"IF(t_projeto[[#This Row],[Trecho]]<>\"\",SUM(t_projeto[[#This Row],[f.1]:[f.3]]),\"\")","v":""},{"$f":"IF(t_projeto[[#This Row],[Trecho]]<>\"\",t_projeto[[#This Row],[Q.1]]+t_projeto[[#This Row],[Q.2]]+t_projeto[[#This Row],[Q.3]],\"\")","v":""},{"$f":"IF(AND(t_projeto[[#This Row],[FLUXO]]<>0,t_projeto[[#This Row],[FLUXO]]<>\"\"),ROUND(t_projeto[[#This Row],[FLUXO]]/t_projeto[[#This Row],[Luminárias]],0),\"\")","v":""},{"$f":"IF(AND(t_projeto[[#This Row],[Luminárias]]<>0,t_projeto[[#This Row],[Luminárias]]<>\"\"),ROUND(t_projeto[[#This Row],[lm_médio]]/t_projeto[[#This Row],[W_médio]],2),\"\")","v":""}]
[203,{"$f":"_xlfn.XLOOKUP(t_projeto[[#This Row],[cód.]],t_sitio[cód],t_sitio[Trecho],\"\")","v":""},null,null,{"$f":"IF(t_projeto[[#This Row],[T.1]]<>\"\",_xlfn.XLOOKUP(t_projeto[[#This Row],[T.1]],$G$22:$G$26,$H$22:$H$26),\"\")","v":""},null,null,{"$f":"IF(t_projeto[[#This Row],[T.2]]<>\"\",_xlfn.XLOOKUP(t_projeto[[#This Row],[T.2]],$G$22:$G$26,$H$22:$H$26),\"\")","v":""},null,null,{"$f":"IF(t_projeto[[#This Row],[T.3]]<>\"\",_xlfn.XLOOKUP(t_projeto[[#This Row],[T.3]],$G$22:$G$26,$H$22:$H$26),\"\")","v":""},null,{"$f":"t_projeto[[#This Row],[Q.1]]+t_projeto[[#This Row],[Q.2]]+t_projeto[[#This Row],[Q.3]]","v":0},{"$f":"t_projeto[[#This Row],[Q.1]]+t_projeto[[#This Row],[Q.2]]+t_projeto[[#This Row],[Q.3]]","v":0},{"$f":"IF(t_projeto[[#This Row],[Q.1]]<>\"\",SUMIFS(t_reator[p],t_reator[tipo],t_projeto[[#This Row],[T.1]],t_reator[w],t_projeto[[#This Row],[P.1(W)]]),\"\")","v":""},{"$f":"IF(t_projeto[[#This Row],[Q.2]]<>\"\",SUMIFS(t_reator[p],t_reator[tipo],t_projeto[[#This Row],[T.2]],t_reator[w],t_projeto[[#This Row],[P.2(W)]]),\"\")","v":""},{"$f":"IF(t_projeto[[#This Row],[Q.3]]<>\"\",SUMIFS(t_reator[p],t_reator[tipo],t_projeto[[#This Row],[T.3]],t_reator[w],t_projeto[[#This Row],[P.3(W)]]),\"\")","v":""},{"$f":"IF(t_projeto[[#This Row],[Q.1]]<>\"\",IFERROR(IFERROR(D665*(E665+O665)+G665*(H665+P665)+J665*(K665+Q665),D665*(E665+O665)+G665*(H665+P665)),D665*(E665+O665)),\"\")","v":""},{"$f":"IF(t_projeto[[#This Row],[Consumo_W]]<>\"\",ROUND(t_projeto[[#This Row],[Consumo_W]]/t_projeto[[#This Row],[Luminárias]],0),\"\")","v":""},{"$f":"IF(t_projeto[[#This Row],[Q.1]]<>\"\",t_projeto[[#This Row],[Q.1]]*t_projeto[[#This Row],[P.1(W)]]*$C$24,\"\")","v":""},{"$f":"IF(t_projeto[[#This Row],[Q.2]]<>\"\",t_projeto[[#This Row],[Q.2]]*t_projeto[[#This Row],[P.2(W)]]*$C$24,\"\")","v":""},{"$f":"IF(t_projeto[[#This Row],[Q.3]]<>\"\",t_projeto[[#This Row],[Q.3]]*t_projeto[[#This Row],[P.3(W)]]*$C$24,\"\")","v":""},{"$f":"IF(t_projeto[[#This Row],[Trecho]]<>\"\",SUM(t_projeto[[#This Row],[f.1]:[f.3]]),\"\")","v":""},{"$f":"IF(t_projeto[[#This Row],[Trecho]]<>\"\",t_projeto[[#This Row],[Q.1]]+t_projeto[[#This Row],[Q.2]]+t_projeto[[#This Row],[Q.3]],\"\")","v":""},{"$f":"IF(AND(t_projeto[[#This Row],[FLUXO]]<>0,t_projeto[[#This Row],[FLUXO]]<>\"\"),ROUND(t_projeto[[#This Row],[FLUXO]]/t_projeto[[#This Row],[Luminárias]],0),\"\")","v":""},{"$f":"IF(AND(t_projeto[[#This Row],[Luminárias]]<>0,t_projeto[[#This Row],[Luminárias]]<>\"\"),ROUND(t_projeto[[#This Row],[lm_médio]]/t_projeto[[#This Row],[W_médio]],2),\"\")","v":""}]
[204,{"$f":"_xlfn.XLOOKUP(t_projeto[[#This Row],[cód.]],t_sitio[cód],t_sitio[Trecho],\"\")","v":""},null,null,{"$f":"IF(t_projeto[[#This Row],[T.1]]<>\"\",_xlfn.XLOOKUP(t_projeto[[#This Row],[T.1]],$G$22:$G$26,$H$22:$H$26),\"\")","v":""},null,null,{"$f":"IF(t_projeto[[#This Row],[T.2]]<>\"\",_xlfn.XLOOKUP(t_projeto[[#This Row],[T.2]],$G$22:$G$26,$H$22:$H$26),\"\")","v":""},null,null,{"$f":"IF(t_projeto[[#This Row],[T.3]]<>\"\",_xlfn.XLOOKUP(t_projeto[[#This Row],[T.3]],$G$22:$G$26,$H$22:$H$26),\"\")","v":""},null,{"$f":"t_projeto[[#This Row],[Q.1]]+t_projeto[[#This Row],[Q.2]]+t_projeto[[#This Row],[Q.3]]","v":0},{"$f":"t_projeto[[#This Row],[Q.1]]+t_projeto[[#This Row],[Q.2]]+t_projeto[[#This Row],[Q.3]]","v":0},{"$f":"IF(t_projeto[[#This Row],[Q.1]]<>\"\",SUMIFS(t_reator[p],t_reator[tipo],t_projeto[[#This Row],[T.1]],t_reator[w],t_projeto[[#This Row],[P.1(W)]]),\"\")","v":""},{"$f":"IF(t_projeto[[#This Row],[Q.2]]<>\"\",SUMIFS(t_reator[p],t_reator[tipo],t_projeto[[#This Row],[T.2]],t_reator[w],t_projeto[[#This Row],[P.2(W)]]),\"\")","v":""},{"$f":"IF(t_projeto[[#This Row],[Q.3]]<>\"\",SUMIFS(t_reator[p],t_reator[tipo],t_projeto[[#This Row],[T.3]],t_reator[w],t_projeto[[#This Row],[P.3(W)]]),\"\")","v":""},{"$f":"IF(t_projeto[[#This Row],[Q.1]]<>\"\",IFERROR(IFERROR(D666*(E666+O666)+G666*(H666+P666)+J666*(K666+Q666),D666*(E666+O666)+G666*(H666+P666)),D666*(E666+O666)),\"\")","v":""},{"$f":"IF(t_projeto[[#This Row],[Consumo_W]]<>\"\",ROUND(t_projeto[[#This Row],[Consumo_W]]/t_projeto[[#This Row],[Luminárias]],0),\"\")","v":""},{"$f":"IF(t_projeto[[#This Row],[Q.1]]<>\"\",t_projeto[[#This Row],[Q.1]]*t_projeto[[#This Row],[P.1(W)]]*$C$24,\"\")","v":""},{"$f":"IF(t_projeto[[#This Row],[Q.2]]<>\"\",t_projeto[[#This Row],[Q.2]]*t_projeto[[#This Row],[P.2(W)]]*$C$24,\"\")","v":""},{"$f":"IF(t_projeto[[#This Row],[Q.3]]<>\"\",t_projeto[[#This Row],[Q.3]]*t_projeto[[#This Row],[P.3(W)]]*$C$24,\"\")","v":""},{"$f":"IF(t_projeto[[#This Row],[Trecho]]<>\"\",SUM(t_projeto[[#This Row],[f.1]:[f.3]]),\"\")","v":""},{"$f":"IF(t_projeto[[#This Row],[Trecho]]<>\"\",t_projeto[[#This Row],[Q.1]]+t_projeto[[#This Row],[Q.2]]+t_projeto[[#This Row],[Q.3]],\"\")","v":""},{"$f":"IF(AND(t_projeto[[#This Row],[FLUXO]]<>0,t_projeto[[#This Row],[FLUXO]]<>\"\"),ROUND(t_projeto[[#This Row],[FLUXO]]/t_projeto[[#This Row],[Luminárias]],0),\"\")","v":""},{"$f":"IF(AND(t_projeto[[#This Row],[Luminárias]]<>0,t_projeto[[#This Row],[Luminárias]]<>\"\"),ROUND(t_projeto[[#This Row],[lm_médio]]/t_projeto[[#This Row],[W_médio]],2),\"\")","v":""}]
[205,{"$f":"_xlfn.XLOOKUP(t_projeto[[#This Row],[cód.]],t_sitio[cód],t_sitio[Trecho],\"\")","v":""},null,null,{"$f":"IF(t_projeto[[#This Row],[T.1]]<>\"\",_xlfn.XLOOKUP(t_projeto[[#This Row],[T.1]],$G$22:$G$26,$H$22:$H$26),\"\")","v":""},null,null,{"$f":"IF(t_projeto[[#This Row],[T.2]]<>\"\",_xlfn.XLOOKUP(t_projeto[[#This Row],[T.2]],$G$22:$G$26,$H$22:$H$26),\"\")","v":""},null,null,{"$f":"IF(t_projeto[[#This Row],[T.3]]<>\"\",_xlfn.XLOOKUP(t_projeto[[#This Row],[T.3]],$G$22:$G$26,$H$22:$H$26),\"\")","v":""},null,{"$f":"t_projeto[[#This Row],[Q.1]]+t_projeto[[#This Row],[Q.2]]+t_projeto[[#This Row],[Q.3]]","v":0},{"$f":"t_projeto[[#This Row],[Q.1]]+t_projeto[[#This Row],[Q.2]]+t_projeto[[#This Row],[Q.3]]","v":0},{"$f":"IF(t_projeto[[#This Row],[Q.1]]<>\"\",SUMIFS(t_reator[p],t_reator[tipo],t_projeto[[#This Row],[T.1]],t_reator[w],t_projeto[[#This Row],[P.1(W)]]),\"\")","v":""},{"$f":"IF(t_projeto[[#This Row],[Q.2]]<>\"\",SUMIFS(t_reator[p],t_reator[tipo],t_projeto[[#This Row],[T.2]],t_reator[w],t_projeto[[#This Row],[P.2(W)]]),\"\")","v":""},{"$f":"IF(t_projeto[[#This Row],[Q.3]]<>\"\",SUMIFS(t_reator[p],t_reator[tipo],t_projeto[[#This Row],[T.3]],t_reator[w],t_projeto[[#This Row],[P.3(W)]]),\"\")","v":""},{"$f":"IF(t_projeto[[#This Row],[Q.1]]<>\"\",IFERROR(IFERROR(D667*(E667+O667)+G667*(H667+P667)+J667*(K667+Q667),D667*(E667+O667)+G667*(H667+P667)),D667*(E667+O667)),\"\")","v":""},{"$f":"IF(t_projeto[[#This Row],[Consumo_W]]<>\"\",ROUND(t_projeto[[#This Row],[Consumo_W]]/t_projeto[[#This Row],[Luminárias]],0),\"\")","v":""},{"$f":"IF(t_projeto[[#This Row],[Q.1]]<>\"\",t_projeto[[#This Row],[Q.1]]*t_projeto[[#This Row],[P.1(W)]]*$C$24,\"\")","v":""},{"$f":"IF(t_projeto[[#This Row],[Q.2]]<>\"\",t_projeto[[#This Row],[Q.2]]*t_projeto[[#This Row],[P.2(W)]]*$C$24,\"\")","v":""},{"$f":"IF(t_projeto[[#This Row],[Q.3]]<>\"\",t_projeto[[#This Row],[Q.3]]*t_projeto[[#This Row],[P.3(W)]]*$C$24,\"\")","v":""},{"$f":"IF(t_projeto[[#This Row],[Trecho]]<>\"\",SUM(t_projeto[[#This Row],[f.1]:[f.3]]),\"\")","v":""},{"$f":"IF(t_projeto[[#This Row],[Trecho]]<>\"\",t_projeto[[#This Row],[Q.1]]+t_projeto[[#This Row],[Q.2]]+t_projeto[[#This Row],[Q.3]],\"\")","v":""},{"$f":"IF(AND(t_projeto[[#This Row],[FLUXO]]<>0,t_projeto[[#This Row],[FLUXO]]<>\"\"),ROUND(t_projeto[[#This Row],[FLUXO]]/t_projeto[[#This Row],[Luminárias]],0),\"\")","v":""},{"$f":"IF(AND(t_projeto[[#This Row],[Luminárias]]<>0,t_projeto[[#This Row],[Luminárias]]<>\"\"),ROUND(t_projeto[[#This Row],[lm_médio]]/t_projeto[[#This Row],[W_médio]],2),\"\")","v":""}]
[206,{"$f":"_xlfn.XLOOKUP(t_projeto[[#This Row],[cód.]],t_sitio[cód],t_sitio[Trecho],\"\")","v":""},null,null,{"$f":"IF(t_projeto[[#This Row],[T.1]]<>\"\",_xlfn.XLOOKUP(t_projeto[[#This Row],[T.1]],$G$22:$G$26,$H$22:$H$26),\"\")","v":""},null,null,{"$f":"IF(t_projeto[[#This Row],[T.2]]<>\"\",_xlfn.XLOOKUP(t_projeto[[#This Row],[T.2]],$G$22:$G$26,$H$22:$H$26),\"\")","v":""},null,null,{"$f":"IF(t_projeto[[#This Row],[T.3]]<>\"\",_xlfn.XLOOKUP(t_projeto[[#This Row],[T.3]],$G$22:$G$26,$H$22:$H$26),\"\")","v":""},null,{"$f":"t_projeto[[#This Row],[Q.1]]+t_projeto[[#This Row],[Q.2]]+t_projeto[[#This Row],[Q.3]]","v":0},{"$f":"t_projeto[[#This Row],[Q.1]]+t_projeto[[#This Row],[Q.2]]+t_projeto[[#This Row],[Q.3]]","v":0},{"$f":"IF(t_projeto[[#This Row],[Q.1]]<>\"\",SUMIFS(t_reator[p],t_reator[tipo],t_projeto[[#This Row],[T.1]],t_reator[w],t_projeto[[#This Row],[P.1(W)]]),\"\")","v":""},{"$f":"IF(t_projeto[[#This Row],[Q.2]]<>\"\",SUMIFS(t_reator[p],t_reator[tipo],t_projeto[[#This Row],[T.2]],t_reator[w],t_projeto[[#This Row],[P.2(W)]]),\"\")","v":""},{"$f":"IF(t_projeto[[#This Row],[Q.3]]<>\"\",SUMIFS(t_reator[p],t_reator[tipo],t_projeto[[#This Row],[T.3]],t_reator[w],t_projeto[[#This Row],[P.3(W)]]),\"\")","v":""},{"$f":"IF(t_projeto[[#This Row],[Q.1]]<>\"\",IFERROR(IFERROR(D668*(E668+O668)+G668*(H668+P668)+J668*(K668+Q668),D668*(E668+O668)+G668*(H668+P668)),D668*(E668+O668)),\"\")","v":""},{"$f":"IF(t_projeto[[#This Row],[Consumo_W]]<>\"\",ROUND(t_projeto[[#This Row],[Consumo_W]]/t_projeto[[#This Row],[Luminárias]],0),\"\")","v":""},{"$f":"IF(t_projeto[[#This Row],[Q.1]]<>\"\",t_projeto[[#This Row],[Q.1]]*t_projeto[[#This Row],[P.1(W)]]*$C$24,\"\")","v":""},{"$f":"IF(t_projeto[[#This Row],[Q.2]]<>\"\",t_projeto[[#This Row],[Q.2]]*t_projeto[[#This Row],[P.2(W)]]*$C$24,\"\")","v":""},{"$f":"IF(t_projeto[[#This Row],[Q.3]]<>\"\",t_projeto[[#This Row],[Q.3]]*t_projeto[[#This Row],[P.3(W)]]*$C$24,\"\")","v":""},{"$f":"IF(t_projeto[[#This Row],[Trecho]]<>\"\",SUM(t_projeto[[#This Row],[f.1]:[f.3]]),\"\")","v":""},{"$f":"IF(t_projeto[[#This Row],[Trecho]]<>\"\",t_projeto[[#This Row],[Q.1]]+t_projeto[[#This Row],[Q.2]]+t_projeto[[#This Row],[Q.3]],\"\")","v":""},{"$f":"IF(AND(t_projeto[[#This Row],[FLUXO]]<>0,t_projeto[[#This Row],[FLUXO]]<>\"\"),ROUND(t_projeto[[#This Row],[FLUXO]]/t_projeto[[#This Row],[Luminárias]],0),\"\")","v":""},{"$f":"IF(AND(t_projeto[[#This Row],[Luminárias]]<>0,t_projeto[[#This Row],[Luminárias]]<>\"\"),ROUND(t_projeto[[#This Row],[lm_médio]]/t_projeto[[#This Row],[W_médio]],2),\"\")","v":""}]
[207,{"$f":"_xlfn.XLOOKUP(t_projeto[[#This Row],[cód.]],t_sitio[cód],t_sitio[Trecho],\"\")","v":""},null,null,{"$f":"IF(t_projeto[[#This Row],[T.1]]<>\"\",_xlfn.XLOOKUP(t_projeto[[#This Row],[T.1]],$G$22:$G$26,$H$22:$H$26),\"\")","v":""},null,null,{"$f":"IF(t_projeto[[#This Row],[T.2]]<>\"\",_xlfn.XLOOKUP(t_projeto[[#This Row],[T.2]],$G$22:$G$26,$H$22:$H$26),\"\")","v":""},null,null,{"$f":"IF(t_projeto[[#This Row],[T.3]]<>\"\",_xlfn.XLOOKUP(t_projeto[[#This Row],[T.3]],$G$22:$G$26,$H$22:$H$26),\"\")","v":""},null,{"$f":"t_projeto[[#This Row],[Q.1]]+t_projeto[[#This Row],[Q.2]]+t_projeto[[#This Row],[Q.3]]","v":0},{"$f":"t_projeto[[#This Row],[Q.1]]+t_projeto[[#This Row],[Q.2]]+t_projeto[[#This Row],[Q.3]]","v":0},{"$f":"IF(t_projeto[[#This Row],[Q.1]]<>\"\",SUMIFS(t_reator[p],t_reator[tipo],t_projeto[[#This Row],[T.1]],t_reator[w],t_projeto[[#This Row],[P.1(W)]]),\"\")","v":""},{"$f":"IF(t_projeto[[#This Row],[Q.2]]<>\"\",SUMIFS(t_reator[p],t_reator[tipo],t_projeto[[#This Row],[T.2]],t_reator[w],t_projeto[[#This Row],[P.2(W)]]),\"\")","v":""},{"$f":"IF(t_projeto[[#This Row],[Q.3]]<>\"\",SUMIFS(t_reator[p],t_reator[tipo],t_projeto[[#This Row],[T.3]],t_reator[w],t_projeto[[#This Row],[P.3(W)]]),\"\")","v":""},{"$f":"IF(t_projeto[[#This Row],[Q.1]]<>\"\",IFERROR(IFERROR(D669*(E669+O669)+G669*(H669+P669)+J669*(K669+Q669),D669*(E669+O669)+G669*(H669+P669)),D669*(E669+O669)),\"\")","v":""},{"$f":"IF(t_projeto[[#This Row],[Consumo_W]]<>\"\",ROUND(t_projeto[[#This Row],[Consumo_W]]/t_projeto[[#This Row],[Luminárias]],0),\"\")","v":""},{"$f":"IF(t_projeto[[#This Row],[Q.1]]<>\"\",t_projeto[[#This Row],[Q.1]]*t_projeto[[#This Row],[P.1(W)]]*$C$24,\"\")","v":""},{"$f":"IF(t_projeto[[#This Row],[Q.2]]<>\"\",t_projeto[[#This Row],[Q.2]]*t_projeto[[#This Row],[P.2(W)]]*$C$24,\"\")","v":""},{"$f":"IF(t_projeto[[#This Row],[Q.3]]<>\"\",t_projeto[[#This Row],[Q.3]]*t_projeto[[#This Row],[P.3(W)]]*$C$24,\"\")","v":""},{"$f":"IF(t_projeto[[#This Row],[Trecho]]<>\"\",SUM(t_projeto[[#This Row],[f.1]:[f.3]]),\"\")","v":""},{"$f":"IF(t_projeto[[#This Row],[Trecho]]<>\"\",t_projeto[[#This Row],[Q.1]]+t_projeto[[#This Row],[Q.2]]+t_projeto[[#This Row],[Q.3]],\"\")","v":""},{"$f":"IF(AND(t_projeto[[#This Row],[FLUXO]]<>0,t_projeto[[#This Row],[FLUXO]]<>\"\"),ROUND(t_projeto[[#This Row],[FLUXO]]/t_projeto[[#This Row],[Luminárias]],0),\"\")","v":""},{"$f":"IF(AND(t_projeto[[#This Row],[Luminárias]]<>0,t_projeto[[#This Row],[Luminárias]]<>\"\"),ROUND(t_projeto[[#This Row],[lm_médio]]/t_projeto[[#This Row],[W_médio]],2),\"\")","v":""}]
[208,{"$f":"_xlfn.XLOOKUP(t_projeto[[#This Row],[cód.]],t_sitio[cód],t_sitio[Trecho],\"\")","v":""},null,null,{"$f":"IF(t_projeto[[#This Row],[T.1]]<>\"\",_xlfn.XLOOKUP(t_projeto[[#This Row],[T.1]],$G$22:$G$26,$H$22:$H$26),\"\")","v":""},null,null,{"$f":"IF(t_projeto[[#This Row],[T.2]]<>\"\",_xlfn.XLOOKUP(t_projeto[[#This Row],[T.2]],$G$22:$G$26,$H$22:$H$26),\"\")","v":""},null,null,{"$f":"IF(t_projeto[[#This Row],[T.3]]<>\"\",_xlfn.XLOOKUP(t_projeto[[#This Row],[T.3]],$G$22:$G$26,$H$22:$H$26),\"\")","v":""},null,{"$f":"t_projeto[[#This Row],[Q.1]]+t_projeto[[#This Row],[Q.2]]+t_projeto[[#This Row],[Q.3]]","v":0},{"$f":"t_projeto[[#This Row],[Q.1]]+t_projeto[[#This Row],[Q.2]]+t_projeto[[#This Row],[Q.3]]","v":0},{"$f":"IF(t_projeto[[#This Row],[Q.1]]<>\"\",SUMIFS(t_reator[p],t_reator[tipo],t_projeto[[#This Row],[T.1]],t_reator[w],t_projeto[[#This Row],[P.1(W)]]),\"\")","v":""},{"$f":"IF(t_projeto[[#This Row],[Q.2]]<>\"\",SUMIFS(t_reator[p],t_reator[tipo],t_projeto[[#This Row],[T.2]],t_reator[w],t_projeto[[#This Row],[P.2(W)]]),\"\")","v":""},{"$f":"IF(t_projeto[[#This Row],[Q.3]]<>\"\",SUMIFS(t_reator[p],t_reator[tipo],t_projeto[[#This Row],[T.3]],t_reator[w],t_projeto[[#This Row],[P.3(W)]]),\"\")","v":""},{"$f":"IF(t_projeto[[#This Row],[Q.1]]<>\"\",IFERROR(IFERROR(D670*(E670+O670)+G670*(H670+P670)+J670*(K670+Q670),D670*(E670+O670)+G670*(H670+P670)),D670*(E670+O670)),\"\")","v":""},{"$f":"IF(t_projeto[[#This Row],[Consumo_W]]<>\"\",ROUND(t_projeto[[#This Row],[Consumo_W]]/t_projeto[[#This Row],[Luminárias]],0),\"\")","v":""},{"$f":"IF(t_projeto[[#This Row],[Q.1]]<>\"\",t_projeto[[#This Row],[Q.1]]*t_projeto[[#This Row],[P.1(W)]]*$C$24,\"\")","v":""},{"$f":"IF(t_projeto[[#This Row],[Q.2]]<>\"\",t_projeto[[#This Row],[Q.2]]*t_projeto[[#This Row],[P.2(W)]]*$C$24,\"\")","v":""},{"$f":"IF(t_projeto[[#This Row],[Q.3]]<>\"\",t_projeto[[#This Row],[Q.3]]*t_projeto[[#This Row],[P.3(W)]]*$C$24,\"\")","v":""},{"$f":"IF(t_projeto[[#This Row],[Trecho]]<>\"\",SUM(t_projeto[[#This Row],[f.1]:[f.3]]),\"\")","v":""},{"$f":"IF(t_projeto[[#This Row],[Trecho]]<>\"\",t_projeto[[#This Row],[Q.1]]+t_projeto[[#This Row],[Q.2]]+t_projeto[[#This Row],[Q.3]],\"\")","v":""},{"$f":"IF(AND(t_projeto[[#This Row],[FLUXO]]<>0,t_projeto[[#This Row],[FLUXO]]<>\"\"),ROUND(t_projeto[[#This Row],[FLUXO]]/t_projeto[[#This Row],[Luminárias]],0),\"\")","v":""},{"$f":"IF(AND(t_projeto[[#This Row],[Luminárias]]<>0,t_projeto[[#This Row],[Luminárias]]<>\"\"),ROUND(t_projeto[[#This Row],[lm_médio]]/t_projeto[[#This Row],[W_médio]],2),\"\")","v":""}]
[209,{"$f":"_xlfn.XLOOKUP(t_projeto[[#This Row],[cód.]],t_sitio[cód],t_sitio[Trecho],\"\")","v":""},null,null,{"$f":"IF(t_projeto[[#This Row],[T.1]]<>\"\",_xlfn.XLOOKUP(t_projeto[[#This Row],[T.1]],$G$22:$G$26,$H$22:$H$26),\"\")","v":""},null,null,{"$f":"IF(t_projeto[[#This Row],[T.2]]<>\"\",_xlfn.XLOOKUP(t_projeto[[#This Row],[T.2]],$G$22:$G$26,$H$22:$H$26),\"\")","v":""},null,null,{"$f":"IF(t_projeto[[#This Row],[T.3]]<>\"\",_xlfn.XLOOKUP(t_projeto[[#This Row],[T.3]],$G$22:$G$26,$H$22:$H$26),\"\")","v":""},null,{"$f":"t_projeto[[#This Row],[Q.1]]+t_projeto[[#This Row],[Q.2]]+t_projeto[[#This Row],[Q.3]]","v":0},{"$f":"t_projeto[[#This Row],[Q.1]]+t_projeto[[#This Row],[Q.2]]+t_projeto[[#This Row],[Q.3]]","v":0},{"$f":"IF(t_projeto[[#This Row],[Q.1]]<>\"\",SUMIFS(t_reator[p],t_reator[tipo],t_projeto[[#This Row],[T.1]],t_reator[w],t_projeto[[#This Row],[P.1(W)]]),\"\")","v":""},{"$f":"IF(t_projeto[[#This Row],[Q.2]]<>\"\",SUMIFS(t_reator[p],t_reator[tipo],t_projeto[[#This Row],[T.2]],t_reator[w],t_projeto[[#This Row],[P.2(W)]]),\"\")","v":""},{"$f":"IF(t_projeto[[#This Row],[Q.3]]<>\"\",SUMIFS(t_reator[p],t_reator[tipo],t_projeto[[#This Row],[T.3]],t_reator[w],t_projeto[[#This Row],[P.3(W)]]),\"\")","v":""},{"$f":"IF(t_projeto[[#This Row],[Q.1]]<>\"\",IFERROR(IFERROR(D671*(E671+O671)+G671*(H671+P671)+J671*(K671+Q671),D671*(E671+O671)+G671*(H671+P671)),D671*(E671+O671)),\"\")","v":""},{"$f":"IF(t_projeto[[#This Row],[Consumo_W]]<>\"\",ROUND(t_projeto[[#This Row],[Consumo_W]]/t_projeto[[#This Row],[Luminárias]],0),\"\")","v":""},{"$f":"IF(t_projeto[[#This Row],[Q.1]]<>\"\",t_projeto[[#This Row],[Q.1]]*t_projeto[[#This Row],[P.1(W)]]*$C$24,\"\")","v":""},{"$f":"IF(t_projeto[[#This Row],[Q.2]]<>\"\",t_projeto[[#This Row],[Q.2]]*t_projeto[[#This Row],[P.2(W)]]*$C$24,\"\")","v":""},{"$f":"IF(t_projeto[[#This Row],[Q.3]]<>\"\",t_projeto[[#This Row],[Q.3]]*t_projeto[[#This Row],[P.3(W)]]*$C$24,\"\")","v":""},{"$f":"IF(t_projeto[[#This Row],[Trecho]]<>\"\",SUM(t_projeto[[#This Row],[f.1]:[f.3]]),\"\")","v":""},{"$f":"IF(t_projeto[[#This Row],[Trecho]]<>\"\",t_projeto[[#This Row],[Q.1]]+t_projeto[[#This Row],[Q.2]]+t_projeto[[#This Row],[Q.3]],\"\")","v":""},{"$f":"IF(AND(t_projeto[[#This Row],[FLUXO]]<>0,t_projeto[[#This Row],[FLUXO]]<>\"\"),ROUND(t_projeto[[#This Row],[FLUXO]]/t_projeto[[#This Row],[Luminárias]],0),\"\")","v":""},{"$f":"IF(AND(t_projeto[[#This Row],[Luminárias]]<>0,t_projeto[[#This Row],[Luminárias]]<>\"\"),ROUND(t_projeto[[#This Row],[lm_médio]]/t_projeto[[#This Row],[W_médio]],2),\"\")","v":""}]
[210,{"$f":"_xlfn.XLOOKUP(t_projeto[[#This Row],[cód.]],t_sitio[cód],t_sitio[Trecho],\"\")","v":""},null,null,{"$f":"IF(t_projeto[[#This Row],[T.1]]<>\"\",_xlfn.XLOOKUP(t_projeto[[#This Row],[T.1]],$G$22:$G$26,$H$22:$H$26),\"\")","v":""},null,null,{"$f":"IF(t_projeto[[#This Row],[T.2]]<>\"\",_xlfn.XLOOKUP(t_projeto[[#This Row],[T.2]],$G$22:$G$26,$H$22:$H$26),\"\")","v":""},null,null,{"$f":"IF(t_projeto[[#This Row],[T.3]]<>\"\",_xlfn.XLOOKUP(t_projeto[[#This Row],[T.3]],$G$22:$G$26,$H$22:$H$26),\"\")","v":""},null,{"$f":"t_projeto[[#This Row],[Q.1]]+t_projeto[[#This Row],[Q.2]]+t_projeto[[#This Row],[Q.3]]","v":0},{"$f":"t_projeto[[#This Row],[Q.1]]+t_projeto[[#This Row],[Q.2]]+t_projeto[[#This Row],[Q.3]]","v":0},{"$f":"IF(t_projeto[[#This Row],[Q.1]]<>\"\",SUMIFS(t_reator[p],t_reator[tipo],t_projeto[[#This Row],[T.1]],t_reator[w],t_projeto[[#This Row],[P.1(W)]]),\"\")","v":""},{"$f":"IF(t_projeto[[#This Row],[Q.2]]<>\"\",SUMIFS(t_reator[p],t_reator[tipo],t_projeto[[#This Row],[T.2]],t_reator[w],t_projeto[[#This Row],[P.2(W)]]),\"\")","v":""},{"$f":"IF(t_projeto[[#This Row],[Q.3]]<>\"\",SUMIFS(t_reator[p],t_reator[tipo],t_projeto[[#This Row],[T.3]],t_reator[w],t_projeto[[#This Row],[P.3(W)]]),\"\")","v":""},{"$f":"IF(t_projeto[[#This Row],[Q.1]]<>\"\",IFERROR(IFERROR(D672*(E672+O672)+G672*(H672+P672)+J672*(K672+Q672),D672*(E672+O672)+G672*(H672+P672)),D672*(E672+O672)),\"\")","v":""},{"$f":"IF(t_projeto[[#This Row],[Consumo_W]]<>\"\",ROUND(t_projeto[[#This Row],[Consumo_W]]/t_projeto[[#This Row],[Luminárias]],0),\"\")","v":""},{"$f":"IF(t_projeto[[#This Row],[Q.1]]<>\"\",t_projeto[[#This Row],[Q.1]]*t_projeto[[#This Row],[P.1(W)]]*$C$24,\"\")","v":""},{"$f":"IF(t_projeto[[#This Row],[Q.2]]<>\"\",t_projeto[[#This Row],[Q.2]]*t_projeto[[#This Row],[P.2(W)]]*$C$24,\"\")","v":""},{"$f":"IF(t_projeto[[#This Row],[Q.3]]<>\"\",t_projeto[[#This Row],[Q.3]]*t_projeto[[#This Row],[P.3(W)]]*$C$24,\"\")","v":""},{"$f":"IF(t_projeto[[#This Row],[Trecho]]<>\"\",SUM(t_projeto[[#This Row],[f.1]:[f.3]]),\"\")","v":""},{"$f":"IF(t_projeto[[#This Row],[Trecho]]<>\"\",t_projeto[[#This Row],[Q.1]]+t_projeto[[#This Row],[Q.2]]+t_projeto[[#This Row],[Q.3]],\"\")","v":""},{"$f":"IF(AND(t_projeto[[#This Row],[FLUXO]]<>0,t_projeto[[#This Row],[FLUXO]]<>\"\"),ROUND(t_projeto[[#This Row],[FLUXO]]/t_projeto[[#This Row],[Luminárias]],0),\"\")","v":""},{"$f":"IF(AND(t_projeto[[#This Row],[Luminárias]]<>0,t_projeto[[#This Row],[Luminárias]]<>\"\"),ROUND(t_projeto[[#This Row],[lm_médio]]/t_projeto[[#This Row],[W_médio]],2),\"\")","v":""}]
[211,{"$f":"_xlfn.XLOOKUP(t_projeto[[#This Row],[cód.]],t_sitio[cód],t_sitio[Trecho],\"\")","v":""},null,null,{"$f":"IF(t_projeto[[#This Row],[T.1]]<>\"\",_xlfn.XLOOKUP(t_projeto[[#This Row],[T.1]],$G$22:$G$26,$H$22:$H$26),\"\")","v":""},null,null,{"$f":"IF(t_projeto[[#This Row],[T.2]]<>\"\",_xlfn.XLOOKUP(t_projeto[[#This Row],[T.2]],$G$22:$G$26,$H$22:$H$26),\"\")","v":""},null,null,{"$f":"IF(t_projeto[[#This Row],[T.3]]<>\"\",_xlfn.XLOOKUP(t_projeto[[#This Row],[T.3]],$G$22:$G$26,$H$22:$H$26),\"\")","v":""},null,{"$f":"t_projeto[[#This Row],[Q.1]]+t_projeto[[#This Row],[Q.2]]+t_projeto[[#This Row],[Q.3]]","v":0},{"$f":"t_projeto[[#This Row],[Q.1]]+t_projeto[[#This Row],[Q.2]]+t_projeto[[#This Row],[Q.3]]","v":0},{"$f":"IF(t_projeto[[#This Row],[Q.1]]<>\"\",SUMIFS(t_reator[p],t_reator[tipo],t_projeto[[#This Row],[T.1]],t_reator[w],t_projeto[[#This Row],[P.1(W)]]),\"\")","v":""},{"$f":"IF(t_projeto[[#This Row],[Q.2]]<>\"\",SUMIFS(t_reator[p],t_reator[tipo],t_projeto[[#This Row],[T.2]],t_reator[w],t_projeto[[#This Row],[P.2(W)]]),\"\")","v":""},{"$f":"IF(t_projeto[[#This Row],[Q.3]]<>\"\",SUMIFS(t_reator[p],t_reator[tipo],t_projeto[[#This Row],[T.3]],t_reator[w],t_projeto[[#This Row],[P.3(W)]]),\"\")","v":""},{"$f":"IF(t_projeto[[#This Row],[Q.1]]<>\"\",IFERROR(IFERROR(D673*(E673+O673)+G673*(H673+P673)+J673*(K673+Q673),D673*(E673+O673)+G673*(H673+P673)),D673*(E673+O673)),\"\")","v":""},{"$f":"IF(t_projeto[[#This Row],[Consumo_W]]<>\"\",ROUND(t_projeto[[#This Row],[Consumo_W]]/t_projeto[[#This Row],[Luminárias]],0),\"\")","v":""},{"$f":"IF(t_projeto[[#This Row],[Q.1]]<>\"\",t_projeto[[#This Row],[Q.1]]*t_projeto[[#This Row],[P.1(W)]]*$C$24,\"\")","v":""},{"$f":"IF(t_projeto[[#This Row],[Q.2]]<>\"\",t_projeto[[#This Row],[Q.2]]*t_projeto[[#This Row],[P.2(W)]]*$C$24,\"\")","v":""},{"$f":"IF(t_projeto[[#This Row],[Q.3]]<>\"\",t_projeto[[#This Row],[Q.3]]*t_projeto[[#This Row],[P.3(W)]]*$C$24,\"\")","v":""},{"$f":"IF(t_projeto[[#This Row],[Trecho]]<>\"\",SUM(t_projeto[[#This Row],[f.1]:[f.3]]),\"\")","v":""},{"$f":"IF(t_projeto[[#This Row],[Trecho]]<>\"\",t_projeto[[#This Row],[Q.1]]+t_projeto[[#This Row],[Q.2]]+t_projeto[[#This Row],[Q.3]],\"\")","v":""},{"$f":"IF(AND(t_projeto[[#This Row],[FLUXO]]<>0,t_projeto[[#This Row],[FLUXO]]<>\"\"),ROUND(t_projeto[[#This Row],[FLUXO]]/t_projeto[[#This Row],[Luminárias]],0),\"\")","v":""},{"$f":"IF(AND(t_projeto[[#This Row],[Luminárias]]<>0,t_projeto[[#This Row],[Luminárias]]<>\"\"),ROUND(t_projeto[[#This Row],[lm_médio]]/t_projeto[[#This Row],[W_médio]],2),\"\")","v":""}]
[212,{"$f":"_xlfn.XLOOKUP(t_projeto[[#This Row],[cód.]],t_sitio[cód],t_sitio[Trecho],\"\")","v":""},null,null,{"$f":"IF(t_projeto[[#This Row],[T.1]]<>\"\",_xlfn.XLOOKUP(t_projeto[[#This Row],[T.1]],$G$22:$G$26,$H$22:$H$26),\"\")","v":""},null,null,{"$f":"IF(t_projeto[[#This Row],[T.2]]<>\"\",_xlfn.XLOOKUP(t_projeto[[#This Row],[T.2]],$G$22:$G$26,$H$22:$H$26),\"\")","v":""},null,null,{"$f":"IF(t_projeto[[#This Row],[T.3]]<>\"\",_xlfn.XLOOKUP(t_projeto[[#This Row],[T.3]],$G$22:$G$26,$H$22:$H$26),\"\")","v":""},null,{"$f":"t_projeto[[#This Row],[Q.1]]+t_projeto[[#This Row],[Q.2]]+t_projeto[[#This Row],[Q.3]]","v":0},{"$f":"t_projeto[[#This Row],[Q.1]]+t_projeto[[#This Row],[Q.2]]+t_projeto[[#This Row],[Q.3]]","v":0},{"$f":"IF(t_projeto[[#This Row],[Q.1]]<>\"\",SUMIFS(t_reator[p],t_reator[tipo],t_projeto[[#This Row],[T.1]],t_reator[w],t_projeto[[#This Row],[P.1(W)]]),\"\")","v":""},{"$f":"IF(t_projeto[[#This Row],[Q.2]]<>\"\",SUMIFS(t_reator[p],t_reator[tipo],t_projeto[[#This Row],[T.2]],t_reator[w],t_projeto[[#This Row],[P.2(W)]]),\"\")","v":""},{"$f":"IF(t_projeto[[#This Row],[Q.3]]<>\"\",SUMIFS(t_reator[p],t_reator[tipo],t_projeto[[#This Row],[T.3]],t_reator[w],t_projeto[[#This Row],[P.3(W)]]),\"\")","v":""},{"$f":"IF(t_projeto[[#This Row],[Q.1]]<>\"\",IFERROR(IFERROR(D674*(E674+O674)+G674*(H674+P674)+J674*(K674+Q674),D674*(E674+O674)+G674*(H674+P674)),D674*(E674+O674)),\"\")","v":""},{"$f":"IF(t_projeto[[#This Row],[Consumo_W]]<>\"\",ROUND(t_projeto[[#This Row],[Consumo_W]]/t_projeto[[#This Row],[Luminárias]],0),\"\")","v":""},{"$f":"IF(t_projeto[[#This Row],[Q.1]]<>\"\",t_projeto[[#This Row],[Q.1]]*t_projeto[[#This Row],[P.1(W)]]*$C$24,\"\")","v":""},{"$f":"IF(t_projeto[[#This Row],[Q.2]]<>\"\",t_projeto[[#This Row],[Q.2]]*t_projeto[[#This Row],[P.2(W)]]*$C$24,\"\")","v":""},{"$f":"IF(t_projeto[[#This Row],[Q.3]]<>\"\",t_projeto[[#This Row],[Q.3]]*t_projeto[[#This Row],[P.3(W)]]*$C$24,\"\")","v":""},{"$f":"IF(t_projeto[[#This Row],[Trecho]]<>\"\",SUM(t_projeto[[#This Row],[f.1]:[f.3]]),\"\")","v":""},{"$f":"IF(t_projeto[[#This Row],[Trecho]]<>\"\",t_projeto[[#This Row],[Q.1]]+t_projeto[[#This Row],[Q.2]]+t_projeto[[#This Row],[Q.3]],\"\")","v":""},{"$f":"IF(AND(t_projeto[[#This Row],[FLUXO]]<>0,t_projeto[[#This Row],[FLUXO]]<>\"\"),ROUND(t_projeto[[#This Row],[FLUXO]]/t_projeto[[#This Row],[Luminárias]],0),\"\")","v":""},{"$f":"IF(AND(t_projeto[[#This Row],[Luminárias]]<>0,t_projeto[[#This Row],[Luminárias]]<>\"\"),ROUND(t_projeto[[#This Row],[lm_médio]]/t_projeto[[#This Row],[W_médio]],2),\"\")","v":""}]
[213,{"$f":"_xlfn.XLOOKUP(t_projeto[[#This Row],[cód.]],t_sitio[cód],t_sitio[Trecho],\"\")","v":""},null,null,{"$f":"IF(t_projeto[[#This Row],[T.1]]<>\"\",_xlfn.XLOOKUP(t_projeto[[#This Row],[T.1]],$G$22:$G$26,$H$22:$H$26),\"\")","v":""},null,null,{"$f":"IF(t_projeto[[#This Row],[T.2]]<>\"\",_xlfn.XLOOKUP(t_projeto[[#This Row],[T.2]],$G$22:$G$26,$H$22:$H$26),\"\")","v":""},null,null,{"$f":"IF(t_projeto[[#This Row],[T.3]]<>\"\",_xlfn.XLOOKUP(t_projeto[[#This Row],[T.3]],$G$22:$G$26,$H$22:$H$26),\"\")","v":""},null,{"$f":"t_projeto[[#This Row],[Q.1]]+t_projeto[[#This Row],[Q.2]]+t_projeto[[#This Row],[Q.3]]","v":0},{"$f":"t_projeto[[#This Row],[Q.1]]+t_projeto[[#This Row],[Q.2]]+t_projeto[[#This Row],[Q.3]]","v":0},{"$f":"IF(t_projeto[[#This Row],[Q.1]]<>\"\",SUMIFS(t_reator[p],t_reator[tipo],t_projeto[[#This Row],[T.1]],t_reator[w],t_projeto[[#This Row],[P.1(W)]]),\"\")","v":""},{"$f":"IF(t_projeto[[#This Row],[Q.2]]<>\"\",SUMIFS(t_reator[p],t_reator[tipo],t_projeto[[#This Row],[T.2]],t_reator[w],t_projeto[[#This Row],[P.2(W)]]),\"\")","v":""},{"$f":"IF(t_projeto[[#This Row],[Q.3]]<>\"\",SUMIFS(t_reator[p],t_reator[tipo],t_projeto[[#This Row],[T.3]],t_reator[w],t_projeto[[#This Row],[P.3(W)]]),\"\")","v":""},{"$f":"IF(t_projeto[[#This Row],[Q.1]]<>\"\",IFERROR(IFERROR(D675*(E675+O675)+G675*(H675+P675)+J675*(K675+Q675),D675*(E675+O675)+G675*(H675+P675)),D675*(E675+O675)),\"\")","v":""},{"$f":"IF(t_projeto[[#This Row],[Consumo_W]]<>\"\",ROUND(t_projeto[[#This Row],[Consumo_W]]/t_projeto[[#This Row],[Luminárias]],0),\"\")","v":""},{"$f":"IF(t_projeto[[#This Row],[Q.1]]<>\"\",t_projeto[[#This Row],[Q.1]]*t_projeto[[#This Row],[P.1(W)]]*$C$24,\"\")","v":""},{"$f":"IF(t_projeto[[#This Row],[Q.2]]<>\"\",t_projeto[[#This Row],[Q.2]]*t_projeto[[#This Row],[P.2(W)]]*$C$24,\"\")","v":""},{"$f":"IF(t_projeto[[#This Row],[Q.3]]<>\"\",t_projeto[[#This Row],[Q.3]]*t_projeto[[#This Row],[P.3(W)]]*$C$24,\"\")","v":""},{"$f":"IF(t_projeto[[#This Row],[Trecho]]<>\"\",SUM(t_projeto[[#This Row],[f.1]:[f.3]]),\"\")","v":""},{"$f":"IF(t_projeto[[#This Row],[Trecho]]<>\"\",t_projeto[[#This Row],[Q.1]]+t_projeto[[#This Row],[Q.2]]+t_projeto[[#This Row],[Q.3]],\"\")","v":""},{"$f":"IF(AND(t_projeto[[#This Row],[FLUXO]]<>0,t_projeto[[#This Row],[FLUXO]]<>\"\"),ROUND(t_projeto[[#This Row],[FLUXO]]/t_projeto[[#This Row],[Luminárias]],0),\"\")","v":""},{"$f":"IF(AND(t_projeto[[#This Row],[Luminárias]]<>0,t_projeto[[#This Row],[Luminárias]]<>\"\"),ROUND(t_projeto[[#This Row],[lm_médio]]/t_projeto[[#This Row],[W_médio]],2),\"\")","v":""}]
[214,{"$f":"_xlfn.XLOOKUP(t_projeto[[#This Row],[cód.]],t_sitio[cód],t_sitio[Trecho],\"\")","v":""},null,null,{"$f":"IF(t_projeto[[#This Row],[T.1]]<>\"\",_xlfn.XLOOKUP(t_projeto[[#This Row],[T.1]],$G$22:$G$26,$H$22:$H$26),\"\")","v":""},null,null,{"$f":"IF(t_projeto[[#This Row],[T.2]]<>\"\",_xlfn.XLOOKUP(t_projeto[[#This Row],[T.2]],$G$22:$G$26,$H$22:$H$26),\"\")","v":""},null,null,{"$f":"IF(t_projeto[[#This Row],[T.3]]<>\"\",_xlfn.XLOOKUP(t_projeto[[#This Row],[T.3]],$G$22:$G$26,$H$22:$H$26),\"\")","v":""},null,{"$f":"t_projeto[[#This Row],[Q.1]]+t_projeto[[#This Row],[Q.2]]+t_projeto[[#This Row],[Q.3]]","v":0},{"$f":"t_projeto[[#This Row],[Q.1]]+t_projeto[[#This Row],[Q.2]]+t_projeto[[#This Row],[Q.3]]","v":0},{"$f":"IF(t_projeto[[#This Row],[Q.1]]<>\"\",SUMIFS(t_reator[p],t_reator[tipo],t_projeto[[#This Row],[T.1]],t_reator[w],t_projeto[[#This Row],[P.1(W)]]),\"\")","v":""},{"$f":"IF(t_projeto[[#This Row],[Q.2]]<>\"\",SUMIFS(t_reator[p],t_reator[tipo],t_projeto[[#This Row],[T.2]],t_reator[w],t_projeto[[#This Row],[P.2(W)]]),\"\")","v":""},{"$f":"IF(t_projeto[[#This Row],[Q.3]]<>\"\",SUMIFS(t_reator[p],t_reator[tipo],t_projeto[[#This Row],[T.3]],t_reator[w],t_projeto[[#This Row],[P.3(W)]]),\"\")","v":""},{"$f":"IF(t_projeto[[#This Row],[Q.1]]<>\"\",IFERROR(IFERROR(D676*(E676+O676)+G676*(H676+P676)+J676*(K676+Q676),D676*(E676+O676)+G676*(H676+P676)),D676*(E676+O676)),\"\")","v":""},{"$f":"IF(t_projeto[[#This Row],[Consumo_W]]<>\"\",ROUND(t_projeto[[#This Row],[Consumo_W]]/t_projeto[[#This Row],[Luminárias]],0),\"\")","v":""},{"$f":"IF(t_projeto[[#This Row],[Q.1]]<>\"\",t_projeto[[#This Row],[Q.1]]*t_projeto[[#This Row],[P.1(W)]]*$C$24,\"\")","v":""},{"$f":"IF(t_projeto[[#This Row],[Q.2]]<>\"\",t_projeto[[#This Row],[Q.2]]*t_projeto[[#This Row],[P.2(W)]]*$C$24,\"\")","v":""},{"$f":"IF(t_projeto[[#This Row],[Q.3]]<>\"\",t_projeto[[#This Row],[Q.3]]*t_projeto[[#This Row],[P.3(W)]]*$C$24,\"\")","v":""},{"$f":"IF(t_projeto[[#This Row],[Trecho]]<>\"\",SUM(t_projeto[[#This Row],[f.1]:[f.3]]),\"\")","v":""},{"$f":"IF(t_projeto[[#This Row],[Trecho]]<>\"\",t_projeto[[#This Row],[Q.1]]+t_projeto[[#This Row],[Q.2]]+t_projeto[[#This Row],[Q.3]],\"\")","v":""},{"$f":"IF(AND(t_projeto[[#This Row],[FLUXO]]<>0,t_projeto[[#This Row],[FLUXO]]<>\"\"),ROUND(t_projeto[[#This Row],[FLUXO]]/t_projeto[[#This Row],[Luminárias]],0),\"\")","v":""},{"$f":"IF(AND(t_projeto[[#This Row],[Luminárias]]<>0,t_projeto[[#This Row],[Luminárias]]<>\"\"),ROUND(t_projeto[[#This Row],[lm_médio]]/t_projeto[[#This Row],[W_médio]],2),\"\")","v":""}]
[215,{"$f":"_xlfn.XLOOKUP(t_projeto[[#This Row],[cód.]],t_sitio[cód],t_sitio[Trecho],\"\")","v":""},null,null,{"$f":"IF(t_projeto[[#This Row],[T.1]]<>\"\",_xlfn.XLOOKUP(t_projeto[[#This Row],[T.1]],$G$22:$G$26,$H$22:$H$26),\"\")","v":""},null,null,{"$f":"IF(t_projeto[[#This Row],[T.2]]<>\"\",_xlfn.XLOOKUP(t_projeto[[#This Row],[T.2]],$G$22:$G$26,$H$22:$H$26),\"\")","v":""},null,null,{"$f":"IF(t_projeto[[#This Row],[T.3]]<>\"\",_xlfn.XLOOKUP(t_projeto[[#This Row],[T.3]],$G$22:$G$26,$H$22:$H$26),\"\")","v":""},null,{"$f":"t_projeto[[#This Row],[Q.1]]+t_projeto[[#This Row],[Q.2]]+t_projeto[[#This Row],[Q.3]]","v":0},{"$f":"t_projeto[[#This Row],[Q.1]]+t_projeto[[#This Row],[Q.2]]+t_projeto[[#This Row],[Q.3]]","v":0},{"$f":"IF(t_projeto[[#This Row],[Q.1]]<>\"\",SUMIFS(t_reator[p],t_reator[tipo],t_projeto[[#This Row],[T.1]],t_reator[w],t_projeto[[#This Row],[P.1(W)]]),\"\")","v":""},{"$f":"IF(t_projeto[[#This Row],[Q.2]]<>\"\",SUMIFS(t_reator[p],t_reator[tipo],t_projeto[[#This Row],[T.2]],t_reator[w],t_projeto[[#This Row],[P.2(W)]]),\"\")","v":""},{"$f":"IF(t_projeto[[#This Row],[Q.3]]<>\"\",SUMIFS(t_reator[p],t_reator[tipo],t_projeto[[#This Row],[T.3]],t_reator[w],t_projeto[[#This Row],[P.3(W)]]),\"\")","v":""},{"$f":"IF(t_projeto[[#This Row],[Q.1]]<>\"\",IFERROR(IFERROR(D677*(E677+O677)+G677*(H677+P677)+J677*(K677+Q677),D677*(E677+O677)+G677*(H677+P677)),D677*(E677+O677)),\"\")","v":""},{"$f":"IF(t_projeto[[#This Row],[Consumo_W]]<>\"\",ROUND(t_projeto[[#This Row],[Consumo_W]]/t_projeto[[#This Row],[Luminárias]],0),\"\")","v":""},{"$f":"IF(t_projeto[[#This Row],[Q.1]]<>\"\",t_projeto[[#This Row],[Q.1]]*t_projeto[[#This Row],[P.1(W)]]*$C$24,\"\")","v":""},{"$f":"IF(t_projeto[[#This Row],[Q.2]]<>\"\",t_projeto[[#This Row],[Q.2]]*t_projeto[[#This Row],[P.2(W)]]*$C$24,\"\")","v":""},{"$f":"IF(t_projeto[[#This Row],[Q.3]]<>\"\",t_projeto[[#This Row],[Q.3]]*t_projeto[[#This Row],[P.3(W)]]*$C$24,\"\")","v":""},{"$f":"IF(t_projeto[[#This Row],[Trecho]]<>\"\",SUM(t_projeto[[#This Row],[f.1]:[f.3]]),\"\")","v":""},{"$f":"IF(t_projeto[[#This Row],[Trecho]]<>\"\",t_projeto[[#This Row],[Q.1]]+t_projeto[[#This Row],[Q.2]]+t_projeto[[#This Row],[Q.3]],\"\")","v":""},{"$f":"IF(AND(t_projeto[[#This Row],[FLUXO]]<>0,t_projeto[[#This Row],[FLUXO]]<>\"\"),ROUND(t_projeto[[#This Row],[FLUXO]]/t_projeto[[#This Row],[Luminárias]],0),\"\")","v":""},{"$f":"IF(AND(t_projeto[[#This Row],[Luminárias]]<>0,t_projeto[[#This Row],[Luminárias]]<>\"\"),ROUND(t_projeto[[#This Row],[lm_médio]]/t_projeto[[#This Row],[W_médio]],2),\"\")","v":""}]
[216,{"$f":"_xlfn.XLOOKUP(t_projeto[[#This Row],[cód.]],t_sitio[cód],t_sitio[Trecho],\"\")","v":""},null,null,{"$f":"IF(t_projeto[[#This Row],[T.1]]<>\"\",_xlfn.XLOOKUP(t_projeto[[#This Row],[T.1]],$G$22:$G$26,$H$22:$H$26),\"\")","v":""},null,null,{"$f":"IF(t_projeto[[#This Row],[T.2]]<>\"\",_xlfn.XLOOKUP(t_projeto[[#This Row],[T.2]],$G$22:$G$26,$H$22:$H$26),\"\")","v":""},null,null,{"$f":"IF(t_projeto[[#This Row],[T.3]]<>\"\",_xlfn.XLOOKUP(t_projeto[[#This Row],[T.3]],$G$22:$G$26,$H$22:$H$26),\"\")","v":""},null,{"$f":"t_projeto[[#This Row],[Q.1]]+t_projeto[[#This Row],[Q.2]]+t_projeto[[#This Row],[Q.3]]","v":0},{"$f":"t_projeto[[#This Row],[Q.1]]+t_projeto[[#This Row],[Q.2]]+t_projeto[[#This Row],[Q.3]]","v":0},{"$f":"IF(t_projeto[[#This Row],[Q.1]]<>\"\",SUMIFS(t_reator[p],t_reator[tipo],t_projeto[[#This Row],[T.1]],t_reator[w],t_projeto[[#This Row],[P.1(W)]]),\"\")","v":""},{"$f":"IF(t_projeto[[#This Row],[Q.2]]<>\"\",SUMIFS(t_reator[p],t_reator[tipo],t_projeto[[#This Row],[T.2]],t_reator[w],t_projeto[[#This Row],[P.2(W)]]),\"\")","v":""},{"$f":"IF(t_projeto[[#This Row],[Q.3]]<>\"\",SUMIFS(t_reator[p],t_reator[tipo],t_projeto[[#This Row],[T.3]],t_reator[w],t_projeto[[#This Row],[P.3(W)]]),\"\")","v":""},{"$f":"IF(t_projeto[[#This Row],[Q.1]]<>\"\",IFERROR(IFERROR(D678*(E678+O678)+G678*(H678+P678)+J678*(K678+Q678),D678*(E678+O678)+G678*(H678+P678)),D678*(E678+O678)),\"\")","v":""},{"$f":"IF(t_projeto[[#This Row],[Consumo_W]]<>\"\",ROUND(t_projeto[[#This Row],[Consumo_W]]/t_projeto[[#This Row],[Luminárias]],0),\"\")","v":""},{"$f":"IF(t_projeto[[#This Row],[Q.1]]<>\"\",t_projeto[[#This Row],[Q.1]]*t_projeto[[#This Row],[P.1(W)]]*$C$24,\"\")","v":""},{"$f":"IF(t_projeto[[#This Row],[Q.2]]<>\"\",t_projeto[[#This Row],[Q.2]]*t_projeto[[#This Row],[P.2(W)]]*$C$24,\"\")","v":""},{"$f":"IF(t_projeto[[#This Row],[Q.3]]<>\"\",t_projeto[[#This Row],[Q.3]]*t_projeto[[#This Row],[P.3(W)]]*$C$24,\"\")","v":""},{"$f":"IF(t_projeto[[#This Row],[Trecho]]<>\"\",SUM(t_projeto[[#This Row],[f.1]:[f.3]]),\"\")","v":""},{"$f":"IF(t_projeto[[#This Row],[Trecho]]<>\"\",t_projeto[[#This Row],[Q.1]]+t_projeto[[#This Row],[Q.2]]+t_projeto[[#This Row],[Q.3]],\"\")","v":""},{"$f":"IF(AND(t_projeto[[#This Row],[FLUXO]]<>0,t_projeto[[#This Row],[FLUXO]]<>\"\"),ROUND(t_projeto[[#This Row],[FLUXO]]/t_projeto[[#This Row],[Luminárias]],0),\"\")","v":""},{"$f":"IF(AND(t_projeto[[#This Row],[Luminárias]]<>0,t_projeto[[#This Row],[Luminárias]]<>\"\"),ROUND(t_projeto[[#This Row],[lm_médio]]/t_projeto[[#This Row],[W_médio]],2),\"\")","v":""}]
[217,{"$f":"_xlfn.XLOOKUP(t_projeto[[#This Row],[cód.]],t_sitio[cód],t_sitio[Trecho],\"\")","v":""},null,null,{"$f":"IF(t_projeto[[#This Row],[T.1]]<>\"\",_xlfn.XLOOKUP(t_projeto[[#This Row],[T.1]],$G$22:$G$26,$H$22:$H$26),\"\")","v":""},null,null,{"$f":"IF(t_projeto[[#This Row],[T.2]]<>\"\",_xlfn.XLOOKUP(t_projeto[[#This Row],[T.2]],$G$22:$G$26,$H$22:$H$26),\"\")","v":""},null,null,{"$f":"IF(t_projeto[[#This Row],[T.3]]<>\"\",_xlfn.XLOOKUP(t_projeto[[#This Row],[T.3]],$G$22:$G$26,$H$22:$H$26),\"\")","v":""},null,{"$f":"t_projeto[[#This Row],[Q.1]]+t_projeto[[#This Row],[Q.2]]+t_projeto[[#This Row],[Q.3]]","v":0},{"$f":"t_projeto[[#This Row],[Q.1]]+t_projeto[[#This Row],[Q.2]]+t_projeto[[#This Row],[Q.3]]","v":0},{"$f":"IF(t_projeto[[#This Row],[Q.1]]<>\"\",SUMIFS(t_reator[p],t_reator[tipo],t_projeto[[#This Row],[T.1]],t_reator[w],t_projeto[[#This Row],[P.1(W)]]),\"\")","v":""},{"$f":"IF(t_projeto[[#This Row],[Q.2]]<>\"\",SUMIFS(t_reator[p],t_reator[tipo],t_projeto[[#This Row],[T.2]],t_reator[w],t_projeto[[#This Row],[P.2(W)]]),\"\")","v":""},{"$f":"IF(t_projeto[[#This Row],[Q.3]]<>\"\",SUMIFS(t_reator[p],t_reator[tipo],t_projeto[[#This Row],[T.3]],t_reator[w],t_projeto[[#This Row],[P.3(W)]]),\"\")","v":""},{"$f":"IF(t_projeto[[#This Row],[Q.1]]<>\"\",IFERROR(IFERROR(D679*(E679+O679)+G679*(H679+P679)+J679*(K679+Q679),D679*(E679+O679)+G679*(H679+P679)),D679*(E679+O679)),\"\")","v":""},{"$f":"IF(t_projeto[[#This Row],[Consumo_W]]<>\"\",ROUND(t_projeto[[#This Row],[Consumo_W]]/t_projeto[[#This Row],[Luminárias]],0),\"\")","v":""},{"$f":"IF(t_projeto[[#This Row],[Q.1]]<>\"\",t_projeto[[#This Row],[Q.1]]*t_projeto[[#This Row],[P.1(W)]]*$C$24,\"\")","v":""},{"$f":"IF(t_projeto[[#This Row],[Q.2]]<>\"\",t_projeto[[#This Row],[Q.2]]*t_projeto[[#This Row],[P.2(W)]]*$C$24,\"\")","v":""},{"$f":"IF(t_projeto[[#This Row],[Q.3]]<>\"\",t_projeto[[#This Row],[Q.3]]*t_projeto[[#This Row],[P.3(W)]]*$C$24,\"\")","v":""},{"$f":"IF(t_projeto[[#This Row],[Trecho]]<>\"\",SUM(t_projeto[[#This Row],[f.1]:[f.3]]),\"\")","v":""},{"$f":"IF(t_projeto[[#This Row],[Trecho]]<>\"\",t_projeto[[#This Row],[Q.1]]+t_projeto[[#This Row],[Q.2]]+t_projeto[[#This Row],[Q.3]],\"\")","v":""},{"$f":"IF(AND(t_projeto[[#This Row],[FLUXO]]<>0,t_projeto[[#This Row],[FLUXO]]<>\"\"),ROUND(t_projeto[[#This Row],[FLUXO]]/t_projeto[[#This Row],[Luminárias]],0),\"\")","v":""},{"$f":"IF(AND(t_projeto[[#This Row],[Luminárias]]<>0,t_projeto[[#This Row],[Luminárias]]<>\"\"),ROUND(t_projeto[[#This Row],[lm_médio]]/t_projeto[[#This Row],[W_médio]],2),\"\")","v":""}]
[218,{"$f":"_xlfn.XLOOKUP(t_projeto[[#This Row],[cód.]],t_sitio[cód],t_sitio[Trecho],\"\")","v":""},null,null,{"$f":"IF(t_projeto[[#This Row],[T.1]]<>\"\",_xlfn.XLOOKUP(t_projeto[[#This Row],[T.1]],$G$22:$G$26,$H$22:$H$26),\"\")","v":""},null,null,{"$f":"IF(t_projeto[[#This Row],[T.2]]<>\"\",_xlfn.XLOOKUP(t_projeto[[#This Row],[T.2]],$G$22:$G$26,$H$22:$H$26),\"\")","v":""},null,null,{"$f":"IF(t_projeto[[#This Row],[T.3]]<>\"\",_xlfn.XLOOKUP(t_projeto[[#This Row],[T.3]],$G$22:$G$26,$H$22:$H$26),\"\")","v":""},null,{"$f":"t_projeto[[#This Row],[Q.1]]+t_projeto[[#This Row],[Q.2]]+t_projeto[[#This Row],[Q.3]]","v":0},{"$f":"t_projeto[[#This Row],[Q.1]]+t_projeto[[#This Row],[Q.2]]+t_projeto[[#This Row],[Q.3]]","v":0},{"$f":"IF(t_projeto[[#This Row],[Q.1]]<>\"\",SUMIFS(t_reator[p],t_reator[tipo],t_projeto[[#This Row],[T.1]],t_reator[w],t_projeto[[#This Row],[P.1(W)]]),\"\")","v":""},{"$f":"IF(t_projeto[[#This Row],[Q.2]]<>\"\",SUMIFS(t_reator[p],t_reator[tipo],t_projeto[[#This Row],[T.2]],t_reator[w],t_projeto[[#This Row],[P.2(W)]]),\"\")","v":""},{"$f":"IF(t_projeto[[#This Row],[Q.3]]<>\"\",SUMIFS(t_reator[p],t_reator[tipo],t_projeto[[#This Row],[T.3]],t_reator[w],t_projeto[[#This Row],[P.3(W)]]),\"\")","v":""},{"$f":"IF(t_projeto[[#This Row],[Q.1]]<>\"\",IFERROR(IFERROR(D680*(E680+O680)+G680*(H680+P680)+J680*(K680+Q680),D680*(E680+O680)+G680*(H680+P680)),D680*(E680+O680)),\"\")","v":""},{"$f":"IF(t_projeto[[#This Row],[Consumo_W]]<>\"\",ROUND(t_projeto[[#This Row],[Consumo_W]]/t_projeto[[#This Row],[Luminárias]],0),\"\")","v":""},{"$f":"IF(t_projeto[[#This Row],[Q.1]]<>\"\",t_projeto[[#This Row],[Q.1]]*t_projeto[[#This Row],[P.1(W)]]*$C$24,\"\")","v":""},{"$f":"IF(t_projeto[[#This Row],[Q.2]]<>\"\",t_projeto[[#This Row],[Q.2]]*t_projeto[[#This Row],[P.2(W)]]*$C$24,\"\")","v":""},{"$f":"IF(t_projeto[[#This Row],[Q.3]]<>\"\",t_projeto[[#This Row],[Q.3]]*t_projeto[[#This Row],[P.3(W)]]*$C$24,\"\")","v":""},{"$f":"IF(t_projeto[[#This Row],[Trecho]]<>\"\",SUM(t_projeto[[#This Row],[f.1]:[f.3]]),\"\")","v":""},{"$f":"IF(t_projeto[[#This Row],[Trecho]]<>\"\",t_projeto[[#This Row],[Q.1]]+t_projeto[[#This Row],[Q.2]]+t_projeto[[#This Row],[Q.3]],\"\")","v":""},{"$f":"IF(AND(t_projeto[[#This Row],[FLUXO]]<>0,t_projeto[[#This Row],[FLUXO]]<>\"\"),ROUND(t_projeto[[#This Row],[FLUXO]]/t_projeto[[#This Row],[Luminárias]],0),\"\")","v":""},{"$f":"IF(AND(t_projeto[[#This Row],[Luminárias]]<>0,t_projeto[[#This Row],[Luminárias]]<>\"\"),ROUND(t_projeto[[#This Row],[lm_médio]]/t_projeto[[#This Row],[W_médio]],2),\"\")","v":""}]
[219,{"$f":"_xlfn.XLOOKUP(t_projeto[[#This Row],[cód.]],t_sitio[cód],t_sitio[Trecho],\"\")","v":""},null,null,{"$f":"IF(t_projeto[[#This Row],[T.1]]<>\"\",_xlfn.XLOOKUP(t_projeto[[#This Row],[T.1]],$G$22:$G$26,$H$22:$H$26),\"\")","v":""},null,null,{"$f":"IF(t_projeto[[#This Row],[T.2]]<>\"\",_xlfn.XLOOKUP(t_projeto[[#This Row],[T.2]],$G$22:$G$26,$H$22:$H$26),\"\")","v":""},null,null,{"$f":"IF(t_projeto[[#This Row],[T.3]]<>\"\",_xlfn.XLOOKUP(t_projeto[[#This Row],[T.3]],$G$22:$G$26,$H$22:$H$26),\"\")","v":""},null,{"$f":"t_projeto[[#This Row],[Q.1]]+t_projeto[[#This Row],[Q.2]]+t_projeto[[#This Row],[Q.3]]","v":0},{"$f":"t_projeto[[#This Row],[Q.1]]+t_projeto[[#This Row],[Q.2]]+t_projeto[[#This Row],[Q.3]]","v":0},{"$f":"IF(t_projeto[[#This Row],[Q.1]]<>\"\",SUMIFS(t_reator[p],t_reator[tipo],t_projeto[[#This Row],[T.1]],t_reator[w],t_projeto[[#This Row],[P.1(W)]]),\"\")","v":""},{"$f":"IF(t_projeto[[#This Row],[Q.2]]<>\"\",SUMIFS(t_reator[p],t_reator[tipo],t_projeto[[#This Row],[T.2]],t_reator[w],t_projeto[[#This Row],[P.2(W)]]),\"\")","v":""},{"$f":"IF(t_projeto[[#This Row],[Q.3]]<>\"\",SUMIFS(t_reator[p],t_reator[tipo],t_projeto[[#This Row],[T.3]],t_reator[w],t_projeto[[#This Row],[P.3(W)]]),\"\")","v":""},{"$f":"IF(t_projeto[[#This Row],[Q.1]]<>\"\",IFERROR(IFERROR(D681*(E681+O681)+G681*(H681+P681)+J681*(K681+Q681),D681*(E681+O681)+G681*(H681+P681)),D681*(E681+O681)),\"\")","v":""},{"$f":"IF(t_projeto[[#This Row],[Consumo_W]]<>\"\",ROUND(t_projeto[[#This Row],[Consumo_W]]/t_projeto[[#This Row],[Luminárias]],0),\"\")","v":""},{"$f":"IF(t_projeto[[#This Row],[Q.1]]<>\"\",t_projeto[[#This Row],[Q.1]]*t_projeto[[#This Row],[P.1(W)]]*$C$24,\"\")","v":""},{"$f":"IF(t_projeto[[#This Row],[Q.2]]<>\"\",t_projeto[[#This Row],[Q.2]]*t_projeto[[#This Row],[P.2(W)]]*$C$24,\"\")","v":""},{"$f":"IF(t_projeto[[#This Row],[Q.3]]<>\"\",t_projeto[[#This Row],[Q.3]]*t_projeto[[#This Row],[P.3(W)]]*$C$24,\"\")","v":""},{"$f":"IF(t_projeto[[#This Row],[Trecho]]<>\"\",SUM(t_projeto[[#This Row],[f.1]:[f.3]]),\"\")","v":""},{"$f":"IF(t_projeto[[#This Row],[Trecho]]<>\"\",t_projeto[[#This Row],[Q.1]]+t_projeto[[#This Row],[Q.2]]+t_projeto[[#This Row],[Q.3]],\"\")","v":""},{"$f":"IF(AND(t_projeto[[#This Row],[FLUXO]]<>0,t_projeto[[#This Row],[FLUXO]]<>\"\"),ROUND(t_projeto[[#This Row],[FLUXO]]/t_projeto[[#This Row],[Luminárias]],0),\"\")","v":""},{"$f":"IF(AND(t_projeto[[#This Row],[Luminárias]]<>0,t_projeto[[#This Row],[Luminárias]]<>\"\"),ROUND(t_projeto[[#This Row],[lm_médio]]/t_projeto[[#This Row],[W_médio]],2),\"\")","v":""}]
[220,{"$f":"_xlfn.XLOOKUP(t_projeto[[#This Row],[cód.]],t_sitio[cód],t_sitio[Trecho],\"\")","v":""},null,null,{"$f":"IF(t_projeto[[#This Row],[T.1]]<>\"\",_xlfn.XLOOKUP(t_projeto[[#This Row],[T.1]],$G$22:$G$26,$H$22:$H$26),\"\")","v":""},null,null,{"$f":"IF(t_projeto[[#This Row],[T.2]]<>\"\",_xlfn.XLOOKUP(t_projeto[[#This Row],[T.2]],$G$22:$G$26,$H$22:$H$26),\"\")","v":""},null,null,{"$f":"IF(t_projeto[[#This Row],[T.3]]<>\"\",_xlfn.XLOOKUP(t_projeto[[#This Row],[T.3]],$G$22:$G$26,$H$22:$H$26),\"\")","v":""},null,{"$f":"t_projeto[[#This Row],[Q.1]]+t_projeto[[#This Row],[Q.2]]+t_projeto[[#This Row],[Q.3]]","v":0},{"$f":"t_projeto[[#This Row],[Q.1]]+t_projeto[[#This Row],[Q.2]]+t_projeto[[#This Row],[Q.3]]","v":0},{"$f":"IF(t_projeto[[#This Row],[Q.1]]<>\"\",SUMIFS(t_reator[p],t_reator[tipo],t_projeto[[#This Row],[T.1]],t_reator[w],t_projeto[[#This Row],[P.1(W)]]),\"\")","v":""},{"$f":"IF(t_projeto[[#This Row],[Q.2]]<>\"\",SUMIFS(t_reator[p],t_reator[tipo],t_projeto[[#This Row],[T.2]],t_reator[w],t_projeto[[#This Row],[P.2(W)]]),\"\")","v":""},{"$f":"IF(t_projeto[[#This Row],[Q.3]]<>\"\",SUMIFS(t_reator[p],t_reator[tipo],t_projeto[[#This Row],[T.3]],t_reator[w],t_projeto[[#This Row],[P.3(W)]]),\"\")","v":""},{"$f":"IF(t_projeto[[#This Row],[Q.1]]<>\"\",IFERROR(IFERROR(D682*(E682+O682)+G682*(H682+P682)+J682*(K682+Q682),D682*(E682+O682)+G682*(H682+P682)),D682*(E682+O682)),\"\")","v":""},{"$f":"IF(t_projeto[[#This Row],[Consumo_W]]<>\"\",ROUND(t_projeto[[#This Row],[Consumo_W]]/t_projeto[[#This Row],[Luminárias]],0),\"\")","v":""},{"$f":"IF(t_projeto[[#This Row],[Q.1]]<>\"\",t_projeto[[#This Row],[Q.1]]*t_projeto[[#This Row],[P.1(W)]]*$C$24,\"\")","v":""},{"$f":"IF(t_projeto[[#This Row],[Q.2]]<>\"\",t_projeto[[#This Row],[Q.2]]*t_projeto[[#This Row],[P.2(W)]]*$C$24,\"\")","v":""},{"$f":"IF(t_projeto[[#This Row],[Q.3]]<>\"\",t_projeto[[#This Row],[Q.3]]*t_projeto[[#This Row],[P.3(W)]]*$C$24,\"\")","v":""},{"$f":"IF(t_projeto[[#This Row],[Trecho]]<>\"\",SUM(t_projeto[[#This Row],[f.1]:[f.3]]),\"\")","v":""},{"$f":"IF(t_projeto[[#This Row],[Trecho]]<>\"\",t_projeto[[#This Row],[Q.1]]+t_projeto[[#This Row],[Q.2]]+t_projeto[[#This Row],[Q.3]],\"\")","v":""},{"$f":"IF(AND(t_projeto[[#This Row],[FLUXO]]<>0,t_projeto[[#This Row],[FLUXO]]<>\"\"),ROUND(t_projeto[[#This Row],[FLUXO]]/t_projeto[[#This Row],[Luminárias]],0),\"\")","v":""},{"$f":"IF(AND(t_projeto[[#This Row],[Luminárias]]<>0,t_projeto[[#This Row],[Luminárias]]<>\"\"),ROUND(t_projeto[[#This Row],[lm_médio]]/t_projeto[[#This Row],[W_médio]],2),\"\")","v":""}]
[221,{"$f":"_xlfn.XLOOKUP(t_projeto[[#This Row],[cód.]],t_sitio[cód],t_sitio[Trecho],\"\")","v":""},null,null,{"$f":"IF(t_projeto[[#This Row],[T.1]]<>\"\",_xlfn.XLOOKUP(t_projeto[[#This Row],[T.1]],$G$22:$G$26,$H$22:$H$26),\"\")","v":""},null,null,{"$f":"IF(t_projeto[[#This Row],[T.2]]<>\"\",_xlfn.XLOOKUP(t_projeto[[#This Row],[T.2]],$G$22:$G$26,$H$22:$H$26),\"\")","v":""},null,null,{"$f":"IF(t_projeto[[#This Row],[T.3]]<>\"\",_xlfn.XLOOKUP(t_projeto[[#This Row],[T.3]],$G$22:$G$26,$H$22:$H$26),\"\")","v":""},null,{"$f":"t_projeto[[#This Row],[Q.1]]+t_projeto[[#This Row],[Q.2]]+t_projeto[[#This Row],[Q.3]]","v":0},{"$f":"t_projeto[[#This Row],[Q.1]]+t_projeto[[#This Row],[Q.2]]+t_projeto[[#This Row],[Q.3]]","v":0},{"$f":"IF(t_projeto[[#This Row],[Q.1]]<>\"\",SUMIFS(t_reator[p],t_reator[tipo],t_projeto[[#This Row],[T.1]],t_reator[w],t_projeto[[#This Row],[P.1(W)]]),\"\")","v":""},{"$f":"IF(t_projeto[[#This Row],[Q.2]]<>\"\",SUMIFS(t_reator[p],t_reator[tipo],t_projeto[[#This Row],[T.2]],t_reator[w],t_projeto[[#This Row],[P.2(W)]]),\"\")","v":""},{"$f":"IF(t_projeto[[#This Row],[Q.3]]<>\"\",SUMIFS(t_reator[p],t_reator[tipo],t_projeto[[#This Row],[T.3]],t_reator[w],t_projeto[[#This Row],[P.3(W)]]),\"\")","v":""},{"$f":"IF(t_projeto[[#This Row],[Q.1]]<>\"\",IFERROR(IFERROR(D683*(E683+O683)+G683*(H683+P683)+J683*(K683+Q683),D683*(E683+O683)+G683*(H683+P683)),D683*(E683+O683)),\"\")","v":""},{"$f":"IF(t_projeto[[#This Row],[Consumo_W]]<>\"\",ROUND(t_projeto[[#This Row],[Consumo_W]]/t_projeto[[#This Row],[Luminárias]],0),\"\")","v":""},{"$f":"IF(t_projeto[[#This Row],[Q.1]]<>\"\",t_projeto[[#This Row],[Q.1]]*t_projeto[[#This Row],[P.1(W)]]*$C$24,\"\")","v":""},{"$f":"IF(t_projeto[[#This Row],[Q.2]]<>\"\",t_projeto[[#This Row],[Q.2]]*t_projeto[[#This Row],[P.2(W)]]*$C$24,\"\")","v":""},{"$f":"IF(t_projeto[[#This Row],[Q.3]]<>\"\",t_projeto[[#This Row],[Q.3]]*t_projeto[[#This Row],[P.3(W)]]*$C$24,\"\")","v":""},{"$f":"IF(t_projeto[[#This Row],[Trecho]]<>\"\",SUM(t_projeto[[#This Row],[f.1]:[f.3]]),\"\")","v":""},{"$f":"IF(t_projeto[[#This Row],[Trecho]]<>\"\",t_projeto[[#This Row],[Q.1]]+t_projeto[[#This Row],[Q.2]]+t_projeto[[#This Row],[Q.3]],\"\")","v":""},{"$f":"IF(AND(t_projeto[[#This Row],[FLUXO]]<>0,t_projeto[[#This Row],[FLUXO]]<>\"\"),ROUND(t_projeto[[#This Row],[FLUXO]]/t_projeto[[#This Row],[Luminárias]],0),\"\")","v":""},{"$f":"IF(AND(t_projeto[[#This Row],[Luminárias]]<>0,t_projeto[[#This Row],[Luminárias]]<>\"\"),ROUND(t_projeto[[#This Row],[lm_médio]]/t_projeto[[#This Row],[W_médio]],2),\"\")","v":""}]
[222,{"$f":"_xlfn.XLOOKUP(t_projeto[[#This Row],[cód.]],t_sitio[cód],t_sitio[Trecho],\"\")","v":""},null,null,{"$f":"IF(t_projeto[[#This Row],[T.1]]<>\"\",_xlfn.XLOOKUP(t_projeto[[#This Row],[T.1]],$G$22:$G$26,$H$22:$H$26),\"\")","v":""},null,null,{"$f":"IF(t_projeto[[#This Row],[T.2]]<>\"\",_xlfn.XLOOKUP(t_projeto[[#This Row],[T.2]],$G$22:$G$26,$H$22:$H$26),\"\")","v":""},null,null,{"$f":"IF(t_projeto[[#This Row],[T.3]]<>\"\",_xlfn.XLOOKUP(t_projeto[[#This Row],[T.3]],$G$22:$G$26,$H$22:$H$26),\"\")","v":""},null,{"$f":"t_projeto[[#This Row],[Q.1]]+t_projeto[[#This Row],[Q.2]]+t_projeto[[#This Row],[Q.3]]","v":0},{"$f":"t_projeto[[#This Row],[Q.1]]+t_projeto[[#This Row],[Q.2]]+t_projeto[[#This Row],[Q.3]]","v":0},{"$f":"IF(t_projeto[[#This Row],[Q.1]]<>\"\",SUMIFS(t_reator[p],t_reator[tipo],t_projeto[[#This Row],[T.1]],t_reator[w],t_projeto[[#This Row],[P.1(W)]]),\"\")","v":""},{"$f":"IF(t_projeto[[#This Row],[Q.2]]<>\"\",SUMIFS(t_reator[p],t_reator[tipo],t_projeto[[#This Row],[T.2]],t_reator[w],t_projeto[[#This Row],[P.2(W)]]),\"\")","v":""},{"$f":"IF(t_projeto[[#This Row],[Q.3]]<>\"\",SUMIFS(t_reator[p],t_reator[tipo],t_projeto[[#This Row],[T.3]],t_reator[w],t_projeto[[#This Row],[P.3(W)]]),\"\")","v":""},{"$f":"IF(t_projeto[[#This Row],[Q.1]]<>\"\",IFERROR(IFERROR(D684*(E684+O684)+G684*(H684+P684)+J684*(K684+Q684),D684*(E684+O684)+G684*(H684+P684)),D684*(E684+O684)),\"\")","v":""},{"$f":"IF(t_projeto[[#This Row],[Consumo_W]]<>\"\",ROUND(t_projeto[[#This Row],[Consumo_W]]/t_projeto[[#This Row],[Luminárias]],0),\"\")","v":""},{"$f":"IF(t_projeto[[#This Row],[Q.1]]<>\"\",t_projeto[[#This Row],[Q.1]]*t_projeto[[#This Row],[P.1(W)]]*$C$24,\"\")","v":""},{"$f":"IF(t_projeto[[#This Row],[Q.2]]<>\"\",t_projeto[[#This Row],[Q.2]]*t_projeto[[#This Row],[P.2(W)]]*$C$24,\"\")","v":""},{"$f":"IF(t_projeto[[#This Row],[Q.3]]<>\"\",t_projeto[[#This Row],[Q.3]]*t_projeto[[#This Row],[P.3(W)]]*$C$24,\"\")","v":""},{"$f":"IF(t_projeto[[#This Row],[Trecho]]<>\"\",SUM(t_projeto[[#This Row],[f.1]:[f.3]]),\"\")","v":""},{"$f":"IF(t_projeto[[#This Row],[Trecho]]<>\"\",t_projeto[[#This Row],[Q.1]]+t_projeto[[#This Row],[Q.2]]+t_projeto[[#This Row],[Q.3]],\"\")","v":""},{"$f":"IF(AND(t_projeto[[#This Row],[FLUXO]]<>0,t_projeto[[#This Row],[FLUXO]]<>\"\"),ROUND(t_projeto[[#This Row],[FLUXO]]/t_projeto[[#This Row],[Luminárias]],0),\"\")","v":""},{"$f":"IF(AND(t_projeto[[#This Row],[Luminárias]]<>0,t_projeto[[#This Row],[Luminárias]]<>\"\"),ROUND(t_projeto[[#This Row],[lm_médio]]/t_projeto[[#This Row],[W_médio]],2),\"\")","v":""}]
[223,{"$f":"_xlfn.XLOOKUP(t_projeto[[#This Row],[cód.]],t_sitio[cód],t_sitio[Trecho],\"\")","v":""},null,null,{"$f":"IF(t_projeto[[#This Row],[T.1]]<>\"\",_xlfn.XLOOKUP(t_projeto[[#This Row],[T.1]],$G$22:$G$26,$H$22:$H$26),\"\")","v":""},null,null,{"$f":"IF(t_projeto[[#This Row],[T.2]]<>\"\",_xlfn.XLOOKUP(t_projeto[[#This Row],[T.2]],$G$22:$G$26,$H$22:$H$26),\"\")","v":""},null,null,{"$f":"IF(t_projeto[[#This Row],[T.3]]<>\"\",_xlfn.XLOOKUP(t_projeto[[#This Row],[T.3]],$G$22:$G$26,$H$22:$H$26),\"\")","v":""},null,{"$f":"t_projeto[[#This Row],[Q.1]]+t_projeto[[#This Row],[Q.2]]+t_projeto[[#This Row],[Q.3]]","v":0},{"$f":"t_projeto[[#This Row],[Q.1]]+t_projeto[[#This Row],[Q.2]]+t_projeto[[#This Row],[Q.3]]","v":0},{"$f":"IF(t_projeto[[#This Row],[Q.1]]<>\"\",SUMIFS(t_reator[p],t_reator[tipo],t_projeto[[#This Row],[T.1]],t_reator[w],t_projeto[[#This Row],[P.1(W)]]),\"\")","v":""},{"$f":"IF(t_projeto[[#This Row],[Q.2]]<>\"\",SUMIFS(t_reator[p],t_reator[tipo],t_projeto[[#This Row],[T.2]],t_reator[w],t_projeto[[#This Row],[P.2(W)]]),\"\")","v":""},{"$f":"IF(t_projeto[[#This Row],[Q.3]]<>\"\",SUMIFS(t_reator[p],t_reator[tipo],t_projeto[[#This Row],[T.3]],t_reator[w],t_projeto[[#This Row],[P.3(W)]]),\"\")","v":""},{"$f":"IF(t_projeto[[#This Row],[Q.1]]<>\"\",IFERROR(IFERROR(D685*(E685+O685)+G685*(H685+P685)+J685*(K685+Q685),D685*(E685+O685)+G685*(H685+P685)),D685*(E685+O685)),\"\")","v":""},{"$f":"IF(t_projeto[[#This Row],[Consumo_W]]<>\"\",ROUND(t_projeto[[#This Row],[Consumo_W]]/t_projeto[[#This Row],[Luminárias]],0),\"\")","v":""},{"$f":"IF(t_projeto[[#This Row],[Q.1]]<>\"\",t_projeto[[#This Row],[Q.1]]*t_projeto[[#This Row],[P.1(W)]]*$C$24,\"\")","v":""},{"$f":"IF(t_projeto[[#This Row],[Q.2]]<>\"\",t_projeto[[#This Row],[Q.2]]*t_projeto[[#This Row],[P.2(W)]]*$C$24,\"\")","v":""},{"$f":"IF(t_projeto[[#This Row],[Q.3]]<>\"\",t_projeto[[#This Row],[Q.3]]*t_projeto[[#This Row],[P.3(W)]]*$C$24,\"\")","v":""},{"$f":"IF(t_projeto[[#This Row],[Trecho]]<>\"\",SUM(t_projeto[[#This Row],[f.1]:[f.3]]),\"\")","v":""},{"$f":"IF(t_projeto[[#This Row],[Trecho]]<>\"\",t_projeto[[#This Row],[Q.1]]+t_projeto[[#This Row],[Q.2]]+t_projeto[[#This Row],[Q.3]],\"\")","v":""},{"$f":"IF(AND(t_projeto[[#This Row],[FLUXO]]<>0,t_projeto[[#This Row],[FLUXO]]<>\"\"),ROUND(t_projeto[[#This Row],[FLUXO]]/t_projeto[[#This Row],[Luminárias]],0),\"\")","v":""},{"$f":"IF(AND(t_projeto[[#This Row],[Luminárias]]<>0,t_projeto[[#This Row],[Luminárias]]<>\"\"),ROUND(t_projeto[[#This Row],[lm_médio]]/t_projeto[[#This Row],[W_médio]],2),\"\")","v":""}]
[224,{"$f":"_xlfn.XLOOKUP(t_projeto[[#This Row],[cód.]],t_sitio[cód],t_sitio[Trecho],\"\")","v":""},null,null,{"$f":"IF(t_projeto[[#This Row],[T.1]]<>\"\",_xlfn.XLOOKUP(t_projeto[[#This Row],[T.1]],$G$22:$G$26,$H$22:$H$26),\"\")","v":""},null,null,{"$f":"IF(t_projeto[[#This Row],[T.2]]<>\"\",_xlfn.XLOOKUP(t_projeto[[#This Row],[T.2]],$G$22:$G$26,$H$22:$H$26),\"\")","v":""},null,null,{"$f":"IF(t_projeto[[#This Row],[T.3]]<>\"\",_xlfn.XLOOKUP(t_projeto[[#This Row],[T.3]],$G$22:$G$26,$H$22:$H$26),\"\")","v":""},null,{"$f":"t_projeto[[#This Row],[Q.1]]+t_projeto[[#This Row],[Q.2]]+t_projeto[[#This Row],[Q.3]]","v":0},{"$f":"t_projeto[[#This Row],[Q.1]]+t_projeto[[#This Row],[Q.2]]+t_projeto[[#This Row],[Q.3]]","v":0},{"$f":"IF(t_projeto[[#This Row],[Q.1]]<>\"\",SUMIFS(t_reator[p],t_reator[tipo],t_projeto[[#This Row],[T.1]],t_reator[w],t_projeto[[#This Row],[P.1(W)]]),\"\")","v":""},{"$f":"IF(t_projeto[[#This Row],[Q.2]]<>\"\",SUMIFS(t_reator[p],t_reator[tipo],t_projeto[[#This Row],[T.2]],t_reator[w],t_projeto[[#This Row],[P.2(W)]]),\"\")","v":""},{"$f":"IF(t_projeto[[#This Row],[Q.3]]<>\"\",SUMIFS(t_reator[p],t_reator[tipo],t_projeto[[#This Row],[T.3]],t_reator[w],t_projeto[[#This Row],[P.3(W)]]),\"\")","v":""},{"$f":"IF(t_projeto[[#This Row],[Q.1]]<>\"\",IFERROR(IFERROR(D686*(E686+O686)+G686*(H686+P686)+J686*(K686+Q686),D686*(E686+O686)+G686*(H686+P686)),D686*(E686+O686)),\"\")","v":""},{"$f":"IF(t_projeto[[#This Row],[Consumo_W]]<>\"\",ROUND(t_projeto[[#This Row],[Consumo_W]]/t_projeto[[#This Row],[Luminárias]],0),\"\")","v":""},{"$f":"IF(t_projeto[[#This Row],[Q.1]]<>\"\",t_projeto[[#This Row],[Q.1]]*t_projeto[[#This Row],[P.1(W)]]*$C$24,\"\")","v":""},{"$f":"IF(t_projeto[[#This Row],[Q.2]]<>\"\",t_projeto[[#This Row],[Q.2]]*t_projeto[[#This Row],[P.2(W)]]*$C$24,\"\")","v":""},{"$f":"IF(t_projeto[[#This Row],[Q.3]]<>\"\",t_projeto[[#This Row],[Q.3]]*t_projeto[[#This Row],[P.3(W)]]*$C$24,\"\")","v":""},{"$f":"IF(t_projeto[[#This Row],[Trecho]]<>\"\",SUM(t_projeto[[#This Row],[f.1]:[f.3]]),\"\")","v":""},{"$f":"IF(t_projeto[[#This Row],[Trecho]]<>\"\",t_projeto[[#This Row],[Q.1]]+t_projeto[[#This Row],[Q.2]]+t_projeto[[#This Row],[Q.3]],\"\")","v":""},{"$f":"IF(AND(t_projeto[[#This Row],[FLUXO]]<>0,t_projeto[[#This Row],[FLUXO]]<>\"\"),ROUND(t_projeto[[#This Row],[FLUXO]]/t_projeto[[#This Row],[Luminárias]],0),\"\")","v":""},{"$f":"IF(AND(t_projeto[[#This Row],[Luminárias]]<>0,t_projeto[[#This Row],[Luminárias]]<>\"\"),ROUND(t_projeto[[#This Row],[lm_médio]]/t_projeto[[#This Row],[W_médio]],2),\"\")","v":""}]
[225,{"$f":"_xlfn.XLOOKUP(t_projeto[[#This Row],[cód.]],t_sitio[cód],t_sitio[Trecho],\"\")","v":""},null,null,{"$f":"IF(t_projeto[[#This Row],[T.1]]<>\"\",_xlfn.XLOOKUP(t_projeto[[#This Row],[T.1]],$G$22:$G$26,$H$22:$H$26),\"\")","v":""},null,null,{"$f":"IF(t_projeto[[#This Row],[T.2]]<>\"\",_xlfn.XLOOKUP(t_projeto[[#This Row],[T.2]],$G$22:$G$26,$H$22:$H$26),\"\")","v":""},null,null,{"$f":"IF(t_projeto[[#This Row],[T.3]]<>\"\",_xlfn.XLOOKUP(t_projeto[[#This Row],[T.3]],$G$22:$G$26,$H$22:$H$26),\"\")","v":""},null,{"$f":"t_projeto[[#This Row],[Q.1]]+t_projeto[[#This Row],[Q.2]]+t_projeto[[#This Row],[Q.3]]","v":0},{"$f":"t_projeto[[#This Row],[Q.1]]+t_projeto[[#This Row],[Q.2]]+t_projeto[[#This Row],[Q.3]]","v":0},{"$f":"IF(t_projeto[[#This Row],[Q.1]]<>\"\",SUMIFS(t_reator[p],t_reator[tipo],t_projeto[[#This Row],[T.1]],t_reator[w],t_projeto[[#This Row],[P.1(W)]]),\"\")","v":""},{"$f":"IF(t_projeto[[#This Row],[Q.2]]<>\"\",SUMIFS(t_reator[p],t_reator[tipo],t_projeto[[#This Row],[T.2]],t_reator[w],t_projeto[[#This Row],[P.2(W)]]),\"\")","v":""},{"$f":"IF(t_projeto[[#This Row],[Q.3]]<>\"\",SUMIFS(t_reator[p],t_reator[tipo],t_projeto[[#This Row],[T.3]],t_reator[w],t_projeto[[#This Row],[P.3(W)]]),\"\")","v":""},{"$f":"IF(t_projeto[[#This Row],[Q.1]]<>\"\",IFERROR(IFERROR(D687*(E687+O687)+G687*(H687+P687)+J687*(K687+Q687),D687*(E687+O687)+G687*(H687+P687)),D687*(E687+O687)),\"\")","v":""},{"$f":"IF(t_projeto[[#This Row],[Consumo_W]]<>\"\",ROUND(t_projeto[[#This Row],[Consumo_W]]/t_projeto[[#This Row],[Luminárias]],0),\"\")","v":""},{"$f":"IF(t_projeto[[#This Row],[Q.1]]<>\"\",t_projeto[[#This Row],[Q.1]]*t_projeto[[#This Row],[P.1(W)]]*$C$24,\"\")","v":""},{"$f":"IF(t_projeto[[#This Row],[Q.2]]<>\"\",t_projeto[[#This Row],[Q.2]]*t_projeto[[#This Row],[P.2(W)]]*$C$24,\"\")","v":""},{"$f":"IF(t_projeto[[#This Row],[Q.3]]<>\"\",t_projeto[[#This Row],[Q.3]]*t_projeto[[#This Row],[P.3(W)]]*$C$24,\"\")","v":""},{"$f":"IF(t_projeto[[#This Row],[Trecho]]<>\"\",SUM(t_projeto[[#This Row],[f.1]:[f.3]]),\"\")","v":""},{"$f":"IF(t_projeto[[#This Row],[Trecho]]<>\"\",t_projeto[[#This Row],[Q.1]]+t_projeto[[#This Row],[Q.2]]+t_projeto[[#This Row],[Q.3]],\"\")","v":""},{"$f":"IF(AND(t_projeto[[#This Row],[FLUXO]]<>0,t_projeto[[#This Row],[FLUXO]]<>\"\"),ROUND(t_projeto[[#This Row],[FLUXO]]/t_projeto[[#This Row],[Luminárias]],0),\"\")","v":""},{"$f":"IF(AND(t_projeto[[#This Row],[Luminárias]]<>0,t_projeto[[#This Row],[Luminárias]]<>\"\"),ROUND(t_projeto[[#This Row],[lm_médio]]/t_projeto[[#This Row],[W_médio]],2),\"\")","v":""}]
[226,{"$f":"_xlfn.XLOOKUP(t_projeto[[#This Row],[cód.]],t_sitio[cód],t_sitio[Trecho],\"\")","v":""},null,null,{"$f":"IF(t_projeto[[#This Row],[T.1]]<>\"\",_xlfn.XLOOKUP(t_projeto[[#This Row],[T.1]],$G$22:$G$26,$H$22:$H$26),\"\")","v":""},null,null,{"$f":"IF(t_projeto[[#This Row],[T.2]]<>\"\",_xlfn.XLOOKUP(t_projeto[[#This Row],[T.2]],$G$22:$G$26,$H$22:$H$26),\"\")","v":""},null,null,{"$f":"IF(t_projeto[[#This Row],[T.3]]<>\"\",_xlfn.XLOOKUP(t_projeto[[#This Row],[T.3]],$G$22:$G$26,$H$22:$H$26),\"\")","v":""},null,{"$f":"t_projeto[[#This Row],[Q.1]]+t_projeto[[#This Row],[Q.2]]+t_projeto[[#This Row],[Q.3]]","v":0},{"$f":"t_projeto[[#This Row],[Q.1]]+t_projeto[[#This Row],[Q.2]]+t_projeto[[#This Row],[Q.3]]","v":0},{"$f":"IF(t_projeto[[#This Row],[Q.1]]<>\"\",SUMIFS(t_reator[p],t_reator[tipo],t_projeto[[#This Row],[T.1]],t_reator[w],t_projeto[[#This Row],[P.1(W)]]),\"\")","v":""},{"$f":"IF(t_projeto[[#This Row],[Q.2]]<>\"\",SUMIFS(t_reator[p],t_reator[tipo],t_projeto[[#This Row],[T.2]],t_reator[w],t_projeto[[#This Row],[P.2(W)]]),\"\")","v":""},{"$f":"IF(t_projeto[[#This Row],[Q.3]]<>\"\",SUMIFS(t_reator[p],t_reator[tipo],t_projeto[[#This Row],[T.3]],t_reator[w],t_projeto[[#This Row],[P.3(W)]]),\"\")","v":""},{"$f":"IF(t_projeto[[#This Row],[Q.1]]<>\"\",IFERROR(IFERROR(D688*(E688+O688)+G688*(H688+P688)+J688*(K688+Q688),D688*(E688+O688)+G688*(H688+P688)),D688*(E688+O688)),\"\")","v":""},{"$f":"IF(t_projeto[[#This Row],[Consumo_W]]<>\"\",ROUND(t_projeto[[#This Row],[Consumo_W]]/t_projeto[[#This Row],[Luminárias]],0),\"\")","v":""},{"$f":"IF(t_projeto[[#This Row],[Q.1]]<>\"\",t_projeto[[#This Row],[Q.1]]*t_projeto[[#This Row],[P.1(W)]]*$C$24,\"\")","v":""},{"$f":"IF(t_projeto[[#This Row],[Q.2]]<>\"\",t_projeto[[#This Row],[Q.2]]*t_projeto[[#This Row],[P.2(W)]]*$C$24,\"\")","v":""},{"$f":"IF(t_projeto[[#This Row],[Q.3]]<>\"\",t_projeto[[#This Row],[Q.3]]*t_projeto[[#This Row],[P.3(W)]]*$C$24,\"\")","v":""},{"$f":"IF(t_projeto[[#This Row],[Trecho]]<>\"\",SUM(t_projeto[[#This Row],[f.1]:[f.3]]),\"\")","v":""},{"$f":"IF(t_projeto[[#This Row],[Trecho]]<>\"\",t_projeto[[#This Row],[Q.1]]+t_projeto[[#This Row],[Q.2]]+t_projeto[[#This Row],[Q.3]],\"\")","v":""},{"$f":"IF(AND(t_projeto[[#This Row],[FLUXO]]<>0,t_projeto[[#This Row],[FLUXO]]<>\"\"),ROUND(t_projeto[[#This Row],[FLUXO]]/t_projeto[[#This Row],[Luminárias]],0),\"\")","v":""},{"$f":"IF(AND(t_projeto[[#This Row],[Luminárias]]<>0,t_projeto[[#This Row],[Luminárias]]<>\"\"),ROUND(t_projeto[[#This Row],[lm_médio]]/t_projeto[[#This Row],[W_médio]],2),\"\")","v":""}]
[227,{"$f":"_xlfn.XLOOKUP(t_projeto[[#This Row],[cód.]],t_sitio[cód],t_sitio[Trecho],\"\")","v":""},null,null,{"$f":"IF(t_projeto[[#This Row],[T.1]]<>\"\",_xlfn.XLOOKUP(t_projeto[[#This Row],[T.1]],$G$22:$G$26,$H$22:$H$26),\"\")","v":""},null,null,{"$f":"IF(t_projeto[[#This Row],[T.2]]<>\"\",_xlfn.XLOOKUP(t_projeto[[#This Row],[T.2]],$G$22:$G$26,$H$22:$H$26),\"\")","v":""},null,null,{"$f":"IF(t_projeto[[#This Row],[T.3]]<>\"\",_xlfn.XLOOKUP(t_projeto[[#This Row],[T.3]],$G$22:$G$26,$H$22:$H$26),\"\")","v":""},null,{"$f":"t_projeto[[#This Row],[Q.1]]+t_projeto[[#This Row],[Q.2]]+t_projeto[[#This Row],[Q.3]]","v":0},{"$f":"t_projeto[[#This Row],[Q.1]]+t_projeto[[#This Row],[Q.2]]+t_projeto[[#This Row],[Q.3]]","v":0},{"$f":"IF(t_projeto[[#This Row],[Q.1]]<>\"\",SUMIFS(t_reator[p],t_reator[tipo],t_projeto[[#This Row],[T.1]],t_reator[w],t_projeto[[#This Row],[P.1(W)]]),\"\")","v":""},{"$f":"IF(t_projeto[[#This Row],[Q.2]]<>\"\",SUMIFS(t_reator[p],t_reator[tipo],t_projeto[[#This Row],[T.2]],t_reator[w],t_projeto[[#This Row],[P.2(W)]]),\"\")","v":""},{"$f":"IF(t_projeto[[#This Row],[Q.3]]<>\"\",SUMIFS(t_reator[p],t_reator[tipo],t_projeto[[#This Row],[T.3]],t_reator[w],t_projeto[[#This Row],[P.3(W)]]),\"\")","v":""},{"$f":"IF(t_projeto[[#This Row],[Q.1]]<>\"\",IFERROR(IFERROR(D689*(E689+O689)+G689*(H689+P689)+J689*(K689+Q689),D689*(E689+O689)+G689*(H689+P689)),D689*(E689+O689)),\"\")","v":""},{"$f":"IF(t_projeto[[#This Row],[Consumo_W]]<>\"\",ROUND(t_projeto[[#This Row],[Consumo_W]]/t_projeto[[#This Row],[Luminárias]],0),\"\")","v":""},{"$f":"IF(t_projeto[[#This Row],[Q.1]]<>\"\",t_projeto[[#This Row],[Q.1]]*t_projeto[[#This Row],[P.1(W)]]*$C$24,\"\")","v":""},{"$f":"IF(t_projeto[[#This Row],[Q.2]]<>\"\",t_projeto[[#This Row],[Q.2]]*t_projeto[[#This Row],[P.2(W)]]*$C$24,\"\")","v":""},{"$f":"IF(t_projeto[[#This Row],[Q.3]]<>\"\",t_projeto[[#This Row],[Q.3]]*t_projeto[[#This Row],[P.3(W)]]*$C$24,\"\")","v":""},{"$f":"IF(t_projeto[[#This Row],[Trecho]]<>\"\",SUM(t_projeto[[#This Row],[f.1]:[f.3]]),\"\")","v":""},{"$f":"IF(t_projeto[[#This Row],[Trecho]]<>\"\",t_projeto[[#This Row],[Q.1]]+t_projeto[[#This Row],[Q.2]]+t_projeto[[#This Row],[Q.3]],\"\")","v":""},{"$f":"IF(AND(t_projeto[[#This Row],[FLUXO]]<>0,t_projeto[[#This Row],[FLUXO]]<>\"\"),ROUND(t_projeto[[#This Row],[FLUXO]]/t_projeto[[#This Row],[Luminárias]],0),\"\")","v":""},{"$f":"IF(AND(t_projeto[[#This Row],[Luminárias]]<>0,t_projeto[[#This Row],[Luminárias]]<>\"\"),ROUND(t_projeto[[#This Row],[lm_médio]]/t_projeto[[#This Row],[W_médio]],2),\"\")","v":""}]
[228,{"$f":"_xlfn.XLOOKUP(t_projeto[[#This Row],[cód.]],t_sitio[cód],t_sitio[Trecho],\"\")","v":""},null,null,{"$f":"IF(t_projeto[[#This Row],[T.1]]<>\"\",_xlfn.XLOOKUP(t_projeto[[#This Row],[T.1]],$G$22:$G$26,$H$22:$H$26),\"\")","v":""},null,null,{"$f":"IF(t_projeto[[#This Row],[T.2]]<>\"\",_xlfn.XLOOKUP(t_projeto[[#This Row],[T.2]],$G$22:$G$26,$H$22:$H$26),\"\")","v":""},null,null,{"$f":"IF(t_projeto[[#This Row],[T.3]]<>\"\",_xlfn.XLOOKUP(t_projeto[[#This Row],[T.3]],$G$22:$G$26,$H$22:$H$26),\"\")","v":""},null,{"$f":"t_projeto[[#This Row],[Q.1]]+t_projeto[[#This Row],[Q.2]]+t_projeto[[#This Row],[Q.3]]","v":0},{"$f":"t_projeto[[#This Row],[Q.1]]+t_projeto[[#This Row],[Q.2]]+t_projeto[[#This Row],[Q.3]]","v":0},{"$f":"IF(t_projeto[[#This Row],[Q.1]]<>\"\",SUMIFS(t_reator[p],t_reator[tipo],t_projeto[[#This Row],[T.1]],t_reator[w],t_projeto[[#This Row],[P.1(W)]]),\"\")","v":""},{"$f":"IF(t_projeto[[#This Row],[Q.2]]<>\"\",SUMIFS(t_reator[p],t_reator[tipo],t_projeto[[#This Row],[T.2]],t_reator[w],t_projeto[[#This Row],[P.2(W)]]),\"\")","v":""},{"$f":"IF(t_projeto[[#This Row],[Q.3]]<>\"\",SUMIFS(t_reator[p],t_reator[tipo],t_projeto[[#This Row],[T.3]],t_reator[w],t_projeto[[#This Row],[P.3(W)]]),\"\")","v":""},{"$f":"IF(t_projeto[[#This Row],[Q.1]]<>\"\",IFERROR(IFERROR(D690*(E690+O690)+G690*(H690+P690)+J690*(K690+Q690),D690*(E690+O690)+G690*(H690+P690)),D690*(E690+O690)),\"\")","v":""},{"$f":"IF(t_projeto[[#This Row],[Consumo_W]]<>\"\",ROUND(t_projeto[[#This Row],[Consumo_W]]/t_projeto[[#This Row],[Luminárias]],0),\"\")","v":""},{"$f":"IF(t_projeto[[#This Row],[Q.1]]<>\"\",t_projeto[[#This Row],[Q.1]]*t_projeto[[#This Row],[P.1(W)]]*$C$24,\"\")","v":""},{"$f":"IF(t_projeto[[#This Row],[Q.2]]<>\"\",t_projeto[[#This Row],[Q.2]]*t_projeto[[#This Row],[P.2(W)]]*$C$24,\"\")","v":""},{"$f":"IF(t_projeto[[#This Row],[Q.3]]<>\"\",t_projeto[[#This Row],[Q.3]]*t_projeto[[#This Row],[P.3(W)]]*$C$24,\"\")","v":""},{"$f":"IF(t_projeto[[#This Row],[Trecho]]<>\"\",SUM(t_projeto[[#This Row],[f.1]:[f.3]]),\"\")","v":""},{"$f":"IF(t_projeto[[#This Row],[Trecho]]<>\"\",t_projeto[[#This Row],[Q.1]]+t_projeto[[#This Row],[Q.2]]+t_projeto[[#This Row],[Q.3]],\"\")","v":""},{"$f":"IF(AND(t_projeto[[#This Row],[FLUXO]]<>0,t_projeto[[#This Row],[FLUXO]]<>\"\"),ROUND(t_projeto[[#This Row],[FLUXO]]/t_projeto[[#This Row],[Luminárias]],0),\"\")","v":""},{"$f":"IF(AND(t_projeto[[#This Row],[Luminárias]]<>0,t_projeto[[#This Row],[Luminárias]]<>\"\"),ROUND(t_projeto[[#This Row],[lm_médio]]/t_projeto[[#This Row],[W_médio]],2),\"\")","v":""}]
[229,{"$f":"_xlfn.XLOOKUP(t_projeto[[#This Row],[cód.]],t_sitio[cód],t_sitio[Trecho],\"\")","v":""},null,null,{"$f":"IF(t_projeto[[#This Row],[T.1]]<>\"\",_xlfn.XLOOKUP(t_projeto[[#This Row],[T.1]],$G$22:$G$26,$H$22:$H$26),\"\")","v":""},null,null,{"$f":"IF(t_projeto[[#This Row],[T.2]]<>\"\",_xlfn.XLOOKUP(t_projeto[[#This Row],[T.2]],$G$22:$G$26,$H$22:$H$26),\"\")","v":""},null,null,{"$f":"IF(t_projeto[[#This Row],[T.3]]<>\"\",_xlfn.XLOOKUP(t_projeto[[#This Row],[T.3]],$G$22:$G$26,$H$22:$H$26),\"\")","v":""},null,{"$f":"t_projeto[[#This Row],[Q.1]]+t_projeto[[#This Row],[Q.2]]+t_projeto[[#This Row],[Q.3]]","v":0},{"$f":"t_projeto[[#This Row],[Q.1]]+t_projeto[[#This Row],[Q.2]]+t_projeto[[#This Row],[Q.3]]","v":0},{"$f":"IF(t_projeto[[#This Row],[Q.1]]<>\"\",SUMIFS(t_reator[p],t_reator[tipo],t_projeto[[#This Row],[T.1]],t_reator[w],t_projeto[[#This Row],[P.1(W)]]),\"\")","v":""},{"$f":"IF(t_projeto[[#This Row],[Q.2]]<>\"\",SUMIFS(t_reator[p],t_reator[tipo],t_projeto[[#This Row],[T.2]],t_reator[w],t_projeto[[#This Row],[P.2(W)]]),\"\")","v":""},{"$f":"IF(t_projeto[[#This Row],[Q.3]]<>\"\",SUMIFS(t_reator[p],t_reator[tipo],t_projeto[[#This Row],[T.3]],t_reator[w],t_projeto[[#This Row],[P.3(W)]]),\"\")","v":""},{"$f":"IF(t_projeto[[#This Row],[Q.1]]<>\"\",IFERROR(IFERROR(D691*(E691+O691)+G691*(H691+P691)+J691*(K691+Q691),D691*(E691+O691)+G691*(H691+P691)),D691*(E691+O691)),\"\")","v":""},{"$f":"IF(t_projeto[[#This Row],[Consumo_W]]<>\"\",ROUND(t_projeto[[#This Row],[Consumo_W]]/t_projeto[[#This Row],[Luminárias]],0),\"\")","v":""},{"$f":"IF(t_projeto[[#This Row],[Q.1]]<>\"\",t_projeto[[#This Row],[Q.1]]*t_projeto[[#This Row],[P.1(W)]]*$C$24,\"\")","v":""},{"$f":"IF(t_projeto[[#This Row],[Q.2]]<>\"\",t_projeto[[#This Row],[Q.2]]*t_projeto[[#This Row],[P.2(W)]]*$C$24,\"\")","v":""},{"$f":"IF(t_projeto[[#This Row],[Q.3]]<>\"\",t_projeto[[#This Row],[Q.3]]*t_projeto[[#This Row],[P.3(W)]]*$C$24,\"\")","v":""},{"$f":"IF(t_projeto[[#This Row],[Trecho]]<>\"\",SUM(t_projeto[[#This Row],[f.1]:[f.3]]),\"\")","v":""},{"$f":"IF(t_projeto[[#This Row],[Trecho]]<>\"\",t_projeto[[#This Row],[Q.1]]+t_projeto[[#This Row],[Q.2]]+t_projeto[[#This Row],[Q.3]],\"\")","v":""},{"$f":"IF(AND(t_projeto[[#This Row],[FLUXO]]<>0,t_projeto[[#This Row],[FLUXO]]<>\"\"),ROUND(t_projeto[[#This Row],[FLUXO]]/t_projeto[[#This Row],[Luminárias]],0),\"\")","v":""},{"$f":"IF(AND(t_projeto[[#This Row],[Luminárias]]<>0,t_projeto[[#This Row],[Luminárias]]<>\"\"),ROUND(t_projeto[[#This Row],[lm_médio]]/t_projeto[[#This Row],[W_médio]],2),\"\")","v":""}]
[230,{"$f":"_xlfn.XLOOKUP(t_projeto[[#This Row],[cód.]],t_sitio[cód],t_sitio[Trecho],\"\")","v":""},null,null,{"$f":"IF(t_projeto[[#This Row],[T.1]]<>\"\",_xlfn.XLOOKUP(t_projeto[[#This Row],[T.1]],$G$22:$G$26,$H$22:$H$26),\"\")","v":""},null,null,{"$f":"IF(t_projeto[[#This Row],[T.2]]<>\"\",_xlfn.XLOOKUP(t_projeto[[#This Row],[T.2]],$G$22:$G$26,$H$22:$H$26),\"\")","v":""},null,null,{"$f":"IF(t_projeto[[#This Row],[T.3]]<>\"\",_xlfn.XLOOKUP(t_projeto[[#This Row],[T.3]],$G$22:$G$26,$H$22:$H$26),\"\")","v":""},null,{"$f":"t_projeto[[#This Row],[Q.1]]+t_projeto[[#This Row],[Q.2]]+t_projeto[[#This Row],[Q.3]]","v":0},{"$f":"t_projeto[[#This Row],[Q.1]]+t_projeto[[#This Row],[Q.2]]+t_projeto[[#This Row],[Q.3]]","v":0},{"$f":"IF(t_projeto[[#This Row],[Q.1]]<>\"\",SUMIFS(t_reator[p],t_reator[tipo],t_projeto[[#This Row],[T.1]],t_reator[w],t_projeto[[#This Row],[P.1(W)]]),\"\")","v":""},{"$f":"IF(t_projeto[[#This Row],[Q.2]]<>\"\",SUMIFS(t_reator[p],t_reator[tipo],t_projeto[[#This Row],[T.2]],t_reator[w],t_projeto[[#This Row],[P.2(W)]]),\"\")","v":""},{"$f":"IF(t_projeto[[#This Row],[Q.3]]<>\"\",SUMIFS(t_reator[p],t_reator[tipo],t_projeto[[#This Row],[T.3]],t_reator[w],t_projeto[[#This Row],[P.3(W)]]),\"\")","v":""},{"$f":"IF(t_projeto[[#This Row],[Q.1]]<>\"\",IFERROR(IFERROR(D692*(E692+O692)+G692*(H692+P692)+J692*(K692+Q692),D692*(E692+O692)+G692*(H692+P692)),D692*(E692+O692)),\"\")","v":""},{"$f":"IF(t_projeto[[#This Row],[Consumo_W]]<>\"\",ROUND(t_projeto[[#This Row],[Consumo_W]]/t_projeto[[#This Row],[Luminárias]],0),\"\")","v":""},{"$f":"IF(t_projeto[[#This Row],[Q.1]]<>\"\",t_projeto[[#This Row],[Q.1]]*t_projeto[[#This Row],[P.1(W)]]*$C$24,\"\")","v":""},{"$f":"IF(t_projeto[[#This Row],[Q.2]]<>\"\",t_projeto[[#This Row],[Q.2]]*t_projeto[[#This Row],[P.2(W)]]*$C$24,\"\")","v":""},{"$f":"IF(t_projeto[[#This Row],[Q.3]]<>\"\",t_projeto[[#This Row],[Q.3]]*t_projeto[[#This Row],[P.3(W)]]*$C$24,\"\")","v":""},{"$f":"IF(t_projeto[[#This Row],[Trecho]]<>\"\",SUM(t_projeto[[#This Row],[f.1]:[f.3]]),\"\")","v":""},{"$f":"IF(t_projeto[[#This Row],[Trecho]]<>\"\",t_projeto[[#This Row],[Q.1]]+t_projeto[[#This Row],[Q.2]]+t_projeto[[#This Row],[Q.3]],\"\")","v":""},{"$f":"IF(AND(t_projeto[[#This Row],[FLUXO]]<>0,t_projeto[[#This Row],[FLUXO]]<>\"\"),ROUND(t_projeto[[#This Row],[FLUXO]]/t_projeto[[#This Row],[Luminárias]],0),\"\")","v":""},{"$f":"IF(AND(t_projeto[[#This Row],[Luminárias]]<>0,t_projeto[[#This Row],[Luminárias]]<>\"\"),ROUND(t_projeto[[#This Row],[lm_médio]]/t_projeto[[#This Row],[W_médio]],2),\"\")","v":""}]

{"sheet":"apoio","index":1,"n_rows":25,"n_cols":14,"rows_kept":25,"cut":false,"hidden":true,"merged":[]}
[null,null,null,null,null,null,null,null,null,null,null,"tipo","w","p"]
[null,null,null,null,null,null,null,null,null,null,null,"V.Sódio",70,14]
[null,null,null,null,null,null,null,null,null,null,null,"V.Sódio",100,17]
[null,null,null,null,null,null,null,null,null,null,null,"V.Sódio",150,22]
[null,null,null,null,null,null,null,null,null,null,null,"V.Sódio",250,30]
[null,null,null,null,null,null,null,null,null,null,null,"V.Metálico",80,14]
[null,null,null,null,null,null,null,null,null,null,null,"V.Metálico",125,22]
[null,null,null,null,null,null,null,null,null,null,null,"V.Metálico",250,30]
[null,null,null,null,null,null,null,null,null,null,null,"V.Metálico",400,38]
[null,null,null,null,null,null,null,null,null,null,null,"V.Mercúrio",80,11]
[null,null,null,null,null,null,null,null,null,null,null,"V.Mercúrio",125,15]
[null,null,null,null,null,null,null,null,null,null,null,"V.Mercúrio",250,27]
[null,null,null,null,null,null,null,null,null,null,null,"V.Mercúrio",400,38]
[null,null,null,null,null,null,null,null,null,null,null,"V.Sódio",400,40]
[]
[]
[]
[]
[]
[null,null,null,null,null,null,null,null,null,null,null,"tipo","fluxo"]
[null,null,null,null,null,null,null,null,null,null,null,"Mista",30]
[null,null,null,null,null,null,null,null,null,null,null,"V.Mercúrio",50]
[null,null,null,null,null,null,null,null,null,null,null,"V.Sódio",{"$f":"AVERAGE(80,140)","v":110}]
[null,null,null,null,null,null,null,null,null,null,null,"V.Metálico",80]
[null,null,null,null,null,null,null,null,null,null,null,"Outra",75]

{"sheet":"Planilha2","index":2,"n_rows":402,"n_cols":8,"rows_kept":402,"cut":false,"hidden":true,"merged":[]}
["Coluna1","Executor","Escritorio","Associação","Escritório Regional","CNPJ","Coluna2","Coluna3"]
[1,"Abatiá","Londrina","Associação dos Municípios do Norte Pioneiro","Escritório Regional de Londrina",75743567000157,{"$error":"#VALUE!"},{"$f":"_FV(G2,\"População\")","v":7408}]
[{"$f":"A2+1","v":2},"Adrianópolis","Curitiba","Associação dos Municípios da Região Metropolitana de Curitiba","Escritório Regional de Curitiba",76105642000117,{"$error":"#VALUE!"},{"$f":"_FV(G3,\"População\")","v":5857}]
[{"$f":"A3+1","v":3},"Agudos do Sul","Curitiba","Associação dos Municípios da Região Metropolitana de Curitiba","Escritório Regional de Curitiba",76105667000110,{"$error":"#VALUE!"},{"$f":"_FV(G4,\"População\")","v":9470}]
[4,"Almirante Tamandaré","Curitiba","Associação dos Municípios da Região Metropolitana de Curitiba","Escritório Regional de Curitiba",76105659000174,{"$error":"#VALUE!"},{"$f":"_FV(G5,\"População\")","v":120041}]
[5,"Altamira do Paraná","Guarapuava","Associação dos Municípios do Centro do Paraná","Escritório Regional de Guarapuava",78069143000147,{"$error":"#VALUE!"},{"$f":"_FV(G6,\"População\")","v":1682}]
[6,"Alto Paraíso","Maringá","Associação dos Municípios da Região de Entre Rios","Escritório Regional de Maringá",95640736000130,{"$error":"#VALUE!"},{"$f":"_FV(G7,\"População\")","v":3206}]
[7,"Alto Paraná","Maringá","Associação dos Municípios do Noroeste do Paraná","Escritório Regional de Maringá",76279967000116,{"$error":"#VALUE!"},{"$f":"_FV(G8,\"População\")","v":14859}]
[8,"Alto Piquiri","Maringá","Associação dos Municípios da Região de Entre Rios","Escritório Regional de Maringá",76247352000108,{"$error":"#VALUE!"},{"$f":"_FV(G9,\"População\")","v":9778}]
[9,"Altônia","Maringá","Associação dos Municípios da Região de Entre Rios","Escritório Regional de Maringá",81478059000191,{"$error":"#VALUE!"},{"$f":"_FV(G10,\"População\")","v":22176}]
[10,"Alvorada do Sul","Londrina","Associação dos Municípios do Médio Paranapanema","Escritório Regional de Londrina",75132860000188,{"$error":"#VALUE!"},{"$f":"_FV(G11,\"População\")","v":11503}]
[11,"Amaporã","Maringá","Associação dos Municípios do Noroeste do Paraná","Escritório Regional de Maringá",75475038000110,{"$error":"#VALUE!"},{"$f":"_FV(G12,\"População\")","v":6332}]
[12,"Ampére","Francisco Beltrão","Associação dos Municípios do Sudoeste do Paraná","Escritório Regional de Francisco Betrão",77817054000179,{"$error":"#VALUE!"},{"$f":"_FV(G13,\"População\")","v":19311}]
[13,"Anahy","Cascavel","Associação dos Municípios do Oeste do Paraná","Escritório Regional de Cascavel",95594800000194,{"$error":"#VALUE!"},{"$f":"_FV(G14,\"População\")","v":2788}]
[14,"Andirá","Londrina","Associação dos Municípios do Norte Pioneiro","Escritório Regional de Londrina",76235761000194,{"$error":"#VALUE!"},{"$f":"_FV(G15,\"População\")","v":19926}]
[15,"Ângulo","Maringá","Associação dos Municípos do Setentrião Paranaense","Escritório Regional de Maringá",95642286000115,{"$error":"#VALUE!"},{"$f":"_FV(G16,\"População\")","v":2930}]
[16,"Antonina","Curitiba","Associação dos Municípios do Litoral do Paraná","Escritório Regional de Curitiba",76022516000107,{"$error":"#VALUE!"},{"$f":"_FV(G17,\"População\")","v":18949}]
[17,"Antonio Olinto","Ponta Grossa","Associação dos Municípios do Sul do Paraná","Escritório Regional de Ponta Grossa",76020460000143,{"$error":"#VALUE!"},{"$f":"_FV(G18,\"População\")","v":7427}]
[18,"Apucarana","Londrina","Associação dos Municípios do Vale do Ivaí","Escritório Regional de Londrina",75771253000168,{"$error":"#VALUE!"},{"$f":"_FV(G19,\"População\")","v":136.23400000000001}]
[19,"Arapongas","Londrina","Associação dos Municípios do Médio Paranapanema","Escritório Regional de Londrina",76958966000106,{"$error":"#VALUE!"},{"$f":"_FV(G20,\"População\")","v":124810}]
[20,"Arapoti","Ponta Grossa","Associação dos Municípios da Região dos Campos Gerais","Escritório Regional de Ponta Grossa",75658377000131,{"$error":"#VALUE!"},{"$f":"_FV(G21,\"População\")","v":25855}]
[21,"Arapuã","Londrina","Associação dos Municípios do Vale do Ivaí","Escritório Regional de Londrina",1612388000144,{"$error":"#VALUE!"},{"$f":"_FV(G22,\"População\")","v":3009}]
[22,"Araruna","Maringá","Comunidade dos Municípios da Região de Campo Mourão","Escritório Regional de Maringá",75359760000199,{"$error":"#VALUE!"},{"$f":"_FV(G23,\"População\")","v":14000}]
[23,"Araucária","Curitiba","Associação dos Municípios da Região Metropolitana de Curitiba","Escritório Regional de Curitiba",76105535000199,{"$error":"#VALUE!"},{"$f":"_FV(G24,\"População\")","v":146214}]
[24,"Ariranha do Ivaí","Londrina","Associação dos Municípios do Vale do Ivaí","Escritório Regional de Londrina",1612453000131,{"$error":"#VALUE!"},{"$f":"_FV(G25,\"População\")","v":2066}]
[25,"Assaí","Londrina","Associação dos Municípios do Norte do Paraná","Escritório Regional de Londrina",76290709000130,{"$error":"#VALUE!"},{"$f":"_FV(G26,\"População\")","v":14954}]
[26,"Assis Chateaubriand","Cascavel","Associação dos Municípios do Oeste do Paraná","Escritório Regional de Cascavel",76208479000118,{"$error":"#VALUE!"},{"$f":"_FV(G27,\"População\")","v":33340}]
[27,"Astorga","Maringá","Associação dos Municípos do Setentrião Paranaense","Escritório Regional de Maringá",75743377000130,{"$error":"#VALUE!"},{"$f":"_FV(G28,\"População\")","v":24698}]
[28,"Atalaia","Maringá","Associação dos Municípos do Setentrião Paranaense","Escritório Regional de Maringá",75731018000162,{"$error":"#VALUE!"},{"$f":"_FV(G29,\"População\")","v":3881}]
[29,"Balsa Nova","Curitiba","Associação dos Municípios da Região Metropolitana de Curitiba","Escritório Regional de Curitiba",76105527000142,{"$error":"#VALUE!"},{"$f":"_FV(G30,\"População\")","v":13092}]
[30,"Bandeirantes","Londrina","Associação dos Municípios do Norte do Paraná","Escritório Regional de Londrina",76235753000148,{"$error":"#VALUE!"},{"$f":"_FV(G31,\"População\")","v":31211}]
[31,"Barbosa Ferraz","Maringá","Comunidade dos Municípios da Região de Campo Mourão","Escritório Regional de Maringá",76950062000126,{"$error":"#VALUE!"},{"$f":"_FV(G32,\"População\")","v":11426}]
[32,"Barra do Jacaré","Londrina","Associação dos Municípios do Norte Pioneiro","Escritório Regional de Londrina",76407568000193,{"$error":"#VALUE!"},{"$f":"_FV(G33,\"População\")","v":2781}]
[33,"Barracão","Francisco Beltrão","Associação dos Municípios do Sudoeste do Paraná","Escritório Regional de Francisco Betrão",75666131000101,{"$error":"#VALUE!"},{"$f":"_FV(G34,\"População\")","v":10312}]
[34,"Bela Vista da Caroba","Francisco Beltrão","Associação dos Municípios do Sudoeste do Paraná","Escritório Regional de Francisco Betrão",1612441000107,{"$error":"#VALUE!"},{"$f":"_FV(G35,\"População\")","v":3457}]
[35,"Bela Vista do Paraíso","Londrina","Associação dos Municípios do Médio Paranapanema","Escritório Regional de Londrina",76245067000158,{"$error":"#VALUE!"},{"$f":"_FV(G36,\"População\")","v":15399}]
[36,"Bituruna","Guarapuava","Associação dos Municípios do Sul do Paraná","Escritório Regional de Guarapuava",81648859000103,{"$error":"#VALUE!"},{"$f":"_FV(G37,\"População\")","v":16400}]
[37,"Boa Esperança","Maringá","Comunidade dos Municípios da Região de Campo Mourão","Escritório Regional de Maringá",76217017000167,{"$error":"#VALUE!"},{"$f":"_FV(G38,\"População\")","v":4047}]
[38,"Boa Esperança do Iguaçu","Francisco Beltrão","Associação dos Municípios do Sudoeste do Paraná","Escritório Regional de Francisco Betrão",95589255000148,{"$error":"#VALUE!"},{"$f":"_FV(G39,\"População\")","v":2470}]
[39,"Boa Ventura de São Roque","Guarapuava","Associação dos Municípios do Centro do Paraná","Escritório Regional de Guarapuava",1612906000120,{"$error":"#VALUE!"},{"$f":"_FV(G40,\"População\")","v":6365}]
[40,"Boa Vista da Aparecida","Cascavel","Associação dos Municípios do Oeste do Paraná","Escritório Regional de Cascavel",78121985000109,{"$error":"#VALUE!"},{"$f":"_FV(G41,\"População\")","v":7540}]
[41,"Bocaiúva do Sul","Curitiba","Associação dos Municípios da Região Metropolitana de Curitiba","Escritório Regional de Curitiba",76105592000178,{"$error":"#VALUE!"},{"$f":"_FV(G42,\"População\")","v":13129}]
[42,"Bom Jesus do Sul","Francisco Beltrão","Associação dos Municípios do Sudoeste do Paraná","Escritório Regional de Francisco Betrão",1612443000104,{"$error":"#VALUE!"},{"$f":"_FV(G43,\"População\")","v":3506}]
[43,"Bom Sucesso","Londrina","Associação dos Municípios do Vale do Ivaí","Escritório Regional de Londrina",75771261000104,"Bom Sucesso",{"$f":"_FV(G44,\"População\")","v":{"$error":"#VALUE!"}}]
[44,"Bom Sucesso do Sul","Francisco Beltrão","Associação dos Municípios do Sudoeste do Paraná","Escritório Regional de Francisco Betrão",80874100000186,{"$error":"#VALUE!"},{"$f":"_FV(G45,\"População\")","v":3254}]
[45,"Borrazópolis","Londrina","Associação dos Municípios do Vale do Ivaí","Escritório Regional de Londrina",75740829000120,{"$error":"#VALUE!"},{"$f":"_FV(G46,\"População\")","v":6439}]
[46,"Braganey","Cascavel","Associação dos Municípios do Oeste do Paraná","Escritório Regional de Cascavel",78121902000173,{"$error":"#VALUE!"},{"$f":"_FV(G47,\"População\")","v":5382}]
[47,"Brasilândia do Sul","Maringá","Associação dos Municípios da Região de Entre Rios","Escritório Regional de Maringá",95640520000175,{"$error":"#VALUE!"},{"$f":"_FV(G48,\"População\")","v":2585}]
[48,"Cafeara","Londrina","Associação dos Municípios do Médio Paranapanema","Escritório Regional de Londrina",75845545000106,{"$error":"#VALUE!"},{"$f":"_FV(G49,\"População\")","v":2954}]
[49,"Cafelândia","Cascavel","Associação dos Municípios do Oeste do Paraná","Escritório Regional de Cascavel",78121878000172,{"$error":"#VALUE!"},{"$f":"_FV(G50,\"População\")","v":18456}]
[50,"Cafezal do Sul","Maringá","Associação dos Municípios da Região de Entre Rios","Escritório Regional de Maringá",95640652000105,{"$error":"#VALUE!"},{"$f":"_FV(G51,\"População\")","v":4009}]
[51,"Califórnia","Londrina","Associação dos Municípios do Vale do Ivaí","Escritório Regional de Londrina",75771279000106,{"$error":"#VALUE!"},{"$f":"_FV(G52,\"População\")","v":8606}]
[52,"Cambará","Londrina","Associação dos Municípios do Norte Pioneiro","Escritório Regional de Londrina",75442756000190,{"$error":"#VALUE!"},{"$f":"_FV(G53,\"População\")","v":25466}]
[53,"Cambé","Londrina","Associação dos Municípios do Médio Paranapanema","Escritório Regional de Londrina",75732057000184,{"$error":"#VALUE!"},{"$f":"_FV(G54,\"População\")","v":107341}]
[54,"Cambira","Londrina","Associação dos Municípios do Vale do Ivaí","Escritório Regional de Londrina",75771287000152,{"$error":"#VALUE!"},{"$f":"_FV(G55,\"População\")","v":7917}]
[55,"Campina da Lagoa","Maringá","Comunidade dos Municípios da Região de Campo Mourão","Escritório Regional de Maringá",76950070000172,{"$error":"#VALUE!"},{"$f":"_FV(G56,\"População\")","v":14043}]
[56,"Campina do Simão","Guarapuava","Associação dos Municípios do Centro do Paraná","Escritório Regional de Guarapuava",1611489000109,{"$error":"#VALUE!"},{"$f":"_FV(G57,\"População\")","v":3859}]
[57,"Campina Grande do Sul","Curitiba","Associação dos Municípios da Região Metropolitana de Curitiba","Escritório Regional de Curitiba",76105600000186,{"$error":"#VALUE!"},{"$f":"_FV(G58,\"População\")","v":38769}]
[58,"Campo Bonito","Cascavel","Associação dos Municípios do Oeste do Paraná","Escritório Regional de Cascavel",80869621000145,{"$error":"#VALUE!"},{"$f":"_FV(G59,\"População\")","v":3763}]
[59,"Campo do Tenente","Curitiba","Associação dos Municípios da Região Suleste do Paraná","Escritório Regional de Curitiba",76002658000102,{"$error":"#VALUE!"},{"$f":"_FV(G60,\"População\")","v":8045}]
[60,"Campo Largo","Curitiba","Associação dos Municípios da Região Metropolitana de Curitiba","Escritório Regional de Curitiba",76105618000188,{"$error":"#VALUE!"},{"$f":"_FV(G61,\"População\")","v":133865}]
[61,"Campo Magro","Curitiba","Associação dos Municípios da Região Metropolitana de Curitiba","Escritório Regional de Curitiba",1607539000176,{"$error":"#VALUE!"},{"$f":"_FV(G62,\"População\")","v":24843}]
[62,"Campo Mourão","Guarapuava","Comunidade dos Municípios da Região de Campo Mourão","Escritório Regional de Maringá",75904524000106,{"$error":"#VALUE!"},{"$f":"_FV(G63,\"População\")","v":95488}]
[63,"Cândido de Abreu","Guarapuava","Associação dos Municípios do Centro do Paraná","Escritório Regional de Guarapuava",76175926000180,{"$error":"#VALUE!"},{"$f":"_FV(G64,\"População\")","v":14809}]
[64,"Candói","Guarapuava","Associação dos Municípios do Cantuquiriguaçu","Escritório Regional de Guarapuava",95684478000194,{"$error":"#VALUE!"},{"$f":"_FV(G65,\"População\")","v":16053}]
[65,"Cantagalo","Guarapuava","Associação dos Municípios do Cantuquiriguaçu","Escritório Regional de Guarapuava",78279981000145,{"$error":"#VALUE!"},{"$f":"_FV(G66,\"População\")","v":13329}]
[66,"Capanema","Francisco Beltrão","Associação dos Municípios do Sudoeste do Paraná","Escritório Regional de Francisco Betrão",75972760000160,{"$error":"#VALUE!"},{"$f":"_FV(G67,\"População\")","v":69431}]
[{"$f":"A67+1","v":67},"Capitão Leônidas Marques","Cascavel","Associação dos Municípios do Oeste do Paraná","Escritório Regional de Cascavel",76208834000159,{"$error":"#VALUE!"},{"$f":"_FV(G68,\"População\")","v":15834}]
[68,"Carambeí","Ponta Grossa","Associação dos Municípios da Região dos Campos Gerais","Escritório Regional de Ponta Grossa",1613765000160,{"$error":"#VALUE!"},{"$f":"_FV(G69,\"População\")","v":23825}]
[69,"Carlópolis","Londrina","Associação dos Municípios do Norte Pioneiro","Escritório Regional de Londrina",76965789000187,{"$error":"#VALUE!"},{"$f":"_FV(G70,\"População\")","v":14356}]
[70,"Cascavel","Cascavel","Associação dos Municípios do Oeste do Paraná","Escritório Regional de Cascavel",76208867000107,{"$error":"#VALUE!"},{"$f":"_FV(G71,\"População\")","v":332333}]
[71,"Castro","Ponta Grossa","Associação dos Municípios da Região dos Campos Gerais","Escritório Regional de Ponta Grossa",77001311000108,{"$error":"#VALUE!"},{"$f":"_FV(G72,\"População\")","v":71809}]
[72,"Catanduvas","Cascavel","Associação dos Municípios do Oeste do Paraná","Escritório Regional de Cascavel",76208842000103,{"$error":"#VALUE!"},{"$f":"_FV(G73,\"População\")","v":10167}]
[73,"Centenário do Sul","Londrina","Associação dos Municípios do Médio Paranapanema","Escritório Regional de Londrina",75845503000167,{"$error":"#VALUE!"},{"$f":"_FV(G74,\"População\")","v":10764}]
[74,"Cerro Azul","Curitiba","Associação dos Municípios da Região Metropolitana de Curitiba","Escritório Regional de Curitiba",76105626000124,{"$error":"#VALUE!"},{"$f":"_FV(G75,\"População\")","v":17833}]
[75,"Céu Azul","Cascavel","Associação dos Municípios do Oeste do Paraná","Escritório Regional de Cascavel",76206473000101,{"$error":"#VALUE!"},{"$f":"_FV(G76,\"População\")","v":11819}]
[76,"Chopinzinho","Francisco Beltrão","Associação dos Municípios do Sudoeste do Paraná","Escritório Regional de Francisco Betrão",76995414000160,{"$error":"#VALUE!"},{"$f":"_FV(G77,\"População\")","v":19167}]
[77,"Cianorte","Maringá","Associação dos Municípios da Região de Entre Rios","Escritório Regional de Maringá",76309806000128,{"$error":"#VALUE!"},{"$f":"_FV(G78,\"População\")","v":83816}]
[78,"Cidade Gaúcha","Maringá","Associação dos Municípios da Região de Entre Rios","Escritório Regional de Maringá",75377200000167,{"$error":"#VALUE!"},{"$f":"_FV(G79,\"População\")","v":12797}]
[79,"Clevelândia","Francisco Beltrão","Associação dos Municípios do Sudoeste do Paraná","Escritório Regional de Francisco Betrão",76161199000100,{"$error":"#VALUE!"},{"$f":"_FV(G80,\"População\")","v":16450}]
[80,"Colombo","Curitiba","Associação dos Municípios da Região Metropolitana de Curitiba","Escritório Regional de Curitiba",76105634000170,{"$error":"#VALUE!"},{"$f":"_FV(G81,\"População\")","v":752993}]
[81,"Colorado","Maringá","Associação dos Municípos do Setentrião Paranaense","Escritório Regional de Maringá",76970326000103,{"$error":"#VALUE!"},{"$f":"_FV(G82,\"População\")","v":24145}]
[82,"Congonhinhas","Londrina","Associação dos Municípios do Norte do Paraná","Escritório Regional de Londrina",75825828000188,{"$error":"#VALUE!"},{"$f":"_FV(G83,\"População\")","v":8857}]
[83,"Conselheiro Mairinck","Londrina","Associação dos Municípios do Norte Pioneiro","Escritório Regional de Londrina",75968412000119,{"$error":"#VALUE!"},{"$f":"_FV(G84,\"População\")","v":3876}]
[84,"Contenda","Curitiba","Associação dos Municípios da Região Metropolitana de Curitiba","Escritório Regional de Curitiba",76105519000104,{"$error":"#VALUE!"},{"$f":"_FV(G85,\"População\")","v":18837}]
[85,"Corbélia","Cascavel","Associação dos Municípios do Oeste do Paraná","Escritório Regional de Cascavel",76208826000102,{"$error":"#VALUE!"},{"$f":"_FV(G86,\"População\")","v":17117}]
[86,"Cornélio Procópio","Londrina","Associação dos Municípios do Norte do Paraná","Escritório Regional de Londrina",76331941000170,{"$error":"#VALUE!"},{"$f":"_FV(G87,\"População\")","v":47842}]
[87,"Coronel Domingos Soares","Francisco Beltrão","Associação dos Municípios do Sudoeste do Paraná","Escritório Regional de Francisco Betrão",1614415000118,{"$error":"#VALUE!"},{"$f":"_FV(G88,\"População\")","v":7518}]
[88,"Coronel Vivida","Francisco Beltrão","Associação dos Municípios do Sudoeste do Paraná","Escritório Regional de Francisco Betrão",76995455000156,{"$error":"#VALUE!"},{"$f":"_FV(G89,\"População\")","v":20580}]
[89,"Corumbataí do Sul","Maringá","Comunidade dos Municípios da Região de Campo Mourão","Escritório Regional de Maringá",80888662000189,{"$error":"#VALUE!"},{"$f":"_FV(G90,\"População\")","v":3127}]
[90,"Cruz Machado","Ponta Grossa","Associação dos Municípios do Sul do Paraná","Escritório Regional de Ponta Grossa",76339688000109,{"$error":"#VALUE!"},{"$f":"_FV(G91,\"População\")","v":18741}]
[91,"Cruzeiro do Iguaçu","Francisco Beltrão","Associação dos Municípios do Sudoeste do Paraná","Escritório Regional de Francisco Betrão",95589230000144,{"$error":"#VALUE!"},{"$f":"_FV(G92,\"População\")","v":4240}]
[92,"Cruzeiro do Oeste","Maringá","Associação dos Municípios da Região de Entre Rios","Escritório Regional de Maringá",76381854000127,{"$error":"#VALUE!"},{"$f":"_FV(G93,\"População\")","v":20947}]
[93,"Cruzeiro do Sul","Maringá","Associação dos Municípios do Noroeste do Paraná","Escritório Regional de Maringá",75731034000155,{"$error":"#VALUE!"},{"$f":"_FV(G94,\"População\")","v":4449}]
[94,"Cruzmaltina","Londrina","Associação dos Municípios do Vale do Ivaí","Escritório Regional de Londrina",1615393000100,{"$error":"#VALUE!"},{"$f":"_FV(G95,\"População\")","v":2921}]
[95,"Curitiba","Curitiba","Associação dos Municípios da Região Metropolitana de Curitiba","Escritório Regional de Curitiba",76417005000186,{"$error":"#VALUE!"},{"$f":"_FV(G96,\"População\")","v":1948626}]
[96,"Curiúva","Londrina","Associação dos Municípios do Norte do Paraná","Escritório Regional de Londrina",76167725000130,{"$error":"#VALUE!"},{"$f":"_FV(G97,\"População\")","v":15196}]
[97,"Diamante do Norte","Maringá","Associação dos Municípios do Noroeste do Paraná","Escritório Regional de Maringá",76972082000106,{"$error":"#VALUE!"},{"$f":"_FV(G98,\"População\")","v":5030}]
[98,"Diamante do Sul","Cascavel","Associação dos Municípios do Oeste do Paraná","Escritório Regional de Cascavel",95595120000195,{"$error":"#VALUE!"},{"$f":"_FV(G99,\"População\")","v":3424}]
[99,"Diamante d'Oeste","Cascavel","Associação dos Municípios do Oeste do Paraná","Escritório Regional de Cascavel",77817476000144,{"$error":"#VALUE!"},{"$f":"_FV(G100,\"População\")","v":5266}]
[100,"Dois Vizinhos","Francisco Beltrão","Associação dos Municípios do Sudoeste do Paraná","Escritório Regional de Francisco Betrão",76205640000108,{"$error":"#VALUE!"},{"$f":"_FV(G101,\"População\")","v":41038}]
[101,"Douradina","Maringá","Associação dos Municípios da Região de Entre Rios","Escritório Regional de Maringá",78200110000194,{"$error":"#VALUE!"},{"$f":"_FV(G102,\"População\")","v":8869}]
[102,"Doutor Camargo","Maringá","Associação dos Municípos do Setentrião Paranaense","Escritório Regional de Maringá",76282714000100,{"$error":"#VALUE!"},{"$f":"_FV(G103,\"População\")","v":5983}]
[103,"Doutor Ulysses","Curitiba","Associação dos Municípios da Região Metropolitana de Curitiba","Escritório Regional de Curitiba",95422911000113,{"$error":"#VALUE!"},{"$f":"_FV(G104,\"População\")","v":5552}]
[104,"Enéas Marques","Francisco Beltrão","Associação dos Municípios do Sudoeste do Paraná","Escritório Regional de Francisco Betrão",76205657000157,{"$error":"#VALUE!"},{"$f":"_FV(G105,\"População\")","v":5933}]
[105,"Engenheiro Beltrão","Maringá","Comunidade dos Municípios da Região de Campo Mourão","Escritório Regional de Maringá",76950039000131,{"$error":"#VALUE!"},{"$f":"_FV(G106,\"População\")","v":13981}]
[106,"Entre Rios do Oeste","Cascavel","Associação dos Municípios do Oeste do Paraná","Escritório Regional de Cascavel",95719449000110,{"$error":"#VALUE!"},{"$f":"_FV(G107,\"População\")","v":4596}]
[107,"Esperança Nova","Maringá","Associação dos Municípios da Região de Entre Rios","Escritório Regional de Maringá",1612269000191,{"$error":"#VALUE!"},{"$f":"_FV(G108,\"População\")","v":1665}]
[108,"Espigão Alto do Iguaçu","Guarapuava","Associação dos Municípios do Cantuquiriguaçu","Escritório Regional de Guarapuava",1612634000168,{"$error":"#VALUE!"},{"$f":"_FV(G109,\"População\")","v":4048}]
[109,"Farol","Maringá","Comunidade dos Municípios da Região de Campo Mourão","Escritório Regional de Maringá",95640124000148,{"$error":"#VALUE!"},{"$f":"_FV(G110,\"População\")","v":3041}]
[110,"Faxinal","Londrina","Associação dos Municípios do Vale do Ivaí","Escritório Regional de Londrina",75771295000107,{"$error":"#VALUE!"},{"$f":"_FV(G111,\"População\")","v":17316}]
[111,"Fazenda Rio Grande","Curitiba","Associação dos Municípios da Região Metropolitana de Curitiba","Escritório Regional de Curitiba",95422986000102,{"$error":"#VALUE!"},{"$f":"_FV(G112,\"População\")","v":102004}]
[112,"Fênix","Maringá","Comunidade dos Municípios da Região de Campo Mourão","Escritório Regional de Maringá",76950021000130,{"$error":"#VALUE!"},{"$f":"_FV(G113,\"População\")","v":4748}]
[113,"Fernandes Pinheiro","Ponta Grossa","Associação dos Municípios do Centro Sul do Paraná","Escritório Regional de Ponta Grossa",1619323000120,{"$error":"#VALUE!"},{"$f":"_FV(G114,\"População\")","v":5602}]
[114,"Figueira","Londrina","Associação dos Municípios do Norte Pioneiro","Escritório Regional de Londrina",78063732000118,{"$error":"#VALUE!"},{"$f":"_FV(G115,\"População\")","v":8254}]
[115,"Flor da Serra do Sul","Francisco Beltrão","Associação dos Municípios do Sudoeste do Paraná","Escritório Regional de Francisco Betrão",95589271000130,{"$error":"#VALUE!"},{"$f":"_FV(G116,\"População\")","v":4603}]
[116,"Floraí","Maringá","Associação dos Municípos do Setentrião Paranaense","Escritório Regional de Maringá",75731000000160,{"$error":"#VALUE!"},{"$f":"_FV(G117,\"População\")","v":4906}]
[117,"Floresta","Maringá","Associação dos Municípos do Setentrião Paranaense","Escritório Regional de Maringá",76282706000155,{"$error":"#VALUE!"},{"$f":"_FV(G118,\"População\")","v":6851}]
[118,"Florestópolis","Londrina","Associação dos Municípios do Médio Paranapanema","Escritório Regional de Londrina",75845495000159,{"$error":"#VALUE!"},{"$f":"_FV(G119,\"População\")","v":10453}]
[119,"Flórida","Maringá","Associação dos Municípos do Setentrião Paranaense","Escritório Regional de Maringá",75772400000114,{"$error":"#VALUE!"},{"$f":"_FV(G120,\"População\")","v":2699}]
[120,"Formosa do Oeste","Cascavel","Associação dos Municípios do Oeste do Paraná","Escritório Regional de Cascavel",76208495000100,{"$error":"#VALUE!"},{"$f":"_FV(G121,\"População\")","v":6460}]
[121,"Foz do Iguaçu","Francisco Beltrão","Associação dos Municípios do Oeste do Paraná","Escritório Regional de Francisco Betrão",76206606000140,{"$error":"#VALUE!"},{"$f":"_FV(G122,\"População\")","v":258248}]
[122,"Foz do Jordão","Guarapuava","Associação dos Municípios do Cantuquiriguaçu","Escritório Regional de Guarapuava",1603719000180,{"$error":"#VALUE!"},{"$f":"_FV(G123,\"População\")","v":4556}]
[123,"Francisco Alves","Maringá","Associação dos Municípios da Região de Entre Rios","Escritório Regional de Maringá",77356665000167,"Francisco Alves",{"$f":"_FV(G124,\"População\")","v":{"$error":"#VALUE!"}}]
[124,"Francisco Beltrão","Francisco Beltrão","Associação dos Municípios do Sudoeste do Paraná","Escritório Regional de Francisco Betrão",77816510000166,{"$error":"#VALUE!"},{"$f":"_FV(G125,\"População\")","v":92216}]
[125,"General Carneiro","Guarapuava","Associação dos Municípios do Sul do Paraná","Escritório Regional de Guarapuava",75687681000107,{"$error":"#VALUE!"},{"$f":"_FV(G126,\"População\")","v":13685}]
[126,"Godoy Moreira","Londrina","Associação dos Municípios do Vale do Ivaí","Escritório Regional de Londrina",81392656000107,{"$error":"#VALUE!"},{"$f":"_FV(G127,\"População\")","v":2898}]
[127,"Goioerê","Maringá","Comunidade dos Municípios da Região de Campo Mourão","Escritório Regional de Maringá",78198975000163,{"$error":"#VALUE!"},{"$f":"_FV(G128,\"População\")","v":28808}]
[128,"Goioxim","Guarapuava","Associação dos Municípios do Cantuquiriguaçu","Escritório Regional de Guarapuava",1607627000178,{"$error":"#VALUE!"},{"$f":"_FV(G129,\"População\")","v":7053}]
[129,"Grandes Rios","Londrina","Associação dos Municípios do Vale do Ivaí","Escritório Regional de Londrina",75741348000139,{"$error":"#VALUE!"},{"$f":"_FV(G130,\"População\")","v":5497}]
[130,"Guaíra","Cascavel","Associação dos Municípios do Oeste do Paraná","Escritório Regional de Cascavel",77857183000190,{"$error":"#VALUE!"},{"$f":"_FV(G131,\"População\")","v":33310}]
[{"$f":"A131+1","v":131},"Guairaçá","Maringá","Associação dos Municípios do Noroeste do Paraná","Escritório Regional de Maringá",76238443000187,{"$error":"#VALUE!"},{"$f":"_FV(G132,\"População\")","v":6609}]
[132,"Guamiranga","Ponta Grossa","Associação dos Municípios do Centro Sul do Paraná","Escritório Regional de Ponta Grossa",1616255000146,{"$error":"#VALUE!"},{"$f":"_FV(G133,\"População\")","v":8811}]
[133,"Guapirama","Londrina","Associação dos Municípios do Norte Pioneiro","Escritório Regional de Londrina",75443812000100,{"$error":"#VALUE!"},{"$f":"_FV(G134,\"População\")","v":3784}]
[134,"Guaporema","Maringá","Associação dos Municípios da Região de Entre Rios","Escritório Regional de Maringá",75378844000170,{"$error":"#VALUE!"},{"$f":"_FV(G135,\"População\")","v":2241}]
[135,"Guaraci","Londrina","Associação dos Municípios do Médio Paranapanema","Escritório Regional de Londrina",75845537000151,{"$error":"#VALUE!"},{"$f":"_FV(G136,\"População\")","v":5530}]
[136,"Guaraniaçu","Cascavel","Associação dos Municípios do Oeste do Paraná","Escritório Regional de Cascavel",76208818000166,{"$error":"#VALUE!"},{"$f":"_FV(G137,\"População\")","v":12217}]
[137,"Guarapuava","Guarapuava","Associação dos Municípios do Centro do Paraná","Escritório Regional de Guarapuava",76178037000176,{"$error":"#VALUE!"},{"$f":"_FV(G138,\"População\")","v":182644}]
[138,"Guaraqueçaba","Curitiba","Associação dos Municípios do Litoral do Paraná","Escritório Regional de Curitiba",76022508000152,{"$error":"#VALUE!"},{"$f":"_FV(G139,\"População\")","v":7594}]
[139,"Guaratuba","Curitiba","Associação dos Municípios do Litoral do Paraná","Escritório Regional de Curitiba",76017474000108,{"$error":"#VALUE!"},{"$f":"_FV(G140,\"População\")","v":32095}]
[140,"Honório Serpa","Francisco Beltrão","Associação dos Municípios do Sudoeste do Paraná","Escritório Regional de Francisco Betrão",95585444000142,{"$error":"#VALUE!"},{"$f":"_FV(G141,\"População\")","v":5119}]
[141,"Ibaiti","Londrina","Associação dos Municípios do Norte Pioneiro","Escritório Regional de Londrina",77008068000141,{"$error":"#VALUE!"},{"$f":"_FV(G142,\"População\")","v":31644}]
[142,"Ibema","Cascavel","Associação dos Municípios do Cantuquiriguaçu","Escritório Regional de Cascavel",80881931000185,{"$error":"#VALUE!"},{"$f":"_FV(G143,\"População\")","v":6370}]
[143,"Ibiporã","Londrina","Associação dos Municípios do Médio Paranapanema","Escritório Regional de Londrina",76244961000103,{"$error":"#VALUE!"},{"$f":"_FV(G144,\"População\")","v":55131}]
[144,"Icaraíma","Maringá","Associação dos Municípios da Região de Entre Rios","Escritório Regional de Maringá",76247337000160,{"$error":"#VALUE!"},{"$f":"_FV(G145,\"População\")","v":7786}]
[145,"Iguaraçu","Maringá","Associação dos Municípos do Setentrião Paranaense","Escritório Regional de Maringá",75772525000144,{"$error":"#VALUE!"},{"$f":"_FV(G146,\"População\")","v":4440}]
[146,"Iguatu","Cascavel","Associação dos Municípios do Oeste do Paraná","Escritório Regional de Cascavel",95595013000167,{"$error":"#VALUE!"},{"$f":"_FV(G147,\"População\")","v":103074}]
[147,"Imbaú","Ponta Grossa","Associação dos Municípios da Região dos Campos Gerais","Escritório Regional de Ponta Grossa",1613770000172,{"$error":"#VALUE!"},{"$f":"_FV(G148,\"População\")","v":13282}]
[148,"Imbituva","Ponta Grossa","Associação dos Municípios do Centro Sul do Paraná","Escritório Regional de Ponta Grossa",76175892000123,{"$error":"#VALUE!"},{"$f":"_FV(G149,\"População\")","v":32940}]
[149,"Inácio Martins","Guarapuava","Associação dos Municípios do Centro Sul do Paraná","Escritório Regional de Guarapuava",76178029000120,{"$error":"#VALUE!"},{"$f":"_FV(G150,\"População\")","v":11121}]
[150,"Inajá","Maringá","Associação dos Municípios do Noroeste do Paraná","Escritório Regional de Maringá",76970318000167,{"$error":"#VALUE!"},{"$f":"_FV(G151,\"População\")","v":3116}]
[151,"Indianópolis","Maringá","Associação dos Municípios da Região de Entre Rios","Escritório Regional de Maringá",75798355000177,{"$error":"#VALUE!"},{"$f":"_FV(G152,\"População\")","v":6190}]
[152,"Ipiranga","Ponta Grossa","Associação dos Municípios da Região dos Campos Gerais","Escritório Regional de Ponta Grossa",76175934000126,{"$error":"#VALUE!"},{"$f":"_FV(G153,\"População\")","v":15251}]
[153,"Iporã","Maringá","Associação dos Municípios da Região de Entre Rios","Escritório Regional de Maringá",75738484000170,{"$error":"#VALUE!"},{"$f":"_FV(G154,\"População\")","v":14981}]
[154,"Iracema do Oeste","Cascavel","Associação dos Municípios do Oeste do Paraná","Escritório Regional de Cascavel",95583555000110,{"$error":"#VALUE!"},{"$f":"_FV(G155,\"População\")","v":2251}]
[155,"Irati","Guarapuava","Associação dos Municípios do Centro Sul do Paraná","Escritório Regional de Guarapuava",75654574000182,{"$error":"#VALUE!"},{"$f":"_FV(G156,\"População\")","v":56207}]
[156,"Iretama","Guarapuava","Comunidade dos Municípios da Região de Campo Mourão","Escritório Regional de Guarapuava",76950088000174,{"$error":"#VALUE!"},{"$f":"_FV(G157,\"População\")","v":10098}]
[157,"Itaguajé","Maringá","Associação dos Municípos do Setentrião Paranaense","Escritório Regional de Maringá",76970359000153,{"$error":"#VALUE!"},{"$f":"_FV(G158,\"População\")","v":4446}]
[158,"Itaipulândia","Cascavel","Associação dos Municípios do Oeste do Paraná","Escritório Regional de Cascavel",95725057000164,{"$error":"#VALUE!"},{"$f":"_FV(G159,\"População\")","v":11385}]
[159,"Itambaracá","Londrina","Associação dos Municípios do Norte do Paraná","Escritório Regional de Londrina",76235738000108,{"$error":"#VALUE!"},{"$f":"_FV(G160,\"População\")","v":6549}]
[160,"Itambé","Maringá","Associação dos Municípos do Setentrião Paranaense","Escritório Regional de Maringá",76282698000147,{"$error":"#VALUE!"},{"$f":"_FV(G161,\"População\")","v":22754}]
[161,"Itapejara d'Oeste","Francisco Beltrão","Associação dos Municípios do Sudoeste do Paraná","Escritório Regional de Francisco Betrão",76995430000152,{"$error":"#VALUE!"},{"$f":"_FV(G162,\"População\")","v":12094}]
[162,"Itaperuçu","Curitiba","Associação dos Municípios da Região Metropolitana de Curitiba","Escritório Regional de Curitiba",95422846000126,{"$error":"#VALUE!"},{"$f":"_FV(G163,\"População\")","v":29070}]
[163,"Itaúna do Sul","Maringá","Associação dos Municípios do Noroeste do Paraná","Escritório Regional de Maringá",75458836000133,{"$error":"#VALUE!"},{"$f":"_FV(G164,\"População\")","v":2781}]
[164,"Ivaí","Ponta Grossa","Associação dos Municípios da Região dos Campos Gerais","Escritório Regional de Ponta Grossa",76175918000133,{"$error":"#VALUE!"},{"$f":"_FV(G165,\"População\")","v":13965}]
[165,"Ivaiporã","Londrina","Associação dos Municípios do Vale do Ivaí","Escritório Regional de Londrina",75741330000137,{"$error":"#VALUE!"},{"$f":"_FV(G166,\"População\")","v":31935}]
[166,"Ivaté","Maringá","Associação dos Municípios da Região de Entre Rios","Escritório Regional de Maringá",95640553000115,{"$error":"#VALUE!"},{"$f":"_FV(G167,\"População\")","v":8240}]
[167,"Ivatuba","Maringá","Associação dos Municípos do Setentrião Paranaense","Escritório Regional de Maringá",76285337000154,{"$error":"#VALUE!"},{"$f":"_FV(G168,\"População\")","v":3279}]
[168,"Jaboti","Londrina","Associação dos Municípios do Norte Pioneiro","Escritório Regional de Londrina",75969667000104,{"$error":"#VALUE!"},{"$f":"_FV(G169,\"População\")","v":5303}]
[169,"Jacarezinho","Londrina","Associação dos Municípios do Norte Pioneiro","Escritório Regional de Londrina",76966860000146,{"$error":"#VALUE!"},{"$f":"_FV(G170,\"População\")","v":39322}]
[170,"Jaguapitã","Londrina","Associação dos Municípios do Médio Paranapanema","Escritório Regional de Londrina",75457341000190,{"$error":"#VALUE!"},{"$f":"_FV(G171,\"População\")","v":13742}]
[171,"Jaguariaíva","Ponta Grossa","Associação dos Municípios da Região dos Campos Gerais","Escritório Regional de Ponta Grossa",76910900000138,{"$error":"#VALUE!"},{"$f":"_FV(G172,\"População\")","v":35027}]
[172,"Jandaia do Sul","Londrina","Associação dos Municípios do Vale do Ivaí","Escritório Regional de Londrina",75771204000125,{"$error":"#VALUE!"},{"$f":"_FV(G173,\"População\")","v":20269}]
[173,"Janiópolis","Maringá","Comunidade dos Municípios da Região de Campo Mourão","Escritório Regional de Maringá",76402882000183,{"$error":"#VALUE!"},{"$f":"_FV(G174,\"População\")","v":5095}]
[174,"Japira","Londrina","Associação dos Municípios do Norte Pioneiro","Escritório Regional de Londrina",75969881000152,{"$error":"#VALUE!"},{"$f":"_FV(G175,\"População\")","v":4930}]
[175,"Japurá","Maringá","Associação dos Municípios da Região de Entre Rios","Escritório Regional de Maringá",75788349000139,{"$error":"#VALUE!"},{"$f":"_FV(G176,\"População\")","v":9500}]
[176,"Jardim Alegre","Londrina","Associação dos Municípios do Vale do Ivaí","Escritório Regional de Londrina",75741363000187,{"$error":"#VALUE!"},{"$f":"_FV(G177,\"População\")","v":11196}]
[177,"Jardim Olinda","Maringá","Associação dos Municípios do Noroeste do Paraná","Escritório Regional de Maringá",76970383000192,{"$error":"#VALUE!"},{"$f":"_FV(G178,\"População\")","v":1320}]
[178,"Jataizinho","Londrina","Associação dos Municípios do Norte do Paraná","Escritório Regional de Londrina",76245042000154,{"$error":"#VALUE!"},{"$f":"_FV(G179,\"População\")","v":12638}]
[179,"Jesuítas","Cascavel","Associação dos Municípios do Oeste do Paraná","Escritório Regional de Cascavel",77398154000108,{"$error":"#VALUE!"},{"$f":"_FV(G180,\"População\")","v":8330}]
[180,"Joaquim Távora","Londrina","Associação dos Municípios do Norte Pioneiro","Escritório Regional de Londrina",76966845000106,{"$error":"#VALUE!"},{"$f":"_FV(G181,\"População\")","v":12009}]
[181,"Jundiaí do Sul","Londrina","Associação dos Municípios do Norte Pioneiro","Escritório Regional de Londrina",76408061000154,{"$error":"#VALUE!"},{"$f":"_FV(G182,\"População\")","v":3269}]
[182,"Juranda","Maringá","Comunidade dos Municípios da Região de Campo Mourão","Escritório Regional de Maringá",78196755000109,{"$error":"#VALUE!"},{"$f":"_FV(G183,\"População\")","v":7292}]
[183,"Jussara","Maringá","Associação dos Municípios da Região de Entre Rios","Escritório Regional de Maringá",75789552000120,{"$error":"#VALUE!"},{"$f":"_FV(G184,\"População\")","v":7041}]
[184,"Kaloré","Londrina","Associação dos Municípios do Vale do Ivaí","Escritório Regional de Londrina",75771238000110,{"$error":"#VALUE!"},{"$f":"_FV(G185,\"População\")","v":4047}]
[185,"Lapa","Ponta Grossa","Associação dos Municípios da Região Metropolitana de Curitiba","Escritório Regional de Ponta Grossa",76020452000105,{"$error":"#VALUE!"},{"$f":"_FV(G186,\"População\")","v":48410}]
[186,"Laranjal","Guarapuava","Associação dos Municípios do Centro do Paraná","Escritório Regional de Guarapuava",95684536000180,{"$error":"#VALUE!"},{"$f":"_FV(G187,\"População\")","v":5784}]
[187,"Laranjeiras do Sul","Guarapuava","Associação dos Municípios do Cantuquiriguaçu","Escritório Regional de Guarapuava",76205970000195,{"$error":"#VALUE!"},{"$f":"_FV(G188,\"População\")","v":32139}]
[188,"Leópolis","Londrina","Associação dos Municípios do Norte do Paraná","Escritório Regional de Londrina",75388850000108,{"$error":"#VALUE!"},{"$f":"_FV(G189,\"População\")","v":3925}]
[189,"Lidianópolis","Londrina","Associação dos Municípios do Vale do Ivaí","Escritório Regional de Londrina",95680831000168,{"$error":"#VALUE!"},{"$f":"_FV(G190,\"População\")","v":3231}]
[190,"Lindoeste","Cascavel","Associação dos Municípios do Oeste do Paraná","Escritório Regional de Cascavel",80881915000192,{"$error":"#VALUE!"},{"$f":"_FV(G191,\"População\")","v":5361}]
[191,"Loanda","Maringá","Associação dos Municípios do Noroeste do Paraná","Escritório Regional de Maringá",76972074000151,{"$error":"#VALUE!"},{"$f":"_FV(G192,\"População\")","v":21201}]
[192,"Lobato","Maringá","Associação dos Municípos do Setentrião Paranaense","Escritório Regional de Maringá",76970367000108,{"$error":"#VALUE!"},{"$f":"_FV(G193,\"População\")","v":4819}]
[193,"Londrina","Londrina","Associação dos Municípios do Médio Paranapanema","Escritório Regional de Londrina",75771477000170,{"$error":"#VALUE!"},{"$f":"_FV(G194,\"População\")","v":575377}]
[194,"Luiziana","Maringá","Comunidade dos Municípios da Região de Campo Mourão","Escritório Regional de Maringá",80888688000127,{"$error":"#VALUE!"},{"$f":"_FV(G195,\"População\")","v":7240}]
[{"$f":"A195+1","v":195},"Lunardelli","Londrina","Associação dos Municípios do Vale do Ivaí","Escritório Regional de Londrina",78600491000107,{"$error":"#VALUE!"},{"$f":"_FV(G196,\"População\")","v":4744}]
[196,"Lupionópolis","Londrina","Associação dos Municípios do Médio Paranapanema","Escritório Regional de Londrina",75845511000103,{"$error":"#VALUE!"},{"$f":"_FV(G197,\"População\")","v":4945}]
[197,"Mallet","Ponta Grossa","Associação dos Municípios do Centro Sul do Paraná","Escritório Regional de Ponta Grossa",75654566000136,{"$error":"#VALUE!"},{"$f":"_FV(G198,\"População\")","v":13663}]
[198,"Mamborê","Maringá","Comunidade dos Municípios da Região de Campo Mourão","Escritório Regional de Maringá",75368928000122,{"$error":"#VALUE!"},{"$f":"_FV(G199,\"População\")","v":13014}]
[199,"Mandaguaçu","Maringá","Associação dos Municípos do Setentrião Paranaense","Escritório Regional de Maringá",76285329000108,{"$error":"#VALUE!"},{"$f":"_FV(G200,\"População\")","v":23100}]
[200,"Mandaguari","Maringá","Associação dos Municípos do Setentrião Paranaense","Escritório Regional de Maringá",76285345000109,{"$error":"#VALUE!"},{"$f":"_FV(G201,\"População\")","v":34515}]
[201,"Mandirituba","Curitiba","Associação dos Municípios da Região Metropolitana de Curitiba","Escritório Regional de Curitiba",76105550000137,{"$error":"#VALUE!"},{"$f":"_FV(G202,\"População\")","v":27315}]
[202,"Manfrinópolis","Francisco Beltrão","Associação dos Municípios do Sudoeste do Paraná","Escritório Regional de Francisco Betrão",1614343000109,{"$error":"#VALUE!"},{"$f":"_FV(G203,\"População\")","v":2506}]
[203,"Mangueirinha","Francisco Beltrão","Associação dos Municípios do Sudoeste do Paraná","Escritório Regional de Francisco Betrão",77774867000129,{"$error":"#VALUE!"},{"$f":"_FV(G204,\"População\")","v":16642}]
[204,"Manoel Ribas","Guarapuava","Associação dos Municípios do Centro do Paraná","Escritório Regional de Guarapuava",75740811000128,{"$error":"#VALUE!"},{"$f":"_FV(G205,\"População\")","v":13510}]
[205,"Marechal Cândido Rondon","Cascavel","Associação dos Municípios do Oeste do Paraná","Escritório Regional de Cascavel",76205814000124,{"$error":"#VALUE!"},{"$f":"_FV(G206,\"População\")","v":{"$error":"#VALUE!"}}]
[206,"Maria Helena","Maringá","Associação dos Municípios da Região de Entre Rios","Escritório Regional de Maringá",76247386000100,{"$error":"#VALUE!"},{"$f":"_FV(G207,\"População\")","v":5634}]
[207,"Marialva","Maringá","Associação dos Municípos do Setentrião Paranaense","Escritório Regional de Maringá",76282680000145,{"$error":"#VALUE!"},{"$f":"_FV(G208,\"População\")","v":35804}]
[208,"Marilândia do Sul","Londrina","Associação dos Municípios do Vale do Ivaí","Escritório Regional de Londrina",75771303000107,{"$error":"#VALUE!"},{"$f":"_FV(G209,\"População\")","v":8814}]
[209,"Marilena","Maringá","Associação dos Municípios do Noroeste do Paraná","Escritório Regional de Maringá",75971010000173,{"$error":"#VALUE!"},{"$f":"_FV(G210,\"População\")","v":7084}]
[210,"Mariluz","Maringá","Associação dos Municípios da Região de Entre Rios","Escritório Regional de Maringá",76404136000129,{"$error":"#VALUE!"},{"$f":"_FV(G211,\"População\")","v":10336}]
[211,"Maringá","Maringá","Associação dos Municípos do Setentrião Paranaense","Escritório Regional de Maringá",76282656000106,{"$error":"#VALUE!"},{"$f":"_FV(G212,\"População\")","v":403063}]
[212,"Mariópolis","Francisco Beltrão","Associação dos Municípios do Sudoeste do Paraná","Escritório Regional de Francisco Betrão",76995323000124,{"$error":"#VALUE!"},{"$f":"_FV(G213,\"População\")","v":6632}]
[213,"Maripá","Cascavel","Associação dos Municípios do Oeste do Paraná","Escritório Regional de Cascavel",95583571000102,{"$error":"#VALUE!"},{"$f":"_FV(G214,\"População\")","v":5582}]
[214,"Marmeleiro","Francisco Beltrão","Associação dos Municípios do Sudoeste do Paraná","Escritório Regional de Francisco Betrão",76205665000101,{"$error":"#VALUE!"},{"$f":"_FV(G215,\"População\")","v":14387}]
[215,"Marquinho","Guarapuava","Associação dos Municípios do Cantuquiriguaçu","Escritório Regional de Guarapuava",1612552000113,{"$error":"#VALUE!"},{"$f":"_FV(G216,\"População\")","v":4340}]
[216,"Marumbi","Londrina","Associação dos Municípios do Vale do Ivaí","Escritório Regional de Londrina",75771246000166,{"$error":"#VALUE!"},{"$f":"_FV(G217,\"População\")","v":4677}]
[217,"Matelândia","Cascavel","Associação dos Municípios do Oeste do Paraná","Escritório Regional de Cascavel",76206465000165,{"$error":"#VALUE!"},{"$f":"_FV(G218,\"População\")","v":18107}]
[218,"Matinhos","Curitiba","Associação dos Municípios do Litoral do Paraná","Escritório Regional de Curitiba",76017466000161,{"$error":"#VALUE!"},{"$f":"_FV(G219,\"População\")","v":35219}]
[219,"Mato Rico","Guarapuava","Associação dos Municípios do Centro do Paraná","Escritório Regional de Guarapuava",95684510000131,{"$error":"#VALUE!"},{"$f":"_FV(G220,\"População\")","v":3206}]
[220,"Mauá da Serra","Londrina","Associação dos Municípios do Vale do Ivaí","Escritório Regional de Londrina",95548400000142,{"$error":"#VALUE!"},{"$f":"_FV(G221,\"População\")","v":10800}]
[221,"Medianeira","Cascavel","Associação dos Municípios do Oeste do Paraná","Escritório Regional de Cascavel",76206481000158,{"$error":"#VALUE!"},{"$f":"_FV(G222,\"População\")","v":46574}]
[222,"Mercedes","Cascavel","Associação dos Municípios do Oeste do Paraná","Escritório Regional de Cascavel",95719373000123,{"$error":"#VALUE!"},{"$f":"_FV(G223,\"População\")","v":5577}]
[223,"Mirador","Maringá","Associação dos Municípios do Noroeste do Paraná","Escritório Regional de Maringá",75475442000193,{"$error":"#VALUE!"},{"$f":"_FV(G224,\"População\")","v":2196}]
[224,"Miraselva","Londrina","Associação dos Municípios do Médio Paranapanema","Escritório Regional de Londrina",75845529000105,{"$error":"#VALUE!"},{"$f":"_FV(G225,\"População\")","v":1796}]
[225,"Missal","Cascavel","Associação dos Municípios do Oeste do Paraná","Escritório Regional de Cascavel",78101847000150,{"$error":"#VALUE!"},{"$f":"_FV(G226,\"População\")","v":10704}]
[226,"Moreira Sales","Maringá","Comunidade dos Municípios da Região de Campo Mourão","Escritório Regional de Maringá",76217025000103,{"$error":"#VALUE!"},{"$f":"_FV(G227,\"População\")","v":12042}]
[227,"Morretes","Curitiba","Associação dos Municípios do Litoral do Paraná","Escritório Regional de Curitiba",76022490000199,{"$error":"#VALUE!"},{"$f":"_FV(G228,\"População\")","v":16446}]
[228,"Munhoz de Mello","Maringá","Associação dos Municípos do Setentrião Paranaense","Escritório Regional de Maringá",75352062000161,{"$error":"#VALUE!"},{"$f":"_FV(G229,\"População\")","v":4009}]
[229,"Nossa Senhora das Graças","Maringá","Associação dos Municípos do Setentrião Paranaense","Escritório Regional de Maringá",76970300000165,{"$error":"#VALUE!"},{"$f":"_FV(G230,\"População\")","v":4008}]
[230,"Nova Aliança do Ivaí","Maringá","Associação dos Municípios do Noroeste do Paraná","Escritório Regional de Maringá",76413061000142,{"$error":"#VALUE!"},{"$f":"_FV(G231,\"População\")","v":1551}]
[231,"Nova América da Colina","Londrina","Associação dos Municípios do Norte do Paraná","Escritório Regional de Londrina",75827204000108,{"$error":"#VALUE!"},{"$f":"_FV(G232,\"População\")","v":3434}]
[232,"Nova Aurora","Cascavel","Associação dos Municípios do Oeste do Paraná","Escritório Regional de Cascavel",76208859000152,{"$error":"#VALUE!"},{"$f":"_FV(G233,\"População\")","v":10299}]
[233,"Nova Cantu","Maringá","Comunidade dos Municípios da Região de Campo Mourão","Escritório Regional de Maringá",77845394000103,{"$error":"#VALUE!"},{"$f":"_FV(G234,\"População\")","v":5061}]
[234,"Nova Esperança","Maringá","Associação dos Municípos do Setentrião Paranaense","Escritório Regional de Maringá",75730994000109,{"$error":"#VALUE!"},{"$f":"_FV(G235,\"População\")","v":27984}]
[235,"Nova Esperança do Sudoeste","Francisco Beltrão","Associação dos Municípios do Sudoeste do Paraná","Escritório Regional de Francisco Betrão",95589289000132,{"$error":"#VALUE!"},{"$f":"_FV(G236,\"População\")","v":5030}]
[236,"Nova Fátima","Londrina","Associação dos Municípios do Norte do Paraná","Escritório Regional de Londrina",75828418000190,{"$error":"#VALUE!"},{"$f":"_FV(G237,\"População\")","v":7821}]
[237,"Nova Laranjeiras","Guarapuava","Associação dos Municípios do Cantuquiriguaçu","Escritório Regional de Guarapuava",95587648000112,{"$error":"#VALUE!"},{"$f":"_FV(G238,\"População\")","v":11507}]
[238,"Nova Londrina","Maringá","Associação dos Municípios do Noroeste do Paraná","Escritório Regional de Maringá",81044984000104,{"$error":"#VALUE!"},{"$f":"_FV(G239,\"População\")","v":13200}]
[239,"Nova Olímpia","Maringá","Associação dos Municípios da Região de Entre Rios","Escritório Regional de Maringá",75799577000104,{"$error":"#VALUE!"},{"$f":"_FV(G240,\"População\")","v":5826}]
[240,"Nova Prata do Iguaçu","Francisco Beltrão","Associação dos Municípios do Sudoeste do Paraná","Escritório Regional de Francisco Betrão",78103884000105,{"$error":"#VALUE!"},{"$f":"_FV(G241,\"População\")","v":10544}]
[241,"Nova Santa Bárbara","Londrina","Associação dos Municípios do Norte do Paraná","Escritório Regional de Londrina",95561080000160,{"$error":"#VALUE!"},{"$f":"_FV(G242,\"População\")","v":4277}]
[242,"Nova Santa Rosa","Cascavel","Associação dos Municípios do Oeste do Paraná","Escritório Regional de Cascavel",77116663000109,{"$error":"#VALUE!"},{"$f":"_FV(G243,\"População\")","v":8266}]
[243,"Nova Tebas","Guarapuava","Associação dos Municípios do Centro do Paraná","Escritório Regional de Guarapuava",80620172000105,{"$error":"#VALUE!"},{"$f":"_FV(G244,\"População\")","v":5448}]
[244,"Novo Itacolomi","Londrina","Associação dos Municípios do Vale do Ivaí","Escritório Regional de Londrina",95639472000103,{"$error":"#VALUE!"},{"$f":"_FV(G245,\"População\")","v":2840}]
[245,"Ortigueira","Ponta Grossa","Associação dos Municípios da Região dos Campos Gerais","Escritório Regional de Ponta Grossa",77721363000140,{"$error":"#VALUE!"},{"$f":"_FV(G246,\"População\")","v":21960}]
[246,"Ourizona","Maringá","Associação dos Municípos do Setentrião Paranaense","Escritório Regional de Maringá",76282672000107,{"$error":"#VALUE!"},{"$f":"_FV(G247,\"População\")","v":3425}]
[247,"Ouro Verde do Oeste","Cascavel","Associação dos Municípios do Oeste do Paraná","Escritório Regional de Cascavel",80880107000100,{"$error":"#VALUE!"},{"$f":"_FV(G248,\"População\")","v":6016}]
[248,"Paiçandu","Maringá","Associação dos Municípos do Setentrião Paranaense","Escritório Regional de Maringá",76282664000152,{"$error":"#VALUE!"},{"$f":"_FV(G249,\"População\")","v":41773}]
[249,"Palmas","Francisco Beltrão","Associação dos Municípios do Sudoeste do Paraná","Escritório Regional de Francisco Betrão",76161181000108,{"$error":"#VALUE!"},{"$f":"_FV(G250,\"População\")","v":51755}]
[250,"Palmeira","Ponta Grossa","Associação dos Municípios da Região dos Campos Gerais","Escritório Regional de Ponta Grossa",76179829000165,{"$error":"#VALUE!"},{"$f":"_FV(G251,\"População\")","v":32123}]
[251,"Palmital","Guarapuava","Associação dos Municípios do Centro do Paraná","Escritório Regional de Guarapuava",75680025000182,{"$error":"#VALUE!"},{"$f":"_FV(G252,\"População\")","v":12960}]
[252,"Palotina","Cascavel","Associação dos Municípios do Oeste do Paraná","Escritório Regional de Cascavel",76208487000164,{"$error":"#VALUE!"},{"$f":"_FV(G253,\"População\")","v":32121}]
[253,"Paraíso do Norte","Maringá","Associação dos Municípios do Noroeste do Paraná","Escritório Regional de Maringá",75476556000158,{"$error":"#VALUE!"},{"$f":"_FV(G254,\"População\")","v":14023}]
[254,"Paranacity","Maringá","Associação dos Municípos do Setentrião Paranaense","Escritório Regional de Maringá",76970334000150,{"$error":"#VALUE!"},{"$f":"_FV(G255,\"População\")","v":11580}]
[255,"Paranaguá","Curitiba","Associação dos Municípios do Litoral do Paraná","Escritório Regional de Curitiba",76017458000115,{"$error":"#VALUE!"},{"$f":"_FV(G256,\"População\")","v":156174}]
[256,"Paranapoema","Maringá","Associação dos Municípios do Noroeste do Paraná","Escritório Regional de Maringá",76970391000139,{"$error":"#VALUE!"},{"$f":"_FV(G257,\"População\")","v":3241}]
[257,"Paranavaí","Maringá","Associação dos Municípios do Noroeste do Paraná","Escritório Regional de Maringá",76977768000181,{"$error":"#VALUE!"},{"$f":"_FV(G258,\"População\")","v":88922}]
[258,"Pato Bragado","Cascavel","Associação dos Municípios do Oeste do Paraná","Escritório Regional de Cascavel",95719472000105,{"$error":"#VALUE!"},{"$f":"_FV(G259,\"População\")","v":5684}]
[{"$f":"A259+1","v":259},"Pato Branco","Francisco Beltrão","Associação dos Municípios do Sudoeste do Paraná","Escritório Regional de Francisco Betrão",76995448000154,{"$error":"#VALUE!"},{"$f":"_FV(G260,\"População\")","v":79011}]
[260,"Paula Freitas","Guarapuava","Associação dos Municípios do Sul do Paraná","Escritório Regional de Guarapuava",75687954000113,{"$error":"#VALUE!"},{"$f":"_FV(G261,\"População\")","v":5908}]
[261,"Paulo Frontin","Ponta Grossa","Associação dos Municípios do Sul do Paraná","Escritório Regional de Ponta Grossa",77007474000190,{"$error":"#VALUE!"},{"$f":"_FV(G262,\"População\")","v":7387}]
[262,"Peabiru","Maringá","Comunidade dos Municípios da Região de Campo Mourão","Escritório Regional de Maringá",75370148000117,{"$error":"#VALUE!"},{"$f":"_FV(G263,\"População\")","v":14007}]
[263,"Perobal","Maringá","Associação dos Municípios da Região de Entre Rios","Escritório Regional de Maringá",1612444000140,{"$error":"#VALUE!"},{"$f":"_FV(G264,\"População\")","v":6160}]
[264,"Pérola","Maringá","Associação dos Municípios da Região de Entre Rios","Escritório Regional de Maringá",81478133000170,{"$error":"#VALUE!"},{"$f":"_FV(G265,\"População\")","v":11321}]
[265,"Pérola d'Oeste","Francisco Beltrão","Associação dos Municípios do Sudoeste do Paraná","Escritório Regional de Francisco Betrão",75924290000169,{"$error":"#VALUE!"},{"$f":"_FV(G266,\"População\")","v":6288}]
[266,"Piên","Curitiba","Associação dos Municípios da Região Suleste do Paraná","Escritório Regional de Curitiba",76002666000140,{"$error":"#VALUE!"},{"$f":"_FV(G267,\"População\")","v":12882}]
[267,"Pinhais","Curitiba","Associação dos Municípios da Região Metropolitana de Curitiba","Escritório Regional de Curitiba",95423000000100,{"$error":"#VALUE!"},{"$f":"_FV(G268,\"População\")","v":133490}]
[268,"Pinhal de São Bento","Francisco Beltrão","Associação dos Municípios do Sudoeste do Paraná","Escritório Regional de Francisco Betrão",95590832000111,{"$error":"#VALUE!"},{"$f":"_FV(G269,\"População\")","v":2737}]
[269,"Pinhalão","Londrina","Associação dos Municípios do Norte Pioneiro","Escritório Regional de Londrina",76167717000194,{"$error":"#VALUE!"},{"$f":"_FV(G270,\"População\")","v":6324}]
[270,"Pinhão","Guarapuava","Associação dos Municípios do Cantuquiriguaçu","Escritório Regional de Guarapuava",76178011000128,{"$error":"#VALUE!"},{"$f":"_FV(G271,\"População\")","v":32559}]
[271,"Piraí do Sul","Ponta Grossa","Associação dos Municípios da Região dos Campos Gerais","Escritório Regional de Ponta Grossa",77001329000100,{"$error":"#VALUE!"},{"$f":"_FV(G272,\"População\")","v":25617}]
[272,"Piraquara","Curitiba","Associação dos Municípios da Região Metropolitana de Curitiba","Escritório Regional de Curitiba",76105675000167,{"$error":"#VALUE!"},{"$f":"_FV(G273,\"População\")","v":114970}]
[273,"Pitanga","Guarapuava","Associação dos Municípios do Centro do Paraná","Escritório Regional de Guarapuava",76172907000108,{"$error":"#VALUE!"},{"$f":"_FV(G274,\"População\")","v":29994}]
[274,"Pitangueiras","Londrina","Associação dos Municípios do Médio Paranapanema","Escritório Regional de Londrina",95543427000142,{"$error":"#VALUE!"},{"$f":"_FV(G275,\"População\")","v":3262}]
[275,"Planaltina do Paraná","Maringá","Associação dos Municípios do Noroeste do Paraná","Escritório Regional de Maringá",75461442000134,{"$error":"#VALUE!"},{"$f":"_FV(G276,\"População\")","v":4272}]
[276,"Planalto","Francisco Beltrão","Associação dos Municípios do Sudoeste do Paraná","Escritório Regional de Francisco Betrão",76460526000116,{"$error":"#VALUE!"},{"$f":"_FV(G277,\"População\")","v":13431}]
[277,"Ponta Grossa","Ponta Grossa","Associação dos Municípios da Região dos Campos Gerais","Escritório Regional de Ponta Grossa",76175884000187,{"$error":"#VALUE!"},{"$f":"_FV(G278,\"População\")","v":355336}]
[278,"Pontal do Paraná","Curitiba","Associação dos Municípios do Litoral do Paraná","Escritório Regional de Curitiba",1609843000152,{"$error":"#VALUE!"},{"$f":"_FV(G279,\"População\")","v":27915}]
[279,"Porecatu","Londrina","Associação dos Municípios do Médio Paranapanema","Escritório Regional de Londrina",80542764000148,{"$error":"#VALUE!"},{"$f":"_FV(G280,\"População\")","v":14189}]
[280,"Porto Amazonas","Ponta Grossa","Associação dos Municípios da Região dos Campos Gerais","Escritório Regional de Ponta Grossa",76179837000101,{"$error":"#VALUE!"},{"$f":"_FV(G281,\"População\")","v":4874}]
[281,"Porto Barreiro","Guarapuava","Associação dos Municípios do Cantuquiriguaçu","Escritório Regional de Guarapuava",1591618000136,{"$error":"#VALUE!"},{"$f":"_FV(G282,\"População\")","v":3184}]
[282,"Porto Rico","Maringá","Associação dos Municípios do Noroeste do Paraná","Escritório Regional de Maringá",75461970000193,{"$error":"#VALUE!"},{"$f":"_FV(G283,\"População\")","v":2556}]
[283,"Porto Vitória","Ponta Grossa","Associação dos Municípios do Sul do Paraná","Escritório Regional de Ponta Grossa",75688366000102,{"$error":"#VALUE!"},{"$f":"_FV(G284,\"População\")","v":4061}]
[284,"Prado Ferreira","Londrina","Associação dos Municípios do Médio Paranapanema","Escritório Regional de Londrina",1613136000130,{"$error":"#VALUE!"},{"$f":"_FV(G285,\"População\")","v":3780}]
[285,"Pranchita","Francisco Beltrão","Associação dos Municípios do Sudoeste do Paraná","Escritório Regional de Francisco Betrão",78113834000109,{"$error":"#VALUE!"},{"$f":"_FV(G286,\"População\")","v":5095}]
[286,"Presidente Castelo Branco","Maringá","Associação dos Municípos do Setentrião Paranaense","Escritório Regional de Maringá",76279959000170,{"$error":"#VALUE!"},{"$f":"_FV(G287,\"População\")","v":5351}]
[287,"Primeiro de Maio","Londrina","Associação dos Municípios do Médio Paranapanema","Escritório Regional de Londrina",76245059000101,{"$error":"#VALUE!"},{"$f":"_FV(G288,\"População\")","v":11130}]
[288,"Prudentópolis","Guarapuava","Associação dos Municípios do Centro Sul do Paraná","Escritório Regional de Guarapuava",77003424000134,{"$error":"#VALUE!"},{"$f":"_FV(G289,\"População\")","v":52513}]
[289,"Quarto Centenário","Maringá","Comunidade dos Municípios da Região de Campo Mourão","Escritório Regional de Maringá",1619104000141,{"$error":"#VALUE!"},{"$f":"_FV(G290,\"População\")","v":4856}]
[290,"Quatiguá","Londrina","Associação dos Municípios do Norte Pioneiro","Escritório Regional de Londrina",76966852000108,{"$error":"#VALUE!"},{"$f":"_FV(G291,\"População\")","v":7477}]
[291,"Quatro Barras","Curitiba","Associação dos Municípios da Região Metropolitana de Curitiba","Escritório Regional de Curitiba",76105568000139,{"$error":"#VALUE!"},{"$f":"_FV(G292,\"População\")","v":23911}]
[292,"Quatro Pontes","Cascavel","Associação dos Municípios do Oeste do Paraná","Escritório Regional de Cascavel",95719381000170,{"$error":"#VALUE!"},{"$f":"_FV(G293,\"População\")","v":4029}]
[293,"Quedas do Iguaçu","Guarapuava","Associação dos Municípios do Cantuquiriguaçu","Escritório Regional de Guarapuava",76205962000149,{"$error":"#VALUE!"},{"$f":"_FV(G294,\"População\")","v":34409}]
[294,"Querência do Norte","Maringá","Associação dos Municípios do Noroeste do Paraná","Escritório Regional de Maringá",76973692000116,{"$error":"#VALUE!"},{"$f":"_FV(G295,\"População\")","v":12232}]
[295,"Quinta do Sol","Maringá","Comunidade dos Municípios da Região de Campo Mourão","Escritório Regional de Maringá",76950047000188,{"$error":"#VALUE!"},{"$f":"_FV(G296,\"População\")","v":4508}]
[296,"Quitandinha","Curitiba","Associação dos Municípios da Região Suleste do Paraná","Escritório Regional de Curitiba",76002674000197,{"$error":"#VALUE!"},{"$f":"_FV(G297,\"População\")","v":19221}]
[297,"Ramilândia","Cascavel","Associação dos Municípios do Oeste do Paraná","Escritório Regional de Cascavel",95725024000114,{"$error":"#VALUE!"},{"$f":"_FV(G298,\"População\")","v":4476}]
[298,"Rancho Alegre","Londrina","Associação dos Municípios do Norte do Paraná","Escritório Regional de Londrina",75829416000116,{"$error":"#VALUE!"},{"$f":"_FV(G299,\"População\")","v":3784}]
[299,"Rancho Alegre d'Oeste","Maringá","Comunidade dos Municípios da Região de Campo Mourão","Escritório Regional de Maringá",95640132000194,{"$error":"#VALUE!"},{"$f":"_FV(G300,\"População\")","v":2628}]
[300,"Realeza","Francisco Beltrão","Associação dos Municípios do Sudoeste do Paraná","Escritório Regional de Francisco Betrão",76205673000140,{"$error":"#VALUE!"},{"$f":"_FV(G301,\"População\")","v":16950}]
[301,"Rebouças","Ponta Grossa","Associação dos Municípios do Centro Sul do Paraná","Escritório Regional de Ponta Grossa",77774859000182,{"$error":"#VALUE!"},{"$f":"_FV(G302,\"População\")","v":14946}]
[302,"Renascença","Francisco Beltrão","Associação dos Municípios do Sudoeste do Paraná","Escritório Regional de Francisco Betrão",76205681000196,{"$error":"#VALUE!"},{"$f":"_FV(G303,\"População\")","v":6787}]
[303,"Reserva","Ponta Grossa","Associação dos Municípios da Região dos Campos Gerais","Escritório Regional de Ponta Grossa",76169879000161,{"$error":"#VALUE!"},{"$f":"_FV(G304,\"População\")","v":26825}]
[304,"Reserva do Iguaçu","Guarapuava","Associação dos Municípios do Cantuquiriguaçu","Escritório Regional de Guarapuava",1612911000132,{"$error":"#VALUE!"},{"$f":"_FV(G305,\"População\")","v":8069}]
[305,"Ribeirão Claro","Londrina","Associação dos Municípios do Norte Pioneiro","Escritório Regional de Londrina",75449579000173,{"$error":"#VALUE!"},{"$f":"_FV(G306,\"População\")","v":10645}]
[306,"Ribeirão do Pinhal","Londrina","Associação dos Municípios do Norte Pioneiro","Escritório Regional de Londrina",76968064000142,{"$error":"#VALUE!"},{"$f":"_FV(G307,\"População\")","v":12948}]
[307,"Rio Azul","Ponta Grossa","Associação dos Municípios do Centro Sul do Paraná","Escritório Regional de Ponta Grossa",75963256000101,{"$error":"#VALUE!"},{"$f":"_FV(G308,\"População\")","v":15336}]
[308,"Rio Bom","Londrina","Associação dos Municípios do Vale do Ivaí","Escritório Regional de Londrina",75771212000171,{"$error":"#VALUE!"},{"$f":"_FV(G309,\"População\")","v":3182}]
[309,"Rio Bonito do Iguaçu","Guarapuava","Associação dos Municípios do Cantuquiriguaçu","Escritório Regional de Guarapuava",95587770000199,{"$error":"#VALUE!"},{"$f":"_FV(G310,\"População\")","v":13255}]
[310,"Rio Branco do Ivaí","Londrina","Associação dos Municípios do Vale do Ivaí","Escritório Regional de Londrina",1612413000190,{"$error":"#VALUE!"},{"$f":"_FV(G311,\"População\")","v":4109}]
[311,"Rio Branco do Sul","Curitiba","Associação dos Municípios da Região Metropolitana de Curitiba","Escritório Regional de Curitiba",76105576000185,{"$error":"#VALUE!"},{"$f":"_FV(G312,\"População\")","v":32517}]
[312,"Rio Negro","Curitiba","Associação dos Municípios da Região Suleste do Paraná","Escritório Regional de Curitiba",76002641000147,{"$error":"#VALUE!"},{"$f":"_FV(G313,\"População\")","v":34411}]
[313,"Rolândia","Londrina","Associação dos Municípios do Médio Paranapanema","Escritório Regional de Londrina",76288760000108,{"$error":"#VALUE!"},{"$f":"_FV(G314,\"População\")","v":67383}]
[314,"Roncador","Guarapuava","Associação dos Municípios do Centro do Paraná","Escritório Regional de Guarapuava",75371401000157,{"$error":"#VALUE!"},{"$f":"_FV(G315,\"População\")","v":9645}]
[315,"Rondon","Maringá","Associação dos Municípios da Região de Entre Rios","Escritório Regional de Maringá",75380071000166,{"$error":"#VALUE!"},{"$f":"_FV(G316,\"População\")","v":9622}]
[316,"Rosário do Ivaí","Londrina","Associação dos Municípios do Vale do Ivaí","Escritório Regional de Londrina",80059264000150,{"$error":"#VALUE!"},{"$f":"_FV(G317,\"População\")","v":4689}]
[317,"Sabáudia","Londrina","Associação dos Municípios do Médio Paranapanema","Escritório Regional de Londrina",76958974000144,{"$error":"#VALUE!"},{"$f":"_FV(G318,\"População\")","v":6891}]
[318,"Salgado Filho","Francisco Beltrão","Associação dos Municípios do Sudoeste do Paraná","Escritório Regional de Francisco Betrão",76205699000198,{"$error":"#VALUE!"},{"$f":"_FV(G319,\"População\")","v":3483}]
[319,"Salto do Itararé","Londrina","Associação dos Municípios do Norte Pioneiro","Escritório Regional de Londrina",76920834000187,{"$error":"#VALUE!"},{"$f":"_FV(G320,\"População\")","v":4898}]
[320,"Salto do Lontra","Francisco Beltrão","Associação dos Municípios do Sudoeste do Paraná","Escritório Regional de Francisco Betrão",76205707000104,{"$error":"#VALUE!"},{"$f":"_FV(G321,\"População\")","v":14872}]
[321,"Santa Amélia","Londrina","Associação dos Municípios do Norte do Paraná","Escritório Regional de Londrina",76235746000146,{"$error":"#VALUE!"},{"$f":"_FV(G322,\"População\")","v":3266}]
[322,"Santa Cecília do Pavão","Londrina","Associação dos Municípios do Norte do Paraná","Escritório Regional de Londrina",76290691000177,{"$error":"#VALUE!"},{"$f":"_FV(G323,\"População\")","v":3293}]
[{"$f":"A323+1","v":323},"Santa Cruz do Monte Castelo","Maringá","Associação dos Municípios do Noroeste do Paraná","Escritório Regional de Maringá",75462820000102,{"$error":"#VALUE!"},{"$f":"_FV(G324,\"População\")","v":7751}]
[324,"Santa Fé","Maringá","Associação dos Municípos do Setentrião Paranaense","Escritório Regional de Maringá",76291418000167,{"$error":"#VALUE!"},{"$f":"_FV(G325,\"População\")","v":12186}]
[325,"Santa Helena","Cascavel","Associação dos Municípios do Oeste do Paraná","Escritório Regional de Cascavel",76206457000119,{"$error":"#VALUE!"},{"$f":"_FV(G326,\"População\")","v":4534}]
[326,"Santa Inês","Maringá","Associação dos Municípos do Setentrião Paranaense","Escritório Regional de Maringá",78092293000171,{"$error":"#VALUE!"},{"$f":"_FV(G327,\"População\")","v":89489}]
[327,"Santa Isabel do Ivaí","Maringá","Associação dos Municípios do Noroeste do Paraná","Escritório Regional de Maringá",76974823000180,{"$error":"#VALUE!"},{"$f":"_FV(G328,\"População\")","v":8523}]
[328,"Santa Izabel do Oeste","Francisco Beltrão","Associação dos Municípios do Sudoeste do Paraná","Escritório Regional de Francisco Betrão",76205715000142,{"$error":"#VALUE!"},{"$f":"_FV(G329,\"População\")","v":14794}]
[329,"Santa Lúcia","Cascavel","Associação dos Municípios do Oeste do Paraná","Escritório Regional de Cascavel",95594776000193,{"$error":"#VALUE!"},{"$f":"_FV(G330,\"População\")","v":3925}]
[330,"Santa Maria do Oeste","Guarapuava","Associação dos Municípios do Centro do Paraná","Escritório Regional de Guarapuava",95684544000126,{"$error":"#VALUE!"},{"$f":"_FV(G331,\"População\")","v":9410}]
[331,"Santa Mariana","Londrina","Associação dos Municípios do Norte do Paraná","Escritório Regional de Londrina",75392019000120,{"$error":"#VALUE!"},{"$f":"_FV(G332,\"População\")","v":11622}]
[332,"Santa Mônica","Maringá","Associação dos Municípios do Noroeste do Paraná","Escritório Regional de Maringá",95641916000137,{"$error":"#VALUE!"},{"$f":"_FV(G333,\"População\")","v":4017}]
[333,"Santa Tereza do Oeste","Cascavel","Associação dos Municípios do Oeste do Paraná","Escritório Regional de Cascavel",80882095000153,{"$error":"#VALUE!"},{"$f":"_FV(G334,\"População\")","v":10096}]
[334,"Santa Terezinha de Itaipu","Cascavel","Associação dos Municípios do Oeste do Paraná","Escritório Regional de Cascavel",75425314000135,{"$error":"#VALUE!"},{"$f":"_FV(G335,\"População\")","v":23699}]
[335,"Santana do Itararé","Londrina","Associação dos Municípios do Norte Pioneiro","Escritório Regional de Londrina",76920826000130,{"$error":"#VALUE!"},{"$f":"_FV(G336,\"População\")","v":4954}]
[336,"Santo Antônio da Platina","Londrina","Associação dos Municípios do Norte Pioneiro","Escritório Regional de Londrina",76968627000100,{"$error":"#VALUE!"},{"$f":"_FV(G337,\"População\")","v":46251}]
[337,"Santo Antônio do Caiuá","Maringá","Associação dos Municípios do Noroeste do Paraná","Escritório Regional de Maringá",75483230000158,{"$error":"#VALUE!"},{"$f":"_FV(G338,\"População\")","v":2626}]
[338,"Santo Antônio do Paraíso","Londrina","Associação dos Municípios do Norte do Paraná","Escritório Regional de Londrina",75832170000131,{"$error":"#VALUE!"},{"$f":"_FV(G339,\"População\")","v":2068}]
[339,"Santo Antônio do Sudoeste","Francisco Beltrão","Associação dos Municípios do Sudoeste do Paraná","Escritório Regional de Francisco Betrão",75927582000155,{"$error":"#VALUE!"},{"$f":"_FV(G340,\"População\")","v":18893}]
[340,"Santo Inácio","Maringá","Associação dos Municípos do Setentrião Paranaense","Escritório Regional de Maringá",76970375000146,{"$error":"#VALUE!"},{"$f":"_FV(G341,\"População\")","v":5416}]
[341,"São Carlos do Ivaí","Maringá","Associação dos Municípios do Noroeste do Paraná","Escritório Regional de Maringá",75498576000120,{"$error":"#VALUE!"},{"$f":"_FV(G342,\"População\")","v":6920}]
[342,"São Jerônimo da Serra","Londrina","Associação dos Municípios do Norte do Paraná","Escritório Regional de Londrina",76290683000120,{"$error":"#VALUE!"},{"$f":"_FV(G343,\"População\")","v":11128}]
[343,"São João","Francisco Beltrão","Associação dos Municípios do Sudoeste do Paraná","Escritório Regional de Francisco Betrão",76995422000106,{"$error":"#VALUE!"},{"$f":"_FV(G344,\"População\")","v":15241}]
[344,"São João do Caiuá","Maringá","Associação dos Municípios do Noroeste do Paraná","Escritório Regional de Maringá",76238435000130,{"$error":"#VALUE!"},{"$f":"_FV(G345,\"População\")","v":5837}]
[345,"São João do Ivaí","Londrina","Associação dos Municípios do Vale do Ivaí","Escritório Regional de Londrina",75741355000130,{"$error":"#VALUE!"},{"$f":"_FV(G346,\"População\")","v":10056}]
[346,"São João do Triunfo","Ponta Grossa","Associação dos Municípios do Sul do Paraná","Escritório Regional de Ponta Grossa",75193516000107,{"$error":"#VALUE!"},{"$f":"_FV(G347,\"População\")","v":15241}]
[347,"São Jorge do Ivaí","Maringá","Associação dos Municípos do Setentrião Paranaense","Escritório Regional de Maringá",76282649000104,{"$error":"#VALUE!"},{"$f":"_FV(G348,\"População\")","v":5543}]
[348,"São Jorge do Patrocínio","Maringá","Associação dos Municípios da Região de Entre Rios","Escritório Regional de Maringá",77870475000163,{"$error":"#VALUE!"},{"$f":"_FV(G349,\"População\")","v":5586}]
[349,"São Jorge d'Oeste","Francisco Beltrão","Associação dos Municípios do Sudoeste do Paraná","Escritório Regional de Francisco Betrão",76995380000103,{"$error":"#VALUE!"},{"$f":"_FV(G350,\"População\")","v":9028}]
[350,"São José da Boa Vista","Londrina","Associação dos Municípios do Norte Pioneiro","Escritório Regional de Londrina",76920818000194,{"$error":"#VALUE!"},{"$f":"_FV(G351,\"População\")","v":6160}]
[351,"São José das Palmeiras","Cascavel","Associação dos Municípios do Oeste do Paraná","Escritório Regional de Cascavel",77819605000133,{"$error":"#VALUE!"},{"$f":"_FV(G352,\"População\")","v":3627}]
[352,"São José dos Pinhais","Curitiba","Associação dos Municípios da Região Metropolitana de Curitiba","Escritório Regional de Curitiba",76105543000135,{"$error":"#VALUE!"},{"$f":"_FV(G353,\"População\")","v":329058}]
[353,"São Manoel do Paraná","Maringá","Associação dos Municípios da Região de Entre Rios","Escritório Regional de Maringá",80909617000163,{"$error":"#VALUE!"},{"$f":"_FV(G354,\"População\")","v":2163}]
[354,"São Mateus do Sul","Ponta Grossa","Associação dos Municípios do Sul do Paraná","Escritório Regional de Ponta Grossa",76021450000122,{"$error":"#VALUE!"},{"$f":"_FV(G355,\"População\")","v":46705}]
[355,"São Miguel do Iguaçu","Cascavel","Associação dos Municípios do Oeste do Paraná","Escritório Regional de Cascavel",76206499000150,{"$error":"#VALUE!"},{"$f":"_FV(G356,\"População\")","v":27576}]
[356,"São Pedro do Iguaçu","Cascavel","Associação dos Municípios do Oeste do Paraná","Escritório Regional de Cascavel",95583597000150,{"$error":"#VALUE!"},{"$f":"_FV(G357,\"População\")","v":5820}]
[357,"São Pedro do Ivaí","Londrina","Associação dos Municípios do Vale do Ivaí","Escritório Regional de Londrina",75771311000153,{"$error":"#VALUE!"},{"$f":"_FV(G358,\"População\")","v":11046}]
[358,"São Pedro do Paraná","Maringá","Associação dos Municípios do Noroeste do Paraná","Escritório Regional de Maringá",76975259000110,{"$error":"#VALUE!"},{"$f":"_FV(G359,\"População\")","v":2289}]
[359,"São Sebastião da Amoreira","Londrina","Associação dos Municípios do Norte do Paraná","Escritório Regional de Londrina",76290659000191,{"$error":"#VALUE!"},{"$f":"_FV(G360,\"População\")","v":8859}]
[360,"São Tomé","Maringá","Associação dos Municípios da Região de Entre Rios","Escritório Regional de Maringá",75381178000129,{"$error":"#VALUE!"},{"$f":"_FV(G361,\"População\")","v":5349}]
[361,"Sapopema","Londrina","Associação dos Municípios do Norte do Paraná","Escritório Regional de Londrina",76167733000187,{"$error":"#VALUE!"},{"$f":"_FV(G362,\"População\")","v":6722}]
[362,"Sarandi","Maringá","Associação dos Municípos do Setentrião Paranaense","Escritório Regional de Maringá",78200482000110,{"$error":"#VALUE!"},{"$f":"_FV(G363,\"População\")","v":97803}]
[363,"Saudade do Iguaçu","Francisco Beltrão","Associação dos Municípios do Sudoeste do Paraná","Escritório Regional de Francisco Betrão",95585477000192,{"$error":"#VALUE!"},{"$f":"_FV(G364,\"População\")","v":5539}]
[364,"Sengés","Ponta Grossa","Associação dos Municípios da Região dos Campos Gerais","Escritório Regional de Ponta Grossa",76911676000107,{"$error":"#VALUE!"},{"$f":"_FV(G365,\"População\")","v":19385}]
[365,"Serranópolis do Iguaçu","Cascavel","Associação dos Municípios do Oeste do Paraná","Escritório Regional de Cascavel",1613052000104,{"$error":"#VALUE!"},{"$f":"_FV(G366,\"População\")","v":4477}]
[366,"Sertaneja","Londrina","Associação dos Municípios do Norte do Paraná","Escritório Regional de Londrina",75393082000180,{"$error":"#VALUE!"},{"$f":"_FV(G367,\"População\")","v":5216}]
[367,"Sertanópolis","Londrina","Associação dos Municípios do Médio Paranapanema","Escritório Regional de Londrina",76245034000108,{"$error":"#VALUE!"},{"$f":"_FV(G368,\"População\")","v":16413}]
[368,"Siqueira Campos","Londrina","Associação dos Municípios do Norte Pioneiro","Escritório Regional de Londrina",76919083000189,{"$error":"#VALUE!"},{"$f":"_FV(G369,\"População\")","v":21249}]
[369,"Sulina","Francisco Beltrão","Associação dos Municípios do Sudoeste do Paraná","Escritório Regional de Francisco Betrão",80869886000143,{"$error":"#VALUE!"},{"$f":"_FV(G370,\"População\")","v":3663}]
[370,"Tamarana","Londrina","Associação dos Municípios do Médio Paranapanema","Escritório Regional de Londrina",1613167000190,{"$error":"#VALUE!"},{"$f":"_FV(G371,\"População\")","v":15040}]
[371,"Tamboara","Maringá","Associação dos Municípios do Noroeste do Paraná","Escritório Regional de Maringá",76978519000100,{"$error":"#VALUE!"},{"$f":"_FV(G372,\"População\")","v":5158}]
[372,"Tapejara","Maringá","Associação dos Municípios da Região de Entre Rios","Escritório Regional de Maringá",76247345000106,{"$error":"#VALUE!"},{"$f":"_FV(G373,\"População\")","v":16345}]
[373,"Tapira","Maringá","Associação dos Municípios da Região de Entre Rios","Escritório Regional de Maringá",75801738000157,{"$error":"#VALUE!"},{"$f":"_FV(G374,\"População\")","v":5836}]
[374,"Teixeira Soares","Ponta Grossa","Associação dos Municípios do Centro Sul do Paraná","Escritório Regional de Ponta Grossa",75963850000194,{"$error":"#VALUE!"},{"$f":"_FV(G375,\"População\")","v":12567}]
[375,"Telêmaco Borba","Ponta Grossa","Associação dos Municípios da Região dos Campos Gerais","Escritório Regional de Ponta Grossa",76170240000104,{"$error":"#VALUE!"},{"$f":"_FV(G376,\"População\")","v":79792}]
[376,"Terra Boa","Maringá","Comunidade dos Municípios da Região de Campo Mourão","Escritório Regional de Maringá",75793786000140,{"$error":"#VALUE!"},{"$f":"_FV(G377,\"População\")","v":17200}]
[377,"Terra Rica","Maringá","Associação dos Municípios do Noroeste do Paraná","Escritório Regional de Maringá",76978881000181,{"$error":"#VALUE!"},{"$f":"_FV(G378,\"População\")","v":16924}]
[378,"Terra Roxa","Cascavel","Associação dos Municípios do Oeste do Paraná","Escritório Regional de Cascavel",75587204000170,{"$error":"#VALUE!"},{"$f":"_FV(G379,\"População\")","v":17522}]
[379,"Tibagi","Ponta Grossa","Associação dos Municípios da Região dos Campos Gerais","Escritório Regional de Ponta Grossa",76170257000153,{"$error":"#VALUE!"},{"$f":"_FV(G380,\"População\")","v":20607}]
[380,"Tijucas do Sul","Curitiba","Associação dos Municípios da Região Metropolitana de Curitiba","Escritório Regional de Curitiba",76105584000121,{"$error":"#VALUE!"},{"$f":"_FV(G381,\"População\")","v":17084}]
[381,"Toledo","Cascavel","Associação dos Municípios do Oeste do Paraná","Escritório Regional de Cascavel",76205806000188,{"$error":"#VALUE!"},{"$f":"_FV(G382,\"População\")","v":142645}]
[382,"Tomazina","Londrina","Associação dos Municípios do Norte Pioneiro","Escritório Regional de Londrina",75697094000107,{"$error":"#VALUE!"},{"$f":"_FV(G383,\"População\")","v":7807}]
[383,"Três Barras do Paraná","Cascavel","Associação dos Municípios do Oeste do Paraná","Escritório Regional de Cascavel",78121936000168,{"$error":"#VALUE!"},{"$f":"_FV(G384,\"População\")","v":12038}]
[384,"Tunas do Paraná","Curitiba","Associação dos Municípios da Região Metropolitana de Curitiba","Escritório Regional de Curitiba",68703834000105,{"$error":"#VALUE!"},{"$f":"_FV(G385,\"População\")","v":9022}]
[385,"Tuneiras do Oeste","Maringá","Associação dos Municípios da Região de Entre Rios","Escritório Regional de Maringá",76247329000113,{"$error":"#VALUE!"},{"$f":"_FV(G386,\"População\")","v":8533}]
[386,"Tupãssi","Cascavel","Associação dos Municípios do Oeste do Paraná","Escritório Regional de Cascavel",77877116000138,{"$error":"#VALUE!"},{"$f":"_FV(G387,\"População\")","v":8109}]
[{"$f":"A387+1","v":387},"Turvo","Guarapuava","Associação dos Municípios do Centro do Paraná","Escritório Regional de Guarapuava",78279973000107,{"$error":"#VALUE!"},{"$f":"_FV(G388,\"População\")","v":12990}]
[388,"Ubiratã","Maringá","Comunidade dos Municípios da Região de Campo Mourão","Escritório Regional de Maringá",76950096000110,{"$error":"#VALUE!"},{"$f":"_FV(G389,\"População\")","v":20909}]
[389,"Umuarama","Maringá","Associação dos Municípios da Região de Entre Rios","Escritório Regional de Maringá",76247378000156,{"$error":"#VALUE!"},{"$f":"_FV(G390,\"População\")","v":112500}]
[390,"União da Vitória","Ponta Grossa","Associação dos Municípios do Sul do Paraná","Escritório Regional de Ponta Grossa",75967760000171,{"$error":"#VALUE!"},{"$f":"_FV(G391,\"População\")","v":57913}]
[391,"Uniflor","Maringá","Associação dos Municípos do Setentrião Paranaense","Escritório Regional de Maringá",76279975000162,{"$error":"#VALUE!"},{"$f":"_FV(G392,\"População\")","v":2614}]
[392,"Uraí","Londrina","Associação dos Municípios do Norte Pioneiro","Escritório Regional de Londrina",75424507000171,{"$error":"#VALUE!"},{"$f":"_FV(G393,\"População\")","v":11273}]
[393,"Ventania","Ponta Grossa","Associação dos Municípios da Região dos Campos Gerais","Escritório Regional de Ponta Grossa",95685798000169,{"$error":"#VALUE!"},{"$f":"_FV(G394,\"População\")","v":12088}]
[394,"Vera Cruz do Oeste","Cascavel","Associação dos Municípios do Oeste do Paraná","Escritório Regional de Cascavel",78101821000101,{"$error":"#VALUE!"},{"$f":"_FV(G395,\"População\")","v":8454}]
[395,"Verê","Francisco Beltrão","Associação dos Municípios do Sudoeste do Paraná","Escritório Regional de Francisco Betrão",75636530000120,{"$error":"#VALUE!"},{"$f":"_FV(G396,\"População\")","v":7174}]
[396,"Virmond","Guarapuava","Associação dos Municípios do Cantuquiriguaçu","Escritório Regional de Guarapuava",95587622000174,{"$error":"#VALUE!"},{"$f":"_FV(G397,\"População\")","v":4022}]
[397,"Vitorino","Francisco Beltrão","Associação dos Municípios do Sudoeste do Paraná","Escritório Regional de Francisco Betrão",76995463000100,{"$error":"#VALUE!"},{"$f":"_FV(G398,\"População\")","v":6859}]
[398,"Wenceslau Braz","Londrina","Associação dos Municípios do Norte Pioneiro","Escritório Regional de Londrina",76920800000192,{"$error":"#VALUE!"},{"$f":"_FV(G399,\"População\")","v":19386}]
[399,"Xambrê","Maringá","Associação dos Municípios da Região de Entre Rios","Escritório Regional de Maringá",76247360000154,{"$error":"#VALUE!"},{"$f":"_FV(G400,\"População\")","v":5630}]
[]
[null,{"$f":"SUBTOTAL(3,B2:B400)","v":399}]

{"sheet":"Ficha de Projeto","index":3,"n_rows":51,"n_cols":11,"rows_kept":51,"cut":false,"hidden":false,"merged":[[50,6,50,8],[0,4,0,6],[27,0,27,8],[30,0,30,8],[38,0,38,8],[48,6,48,8],[49,6,49,8],[39,0,39,8]]}
[null,null,null,null,"Governo do Estado do Paraná\nSecretaria de Estado do Desenvolvimento Urbano e de Obras Públicas\nRua Jacy Loureiro de Campos, sn | 2º andar | Centro Cívico CEP 80530-140 | CP 15079\nCuritiba | Paraná | (41) 3350-3300 | www.paranacidade.org.br"]
[]
["FICHA DE PROJETO",null,null,null,null,null,null,null,null,null,"PREVISÃO DE REPASSE:"]
[]
["Município",null,null,null,null,null,"CNPJ"]
[{"$f":"[1]Planilha1!B4","v":"Nova Fátima"},null,null,null,null,null,{"$f":"[1]Planilha1!D4","v":75828418000190}]
[]
["Projeto",null,null,null,null,null,"Componente"]
[{"$f":"[1]Planilha1!D5","v":"Iluminação Pública para Led"},null,null,null,null,null,"Iluminação Pública"]
[]
["Prioridade",null,"Programa",null,"Repasse",null,"Contrapartida",null,"Protocolo"]
[20,null,"PAM",null,100000,null,{"$f":"E34-E12","v":24955.850000000006},null,181563915]
[]
[]
["Contato",null,null,null,null,null,"CPF"]
["Geraldo Gomes Medeiros junior"]
[]
["Cargo",null,null,null,null,null,"Formação Acadêmica"]
["Engenheiro Civil",null,null,null,null,null,{"$f":"A19","v":"Engenheiro Civil"}]
[]
["email",null,null,null,null,null,"Telefone",null,"CAU/CREA"]
["gabinetenovafatima@gmail.com",null,null,null,null,null,"+(41) 99882-8279",null,"CREA/PR-28128/D"]
[]
[]
["DESCRIÇÃO E OBJETO"]
[]
["Descrição"]
["Adequação de 91 luminárias de iluminação pública existentes por luminárias LED, incluindo troca de braços, suportes, cabos e demais acessórios, com descarte certificado, de acordo com especificações do Termo de Referência."]
[]
["Objeto"]
["Adequação de luminárias de iluminação pública existentes por luminárias LED, de acordo com normas de iluminação pública e de classificação das vias, bem como Termo de Referência e planilha de serviços, considerando vias tipo V3 e V4 e calçadas P4. Incluem-se os serviços de substituição de braços, suportes, cabos, conexões e demais acessórios para o pleno funcionamento, assim como descarte correto de todo o material substiuído."]
[]
["Extensão Total",null,"Número de Pontos",null,"Valor do Projeto",null,"Contrapartida",null,"Cronograma"]
[3150,null,88,null,124955.85,null,{"$f":"G12","v":24955.850000000006},null,90]
[]
["LOCALIZAÇÃO / SETORIZAÇÃO"]
[]
["Planta de Situação"]
[]
[]
[]
["INFORMAÇÕES"]
[]
["Pop. Beneficiada",null,"Taxa de Economia",null,"Economia de Energia",null,"Avaliação Econômica"]
[{"$f":"_xlfn.XLOOKUP(A6,[1]Planilha2!B2:B400,[1]Planilha2!H2:H400)","v":{"$error":"#NAME?"}},null,{"$f":"[1]Planilha1!E32*-1","v":0.28571428571428559},null,{"$f":"[1]Planilha1!C18-[1]Planilha1!C25","v":9251.2082399999963},null,"Mínimo Custo"]
[]
[null,null,"Curitiba, 3 de fevereiro de 2022"]
[]
[null,null,null,null,null,null,"Glauco Pereira Jr."]
[null,null,null,null,null,null,"Analista de Desenvolvimento Municipal"]
[null,null,null,null,null,null,"CAUBR A1874-0"]